{"text_format":"2","workbook":"xlsx","n_sheets":1,"sheets":["ПРАЙС-ЛИСТ"],"not_rendered":{"charts":0,"images":1,"macros":0,"external_links":0,"defined_names":852,"comments":0,"pivot_tables":0},"unopened":[],"bounds":{"document_bytes":16777216,"sheet_cells":100000,"run_cost":"one","rows_first":2000,"rows_last":500,"rows_between":2000,"halvings":0,"cell_chars":16384,"cell_head_chars":4096},"cells_cut":0,"cells_raw":0,"read":"whole","date_system":"1900"}

{"sheet":"ПРАЙС-ЛИСТ","index":0,"n_rows":6119,"n_cols":12,"rows_kept":6119,"cut":false,"hidden":false,"merged":[[1,4,2,4],[1,5,2,5]]}
[{"$nulls":5},"ООО \"Ампер-НН\""]
[null,null,null,"действует с:","Прайс-лист для РФ","ООО «Ампер-НН»\nРоссия 603016, Н.Новгород,  ул. Юлиуса Фучика д. 8а\n","Телефоны:\n+7(831) 295-85-65\n"]
[null,null,null,"2017-10-15",null,null,"sekret@ampernn.ru"]
["Модельный ряд","Ценовая группа","Код группы","Артикул","Наименование","Категория товара","Описание и характеристики","Кол-во в упаковке","Вес брутто, кг/шт","Объём брутто, дм³/шт","Цена ЛИСТ, евро с НДС","Скидка МРЦ"]
[null,null,null,"Level  1","Модульные приборы Minia"]
[null,null,null,"Level  2","Автоматические выключатели"]
[null,null,null,"Level  3","LTP - Автоматические выключатели до 63 A (6 kA)"]
[null,null,null,"Level  4","LTP-_-1 - Автоматические выключатели, 1-полюсные"]
["Minia","Minia 6kA","LD1","OEZ:42190","LTP-2B-1","Автоматический выключатель","In 2 A, Ue AC 230 V / DC 60 V, характеристика B, 1-полюс, Icn 6 kA","12 / -",0.13100000000000001,0.14299999999999999,5.12,{"$f":"VLOOKUP(B9,#REF!,3,FALSE)","v":{"$error":"#REF!"}}]
["Minia","Minia 6kA","LD1","OEZ:42191","LTP-4B-1","Автоматический выключатель","In 4 A, Ue AC 230 V / DC 60 V, характеристика B, 1-полюс, Icn 6 kA","12 / -",0.13200000000000001,0.14299999999999999,5.0599999999999996,{"$f":"VLOOKUP(B10,#REF!,3,FALSE)","v":{"$error":"#REF!"}}]
["Minia","Minia 6kA","LD1","OEZ:42192","LTP-6B-1","Автоматический выключатель","In 6 A, Ue AC 230 V / DC 60 V, характеристика B, 1-полюс, Icn 6 kA","12 / -",0.122,0.14299999999999999,4.33,{"$f":"VLOOKUP(B11,#REF!,3,FALSE)","v":{"$error":"#REF!"}}]
["Minia","Minia 6kA","LD1","OEZ:42193","LTP-10B-1","Автоматический выключатель","In 10 A, Ue AC 230 V / DC 60 V, характеристика B, 1-полюс, Icn 6 kA","12 / -",0.124,0.14299999999999999,3.6799999999999997,{"$f":"VLOOKUP(B12,#REF!,3,FALSE)","v":{"$error":"#REF!"}}]
["Minia","Minia 6kA","LD1","OEZ:42194","LTP-13B-1","Автоматический выключатель","In 13 A, Ue AC 230 V / DC 60 V, характеристика B, 1-полюс, Icn 6 kA","12 / -",0.125,0.14299999999999999,4.25,{"$f":"VLOOKUP(B13,#REF!,3,FALSE)","v":{"$error":"#REF!"}}]
["Minia","Minia 6kA","LD1","OEZ:42195","LTP-16B-1","Автоматический выключатель","In 16 A, Ue AC 230 V / DC 60 V, характеристика B, 1-полюс, Icn 6 kA","12 / -",0.125,0.14299999999999999,3.23,{"$f":"VLOOKUP(B14,#REF!,3,FALSE)","v":{"$error":"#REF!"}}]
["Minia","Minia 6kA","LD1","OEZ:42196","LTP-20B-1","Автоматический выключатель","In 20 A, Ue AC 230 V / DC 60 V, характеристика B, 1-полюс, Icn 6 kA","12 / -",0.124,0.14299999999999999,3.88,{"$f":"VLOOKUP(B15,#REF!,3,FALSE)","v":{"$error":"#REF!"}}]
["Minia","Minia 6kA","LD1","OEZ:42197","LTP-25B-1","Автоматический выключатель","In 25 A, Ue AC 230 V / DC 60 V, характеристика B, 1-полюс, Icn 6 kA","12 / -",0.124,0.14299999999999999,4.33,{"$f":"VLOOKUP(B16,#REF!,3,FALSE)","v":{"$error":"#REF!"}}]
["Minia","Minia 6kA","LD1","OEZ:42198","LTP-32B-1","Автоматический выключатель","In 32 A, Ue AC 230 V / DC 60 V, характеристика B, 1-полюс, Icn 6 kA","12 / -",0.153,0.14299999999999999,5.31,{"$f":"VLOOKUP(B17,#REF!,3,FALSE)","v":{"$error":"#REF!"}}]
["Minia","Minia 6kA","LD1","OEZ:42199","LTP-40B-1","Автоматический выключатель","In 40 A, Ue AC 230 V / DC 60 V, характеристика B, 1-полюс, Icn 6 kA","12 / -",0.16400000000000001,0.14299999999999999,5.8199999999999994,{"$f":"VLOOKUP(B18,#REF!,3,FALSE)","v":{"$error":"#REF!"}}]
["Minia","Minia 6kA","LD1","OEZ:42200","LTP-50B-1","Автоматический выключатель","In 50 A, Ue AC 230 V / DC 60 V, характеристика B, 1-полюс, Icn 6 kA","12 / -",0.16600000000000001,0.14299999999999999,6.52,{"$f":"VLOOKUP(B19,#REF!,3,FALSE)","v":{"$error":"#REF!"}}]
["Minia","Minia 6kA","LD1","OEZ:42201","LTP-63B-1","Автоматический выключатель","In 63 A, Ue AC 230 V / DC 60 V, характеристика B, 1-полюс, Icn 6 kA","12 / -",0.161,0.14299999999999999,6.49,{"$f":"VLOOKUP(B20,#REF!,3,FALSE)","v":{"$error":"#REF!"}}]
["Minia","Minia 6kA","LD1","OEZ:42202","LTP-2C-1","Автоматический выключатель","In 2 A, Ue AC 230 V / DC 60 V, характеристика C, 1-полюс, Icn 6 kA","12 / -",0.125,0.14299999999999999,5.12,{"$f":"VLOOKUP(B21,#REF!,3,FALSE)","v":{"$error":"#REF!"}}]
["Minia","Minia 6kA","LD1","OEZ:42203","LTP-4C-1","Автоматический выключатель","In 4 A, Ue AC 230 V / DC 60 V, характеристика C, 1-полюс, Icn 6 kA","12 / -",0.124,0.14299999999999999,5.0599999999999996,{"$f":"VLOOKUP(B22,#REF!,3,FALSE)","v":{"$error":"#REF!"}}]
["Minia","Minia 6kA","LD1","OEZ:42204","LTP-6C-1","Автоматический выключатель","In 6 A, Ue AC 230 V / DC 60 V, характеристика C, 1-полюс, Icn 6 kA","12 / -",0.123,0.14299999999999999,4.33,{"$f":"VLOOKUP(B23,#REF!,3,FALSE)","v":{"$error":"#REF!"}}]
["Minia","Minia 6kA","LD1","OEZ:42205","LTP-10C-1","Автоматический выключатель","In 10 A, Ue AC 230 V / DC 60 V, характеристика C, 1-полюс, Icn 6 kA","12 / -",0.127,0.14299999999999999,3.6799999999999997,{"$f":"VLOOKUP(B24,#REF!,3,FALSE)","v":{"$error":"#REF!"}}]
["Minia","Minia 6kA","LD1","OEZ:42206","LTP-13C-1","Автоматический выключатель","In 13 A, Ue AC 230 V / DC 60 V, характеристика C, 1-полюс, Icn 6 kA","12 / -",0.121,0.14299999999999999,4.25,{"$f":"VLOOKUP(B25,#REF!,3,FALSE)","v":{"$error":"#REF!"}}]
["Minia","Minia 6kA","LD1","OEZ:42207","LTP-16C-1","Автоматический выключатель","In 16 A, Ue AC 230 V / DC 60 V, характеристика C, 1-полюс, Icn 6 kA","12 / -",0.121,0.14299999999999999,3.23,{"$f":"VLOOKUP(B26,#REF!,3,FALSE)","v":{"$error":"#REF!"}}]
["Minia","Minia 6kA","LD1","OEZ:42208","LTP-20C-1","Автоматический выключатель","In 20 A, Ue AC 230 V / DC 60 V, характеристика C, 1-полюс, Icn 6 kA","12 / -",0.121,0.14299999999999999,3.88,{"$f":"VLOOKUP(B27,#REF!,3,FALSE)","v":{"$error":"#REF!"}}]
["Minia","Minia 6kA","LD1","OEZ:42209","LTP-25C-1","Автоматический выключатель","In 25 A, Ue AC 230 V / DC 60 V, характеристика C, 1-полюс, Icn 6 kA","12 / -",0.123,0.14299999999999999,4.33,{"$f":"VLOOKUP(B28,#REF!,3,FALSE)","v":{"$error":"#REF!"}}]
["Minia","Minia 6kA","LD1","OEZ:42210","LTP-32C-1","Автоматический выключатель","In 32 A, Ue AC 230 V / DC 60 V, характеристика C, 1-полюс, Icn 6 kA","12 / -",0.151,0.14299999999999999,5.31,{"$f":"VLOOKUP(B29,#REF!,3,FALSE)","v":{"$error":"#REF!"}}]
["Minia","Minia 6kA","LD1","OEZ:42211","LTP-40C-1","Автоматический выключатель","In 40 A, Ue AC 230 V / DC 60 V, характеристика C, 1-полюс, Icn 6 kA","12 / -",0.154,0.14299999999999999,5.8199999999999994,{"$f":"VLOOKUP(B30,#REF!,3,FALSE)","v":{"$error":"#REF!"}}]
["Minia","Minia 6kA","LD1","OEZ:42212","LTP-50C-1","Автоматический выключатель","In 50 A, Ue AC 230 V / DC 60 V, характеристика C, 1-полюс, Icn 6 kA","12 / -",0.16,0.14299999999999999,6.52,{"$f":"VLOOKUP(B31,#REF!,3,FALSE)","v":{"$error":"#REF!"}}]
["Minia","Minia 6kA","LD1","OEZ:42213","LTP-63C-1","Автоматический выключатель","In 63 A, Ue AC 230 V / DC 60 V, характеристика C, 1-полюс, Icn 6 kA","12 / -",0.16,0.14299999999999999,6.49,{"$f":"VLOOKUP(B32,#REF!,3,FALSE)","v":{"$error":"#REF!"}}]
[null,null,null,"Level  4","LTP-_-2 - Автоматические выключатели, 2-полюсные"]
["Minia","Minia 6kA","LD1","OEZ:42216","LTP-6B-2","Автоматический выключатель","In 6 A, Ue AC 230/400 V / DC 120 V, характеристика B, 2-полюс, Icn 6 kA","6 / -",0.252,0.28499999999999998,9.64,{"$f":"VLOOKUP(B34,#REF!,3,FALSE)","v":{"$error":"#REF!"}}]
["Minia","Minia 6kA","LD1","OEZ:42217","LTP-10B-2","Автоматический выключатель","In 10 A, Ue AC 230/400 V / DC 120 V, характеристика B, 2-полюс, Icn 6 kA","6 / -",0.253,0.28499999999999998,9.4700000000000006,{"$f":"VLOOKUP(B35,#REF!,3,FALSE)","v":{"$error":"#REF!"}}]
["Minia","Minia 6kA","LD1","OEZ:42218","LTP-13B-2","Автоматический выключатель","In 13 A, Ue AC 230/400 V / DC 120 V, характеристика B, 2-полюс, Icn 6 kA","6 / -",0.253,0.28499999999999998,10,{"$f":"VLOOKUP(B36,#REF!,3,FALSE)","v":{"$error":"#REF!"}}]
["Minia","Minia 6kA","LD1","OEZ:42219","LTP-16B-2","Автоматический выключатель","In 16 A, Ue AC 230/400 V / DC 120 V, характеристика B, 2-полюс, Icn 6 kA","6 / -",0.25600000000000001,0.28499999999999998,8.91,{"$f":"VLOOKUP(B37,#REF!,3,FALSE)","v":{"$error":"#REF!"}}]
["Minia","Minia 6kA","LD1","OEZ:42220","LTP-20B-2","Автоматический выключатель","In 20 A, Ue AC 230/400 V / DC 120 V, характеристика B, 2-полюс, Icn 6 kA","6 / -",0.25600000000000001,0.28499999999999998,10.62,{"$f":"VLOOKUP(B38,#REF!,3,FALSE)","v":{"$error":"#REF!"}}]
["Minia","Minia 6kA","LD1","OEZ:42221","LTP-25B-2","Автоматический выключатель","In 25 A, Ue AC 230/400 V / DC 120 V, характеристика B, 2-полюс, Icn 6 kA","6 / -",0.25600000000000001,0.28499999999999998,10.68,{"$f":"VLOOKUP(B39,#REF!,3,FALSE)","v":{"$error":"#REF!"}}]
["Minia","Minia 6kA","LD1","OEZ:42222","LTP-32B-2","Автоматический выключатель","In 32 A, Ue AC 230/400 V / DC 120 V, характеристика B, 2-полюс, Icn 6 kA","6 / -",0.30299999999999999,0.28499999999999998,11.01,{"$f":"VLOOKUP(B40,#REF!,3,FALSE)","v":{"$error":"#REF!"}}]
["Minia","Minia 6kA","LD1","OEZ:42223","LTP-40B-2","Автоматический выключатель","In 40 A, Ue AC 230/400 V / DC 120 V, характеристика B, 2-полюс, Icn 6 kA","6 / -",0.32300000000000001,0.28499999999999998,12.16,{"$f":"VLOOKUP(B41,#REF!,3,FALSE)","v":{"$error":"#REF!"}}]
["Minia","Minia 6kA","LD1","OEZ:42224","LTP-50B-2","Автоматический выключатель","In 50 A, Ue AC 230/400 V / DC 120 V, характеристика B, 2-полюс, Icn 6 kA","6 / -",0.32100000000000001,0.28499999999999998,13.01,{"$f":"VLOOKUP(B42,#REF!,3,FALSE)","v":{"$error":"#REF!"}}]
["Minia","Minia 6kA","LD1","OEZ:42225","LTP-63B-2","Автоматический выключатель","In 63 A, Ue AC 230/400 V / DC 120 V, характеристика B, 2-полюс, Icn 6 kA","6 / -",0.32600000000000001,0.28499999999999998,13.4,{"$f":"VLOOKUP(B43,#REF!,3,FALSE)","v":{"$error":"#REF!"}}]
["Minia","Minia 6kA","LD1","OEZ:42226","LTP-2C-2","Автоматический выключатель","In 2 A, Ue AC 230/400 V / DC 120 V, характеристика C, 2-полюс, Icn 6 kA","6 / -",0.251,0.28499999999999998,11.01,{"$f":"VLOOKUP(B44,#REF!,3,FALSE)","v":{"$error":"#REF!"}}]
["Minia","Minia 6kA","LD1","OEZ:42227","LTP-4C-2","Автоматический выключатель","In 4 A, Ue AC 230/400 V / DC 120 V, характеристика C, 2-полюс, Icn 6 kA","6 / -",0.254,0.28499999999999998,10.62,{"$f":"VLOOKUP(B45,#REF!,3,FALSE)","v":{"$error":"#REF!"}}]
["Minia","Minia 6kA","LD1","OEZ:42228","LTP-6C-2","Автоматический выключатель","In 6 A, Ue AC 230/400 V / DC 120 V, характеристика C, 2-полюс, Icn 6 kA","6 / -",0.246,0.28499999999999998,9.64,{"$f":"VLOOKUP(B46,#REF!,3,FALSE)","v":{"$error":"#REF!"}}]
["Minia","Minia 6kA","LD1","OEZ:42229","LTP-10C-2","Автоматический выключатель","In 10 A, Ue AC 230/400 V / DC 120 V, характеристика C, 2-полюс, Icn 6 kA","6 / -",0.24299999999999999,0.28499999999999998,9.4700000000000006,{"$f":"VLOOKUP(B47,#REF!,3,FALSE)","v":{"$error":"#REF!"}}]
["Minia","Minia 6kA","LD1","OEZ:42230","LTP-13C-2","Автоматический выключатель","In 13 A, Ue AC 230/400 V / DC 120 V, характеристика C, 2-полюс, Icn 6 kA","6 / -",0.249,0.28499999999999998,10,{"$f":"VLOOKUP(B48,#REF!,3,FALSE)","v":{"$error":"#REF!"}}]
["Minia","Minia 6kA","LD1","OEZ:42231","LTP-16C-2","Автоматический выключатель","In 16 A, Ue AC 230/400 V / DC 120 V, характеристика C, 2-полюс, Icn 6 kA","6 / -",0.24,0.28499999999999998,8.91,{"$f":"VLOOKUP(B49,#REF!,3,FALSE)","v":{"$error":"#REF!"}}]
["Minia","Minia 6kA","LD1","OEZ:42232","LTP-20C-2","Автоматический выключатель","In 20 A, Ue AC 230/400 V / DC 120 V, характеристика C, 2-полюс, Icn 6 kA","6 / -",0.24099999999999999,0.28499999999999998,10.62,{"$f":"VLOOKUP(B50,#REF!,3,FALSE)","v":{"$error":"#REF!"}}]
["Minia","Minia 6kA","LD1","OEZ:42233","LTP-25C-2","Автоматический выключатель","In 25 A, Ue AC 230/400 V / DC 120 V, характеристика C, 2-полюс, Icn 6 kA","6 / -",0.246,0.28499999999999998,10.68,{"$f":"VLOOKUP(B51,#REF!,3,FALSE)","v":{"$error":"#REF!"}}]
["Minia","Minia 6kA","LD1","OEZ:42234","LTP-32C-2","Автоматический выключатель","In 32 A, Ue AC 230/400 V / DC 120 V, характеристика C, 2-полюс, Icn 6 kA","6 / -",0.30299999999999999,0.28499999999999998,11.01,{"$f":"VLOOKUP(B52,#REF!,3,FALSE)","v":{"$error":"#REF!"}}]
["Minia","Minia 6kA","LD1","OEZ:42235","LTP-40C-2","Автоматический выключатель","In 40 A, Ue AC 230/400 V / DC 120 V, характеристика C, 2-полюс, Icn 6 kA","6 / -",0.314,0.28499999999999998,12.16,{"$f":"VLOOKUP(B53,#REF!,3,FALSE)","v":{"$error":"#REF!"}}]
["Minia","Minia 6kA","LD1","OEZ:42236","LTP-50C-2","Автоматический выключатель","In 50 A, Ue AC 230/400 V / DC 120 V, характеристика C, 2-полюс, Icn 6 kA","6 / -",0.32800000000000001,0.28499999999999998,13.01,{"$f":"VLOOKUP(B54,#REF!,3,FALSE)","v":{"$error":"#REF!"}}]
["Minia","Minia 6kA","LD1","OEZ:42237","LTP-63C-2","Автоматический выключатель","In 63 A, Ue AC 230/400 V / DC 120 V, характеристика C, 2-полюс, Icn 6 kA","6 / -",0.32700000000000001,0.28499999999999998,13.4,{"$f":"VLOOKUP(B55,#REF!,3,FALSE)","v":{"$error":"#REF!"}}]
[null,null,null,"Level  4","LTP-_-3 - Автоматические выключатели, 3-полюсные"]
["Minia","Minia 6kA","LD1","OEZ:42240","LTP-6B-3","Автоматический выключатель","In 6 A, Ue AC 230/400 V / DC 180 V, характеристика B, 3-полюс, Icn 6 kA","4 / -",0.37,0.42799999999999999,14.379999999999999,{"$f":"VLOOKUP(B57,#REF!,3,FALSE)","v":{"$error":"#REF!"}}]
["Minia","Minia 6kA","LD1","OEZ:42241","LTP-10B-3","Автоматический выключатель","In 10 A, Ue AC 230/400 V / DC 180 V, характеристика B, 3-полюс, Icn 6 kA","4 / -",0.37,0.42799999999999999,13.879999999999999,{"$f":"VLOOKUP(B58,#REF!,3,FALSE)","v":{"$error":"#REF!"}}]
["Minia","Minia 6kA","LD1","OEZ:42242","LTP-13B-3","Автоматический выключатель","In 13 A, Ue AC 230/400 V / DC 180 V, характеристика B, 3-полюс, Icn 6 kA","4 / -",0.374,0.42799999999999999,14.58,{"$f":"VLOOKUP(B59,#REF!,3,FALSE)","v":{"$error":"#REF!"}}]
["Minia","Minia 6kA","LD1","OEZ:42243","LTP-16B-3","Автоматический выключатель","In 16 A, Ue AC 230/400 V / DC 180 V, характеристика B, 3-полюс, Icn 6 kA","4 / -",0.37,0.42799999999999999,12.92,{"$f":"VLOOKUP(B60,#REF!,3,FALSE)","v":{"$error":"#REF!"}}]
["Minia","Minia 6kA","LD1","OEZ:42244","LTP-20B-3","Автоматический выключатель","In 20 A, Ue AC 230/400 V / DC 180 V, характеристика B, 3-полюс, Icn 6 kA","4 / -",0.376,0.42799999999999999,13.99,{"$f":"VLOOKUP(B61,#REF!,3,FALSE)","v":{"$error":"#REF!"}}]
["Minia","Minia 6kA","LD1","OEZ:42245","LTP-25B-3","Автоматический выключатель","In 25 A, Ue AC 230/400 V / DC 180 V, характеристика B, 3-полюс, Icn 6 kA","4 / -",0.38,0.42799999999999999,14.299999999999999,{"$f":"VLOOKUP(B62,#REF!,3,FALSE)","v":{"$error":"#REF!"}}]
["Minia","Minia 6kA","LD1","OEZ:42246","LTP-32B-3","Автоматический выключатель","In 32 A, Ue AC 230/400 V / DC 180 V, характеристика B, 3-полюс, Icn 6 kA","4 / -",0.46200000000000002,0.42799999999999999,14.94,{"$f":"VLOOKUP(B63,#REF!,3,FALSE)","v":{"$error":"#REF!"}}]
["Minia","Minia 6kA","LD1","OEZ:42247","LTP-40B-3","Автоматический выключатель","In 40 A, Ue AC 230/400 V / DC 180 V, характеристика B, 3-полюс, Icn 6 kA","4 / -",0.47199999999999998,0.42799999999999999,16.430000000000003,{"$f":"VLOOKUP(B64,#REF!,3,FALSE)","v":{"$error":"#REF!"}}]
["Minia","Minia 6kA","LD1","OEZ:42248","LTP-50B-3","Автоматический выключатель","In 50 A, Ue AC 230/400 V / DC 180 V, характеристика B, 3-полюс, Icn 6 kA","4 / -",0.48199999999999998,0.42799999999999999,19.130000000000003,{"$f":"VLOOKUP(B65,#REF!,3,FALSE)","v":{"$error":"#REF!"}}]
["Minia","Minia 6kA","LD1","OEZ:42249","LTP-63B-3","Автоматический выключатель","In 63 A, Ue AC 230/400 V / DC 180 V, характеристика B, 3-полюс, Icn 6 kA","4 / -",0.48599999999999999,0.42799999999999999,19.91,{"$f":"VLOOKUP(B66,#REF!,3,FALSE)","v":{"$error":"#REF!"}}]
["Minia","Minia 6kA","LD1","OEZ:42250","LTP-2C-3","Автоматический выключатель","In 2 A, Ue AC 230/400 V / DC 180 V, характеристика C, 3-полюс, Icn 6 kA","4 / -",0.375,0.42799999999999999,16.520000000000003,{"$f":"VLOOKUP(B67,#REF!,3,FALSE)","v":{"$error":"#REF!"}}]
["Minia","Minia 6kA","LD1","OEZ:42251","LTP-4C-3","Автоматический выключатель","In 4 A, Ue AC 230/400 V / DC 180 V, характеристика C, 3-полюс, Icn 6 kA","4 / -",0.375,0.42799999999999999,15.79,{"$f":"VLOOKUP(B68,#REF!,3,FALSE)","v":{"$error":"#REF!"}}]
["Minia","Minia 6kA","LD1","OEZ:42252","LTP-6C-3","Автоматический выключатель","In 6 A, Ue AC 230/400 V / DC 180 V, характеристика C, 3-полюс, Icn 6 kA","4 / -",0.372,0.42799999999999999,14.379999999999999,{"$f":"VLOOKUP(B69,#REF!,3,FALSE)","v":{"$error":"#REF!"}}]
["Minia","Minia 6kA","LD1","OEZ:42253","LTP-10C-3","Автоматический выключатель","In 10 A, Ue AC 230/400 V / DC 180 V, характеристика C, 3-полюс, Icn 6 kA","4 / -",0.36599999999999999,0.42799999999999999,13.879999999999999,{"$f":"VLOOKUP(B70,#REF!,3,FALSE)","v":{"$error":"#REF!"}}]
["Minia","Minia 6kA","LD1","OEZ:42254","LTP-13C-3","Автоматический выключатель","In 13 A, Ue AC 230/400 V / DC 180 V, характеристика C, 3-полюс, Icn 6 kA","4 / -",0.37,0.42799999999999999,14.58,{"$f":"VLOOKUP(B71,#REF!,3,FALSE)","v":{"$error":"#REF!"}}]
["Minia","Minia 6kA","LD1","OEZ:42255","LTP-16C-3","Автоматический выключатель","In 16 A, Ue AC 230/400 V / DC 180 V, характеристика C, 3-полюс, Icn 6 kA","4 / -",0.36,0.42799999999999999,12.92,{"$f":"VLOOKUP(B72,#REF!,3,FALSE)","v":{"$error":"#REF!"}}]
["Minia","Minia 6kA","LD1","OEZ:42256","LTP-20C-3","Автоматический выключатель","In 20 A, Ue AC 230/400 V / DC 180 V, характеристика C, 3-полюс, Icn 6 kA","4 / -",0.36799999999999999,0.42799999999999999,13.99,{"$f":"VLOOKUP(B73,#REF!,3,FALSE)","v":{"$error":"#REF!"}}]
["Minia","Minia 6kA","LD1","OEZ:42257","LTP-25C-3","Автоматический выключатель","In 25 A, Ue AC 230/400 V / DC 180 V, характеристика C, 3-полюс, Icn 6 kA","4 / -",0.36499999999999999,0.42799999999999999,14.299999999999999,{"$f":"VLOOKUP(B74,#REF!,3,FALSE)","v":{"$error":"#REF!"}}]
["Minia","Minia 6kA","LD1","OEZ:42258","LTP-32C-3","Автоматический выключатель","In 32 A, Ue AC 230/400 V / DC 180 V, характеристика C, 3-полюс, Icn 6 kA","4 / -",0.45200000000000001,0.42799999999999999,14.94,{"$f":"VLOOKUP(B75,#REF!,3,FALSE)","v":{"$error":"#REF!"}}]
["Minia","Minia 6kA","LD1","OEZ:42259","LTP-40C-3","Автоматический выключатель","In 40 A, Ue AC 230/400 V / DC 180 V, характеристика C, 3-полюс, Icn 6 kA","4 / -",0.46100000000000002,0.42799999999999999,16.430000000000003,{"$f":"VLOOKUP(B76,#REF!,3,FALSE)","v":{"$error":"#REF!"}}]
["Minia","Minia 6kA","LD1","OEZ:42260","LTP-50C-3","Автоматический выключатель","In 50 A, Ue AC 230/400 V / DC 180 V, характеристика C, 3-полюс, Icn 6 kA","4 / -",0.47899999999999998,0.42799999999999999,19.130000000000003,{"$f":"VLOOKUP(B77,#REF!,3,FALSE)","v":{"$error":"#REF!"}}]
["Minia","Minia 6kA","LD1","OEZ:42261","LTP-63C-3","Автоматический выключатель","In 63 A, Ue AC 230/400 V / DC 180 V, характеристика C, 3-полюс, Icn 6 kA","4 / -",0.48,0.42799999999999999,19.91,{"$f":"VLOOKUP(B78,#REF!,3,FALSE)","v":{"$error":"#REF!"}}]
[null,null,null,"Level  4","OD-LTP - Принадлежности"]
[null,null,null,"Level  5","PS-LT - Вспомогательные выключатели"]
["Minia","Minia 10kA","LD2","OEZ:42297","PS-LT-1100","Вспомогательный выключатель","1x нормально разомкнутый контакт, 1x нормально замкнутый контакт, для LTS, LTP, LVN, LFE, LFN, OLE, OLI, MSO, MSN","1 / 15",5.5E-2,0.124,7.8,{"$f":"VLOOKUP(B81,#REF!,3,FALSE)","v":{"$error":"#REF!"}}]
["Minia","Minia 10kA","LD2","OEZ:42300","PS-LT-1100-TE","Вспомогательный выключатель","1x нормально разомкнутый контакт, 1x нормально замкнутый контакт, кнопка тестирования, для LTS, LTP, LVN, LFE, LFN, OLE, OLI, MSO, MSN","1 / 15",7.0999999999999994E-2,0.124,9.73,{"$f":"VLOOKUP(B82,#REF!,3,FALSE)","v":{"$error":"#REF!"}}]
["Minia","Minia 10kA","LD2","OEZ:42303","PS-LT-1100-MN","Вспомогательный выключатель","1x нормально разомкнутый контакт, 1x нормально замкнутый контакт, для LTS, LTP, LVN, LFE, LFN, OLE, OLI, MSO, MSN","1 / 15",7.4999999999999997E-2,0.124,15.57,{"$f":"VLOOKUP(B83,#REF!,3,FALSE)","v":{"$error":"#REF!"}}]
["Minia","Minia 10kA","LD2","OEZ:42304","PS-LT-1100-MN-TE","Вспомогательный выключатель","1x нормально разомкнутый контакт, 1x нормально замкнутый контакт, кнопка тестирования, для LTS, LTP, LVN, LFE, LFN, OLE, OLI, MSO, MSN","1 / 15",6.9000000000000006E-2,0.124,18.680000000000003,{"$f":"VLOOKUP(B84,#REF!,3,FALSE)","v":{"$error":"#REF!"}}]
["Minia","Minia 10kA","LD2","OEZ:42299","PS-LT-2000","Вспомогательный выключатель","2x нормально разомкнутый контакт, для LTS, LTP, LVN, LFE, LFN, OLE, OLI, MSO, MSN","1 / 15",6.6000000000000003E-2,0.124,8.66,{"$f":"VLOOKUP(B85,#REF!,3,FALSE)","v":{"$error":"#REF!"}}]
["Minia","Minia 10kA","LD2","OEZ:42302","PS-LT-2000-TE","Вспомогательный выключатель","2x нормально разомкнутый контакт, кнопка тестирования, для LTS, LTP, LVN, LFE, LFN, OLE, OLI, MSO, MSN","1 / 15",6.8000000000000005E-2,0.124,10.82,{"$f":"VLOOKUP(B86,#REF!,3,FALSE)","v":{"$error":"#REF!"}}]
["Minia","Minia 10kA","LD2","OEZ:42298","PS-LT-0200","Вспомогательный выключатель","2x нормально замкнутый контакт, для LTS, LTP, LVN, LFE, LFN, OLE, OLI, MSO, MSN","1 / 15",6.6000000000000003E-2,0.124,8.66,{"$f":"VLOOKUP(B87,#REF!,3,FALSE)","v":{"$error":"#REF!"}}]
["Minia","Minia 10kA","LD2","OEZ:42301","PS-LT-0200-TE","Вспомогательный выключатель","2x нормально замкнутый контакт, кнопка тестирования, для LTS, LTP, LVN, LFE, LFN, OLE, OLI, MSO, MSN","1 / 15",7.0999999999999994E-2,0.124,10.82,{"$f":"VLOOKUP(B88,#REF!,3,FALSE)","v":{"$error":"#REF!"}}]
[null,null,null,"Level  5","SS-LT - Сигнализационные выключатели"]
["Minia","Minia 10kA","LD2","OEZ:42306","SS-LT-1100","Сигнализационный выключатель","1x нормально разомкнутый контакт, 1x нормально замкнутый контакт, для LTS, LTP, LVN, LFE, LFN, OLE, OLI, MSN","1 / 15",6.6000000000000003E-2,0.124,7.8,{"$f":"VLOOKUP(B90,#REF!,3,FALSE)","v":{"$error":"#REF!"}}]
["Minia","Minia 10kA","LD2","OEZ:42309","SS-LT-1100-TE-RE","Сигнализационный выключатель","1x нормально разомкнутый контакт, 1x нормально замкнутый контакт, кнопка тестирования, сброс, для LTS, LTP, LVN, LFE, LFN, OLE, OLI, MSN","1 / 15",7.1999999999999995E-2,0.124,10.5,{"$f":"VLOOKUP(B91,#REF!,3,FALSE)","v":{"$error":"#REF!"}}]
["Minia","Minia 10kA","LD2","OEZ:42307","SS-LT-2000","Сигнализационный выключатель","2x нормально разомкнутый контакт, для LTS, LTP, LVN, LFE, LFN, OLE, OLI, MSN","1 / 15",6.5000000000000002E-2,0.124,8.66,{"$f":"VLOOKUP(B92,#REF!,3,FALSE)","v":{"$error":"#REF!"}}]
["Minia","Minia 10kA","LD2","OEZ:42310","SS-LT-2000-TE-RE","Сигнализационный выключатель","2x нормально разомкнутый контакт, кнопка тестирования, сброс, для LTS, LTP, LVN, LFE, LFN, OLE, OLI, MSN","1 / 15",7.0999999999999994E-2,0.124,11.68,{"$f":"VLOOKUP(B93,#REF!,3,FALSE)","v":{"$error":"#REF!"}}]
["Minia","Minia 10kA","LD2","OEZ:42308","SS-LT-0200","Сигнализационный выключатель","2x нормально замкнутый контакт, для LTS, LTP, LVN, LFE, LFN, OLE, OLI, MSN","1 / 15",6.5000000000000002E-2,0.124,8.66,{"$f":"VLOOKUP(B94,#REF!,3,FALSE)","v":{"$error":"#REF!"}}]
["Minia","Minia 10kA","LD2","OEZ:42311","SS-LT-0200-TE-RE","Сигнализационный выключатель","2x нормально замкнутый контакт, кнопка тестирования, сброс, для LTS, LTP, LVN, LFE, LFN, OLE, OLI, MSN","1 / 15",6.8000000000000005E-2,0.124,11.68,{"$f":"VLOOKUP(B95,#REF!,3,FALSE)","v":{"$error":"#REF!"}}]
[null,null,null,"Level  5","OD-LT-V - Остальные принадлежности"]
["Minia","Minia 10kA","LD2","OEZ:42325","OD-LT-VU02","Вставка для запирания","для LFE, LFN, MSO","1 / 10",4.0000000000000001E-3,6.0000000000000001E-3,1.07,{"$f":"VLOOKUP(B97,#REF!,3,FALSE)","v":{"$error":"#REF!"}}]
["Minia","Minia 10kA","LD2","OEZ:42323","OD-LT-VP01","Пломбируемый вкладыш","для LTS, LTP, LVN, OLE, OLI, MSN, MSO, AVN-DC","1 / 10",2E-3,3.0000000000000001E-3,1.28,{"$f":"VLOOKUP(B98,#REF!,3,FALSE)","v":{"$error":"#REF!"}}]
[null,null,null,"Level  3","LTK - Автоматические выключатели до 40 A (6 kA), 1+N-полюс в 1 модуле"]
[null,null,null,"Level  4","LTK-_-1N - Автоматические выключатели, 1+N-полюсные"]
["Minia","Minia 6kA","LD1","OEZ:43443","LTK-6B-1N","Автоматический выключатель","In 6 A, Ue AC 230 V/DC 72 V, характеристика B, 1+N-полюс, Icn 6 kA","12 / -",0.13300000000000001,0.16200000000000001,14.35,{"$f":"VLOOKUP(B101,#REF!,3,FALSE)","v":{"$error":"#REF!"}}]
["Minia","Minia 6kA","LD1","OEZ:43445","LTK-10B-1N","Автоматический выключатель","In 10 A, Ue AC 230 V/DC 72 V, характеристика B, 1+N-полюс, Icn 6 kA","12 / -",0.13300000000000001,0.16200000000000001,13.959999999999999,{"$f":"VLOOKUP(B102,#REF!,3,FALSE)","v":{"$error":"#REF!"}}]
["Minia","Minia 6kA","LD1","OEZ:43446","LTK-13B-1N","Автоматический выключатель","In 13 A, Ue AC 230 V/DC 72 V, характеристика B, 1+N-полюс, Icn 6 kA","12 / -",0.12,0.16200000000000001,13.959999999999999,{"$f":"VLOOKUP(B103,#REF!,3,FALSE)","v":{"$error":"#REF!"}}]
["Minia","Minia 6kA","LD1","OEZ:43447","LTK-16B-1N","Автоматический выключатель","In 16 A, Ue AC 230 V/DC 72 V, характеристика B, 1+N-полюс, Icn 6 kA","12 / -",0.122,0.16200000000000001,13.959999999999999,{"$f":"VLOOKUP(B104,#REF!,3,FALSE)","v":{"$error":"#REF!"}}]
["Minia","Minia 6kA","LD1","OEZ:43448","LTK-20B-1N","Автоматический выключатель","In 20 A, Ue AC 230 V/DC 72 V, характеристика B, 1+N-полюс, Icn 6 kA","12 / -",0.113,0.16200000000000001,13.959999999999999,{"$f":"VLOOKUP(B105,#REF!,3,FALSE)","v":{"$error":"#REF!"}}]
["Minia","Minia 6kA","LD1","OEZ:43449","LTK-25B-1N","Автоматический выключатель","In 25 A, Ue AC 230 V/DC 72 V, характеристика B, 1+N-полюс, Icn 6 kA","12 / -",0.13700000000000001,0.16200000000000001,14.07,{"$f":"VLOOKUP(B106,#REF!,3,FALSE)","v":{"$error":"#REF!"}}]
["Minia","Minia 6kA","LD1","OEZ:43450","LTK-32B-1N","Автоматический выключатель","In 32 A, Ue AC 230 V/DC 72 V, характеристика B, 1+N-полюс, Icn 6 kA","12 / -",0.14799999999999999,0.16200000000000001,16.680000000000003,{"$f":"VLOOKUP(B107,#REF!,3,FALSE)","v":{"$error":"#REF!"}}]
["Minia","Minia 6kA","LD1","OEZ:43451","LTK-40B-1N","Автоматический выключатель","In 40 A, Ue AC 230 V/DC 72 V, характеристика B, 1+N-полюс, Icn 6 kA","12 / -",0.113,0.16200000000000001,21.85,{"$f":"VLOOKUP(B108,#REF!,3,FALSE)","v":{"$error":"#REF!"}}]
["Minia","Minia 6kA","LD1","OEZ:43452","LTK-2C-1N","Автоматический выключатель","In 2 A, Ue AC 230 V/DC 72 V, характеристика C, 1+N-полюс, Icn 6 kA","12 / -",0.14000000000000001,0.16200000000000001,17.360000000000003,{"$f":"VLOOKUP(B109,#REF!,3,FALSE)","v":{"$error":"#REF!"}}]
["Minia","Minia 6kA","LD1","OEZ:43453","LTK-4C-1N","Автоматический выключатель","In 4 A, Ue AC 230 V/DC 72 V, характеристика C, 1+N-полюс, Icn 6 kA","12 / -",0.13400000000000001,0.16200000000000001,17.360000000000003,{"$f":"VLOOKUP(B110,#REF!,3,FALSE)","v":{"$error":"#REF!"}}]
["Minia","Minia 6kA","LD1","OEZ:43454","LTK-6C-1N","Автоматический выключатель","In 6 A, Ue AC 230 V/DC 72 V, характеристика C, 1+N-полюс, Icn 6 kA","12 / -",0.11799999999999999,0.16200000000000001,14.35,{"$f":"VLOOKUP(B111,#REF!,3,FALSE)","v":{"$error":"#REF!"}}]
["Minia","Minia 6kA","LD1","OEZ:43455","LTK-8C-1N","Автоматический выключатель","In 8 A, Ue AC 230 V/DC 72 V, характеристика C, 1+N-полюс, Icn 6 kA","12 / -",0.13700000000000001,0.16200000000000001,13.959999999999999,{"$f":"VLOOKUP(B112,#REF!,3,FALSE)","v":{"$error":"#REF!"}}]
["Minia","Minia 6kA","LD1","OEZ:43456","LTK-10C-1N","Автоматический выключатель","In 10 A, Ue AC 230 V/DC 72 V, характеристика C, 1+N-полюс, Icn 6 kA","12 / -",0.123,0.16200000000000001,13.959999999999999,{"$f":"VLOOKUP(B113,#REF!,3,FALSE)","v":{"$error":"#REF!"}}]
["Minia","Minia 6kA","LD1","OEZ:43457","LTK-13C-1N","Автоматический выключатель","In 13 A, Ue AC 230 V/DC 72 V, характеристика C, 1+N-полюс, Icn 6 kA","12 / -",9.7000000000000003E-2,0.16200000000000001,13.959999999999999,{"$f":"VLOOKUP(B114,#REF!,3,FALSE)","v":{"$error":"#REF!"}}]
["Minia","Minia 6kA","LD1","OEZ:43458","LTK-16C-1N","Автоматический выключатель","In 16 A, Ue AC 230 V/DC 72 V, характеристика C, 1+N-полюс, Icn 6 kA","12 / -",0.115,0.16200000000000001,13.959999999999999,{"$f":"VLOOKUP(B115,#REF!,3,FALSE)","v":{"$error":"#REF!"}}]
["Minia","Minia 6kA","LD1","OEZ:43459","LTK-20C-1N","Автоматический выключатель","In 20 A, Ue AC 230 V/DC 72 V, характеристика C, 1+N-полюс, Icn 6 kA","12 / -",0.13200000000000001,0.16200000000000001,13.959999999999999,{"$f":"VLOOKUP(B116,#REF!,3,FALSE)","v":{"$error":"#REF!"}}]
["Minia","Minia 6kA","LD1","OEZ:43460","LTK-25C-1N","Автоматический выключатель","In 25 A, Ue AC 230 V/DC 72 V, характеристика C, 1+N-полюс, Icn 6 kA","12 / -",0.126,0.16200000000000001,14.07,{"$f":"VLOOKUP(B117,#REF!,3,FALSE)","v":{"$error":"#REF!"}}]
["Minia","Minia 6kA","LD1","OEZ:43461","LTK-32C-1N","Автоматический выключатель","In 32 A, Ue AC 230 V/DC 72 V, характеристика C, 1+N-полюс, Icn 6 kA","12 / -",0.14499999999999999,0.16200000000000001,16.680000000000003,{"$f":"VLOOKUP(B118,#REF!,3,FALSE)","v":{"$error":"#REF!"}}]
["Minia","Minia 6kA","LD1","OEZ:43462","LTK-40C-1N","Автоматический выключатель","In 40 A, Ue AC 230 V/DC 72 V, характеристика C, 1+N-полюс, Icn 6 kA","12 / -",0.14399999999999999,0.16200000000000001,21.85,{"$f":"VLOOKUP(B119,#REF!,3,FALSE)","v":{"$error":"#REF!"}}]
[null,null,null,"Level  3","LTS - Автоматические выключатели до 63 A (10 kA)"]
[null,null,null,"Level  4","LTS-_-1 - Автоматические выключатели, 1-полюсные"]
["Minia","Minia 10kA","LD2","OEZ:41952","LTS-1B-1","Автоматический выключатель","In 1 A, Ue AC 230 V / DC 60 V, характеристика B, 1-полюс, Icn 10 kA","12 / -",0.158,0.14299999999999999,7.4399999999999995,{"$f":"VLOOKUP(B122,#REF!,3,FALSE)","v":{"$error":"#REF!"}}]
["Minia","Minia 10kA","LD2","OEZ:41953","LTS-2B-1","Автоматический выключатель","In 2 A, Ue AC 230 V / DC 60 V, характеристика B, 1-полюс, Icn 10 kA","12 / -",0.158,0.14299999999999999,6.5,{"$f":"VLOOKUP(B123,#REF!,3,FALSE)","v":{"$error":"#REF!"}}]
["Minia","Minia 10kA","LD2","OEZ:41954","LTS-4B-1","Автоматический выключатель","In 4 A, Ue AC 230 V / DC 60 V, характеристика B, 1-полюс, Icn 10 kA","12 / -",0.158,0.14299999999999999,6.41,{"$f":"VLOOKUP(B124,#REF!,3,FALSE)","v":{"$error":"#REF!"}}]
["Minia","Minia 10kA","LD2","OEZ:41955","LTS-6B-1","Автоматический выключатель","In 6 A, Ue AC 230 V / DC 60 V, характеристика B, 1-полюс, Icn 10 kA","12 / -",0.153,0.14299999999999999,5.34,{"$f":"VLOOKUP(B125,#REF!,3,FALSE)","v":{"$error":"#REF!"}}]
["Minia","Minia 10kA","LD2","OEZ:41956","LTS-8B-1","Автоматический выключатель","In 8 A, Ue AC 230 V / DC 60 V, характеристика B, 1-полюс, Icn 10 kA","12 / -",0.159,0.14299999999999999,7.41,{"$f":"VLOOKUP(B126,#REF!,3,FALSE)","v":{"$error":"#REF!"}}]
["Minia","Minia 10kA","LD2","OEZ:41957","LTS-10B-1","Автоматический выключатель","In 10 A, Ue AC 230 V / DC 60 V, характеристика B, 1-полюс, Icn 10 kA","12 / -",0.14899999999999999,0.14299999999999999,4.87,{"$f":"VLOOKUP(B127,#REF!,3,FALSE)","v":{"$error":"#REF!"}}]
["Minia","Minia 10kA","LD2","OEZ:41958","LTS-13B-1","Автоматический выключатель","In 13 A, Ue AC 230 V / DC 60 V, характеристика B, 1-полюс, Icn 10 kA","12 / -",0.151,0.14299999999999999,5.43,{"$f":"VLOOKUP(B128,#REF!,3,FALSE)","v":{"$error":"#REF!"}}]
["Minia","Minia 10kA","LD2","OEZ:41959","LTS-16B-1","Автоматический выключатель","In 16 A, Ue AC 230 V / DC 60 V, характеристика B, 1-полюс, Icn 10 kA","12 / -",0.153,0.14299999999999999,4.4799999999999995,{"$f":"VLOOKUP(B129,#REF!,3,FALSE)","v":{"$error":"#REF!"}}]
["Minia","Minia 10kA","LD2","OEZ:41960","LTS-20B-1","Автоматический выключатель","In 20 A, Ue AC 230 V / DC 60 V, характеристика B, 1-полюс, Icn 10 kA","12 / -",0.16200000000000001,0.14299999999999999,5.3999999999999995,{"$f":"VLOOKUP(B130,#REF!,3,FALSE)","v":{"$error":"#REF!"}}]
["Minia","Minia 10kA","LD2","OEZ:41961","LTS-25B-1","Автоматический выключатель","In 25 A, Ue AC 230 V / DC 60 V, характеристика B, 1-полюс, Icn 10 kA","12 / -",0.161,0.14299999999999999,5.93,{"$f":"VLOOKUP(B131,#REF!,3,FALSE)","v":{"$error":"#REF!"}}]
["Minia","Minia 10kA","LD2","OEZ:41962","LTS-32B-1","Автоматический выключатель","In 32 A, Ue AC 230 V / DC 60 V, характеристика B, 1-полюс, Icn 10 kA","12 / -",0.16200000000000001,0.14299999999999999,7.06,{"$f":"VLOOKUP(B132,#REF!,3,FALSE)","v":{"$error":"#REF!"}}]
["Minia","Minia 10kA","LD2","OEZ:41963","LTS-40B-1","Автоматический выключатель","In 40 A, Ue AC 230 V / DC 60 V, характеристика B, 1-полюс, Icn 10 kA","12 / -",0.16300000000000001,0.14299999999999999,7.4399999999999995,{"$f":"VLOOKUP(B133,#REF!,3,FALSE)","v":{"$error":"#REF!"}}]
["Minia","Minia 10kA","LD2","OEZ:41964","LTS-50B-1","Автоматический выключатель","In 50 A, Ue AC 230 V / DC 60 V, характеристика B, 1-полюс, Icn 10 kA","12 / -",0.16800000000000001,0.14299999999999999,8.39,{"$f":"VLOOKUP(B134,#REF!,3,FALSE)","v":{"$error":"#REF!"}}]
["Minia","Minia 10kA","LD2","OEZ:41965","LTS-63B-1","Автоматический выключатель","In 63 A, Ue AC 230 V / DC 60 V, характеристика B, 1-полюс, Icn 10 kA","12 / -",0.17100000000000001,0.14299999999999999,9.1,{"$f":"VLOOKUP(B135,#REF!,3,FALSE)","v":{"$error":"#REF!"}}]
["Minia","Minia 10kA","LD2","OEZ:41967","LTS-0,5C-1","Автоматический выключатель","In 0,5 A, Ue AC 230 V / DC 60 V, характеристика C, 1-полюс, Icn 10 kA","12 / -",0.159,0.14299999999999999,8.5399999999999991,{"$f":"VLOOKUP(B136,#REF!,3,FALSE)","v":{"$error":"#REF!"}}]
["Minia","Minia 10kA","LD2","OEZ:41968","LTS-1C-1","Автоматический выключатель","In 1 A, Ue AC 230 V / DC 60 V, характеристика C, 1-полюс, Icn 10 kA","12 / -",0.15,0.14299999999999999,7.4399999999999995,{"$f":"VLOOKUP(B137,#REF!,3,FALSE)","v":{"$error":"#REF!"}}]
["Minia","Minia 10kA","LD2","OEZ:41969","LTS-1,6C-1","Автоматический выключатель","In 1,6 A, Ue AC 230 V / DC 60 V, характеристика C, 1-полюс, Icn 10 kA","12 / -",0.159,0.14299999999999999,7.0299999999999994,{"$f":"VLOOKUP(B138,#REF!,3,FALSE)","v":{"$error":"#REF!"}}]
["Minia","Minia 10kA","LD2","OEZ:41970","LTS-2C-1","Автоматический выключатель","In 2 A, Ue AC 230 V / DC 60 V, характеристика C, 1-полюс, Icn 10 kA","12 / -",0.153,0.14299999999999999,6.5,{"$f":"VLOOKUP(B139,#REF!,3,FALSE)","v":{"$error":"#REF!"}}]
["Minia","Minia 10kA","LD2","OEZ:41971","LTS-4C-1","Автоматический выключатель","In 4 A, Ue AC 230 V / DC 60 V, характеристика C, 1-полюс, Icn 10 kA","12 / -",0.151,0.14299999999999999,6.41,{"$f":"VLOOKUP(B140,#REF!,3,FALSE)","v":{"$error":"#REF!"}}]
["Minia","Minia 10kA","LD2","OEZ:41972","LTS-6C-1","Автоматический выключатель","In 6 A, Ue AC 230 V / DC 60 V, характеристика C, 1-полюс, Icn 10 kA","12 / -",0.151,0.14299999999999999,5.34,{"$f":"VLOOKUP(B141,#REF!,3,FALSE)","v":{"$error":"#REF!"}}]
["Minia","Minia 10kA","LD2","OEZ:41973","LTS-8C-1","Автоматический выключатель","In 8 A, Ue AC 230 V / DC 60 V, характеристика C, 1-полюс, Icn 10 kA","12 / -",0.161,0.14299999999999999,7.41,{"$f":"VLOOKUP(B142,#REF!,3,FALSE)","v":{"$error":"#REF!"}}]
["Minia","Minia 10kA","LD2","OEZ:41974","LTS-10C-1","Автоматический выключатель","In 10 A, Ue AC 230 V / DC 60 V, характеристика C, 1-полюс, Icn 10 kA","12 / -",0.152,0.14299999999999999,4.87,{"$f":"VLOOKUP(B143,#REF!,3,FALSE)","v":{"$error":"#REF!"}}]
["Minia","Minia 10kA","LD2","OEZ:41975","LTS-13C-1","Автоматический выключатель","In 13 A, Ue AC 230 V / DC 60 V, характеристика C, 1-полюс, Icn 10 kA","12 / -",0.15,0.14299999999999999,5.43,{"$f":"VLOOKUP(B144,#REF!,3,FALSE)","v":{"$error":"#REF!"}}]
["Minia","Minia 10kA","LD2","OEZ:41976","LTS-16C-1","Автоматический выключатель","In 16 A, Ue AC 230 V / DC 60 V, характеристика C, 1-полюс, Icn 10 kA","12 / -",0.152,0.14299999999999999,4.4799999999999995,{"$f":"VLOOKUP(B145,#REF!,3,FALSE)","v":{"$error":"#REF!"}}]
["Minia","Minia 10kA","LD2","OEZ:41977","LTS-20C-1","Автоматический выключатель","In 20 A, Ue AC 230 V / DC 60 V, характеристика C, 1-полюс, Icn 10 kA","12 / -",0.161,0.14299999999999999,5.3999999999999995,{"$f":"VLOOKUP(B146,#REF!,3,FALSE)","v":{"$error":"#REF!"}}]
["Minia","Minia 10kA","LD2","OEZ:41978","LTS-25C-1","Автоматический выключатель","In 25 A, Ue AC 230 V / DC 60 V, характеристика C, 1-полюс, Icn 10 kA","12 / -",0.16200000000000001,0.14299999999999999,5.93,{"$f":"VLOOKUP(B147,#REF!,3,FALSE)","v":{"$error":"#REF!"}}]
["Minia","Minia 10kA","LD2","OEZ:41979","LTS-32C-1","Автоматический выключатель","In 32 A, Ue AC 230 V / DC 60 V, характеристика C, 1-полюс, Icn 10 kA","12 / -",0.161,0.14299999999999999,7.06,{"$f":"VLOOKUP(B148,#REF!,3,FALSE)","v":{"$error":"#REF!"}}]
["Minia","Minia 10kA","LD2","OEZ:41980","LTS-40C-1","Автоматический выключатель","In 40 A, Ue AC 230 V / DC 60 V, характеристика C, 1-полюс, Icn 10 kA","12 / -",0.16500000000000001,0.14299999999999999,7.4399999999999995,{"$f":"VLOOKUP(B149,#REF!,3,FALSE)","v":{"$error":"#REF!"}}]
["Minia","Minia 10kA","LD2","OEZ:41981","LTS-50C-1","Автоматический выключатель","In 50 A, Ue AC 230 V / DC 60 V, характеристика C, 1-полюс, Icn 10 kA","12 / -",0.17,0.14299999999999999,8.39,{"$f":"VLOOKUP(B150,#REF!,3,FALSE)","v":{"$error":"#REF!"}}]
["Minia","Minia 10kA","LD2","OEZ:41982","LTS-63C-1","Автоматический выключатель","In 63 A, Ue AC 230 V / DC 60 V, характеристика C, 1-полюс, Icn 10 kA","12 / -",0.17,0.14299999999999999,9.1,{"$f":"VLOOKUP(B151,#REF!,3,FALSE)","v":{"$error":"#REF!"}}]
["Minia","Minia 10kA","LD2","OEZ:41984","LTS-0,5D-1","Автоматический выключатель","In 0,5 A, Ue AC 230 V / DC 60 V, характеристика D, 1-полюс, Icn 10 kA","12 / -",0.16500000000000001,0.14299999999999999,9.4,{"$f":"VLOOKUP(B152,#REF!,3,FALSE)","v":{"$error":"#REF!"}}]
["Minia","Minia 10kA","LD2","OEZ:41985","LTS-1D-1","Автоматический выключатель","In 1 A, Ue AC 230 V / DC 60 V, характеристика D, 1-полюс, Icn 10 kA","12 / -",0.159,0.14299999999999999,8.19,{"$f":"VLOOKUP(B153,#REF!,3,FALSE)","v":{"$error":"#REF!"}}]
["Minia","Minia 10kA","LD2","OEZ:41986","LTS-1,6D-1","Автоматический выключатель","In 1,6 A, Ue AC 230 V / DC 60 V, характеристика D, 1-полюс, Icn 10 kA","12 / -",0.16500000000000001,0.14299999999999999,7.74,{"$f":"VLOOKUP(B154,#REF!,3,FALSE)","v":{"$error":"#REF!"}}]
["Minia","Minia 10kA","LD2","OEZ:41987","LTS-2D-1","Автоматический выключатель","In 2 A, Ue AC 230 V / DC 60 V, характеристика D, 1-полюс, Icn 10 kA","12 / -",0.159,0.14299999999999999,7.1499999999999995,{"$f":"VLOOKUP(B155,#REF!,3,FALSE)","v":{"$error":"#REF!"}}]
["Minia","Minia 10kA","LD2","OEZ:41988","LTS-4D-1","Автоматический выключатель","In 4 A, Ue AC 230 V / DC 60 V, характеристика D, 1-полюс, Icn 10 kA","12 / -",0.16,0.14299999999999999,7.06,{"$f":"VLOOKUP(B156,#REF!,3,FALSE)","v":{"$error":"#REF!"}}]
["Minia","Minia 10kA","LD2","OEZ:41989","LTS-6D-1","Автоматический выключатель","In 6 A, Ue AC 230 V / DC 60 V, характеристика D, 1-полюс, Icn 10 kA","12 / -",0.16500000000000001,0.14299999999999999,5.87,{"$f":"VLOOKUP(B157,#REF!,3,FALSE)","v":{"$error":"#REF!"}}]
["Minia","Minia 10kA","LD2","OEZ:41990","LTS-8D-1","Автоматический выключатель","In 8 A, Ue AC 230 V / DC 60 V, характеристика D, 1-полюс, Icn 10 kA","12 / -",0.158,0.14299999999999999,8.16,{"$f":"VLOOKUP(B158,#REF!,3,FALSE)","v":{"$error":"#REF!"}}]
["Minia","Minia 10kA","LD2","OEZ:41991","LTS-10D-1","Автоматический выключатель","In 10 A, Ue AC 230 V / DC 60 V, характеристика D, 1-полюс, Icn 10 kA","12 / -",0.157,0.14299999999999999,5.84,{"$f":"VLOOKUP(B159,#REF!,3,FALSE)","v":{"$error":"#REF!"}}]
["Minia","Minia 10kA","LD2","OEZ:41992","LTS-13D-1","Автоматический выключатель","In 13 A, Ue AC 230 V / DC 60 V, характеристика D, 1-полюс, Icn 10 kA","12 / -",0.158,0.14299999999999999,5.96,{"$f":"VLOOKUP(B160,#REF!,3,FALSE)","v":{"$error":"#REF!"}}]
["Minia","Minia 10kA","LD2","OEZ:41993","LTS-16D-1","Автоматический выключатель","In 16 A, Ue AC 230 V / DC 60 V, характеристика D, 1-полюс, Icn 10 kA","12 / -",0.16,0.14299999999999999,5.84,{"$f":"VLOOKUP(B161,#REF!,3,FALSE)","v":{"$error":"#REF!"}}]
["Minia","Minia 10kA","LD2","OEZ:41994","LTS-20D-1","Автоматический выключатель","In 20 A, Ue AC 230 V / DC 60 V, характеристика D, 1-полюс, Icn 10 kA","12 / -",0.16,0.14299999999999999,6.7299999999999995,{"$f":"VLOOKUP(B162,#REF!,3,FALSE)","v":{"$error":"#REF!"}}]
["Minia","Minia 10kA","LD2","OEZ:41995","LTS-25D-1","Автоматический выключатель","In 25 A, Ue AC 230 V / DC 60 V, характеристика D, 1-полюс, Icn 10 kA","12 / -",0.16500000000000001,0.14299999999999999,6.5299999999999994,{"$f":"VLOOKUP(B163,#REF!,3,FALSE)","v":{"$error":"#REF!"}}]
["Minia","Minia 10kA","LD2","OEZ:41996","LTS-32D-1","Автоматический выключатель","In 32 A, Ue AC 230 V / DC 60 V, характеристика D, 1-полюс, Icn 10 kA","12 / -",0.16500000000000001,0.14299999999999999,7.77,{"$f":"VLOOKUP(B164,#REF!,3,FALSE)","v":{"$error":"#REF!"}}]
["Minia","Minia 10kA","LD2","OEZ:41997","LTS-40D-1","Автоматический выключатель","In 40 A, Ue AC 230 V / DC 60 V, характеристика D, 1-полюс, Icn 10 kA","12 / -",0.16500000000000001,0.14299999999999999,8.19,{"$f":"VLOOKUP(B165,#REF!,3,FALSE)","v":{"$error":"#REF!"}}]
["Minia","Minia 10kA","LD2","OEZ:41998","LTS-50D-1","Автоматический выключатель","In 50 A, Ue AC 230 V / DC 60 V, характеристика D, 1-полюс, Icn 10 kA","12 / -",0.17100000000000001,0.14299999999999999,9.2200000000000006,{"$f":"VLOOKUP(B166,#REF!,3,FALSE)","v":{"$error":"#REF!"}}]
["Minia","Minia 10kA","LD2","OEZ:41999","LTS-63D-1","Автоматический выключатель","In 63 A, Ue AC 230 V / DC 60 V, характеристика D, 1-полюс, Icn 10 kA","12 / -",0.16500000000000001,0.14299999999999999,10.62,{"$f":"VLOOKUP(B167,#REF!,3,FALSE)","v":{"$error":"#REF!"}}]
[null,null,null,"Level  4","LTS-_-1N - Автоматические выключатели, 1+N-полюсные"]
["Minia","Minia 10kA","LD2","OEZ:43292","LTS-2B-1N","Автоматический выключатель","In 2 A, Ue AC 230 V / DC 60 V, характеристика B, 1+N-полюс, Icn 10 kA","6 / -",0.30499999999999999,0.28499999999999998,15.42,{"$f":"VLOOKUP(B169,#REF!,3,FALSE)","v":{"$error":"#REF!"}}]
["Minia","Minia 10kA","LD2","OEZ:43293","LTS-4B-1N","Автоматический выключатель","In 4 A, Ue AC 230 V / DC 60 V, характеристика B, 1+N-полюс, Icn 10 kA","6 / -",0.30599999999999999,0.28499999999999998,15.36,{"$f":"VLOOKUP(B170,#REF!,3,FALSE)","v":{"$error":"#REF!"}}]
["Minia","Minia 10kA","LD2","OEZ:42000","LTS-6B-1N","Автоматический выключатель","In 6 A, Ue AC 230 V / DC 60 V, характеристика B, 1+N-полюс, Icn 10 kA","6 / -",0.307,0.28499999999999998,14.77,{"$f":"VLOOKUP(B171,#REF!,3,FALSE)","v":{"$error":"#REF!"}}]
["Minia","Minia 10kA","LD2","OEZ:42001","LTS-8B-1N","Автоматический выключатель","In 8 A, Ue AC 230 V / DC 60 V, характеристика B, 1+N-полюс, Icn 10 kA","6 / -",0.30499999999999999,0.28499999999999998,16.37,{"$f":"VLOOKUP(B172,#REF!,3,FALSE)","v":{"$error":"#REF!"}}]
["Minia","Minia 10kA","LD2","OEZ:42002","LTS-10B-1N","Автоматический выключатель","In 10 A, Ue AC 230 V / DC 60 V, характеристика B, 1+N-полюс, Icn 10 kA","6 / -",0.30399999999999999,0.28499999999999998,12.16,{"$f":"VLOOKUP(B173,#REF!,3,FALSE)","v":{"$error":"#REF!"}}]
["Minia","Minia 10kA","LD2","OEZ:42003","LTS-13B-1N","Автоматический выключатель","In 13 A, Ue AC 230 V / DC 60 V, характеристика B, 1+N-полюс, Icn 10 kA","6 / -",0.30499999999999999,0.28499999999999998,12.16,{"$f":"VLOOKUP(B174,#REF!,3,FALSE)","v":{"$error":"#REF!"}}]
["Minia","Minia 10kA","LD2","OEZ:42004","LTS-16B-1N","Автоматический выключатель","In 16 A, Ue AC 230 V / DC 60 V, характеристика B, 1+N-полюс, Icn 10 kA","6 / -",0.30599999999999999,0.28499999999999998,12.16,{"$f":"VLOOKUP(B175,#REF!,3,FALSE)","v":{"$error":"#REF!"}}]
["Minia","Minia 10kA","LD2","OEZ:42005","LTS-20B-1N","Автоматический выключатель","In 20 A, Ue AC 230 V / DC 60 V, характеристика B, 1+N-полюс, Icn 10 kA","6 / -",0.313,0.28499999999999998,12.48,{"$f":"VLOOKUP(B176,#REF!,3,FALSE)","v":{"$error":"#REF!"}}]
["Minia","Minia 10kA","LD2","OEZ:42006","LTS-25B-1N","Автоматический выключатель","In 25 A, Ue AC 230 V / DC 60 V, характеристика B, 1+N-полюс, Icn 10 kA","6 / -",0.33,0.28499999999999998,12.629999999999999,{"$f":"VLOOKUP(B177,#REF!,3,FALSE)","v":{"$error":"#REF!"}}]
["Minia","Minia 10kA","LD2","OEZ:42007","LTS-32B-1N","Автоматический выключатель","In 32 A, Ue AC 230 V / DC 60 V, характеристика B, 1+N-полюс, Icn 10 kA","6 / -",0.313,0.28499999999999998,13.52,{"$f":"VLOOKUP(B178,#REF!,3,FALSE)","v":{"$error":"#REF!"}}]
["Minia","Minia 10kA","LD2","OEZ:42008","LTS-40B-1N","Автоматический выключатель","In 40 A, Ue AC 230 V / DC 60 V, характеристика B, 1+N-полюс, Icn 10 kA","6 / -",0.316,0.28499999999999998,14.47,{"$f":"VLOOKUP(B179,#REF!,3,FALSE)","v":{"$error":"#REF!"}}]
["Minia","Minia 10kA","LD2","OEZ:42009","LTS-50B-1N","Автоматический выключатель","In 50 A, Ue AC 230 V / DC 60 V, характеристика B, 1+N-полюс, Icn 10 kA","6 / -",0.33,0.28499999999999998,14.56,{"$f":"VLOOKUP(B180,#REF!,3,FALSE)","v":{"$error":"#REF!"}}]
["Minia","Minia 10kA","LD2","OEZ:42010","LTS-63B-1N","Автоматический выключатель","In 63 A, Ue AC 230 V / DC 60 V, характеристика B, 1+N-полюс, Icn 10 kA","6 / -",0.32900000000000001,0.28499999999999998,15.06,{"$f":"VLOOKUP(B181,#REF!,3,FALSE)","v":{"$error":"#REF!"}}]
["Minia","Minia 10kA","LD2","OEZ:42011","LTS-2C-1N","Автоматический выключатель","In 2 A, Ue AC 230 V / DC 60 V, характеристика C, 1+N-полюс, Icn 10 kA","6 / -",0.30599999999999999,0.28499999999999998,15.42,{"$f":"VLOOKUP(B182,#REF!,3,FALSE)","v":{"$error":"#REF!"}}]
["Minia","Minia 10kA","LD2","OEZ:42012","LTS-4C-1N","Автоматический выключатель","In 4 A, Ue AC 230 V / DC 60 V, характеристика C, 1+N-полюс, Icn 10 kA","6 / -",0.30599999999999999,0.28499999999999998,15.36,{"$f":"VLOOKUP(B183,#REF!,3,FALSE)","v":{"$error":"#REF!"}}]
["Minia","Minia 10kA","LD2","OEZ:42013","LTS-6C-1N","Автоматический выключатель","In 6 A, Ue AC 230 V / DC 60 V, характеристика C, 1+N-полюс, Icn 10 kA","6 / -",0.30499999999999999,0.28499999999999998,14.77,{"$f":"VLOOKUP(B184,#REF!,3,FALSE)","v":{"$error":"#REF!"}}]
["Minia","Minia 10kA","LD2","OEZ:42014","LTS-8C-1N","Автоматический выключатель","In 8 A, Ue AC 230 V / DC 60 V, характеристика C, 1+N-полюс, Icn 10 kA","6 / -",0.30599999999999999,0.28499999999999998,16.37,{"$f":"VLOOKUP(B185,#REF!,3,FALSE)","v":{"$error":"#REF!"}}]
["Minia","Minia 10kA","LD2","OEZ:42015","LTS-10C-1N","Автоматический выключатель","In 10 A, Ue AC 230 V / DC 60 V, характеристика C, 1+N-полюс, Icn 10 kA","6 / -",0.307,0.28499999999999998,12.16,{"$f":"VLOOKUP(B186,#REF!,3,FALSE)","v":{"$error":"#REF!"}}]
["Minia","Minia 10kA","LD2","OEZ:42016","LTS-13C-1N","Автоматический выключатель","In 13 A, Ue AC 230 V / DC 60 V, характеристика C, 1+N-полюс, Icn 10 kA","6 / -",0.30399999999999999,0.28499999999999998,12.16,{"$f":"VLOOKUP(B187,#REF!,3,FALSE)","v":{"$error":"#REF!"}}]
["Minia","Minia 10kA","LD2","OEZ:42017","LTS-16C-1N","Автоматический выключатель","In 16 A, Ue AC 230 V / DC 60 V, характеристика C, 1+N-полюс, Icn 10 kA","6 / -",0.31,0.28499999999999998,12.16,{"$f":"VLOOKUP(B188,#REF!,3,FALSE)","v":{"$error":"#REF!"}}]
["Minia","Minia 10kA","LD2","OEZ:42018","LTS-20C-1N","Автоматический выключатель","In 20 A, Ue AC 230 V / DC 60 V, характеристика C, 1+N-полюс, Icn 10 kA","6 / -",0.312,0.28499999999999998,12.48,{"$f":"VLOOKUP(B189,#REF!,3,FALSE)","v":{"$error":"#REF!"}}]
["Minia","Minia 10kA","LD2","OEZ:42019","LTS-25C-1N","Автоматический выключатель","In 25 A, Ue AC 230 V / DC 60 V, характеристика C, 1+N-полюс, Icn 10 kA","6 / -",0.313,0.28499999999999998,12.629999999999999,{"$f":"VLOOKUP(B190,#REF!,3,FALSE)","v":{"$error":"#REF!"}}]
["Minia","Minia 10kA","LD2","OEZ:42020","LTS-32C-1N","Автоматический выключатель","In 32 A, Ue AC 230 V / DC 60 V, характеристика C, 1+N-полюс, Icn 10 kA","6 / -",0.311,0.28499999999999998,13.52,{"$f":"VLOOKUP(B191,#REF!,3,FALSE)","v":{"$error":"#REF!"}}]
["Minia","Minia 10kA","LD2","OEZ:42021","LTS-40C-1N","Автоматический выключатель","In 40 A, Ue AC 230 V / DC 60 V, характеристика C, 1+N-полюс, Icn 10 kA","6 / -",0.313,0.28499999999999998,14.47,{"$f":"VLOOKUP(B192,#REF!,3,FALSE)","v":{"$error":"#REF!"}}]
["Minia","Minia 10kA","LD2","OEZ:42022","LTS-50C-1N","Автоматический выключатель","In 50 A, Ue AC 230 V / DC 60 V, характеристика C, 1+N-полюс, Icn 10 kA","6 / -",0.33,0.28499999999999998,14.56,{"$f":"VLOOKUP(B193,#REF!,3,FALSE)","v":{"$error":"#REF!"}}]
["Minia","Minia 10kA","LD2","OEZ:42023","LTS-63C-1N","Автоматический выключатель","In 63 A, Ue AC 230 V / DC 60 V, характеристика C, 1+N-полюс, Icn 10 kA","6 / -",0.32800000000000001,0.28499999999999998,15.06,{"$f":"VLOOKUP(B194,#REF!,3,FALSE)","v":{"$error":"#REF!"}}]
["Minia","Minia 10kA","LD2","OEZ:43294","LTS-2D-1N","Автоматический выключатель","In 2 A, Ue AC 230 V / DC 60 V, характеристика D, 1+N-полюс, Icn 10 kA","6 / -",0.30599999999999999,0.28499999999999998,16.96,{"$f":"VLOOKUP(B195,#REF!,3,FALSE)","v":{"$error":"#REF!"}}]
["Minia","Minia 10kA","LD2","OEZ:43295","LTS-4D-1N","Автоматический выключатель","In 4 A, Ue AC 230 V / DC 60 V, характеристика D, 1+N-полюс, Icn 10 kA","6 / -",0.31,0.28499999999999998,16.900000000000002,{"$f":"VLOOKUP(B196,#REF!,3,FALSE)","v":{"$error":"#REF!"}}]
["Minia","Minia 10kA","LD2","OEZ:42024","LTS-6D-1N","Автоматический выключатель","In 6 A, Ue AC 230 V / DC 60 V, характеристика D, 1+N-полюс, Icn 10 kA","6 / -",0.308,0.28499999999999998,16.25,{"$f":"VLOOKUP(B197,#REF!,3,FALSE)","v":{"$error":"#REF!"}}]
["Minia","Minia 10kA","LD2","OEZ:42025","LTS-8D-1N","Автоматический выключатель","In 8 A, Ue AC 230 V / DC 60 V, характеристика D, 1+N-полюс, Icn 10 kA","6 / -",0.30299999999999999,0.28499999999999998,18,{"$f":"VLOOKUP(B198,#REF!,3,FALSE)","v":{"$error":"#REF!"}}]
["Minia","Minia 10kA","LD2","OEZ:42026","LTS-10D-1N","Автоматический выключатель","In 10 A, Ue AC 230 V / DC 60 V, характеристика D, 1+N-полюс, Icn 10 kA","6 / -",0.30199999999999999,0.28499999999999998,13.34,{"$f":"VLOOKUP(B199,#REF!,3,FALSE)","v":{"$error":"#REF!"}}]
["Minia","Minia 10kA","LD2","OEZ:42027","LTS-13D-1N","Автоматический выключатель","In 13 A, Ue AC 230 V / DC 60 V, характеристика D, 1+N-полюс, Icn 10 kA","6 / -",0.33,0.28499999999999998,13.34,{"$f":"VLOOKUP(B200,#REF!,3,FALSE)","v":{"$error":"#REF!"}}]
["Minia","Minia 10kA","LD2","OEZ:42028","LTS-16D-1N","Автоматический выключатель","In 16 A, Ue AC 230 V / DC 60 V, характеристика D, 1+N-полюс, Icn 10 kA","6 / -",0.312,0.28499999999999998,13.34,{"$f":"VLOOKUP(B201,#REF!,3,FALSE)","v":{"$error":"#REF!"}}]
["Minia","Minia 10kA","LD2","OEZ:42029","LTS-20D-1N","Автоматический выключатель","In 20 A, Ue AC 230 V / DC 60 V, характеристика D, 1+N-полюс, Icn 10 kA","6 / -",0.312,0.28499999999999998,13.73,{"$f":"VLOOKUP(B202,#REF!,3,FALSE)","v":{"$error":"#REF!"}}]
["Minia","Minia 10kA","LD2","OEZ:42030","LTS-25D-1N","Автоматический выключатель","In 25 A, Ue AC 230 V / DC 60 V, характеристика D, 1+N-полюс, Icn 10 kA","6 / -",0.311,0.28499999999999998,13.879999999999999,{"$f":"VLOOKUP(B203,#REF!,3,FALSE)","v":{"$error":"#REF!"}}]
["Minia","Minia 10kA","LD2","OEZ:42031","LTS-32D-1N","Автоматический выключатель","In 32 A, Ue AC 230 V / DC 60 V, характеристика D, 1+N-полюс, Icn 10 kA","6 / -",0.313,0.28499999999999998,14.85,{"$f":"VLOOKUP(B204,#REF!,3,FALSE)","v":{"$error":"#REF!"}}]
["Minia","Minia 10kA","LD2","OEZ:42032","LTS-40D-1N","Автоматический выключатель","In 40 A, Ue AC 230 V / DC 60 V, характеристика D, 1+N-полюс, Icn 10 kA","6 / -",0.312,0.28499999999999998,15.92,{"$f":"VLOOKUP(B205,#REF!,3,FALSE)","v":{"$error":"#REF!"}}]
["Minia","Minia 10kA","LD2","OEZ:42033","LTS-50D-1N","Автоматический выключатель","In 50 A, Ue AC 230 V / DC 60 V, характеристика D, 1+N-полюс, Icn 10 kA","6 / -",0.32900000000000001,0.28499999999999998,16.040000000000003,{"$f":"VLOOKUP(B206,#REF!,3,FALSE)","v":{"$error":"#REF!"}}]
["Minia","Minia 10kA","LD2","OEZ:42034","LTS-63D-1N","Автоматический выключатель","In 63 A, Ue AC 230 V / DC 60 V, характеристика D, 1+N-полюс, Icn 10 kA","6 / -",0.33,0.28499999999999998,16.540000000000003,{"$f":"VLOOKUP(B207,#REF!,3,FALSE)","v":{"$error":"#REF!"}}]
[null,null,null,"Level  4","LTS-_-2 - Автоматические выключатели, 2-полюсные"]
["Minia","Minia 10kA","LD2","OEZ:42035","LTS-1B-2","Автоматический выключатель","In 1 A, Ue AC 230/400 V / DC 120 V, характеристика B, 2-полюс, Icn 10 kA","6 / -",0.308,0.28499999999999998,15.57,{"$f":"VLOOKUP(B209,#REF!,3,FALSE)","v":{"$error":"#REF!"}}]
["Minia","Minia 10kA","LD2","OEZ:42036","LTS-2B-2","Автоматический выключатель","In 2 A, Ue AC 230/400 V / DC 120 V, характеристика B, 2-полюс, Icn 10 kA","6 / -",0.309,0.28499999999999998,13.52,{"$f":"VLOOKUP(B210,#REF!,3,FALSE)","v":{"$error":"#REF!"}}]
["Minia","Minia 10kA","LD2","OEZ:42037","LTS-4B-2","Автоматический выключатель","In 4 A, Ue AC 230/400 V / DC 120 V, характеристика B, 2-полюс, Icn 10 kA","6 / -",0.311,0.28499999999999998,13.34,{"$f":"VLOOKUP(B211,#REF!,3,FALSE)","v":{"$error":"#REF!"}}]
["Minia","Minia 10kA","LD2","OEZ:42038","LTS-6B-2","Автоматический выключатель","In 6 A, Ue AC 230/400 V / DC 120 V, характеристика B, 2-полюс, Icn 10 kA","6 / -",0.311,0.28499999999999998,12.31,{"$f":"VLOOKUP(B212,#REF!,3,FALSE)","v":{"$error":"#REF!"}}]
["Minia","Minia 10kA","LD2","OEZ:42039","LTS-8B-2","Автоматический выключатель","In 8 A, Ue AC 230/400 V / DC 120 V, характеристика B, 2-полюс, Icn 10 kA","6 / -",0.31,0.28499999999999998,13.34,{"$f":"VLOOKUP(B213,#REF!,3,FALSE)","v":{"$error":"#REF!"}}]
["Minia","Minia 10kA","LD2","OEZ:42040","LTS-10B-2","Автоматический выключатель","In 10 A, Ue AC 230/400 V / DC 120 V, характеристика B, 2-полюс, Icn 10 kA","6 / -",0.30599999999999999,0.28499999999999998,11.56,{"$f":"VLOOKUP(B214,#REF!,3,FALSE)","v":{"$error":"#REF!"}}]
["Minia","Minia 10kA","LD2","OEZ:42041","LTS-13B-2","Автоматический выключатель","In 13 A, Ue AC 230/400 V / DC 120 V, характеристика B, 2-полюс, Icn 10 kA","6 / -",0.309,0.28499999999999998,11.86,{"$f":"VLOOKUP(B215,#REF!,3,FALSE)","v":{"$error":"#REF!"}}]
["Minia","Minia 10kA","LD2","OEZ:42042","LTS-16B-2","Автоматический выключатель","In 16 A, Ue AC 230/400 V / DC 120 V, характеристика B, 2-полюс, Icn 10 kA","6 / -",0.311,0.28499999999999998,11.27,{"$f":"VLOOKUP(B216,#REF!,3,FALSE)","v":{"$error":"#REF!"}}]
["Minia","Minia 10kA","LD2","OEZ:42043","LTS-20B-2","Автоматический выключатель","In 20 A, Ue AC 230/400 V / DC 120 V, характеристика B, 2-полюс, Icn 10 kA","6 / -",0.309,0.28499999999999998,13.52,{"$f":"VLOOKUP(B217,#REF!,3,FALSE)","v":{"$error":"#REF!"}}]
["Minia","Minia 10kA","LD2","OEZ:42044","LTS-25B-2","Автоматический выключатель","In 25 A, Ue AC 230/400 V / DC 120 V, характеристика B, 2-полюс, Icn 10 kA","6 / -",0.312,0.28499999999999998,13.7,{"$f":"VLOOKUP(B218,#REF!,3,FALSE)","v":{"$error":"#REF!"}}]
["Minia","Minia 10kA","LD2","OEZ:42045","LTS-32B-2","Автоматический выключатель","In 32 A, Ue AC 230/400 V / DC 120 V, характеристика B, 2-полюс, Icn 10 kA","6 / -",0.314,0.28499999999999998,14.68,{"$f":"VLOOKUP(B219,#REF!,3,FALSE)","v":{"$error":"#REF!"}}]
["Minia","Minia 10kA","LD2","OEZ:42046","LTS-40B-2","Автоматический выключатель","In 40 A, Ue AC 230/400 V / DC 120 V, характеристика B, 2-полюс, Icn 10 kA","6 / -",0.318,0.28499999999999998,15.39,{"$f":"VLOOKUP(B220,#REF!,3,FALSE)","v":{"$error":"#REF!"}}]
["Minia","Minia 10kA","LD2","OEZ:42047","LTS-50B-2","Автоматический выключатель","In 50 A, Ue AC 230/400 V / DC 120 V, характеристика B, 2-полюс, Icn 10 kA","6 / -",0.33,0.28499999999999998,16.400000000000002,{"$f":"VLOOKUP(B221,#REF!,3,FALSE)","v":{"$error":"#REF!"}}]
["Minia","Minia 10kA","LD2","OEZ:42048","LTS-63B-2","Автоматический выключатель","In 63 A, Ue AC 230/400 V / DC 120 V, характеристика B, 2-полюс, Icn 10 kA","6 / -",0.33,0.28499999999999998,19.600000000000001,{"$f":"VLOOKUP(B222,#REF!,3,FALSE)","v":{"$error":"#REF!"}}]
["Minia","Minia 10kA","LD2","OEZ:42050","LTS-0,5C-2","Автоматический выключатель","In 0,5 A, Ue AC 230/400 V / DC 120 V, характеристика C, 2-полюс, Icn 10 kA","6 / -",0.308,0.28499999999999998,19.600000000000001,{"$f":"VLOOKUP(B223,#REF!,3,FALSE)","v":{"$error":"#REF!"}}]
["Minia","Minia 10kA","LD2","OEZ:42051","LTS-1C-2","Автоматический выключатель","In 1 A, Ue AC 230/400 V / DC 120 V, характеристика C, 2-полюс, Icn 10 kA","6 / -",0.30499999999999999,0.28499999999999998,15.57,{"$f":"VLOOKUP(B224,#REF!,3,FALSE)","v":{"$error":"#REF!"}}]
["Minia","Minia 10kA","LD2","OEZ:42052","LTS-1,6C-2","Автоматический выключатель","In 1,6 A, Ue AC 230/400 V / DC 120 V, характеристика C, 2-полюс, Icn 10 kA","6 / -",0.307,0.28499999999999998,15.45,{"$f":"VLOOKUP(B225,#REF!,3,FALSE)","v":{"$error":"#REF!"}}]
["Minia","Minia 10kA","LD2","OEZ:42053","LTS-2C-2","Автоматический выключатель","In 2 A, Ue AC 230/400 V / DC 120 V, характеристика C, 2-полюс, Icn 10 kA","6 / -",0.311,0.28499999999999998,13.52,{"$f":"VLOOKUP(B226,#REF!,3,FALSE)","v":{"$error":"#REF!"}}]
["Minia","Minia 10kA","LD2","OEZ:42054","LTS-4C-2","Автоматический выключатель","In 4 A, Ue AC 230/400 V / DC 120 V, характеристика C, 2-полюс, Icn 10 kA","6 / -",0.31,0.28499999999999998,13.34,{"$f":"VLOOKUP(B227,#REF!,3,FALSE)","v":{"$error":"#REF!"}}]
["Minia","Minia 10kA","LD2","OEZ:42055","LTS-6C-2","Автоматический выключатель","In 6 A, Ue AC 230/400 V / DC 120 V, характеристика C, 2-полюс, Icn 10 kA","6 / -",0.309,0.28499999999999998,12.31,{"$f":"VLOOKUP(B228,#REF!,3,FALSE)","v":{"$error":"#REF!"}}]
["Minia","Minia 10kA","LD2","OEZ:42056","LTS-8C-2","Автоматический выключатель","In 8 A, Ue AC 230/400 V / DC 120 V, характеристика C, 2-полюс, Icn 10 kA","6 / -",0.313,0.28499999999999998,13.34,{"$f":"VLOOKUP(B229,#REF!,3,FALSE)","v":{"$error":"#REF!"}}]
["Minia","Minia 10kA","LD2","OEZ:42057","LTS-10C-2","Автоматический выключатель","In 10 A, Ue AC 230/400 V / DC 120 V, характеристика C, 2-полюс, Icn 10 kA","6 / -",0.311,0.28499999999999998,11.56,{"$f":"VLOOKUP(B230,#REF!,3,FALSE)","v":{"$error":"#REF!"}}]
["Minia","Minia 10kA","LD2","OEZ:42058","LTS-13C-2","Автоматический выключатель","In 13 A, Ue AC 230/400 V / DC 120 V, характеристика C, 2-полюс, Icn 10 kA","6 / -",0.30499999999999999,0.28499999999999998,11.86,{"$f":"VLOOKUP(B231,#REF!,3,FALSE)","v":{"$error":"#REF!"}}]
["Minia","Minia 10kA","LD2","OEZ:42059","LTS-16C-2","Автоматический выключатель","In 16 A, Ue AC 230/400 V / DC 120 V, характеристика C, 2-полюс, Icn 10 kA","6 / -",0.312,0.28499999999999998,11.27,{"$f":"VLOOKUP(B232,#REF!,3,FALSE)","v":{"$error":"#REF!"}}]
["Minia","Minia 10kA","LD2","OEZ:42060","LTS-20C-2","Автоматический выключатель","In 20 A, Ue AC 230/400 V / DC 120 V, характеристика C, 2-полюс, Icn 10 kA","6 / -",0.312,0.28499999999999998,13.52,{"$f":"VLOOKUP(B233,#REF!,3,FALSE)","v":{"$error":"#REF!"}}]
["Minia","Minia 10kA","LD2","OEZ:42061","LTS-25C-2","Автоматический выключатель","In 25 A, Ue AC 230/400 V / DC 120 V, характеристика C, 2-полюс, Icn 10 kA","6 / -",0.313,0.28499999999999998,13.7,{"$f":"VLOOKUP(B234,#REF!,3,FALSE)","v":{"$error":"#REF!"}}]
["Minia","Minia 10kA","LD2","OEZ:42062","LTS-32C-2","Автоматический выключатель","In 32 A, Ue AC 230/400 V / DC 120 V, характеристика C, 2-полюс, Icn 10 kA","6 / -",0.311,0.28499999999999998,14.68,{"$f":"VLOOKUP(B235,#REF!,3,FALSE)","v":{"$error":"#REF!"}}]
["Minia","Minia 10kA","LD2","OEZ:42063","LTS-40C-2","Автоматический выключатель","In 40 A, Ue AC 230/400 V / DC 120 V, характеристика C, 2-полюс, Icn 10 kA","6 / -",0.315,0.28499999999999998,15.39,{"$f":"VLOOKUP(B236,#REF!,3,FALSE)","v":{"$error":"#REF!"}}]
["Minia","Minia 10kA","LD2","OEZ:42064","LTS-50C-2","Автоматический выключатель","In 50 A, Ue AC 230/400 V / DC 120 V, характеристика C, 2-полюс, Icn 10 kA","6 / -",0.33,0.28499999999999998,16.400000000000002,{"$f":"VLOOKUP(B237,#REF!,3,FALSE)","v":{"$error":"#REF!"}}]
["Minia","Minia 10kA","LD2","OEZ:42065","LTS-63C-2","Автоматический выключатель","In 63 A, Ue AC 230/400 V / DC 120 V, характеристика C, 2-полюс, Icn 10 kA","6 / -",0.33,0.28499999999999998,19.600000000000001,{"$f":"VLOOKUP(B238,#REF!,3,FALSE)","v":{"$error":"#REF!"}}]
["Minia","Minia 10kA","LD2","OEZ:42067","LTS-0,5D-2","Автоматический выключатель","In 0,5 A, Ue AC 230/400 V / DC 120 V, характеристика D, 2-полюс, Icn 10 kA","6 / -",0.29599999999999999,0.28499999999999998,21.580000000000002,{"$f":"VLOOKUP(B239,#REF!,3,FALSE)","v":{"$error":"#REF!"}}]
["Minia","Minia 10kA","LD2","OEZ:42068","LTS-1D-2","Автоматический выключатель","In 1 A, Ue AC 230/400 V / DC 120 V, характеристика D, 2-полюс, Icn 10 kA","6 / -",0.308,0.28499999999999998,17.37,{"$f":"VLOOKUP(B240,#REF!,3,FALSE)","v":{"$error":"#REF!"}}]
["Minia","Minia 10kA","LD2","OEZ:42069","LTS-1,6D-2","Автоматический выключатель","In 1,6 A, Ue AC 230/400 V / DC 120 V, характеристика D, 2-полюс, Icn 10 kA","6 / -",0.311,0.28499999999999998,17.37,{"$f":"VLOOKUP(B241,#REF!,3,FALSE)","v":{"$error":"#REF!"}}]
["Minia","Minia 10kA","LD2","OEZ:42070","LTS-2D-2","Автоматический выключатель","In 2 A, Ue AC 230/400 V / DC 120 V, характеристика D, 2-полюс, Icn 10 kA","6 / -",0.31,0.28499999999999998,16.040000000000003,{"$f":"VLOOKUP(B242,#REF!,3,FALSE)","v":{"$error":"#REF!"}}]
["Minia","Minia 10kA","LD2","OEZ:42071","LTS-4D-2","Автоматический выключатель","In 4 A, Ue AC 230/400 V / DC 120 V, характеристика D, 2-полюс, Icn 10 kA","6 / -",0.31,0.28499999999999998,16.040000000000003,{"$f":"VLOOKUP(B243,#REF!,3,FALSE)","v":{"$error":"#REF!"}}]
["Minia","Minia 10kA","LD2","OEZ:42072","LTS-6D-2","Автоматический выключатель","In 6 A, Ue AC 230/400 V / DC 120 V, характеристика D, 2-полюс, Icn 10 kA","6 / -",0.313,0.28499999999999998,13.52,{"$f":"VLOOKUP(B244,#REF!,3,FALSE)","v":{"$error":"#REF!"}}]
["Minia","Minia 10kA","LD2","OEZ:42073","LTS-8D-2","Автоматический выключатель","In 8 A, Ue AC 230/400 V / DC 120 V, характеристика D, 2-полюс, Icn 10 kA","6 / -",0.30499999999999999,0.28499999999999998,13.79,{"$f":"VLOOKUP(B245,#REF!,3,FALSE)","v":{"$error":"#REF!"}}]
["Minia","Minia 10kA","LD2","OEZ:42074","LTS-10D-2","Автоматический выключатель","In 10 A, Ue AC 230/400 V / DC 120 V, характеристика D, 2-полюс, Icn 10 kA","6 / -",0.3,0.28499999999999998,12.75,{"$f":"VLOOKUP(B246,#REF!,3,FALSE)","v":{"$error":"#REF!"}}]
["Minia","Minia 10kA","LD2","OEZ:42075","LTS-13D-2","Автоматический выключатель","In 13 A, Ue AC 230/400 V / DC 120 V, характеристика D, 2-полюс, Icn 10 kA","6 / -",0.30199999999999999,0.28499999999999998,13.08,{"$f":"VLOOKUP(B247,#REF!,3,FALSE)","v":{"$error":"#REF!"}}]
["Minia","Minia 10kA","LD2","OEZ:42076","LTS-16D-2","Автоматический выключатель","In 16 A, Ue AC 230/400 V / DC 120 V, характеристика D, 2-полюс, Icn 10 kA","6 / -",0.309,0.28499999999999998,12.39,{"$f":"VLOOKUP(B248,#REF!,3,FALSE)","v":{"$error":"#REF!"}}]
["Minia","Minia 10kA","LD2","OEZ:42077","LTS-20D-2","Автоматический выключатель","In 20 A, Ue AC 230/400 V / DC 120 V, характеристика D, 2-полюс, Icn 10 kA","6 / -",0.309,0.28499999999999998,14.85,{"$f":"VLOOKUP(B249,#REF!,3,FALSE)","v":{"$error":"#REF!"}}]
["Minia","Minia 10kA","LD2","OEZ:42078","LTS-25D-2","Автоматический выключатель","In 25 A, Ue AC 230/400 V / DC 120 V, характеристика D, 2-полюс, Icn 10 kA","6 / -",0.31,0.28499999999999998,15.09,{"$f":"VLOOKUP(B250,#REF!,3,FALSE)","v":{"$error":"#REF!"}}]
["Minia","Minia 10kA","LD2","OEZ:42079","LTS-32D-2","Автоматический выключатель","In 32 A, Ue AC 230/400 V / DC 120 V, характеристика D, 2-полюс, Icn 10 kA","6 / -",0.313,0.28499999999999998,16.130000000000003,{"$f":"VLOOKUP(B251,#REF!,3,FALSE)","v":{"$error":"#REF!"}}]
["Minia","Minia 10kA","LD2","OEZ:42080","LTS-40D-2","Автоматический выключатель","In 40 A, Ue AC 230/400 V / DC 120 V, характеристика D, 2-полюс, Icn 10 kA","6 / -",0.315,0.28499999999999998,16.930000000000003,{"$f":"VLOOKUP(B252,#REF!,3,FALSE)","v":{"$error":"#REF!"}}]
["Minia","Minia 10kA","LD2","OEZ:43090","LTS-50D-2","Автоматический выключатель","In 50 A, Ue AC 230/400 V / DC 120 V, характеристика D, 2-полюс, Icn 10 kA","6 / -",0.33,0.28499999999999998,18.03,{"$f":"VLOOKUP(B253,#REF!,3,FALSE)","v":{"$error":"#REF!"}}]
["Minia","Minia 10kA","LD2","OEZ:43089","LTS-63D-2","Автоматический выключатель","In 63 A, Ue AC 230/400 V / DC 120 V, характеристика D, 2-полюс, Icn 10 kA","6 / -",0.33,0.28499999999999998,21.55,{"$f":"VLOOKUP(B254,#REF!,3,FALSE)","v":{"$error":"#REF!"}}]
[null,null,null,"Level  4","LTS-_-3 - Автоматические выключатели, 3-полюсные"]
["Minia","Minia 10kA","LD2","OEZ:42081","LTS-1B-3","Автоматический выключатель","In 1 A, Ue AC 230/400 V / DC 180 V, характеристика B, 3-полюс, Icn 10 kA","4 / -",0.46500000000000002,0.42799999999999999,23.240000000000002,{"$f":"VLOOKUP(B256,#REF!,3,FALSE)","v":{"$error":"#REF!"}}]
["Minia","Minia 10kA","LD2","OEZ:42082","LTS-2B-3","Автоматический выключатель","In 2 A, Ue AC 230/400 V / DC 180 V, характеристика B, 3-полюс, Icn 10 kA","4 / -",0.45500000000000002,0.42799999999999999,20.37,{"$f":"VLOOKUP(B257,#REF!,3,FALSE)","v":{"$error":"#REF!"}}]
["Minia","Minia 10kA","LD2","OEZ:42083","LTS-4B-3","Автоматический выключатель","In 4 A, Ue AC 230/400 V / DC 180 V, характеристика B, 3-полюс, Icn 10 kA","4 / -",0.46500000000000002,0.42799999999999999,20.130000000000003,{"$f":"VLOOKUP(B258,#REF!,3,FALSE)","v":{"$error":"#REF!"}}]
["Minia","Minia 10kA","LD2","OEZ:42084","LTS-6B-3","Автоматический выключатель","In 6 A, Ue AC 230/400 V / DC 180 V, характеристика B, 3-полюс, Icn 10 kA","4 / -",0.46400000000000002,0.42799999999999999,18.32,{"$f":"VLOOKUP(B259,#REF!,3,FALSE)","v":{"$error":"#REF!"}}]
["Minia","Minia 10kA","LD2","OEZ:42085","LTS-8B-3","Автоматический выключатель","In 8 A, Ue AC 230/400 V / DC 180 V, характеристика B, 3-полюс, Icn 10 kA","4 / -",0.46500000000000002,0.42799999999999999,19.75,{"$f":"VLOOKUP(B260,#REF!,3,FALSE)","v":{"$error":"#REF!"}}]
["Minia","Minia 10kA","LD2","OEZ:42086","LTS-10B-3","Автоматический выключатель","In 10 A, Ue AC 230/400 V / DC 180 V, характеристика B, 3-полюс, Icn 10 kA","4 / -",0.44900000000000001,0.42799999999999999,16.84,{"$f":"VLOOKUP(B261,#REF!,3,FALSE)","v":{"$error":"#REF!"}}]
["Minia","Minia 10kA","LD2","OEZ:42087","LTS-13B-3","Автоматический выключатель","In 13 A, Ue AC 230/400 V / DC 180 V, характеристика B, 3-полюс, Icn 10 kA","4 / -",0.45500000000000002,0.42799999999999999,17.260000000000002,{"$f":"VLOOKUP(B262,#REF!,3,FALSE)","v":{"$error":"#REF!"}}]
["Minia","Minia 10kA","LD2","OEZ:42088","LTS-16B-3","Автоматический выключатель","In 16 A, Ue AC 230/400 V / DC 180 V, характеристика B, 3-полюс, Icn 10 kA","4 / -",0.45700000000000002,0.42799999999999999,16.25,{"$f":"VLOOKUP(B263,#REF!,3,FALSE)","v":{"$error":"#REF!"}}]
["Minia","Minia 10kA","LD2","OEZ:42089","LTS-20B-3","Автоматический выключатель","In 20 A, Ue AC 230/400 V / DC 180 V, характеристика B, 3-полюс, Icn 10 kA","4 / -",0.46500000000000002,0.42799999999999999,17.580000000000002,{"$f":"VLOOKUP(B264,#REF!,3,FALSE)","v":{"$error":"#REF!"}}]
["Minia","Minia 10kA","LD2","OEZ:42090","LTS-25B-3","Автоматический выключатель","In 25 A, Ue AC 230/400 V / DC 180 V, характеристика B, 3-полюс, Icn 10 kA","4 / -",0.46500000000000002,0.42799999999999999,19.48,{"$f":"VLOOKUP(B265,#REF!,3,FALSE)","v":{"$error":"#REF!"}}]
["Minia","Minia 10kA","LD2","OEZ:42091","LTS-32B-3","Автоматический выключатель","In 32 A, Ue AC 230/400 V / DC 180 V, характеристика B, 3-полюс, Icn 10 kA","4 / -",0.45900000000000002,0.42799999999999999,20.55,{"$f":"VLOOKUP(B266,#REF!,3,FALSE)","v":{"$error":"#REF!"}}]
["Minia","Minia 10kA","LD2","OEZ:42092","LTS-40B-3","Автоматический выключатель","In 40 A, Ue AC 230/400 V / DC 180 V, характеристика B, 3-полюс, Icn 10 kA","4 / -",0.46500000000000002,0.42799999999999999,21.380000000000003,{"$f":"VLOOKUP(B267,#REF!,3,FALSE)","v":{"$error":"#REF!"}}]
["Minia","Minia 10kA","LD2","OEZ:42093","LTS-50B-3","Автоматический выключатель","In 50 A, Ue AC 230/400 V / DC 180 V, характеристика B, 3-полюс, Icn 10 kA","4 / -",0.48599999999999999,0.42799999999999999,24.28,{"$f":"VLOOKUP(B268,#REF!,3,FALSE)","v":{"$error":"#REF!"}}]
["Minia","Minia 10kA","LD2","OEZ:42094","LTS-63B-3","Автоматический выключатель","In 63 A, Ue AC 230/400 V / DC 180 V, характеристика B, 3-полюс, Icn 10 kA","4 / -",0.48899999999999999,0.42799999999999999,26.98,{"$f":"VLOOKUP(B269,#REF!,3,FALSE)","v":{"$error":"#REF!"}}]
["Minia","Minia 10kA","LD2","OEZ:42096","LTS-0,5C-3","Автоматический выключатель","In 0,5 A, Ue AC 230/400 V / DC 180 V, характеристика C, 3-полюс, Icn 10 kA","4 / -",0.46500000000000002,0.42799999999999999,24.96,{"$f":"VLOOKUP(B270,#REF!,3,FALSE)","v":{"$error":"#REF!"}}]
["Minia","Minia 10kA","LD2","OEZ:42097","LTS-1C-3","Автоматический выключатель","In 1 A, Ue AC 230/400 V / DC 180 V, характеристика C, 3-полюс, Icn 10 kA","4 / -",0.46500000000000002,0.42799999999999999,23.240000000000002,{"$f":"VLOOKUP(B271,#REF!,3,FALSE)","v":{"$error":"#REF!"}}]
["Minia","Minia 10kA","LD2","OEZ:42098","LTS-1,6C-3","Автоматический выключатель","In 1,6 A, Ue AC 230/400 V / DC 180 V, характеристика C, 3-полюс, Icn 10 kA","4 / -",0.46500000000000002,0.42799999999999999,23.450000000000003,{"$f":"VLOOKUP(B272,#REF!,3,FALSE)","v":{"$error":"#REF!"}}]
["Minia","Minia 10kA","LD2","OEZ:42099","LTS-2C-3","Автоматический выключатель","In 2 A, Ue AC 230/400 V / DC 180 V, характеристика C, 3-полюс, Icn 10 kA","4 / -",0.46300000000000002,0.42799999999999999,20.37,{"$f":"VLOOKUP(B273,#REF!,3,FALSE)","v":{"$error":"#REF!"}}]
["Minia","Minia 10kA","LD2","OEZ:42100","LTS-4C-3","Автоматический выключатель","In 4 A, Ue AC 230/400 V / DC 180 V, характеристика C, 3-полюс, Icn 10 kA","4 / -",0.45800000000000002,0.42799999999999999,20.130000000000003,{"$f":"VLOOKUP(B274,#REF!,3,FALSE)","v":{"$error":"#REF!"}}]
["Minia","Minia 10kA","LD2","OEZ:42101","LTS-6C-3","Автоматический выключатель","In 6 A, Ue AC 230/400 V / DC 180 V, характеристика C, 3-полюс, Icn 10 kA","4 / -",0.46100000000000002,0.42799999999999999,18.32,{"$f":"VLOOKUP(B275,#REF!,3,FALSE)","v":{"$error":"#REF!"}}]
["Minia","Minia 10kA","LD2","OEZ:42102","LTS-8C-3","Автоматический выключатель","In 8 A, Ue AC 230/400 V / DC 180 V, характеристика C, 3-полюс, Icn 10 kA","4 / -",0.46500000000000002,0.42799999999999999,19.75,{"$f":"VLOOKUP(B276,#REF!,3,FALSE)","v":{"$error":"#REF!"}}]
["Minia","Minia 10kA","LD2","OEZ:42103","LTS-10C-3","Автоматический выключатель","In 10 A, Ue AC 230/400 V / DC 180 V, характеристика C, 3-полюс, Icn 10 kA","4 / -",0.46300000000000002,0.42799999999999999,16.84,{"$f":"VLOOKUP(B277,#REF!,3,FALSE)","v":{"$error":"#REF!"}}]
["Minia","Minia 10kA","LD2","OEZ:42104","LTS-13C-3","Автоматический выключатель","In 13 A, Ue AC 230/400 V / DC 180 V, характеристика C, 3-полюс, Icn 10 kA","4 / -",0.45200000000000001,0.42799999999999999,17.260000000000002,{"$f":"VLOOKUP(B278,#REF!,3,FALSE)","v":{"$error":"#REF!"}}]
["Minia","Minia 10kA","LD2","OEZ:42105","LTS-16C-3","Автоматический выключатель","In 16 A, Ue AC 230/400 V / DC 180 V, характеристика C, 3-полюс, Icn 10 kA","4 / -",0.46,0.42799999999999999,16.25,{"$f":"VLOOKUP(B279,#REF!,3,FALSE)","v":{"$error":"#REF!"}}]
["Minia","Minia 10kA","LD2","OEZ:42106","LTS-20C-3","Автоматический выключатель","In 20 A, Ue AC 230/400 V / DC 180 V, характеристика C, 3-полюс, Icn 10 kA","4 / -",0.46300000000000002,0.42799999999999999,17.580000000000002,{"$f":"VLOOKUP(B280,#REF!,3,FALSE)","v":{"$error":"#REF!"}}]
["Minia","Minia 10kA","LD2","OEZ:42107","LTS-25C-3","Автоматический выключатель","In 25 A, Ue AC 230/400 V / DC 180 V, характеристика C, 3-полюс, Icn 10 kA","4 / -",0.46300000000000002,0.42799999999999999,19.48,{"$f":"VLOOKUP(B281,#REF!,3,FALSE)","v":{"$error":"#REF!"}}]
["Minia","Minia 10kA","LD2","OEZ:42108","LTS-32C-3","Автоматический выключатель","In 32 A, Ue AC 230/400 V / DC 180 V, характеристика C, 3-полюс, Icn 10 kA","4 / -",0.45600000000000002,0.42799999999999999,20.55,{"$f":"VLOOKUP(B282,#REF!,3,FALSE)","v":{"$error":"#REF!"}}]
["Minia","Minia 10kA","LD2","OEZ:42109","LTS-40C-3","Автоматический выключатель","In 40 A, Ue AC 230/400 V / DC 180 V, характеристика C, 3-полюс, Icn 10 kA","4 / -",0.46700000000000003,0.42799999999999999,21.380000000000003,{"$f":"VLOOKUP(B283,#REF!,3,FALSE)","v":{"$error":"#REF!"}}]
["Minia","Minia 10kA","LD2","OEZ:42110","LTS-50C-3","Автоматический выключатель","In 50 A, Ue AC 230/400 V / DC 180 V, характеристика C, 3-полюс, Icn 10 kA","4 / -",0.48899999999999999,0.42799999999999999,24.28,{"$f":"VLOOKUP(B284,#REF!,3,FALSE)","v":{"$error":"#REF!"}}]
["Minia","Minia 10kA","LD2","OEZ:42111","LTS-63C-3","Автоматический выключатель","In 63 A, Ue AC 230/400 V / DC 180 V, характеристика C, 3-полюс, Icn 10 kA","4 / -",0.48799999999999999,0.42799999999999999,26.98,{"$f":"VLOOKUP(B285,#REF!,3,FALSE)","v":{"$error":"#REF!"}}]
["Minia","Minia 10kA","LD2","OEZ:42113","LTS-0,5D-3","Автоматический выключатель","In 0,5 A, Ue AC 230/400 V / DC 180 V, характеристика D, 3-полюс, Icn 10 kA","4 / -",0.46500000000000002,0.42799999999999999,27.48,{"$f":"VLOOKUP(B286,#REF!,3,FALSE)","v":{"$error":"#REF!"}}]
["Minia","Minia 10kA","LD2","OEZ:42114","LTS-1D-3","Автоматический выключатель","In 1 A, Ue AC 230/400 V / DC 180 V, характеристика D, 3-полюс, Icn 10 kA","4 / -",0.46500000000000002,0.42799999999999999,25.55,{"$f":"VLOOKUP(B287,#REF!,3,FALSE)","v":{"$error":"#REF!"}}]
["Minia","Minia 10kA","LD2","OEZ:42115","LTS-1,6D-3","Автоматический выключатель","In 1,6 A, Ue AC 230/400 V / DC 180 V, характеристика D, 3-полюс, Icn 10 kA","4 / -",0.46500000000000002,0.42799999999999999,25.790000000000003,{"$f":"VLOOKUP(B288,#REF!,3,FALSE)","v":{"$error":"#REF!"}}]
["Minia","Minia 10kA","LD2","OEZ:42116","LTS-2D-3","Автоматический выключатель","In 2 A, Ue AC 230/400 V / DC 180 V, характеристика D, 3-полюс, Icn 10 kA","4 / -",0.46500000000000002,0.42799999999999999,22.44,{"$f":"VLOOKUP(B289,#REF!,3,FALSE)","v":{"$error":"#REF!"}}]
["Minia","Minia 10kA","LD2","OEZ:42117","LTS-4D-3","Автоматический выключатель","In 4 A, Ue AC 230/400 V / DC 180 V, характеристика D, 3-полюс, Icn 10 kA","4 / -",0.45700000000000002,0.42799999999999999,22.12,{"$f":"VLOOKUP(B290,#REF!,3,FALSE)","v":{"$error":"#REF!"}}]
["Minia","Minia 10kA","LD2","OEZ:42118","LTS-6D-3","Автоматический выключатель","In 6 A, Ue AC 230/400 V / DC 180 V, характеристика D, 3-полюс, Icn 10 kA","4 / -",0.46500000000000002,0.42799999999999999,20.16,{"$f":"VLOOKUP(B291,#REF!,3,FALSE)","v":{"$error":"#REF!"}}]
["Minia","Minia 10kA","LD2","OEZ:42119","LTS-8D-3","Автоматический выключатель","In 8 A, Ue AC 230/400 V / DC 180 V, характеристика D, 3-полюс, Icn 10 kA","4 / -",0.45400000000000001,0.42799999999999999,23.180000000000003,{"$f":"VLOOKUP(B292,#REF!,3,FALSE)","v":{"$error":"#REF!"}}]
["Minia","Minia 10kA","LD2","OEZ:42120","LTS-10D-3","Автоматический выключатель","In 10 A, Ue AC 230/400 V / DC 180 V, характеристика D, 3-полюс, Icn 10 kA","4 / -",0.44900000000000001,0.42799999999999999,18.53,{"$f":"VLOOKUP(B293,#REF!,3,FALSE)","v":{"$error":"#REF!"}}]
["Minia","Minia 10kA","LD2","OEZ:42121","LTS-13D-3","Автоматический выключатель","In 13 A, Ue AC 230/400 V / DC 180 V, характеристика D, 3-полюс, Icn 10 kA","4 / -",0.44900000000000001,0.42799999999999999,18.970000000000002,{"$f":"VLOOKUP(B294,#REF!,3,FALSE)","v":{"$error":"#REF!"}}]
["Minia","Minia 10kA","LD2","OEZ:42122","LTS-16D-3","Автоматический выключатель","In 16 A, Ue AC 230/400 V / DC 180 V, характеристика D, 3-полюс, Icn 10 kA","4 / -",0.46500000000000002,0.42799999999999999,18.650000000000002,{"$f":"VLOOKUP(B295,#REF!,3,FALSE)","v":{"$error":"#REF!"}}]
["Minia","Minia 10kA","LD2","OEZ:42123","LTS-20D-3","Автоматический выключатель","In 20 A, Ue AC 230/400 V / DC 180 V, характеристика D, 3-полюс, Icn 10 kA","4 / -",0.46500000000000002,0.42799999999999999,20.490000000000002,{"$f":"VLOOKUP(B296,#REF!,3,FALSE)","v":{"$error":"#REF!"}}]
["Minia","Minia 10kA","LD2","OEZ:42124","LTS-25D-3","Автоматический выключатель","In 25 A, Ue AC 230/400 V / DC 180 V, характеристика D, 3-полюс, Icn 10 kA","4 / -",0.46500000000000002,0.42799999999999999,21.880000000000003,{"$f":"VLOOKUP(B297,#REF!,3,FALSE)","v":{"$error":"#REF!"}}]
["Minia","Minia 10kA","LD2","OEZ:42125","LTS-32D-3","Автоматический выключатель","In 32 A, Ue AC 230/400 V / DC 180 V, характеристика D, 3-полюс, Icn 10 kA","4 / -",0.46500000000000002,0.42799999999999999,23.3,{"$f":"VLOOKUP(B298,#REF!,3,FALSE)","v":{"$error":"#REF!"}}]
["Minia","Minia 10kA","LD2","OEZ:42126","LTS-40D-3","Автоматический выключатель","In 40 A, Ue AC 230/400 V / DC 180 V, характеристика D, 3-полюс, Icn 10 kA","4 / -",0.46500000000000002,0.42799999999999999,23.78,{"$f":"VLOOKUP(B299,#REF!,3,FALSE)","v":{"$error":"#REF!"}}]
["Minia","Minia 10kA","LD2","OEZ:42127","LTS-50D-3","Автоматический выключатель","In 50 A, Ue AC 230/400 V / DC 180 V, характеристика D, 3-полюс, Icn 10 kA","4 / -",0.48899999999999999,0.42799999999999999,27.48,{"$f":"VLOOKUP(B300,#REF!,3,FALSE)","v":{"$error":"#REF!"}}]
["Minia","Minia 10kA","LD2","OEZ:42128","LTS-63D-3","Автоматический выключатель","In 63 A, Ue AC 230/400 V / DC 180 V, характеристика D, 3-полюс, Icn 10 kA","4 / -",0.49,0.42799999999999999,31.87,{"$f":"VLOOKUP(B301,#REF!,3,FALSE)","v":{"$error":"#REF!"}}]
[null,null,null,"Level  4","LTS-_-3N - Автоматические выключатели, 3+N-полюсные"]
["Minia","Minia 10kA","LD2","OEZ:42129","LTS-2B-3N","Автоматический выключатель","In 2 A, Ue AC 230/400 V / DC 180 V, характеристика B, 3+N-полюс, Icn 10 kA","3 / -",0.6,0.56999999999999995,29.380000000000003,{"$f":"VLOOKUP(B303,#REF!,3,FALSE)","v":{"$error":"#REF!"}}]
["Minia","Minia 10kA","LD2","OEZ:42130","LTS-4B-3N","Автоматический выключатель","In 4 A, Ue AC 230/400 V / DC 180 V, характеристика B, 3+N-полюс, Icn 10 kA","3 / -",0.60799999999999998,0.56999999999999995,29.44,{"$f":"VLOOKUP(B304,#REF!,3,FALSE)","v":{"$error":"#REF!"}}]
["Minia","Minia 10kA","LD2","OEZ:42131","LTS-6B-3N","Автоматический выключатель","In 6 A, Ue AC 230/400 V / DC 180 V, характеристика B, 3+N-полюс, Icn 10 kA","3 / -",0.66,0.56999999999999995,27.01,{"$f":"VLOOKUP(B305,#REF!,3,FALSE)","v":{"$error":"#REF!"}}]
["Minia","Minia 10kA","LD2","OEZ:42132","LTS-8B-3N","Автоматический выключатель","In 8 A, Ue AC 230/400 V / DC 180 V, характеристика B, 3+N-полюс, Icn 10 kA","3 / -",0.66,0.56999999999999995,27.01,{"$f":"VLOOKUP(B306,#REF!,3,FALSE)","v":{"$error":"#REF!"}}]
["Minia","Minia 10kA","LD2","OEZ:42133","LTS-10B-3N","Автоматический выключатель","In 10 A, Ue AC 230/400 V / DC 180 V, характеристика B, 3+N-полюс, Icn 10 kA","3 / -",0.60299999999999998,0.56999999999999995,25.610000000000003,{"$f":"VLOOKUP(B307,#REF!,3,FALSE)","v":{"$error":"#REF!"}}]
["Minia","Minia 10kA","LD2","OEZ:42134","LTS-13B-3N","Автоматический выключатель","In 13 A, Ue AC 230/400 V / DC 180 V, характеристика B, 3+N-полюс, Icn 10 kA","3 / -",0.60299999999999998,0.56999999999999995,25.610000000000003,{"$f":"VLOOKUP(B308,#REF!,3,FALSE)","v":{"$error":"#REF!"}}]
["Minia","Minia 10kA","LD2","OEZ:42135","LTS-16B-3N","Автоматический выключатель","In 16 A, Ue AC 230/400 V / DC 180 V, характеристика B, 3+N-полюс, Icn 10 kA","3 / -",0.60899999999999999,0.56999999999999995,25.610000000000003,{"$f":"VLOOKUP(B309,#REF!,3,FALSE)","v":{"$error":"#REF!"}}]
["Minia","Minia 10kA","LD2","OEZ:42136","LTS-20B-3N","Автоматический выключатель","In 20 A, Ue AC 230/400 V / DC 180 V, характеристика B, 3+N-полюс, Icn 10 kA","3 / -",0.66,0.56999999999999995,25.970000000000002,{"$f":"VLOOKUP(B310,#REF!,3,FALSE)","v":{"$error":"#REF!"}}]
["Minia","Minia 10kA","LD2","OEZ:42137","LTS-25B-3N","Автоматический выключатель","In 25 A, Ue AC 230/400 V / DC 180 V, характеристика B, 3+N-полюс, Icn 10 kA","3 / -",0.61199999999999999,0.56999999999999995,26.240000000000002,{"$f":"VLOOKUP(B311,#REF!,3,FALSE)","v":{"$error":"#REF!"}}]
["Minia","Minia 10kA","LD2","OEZ:42138","LTS-32B-3N","Автоматический выключатель","In 32 A, Ue AC 230/400 V / DC 180 V, характеристика B, 3+N-полюс, Icn 10 kA","3 / -",0.61599999999999999,0.56999999999999995,27.630000000000003,{"$f":"VLOOKUP(B312,#REF!,3,FALSE)","v":{"$error":"#REF!"}}]
["Minia","Minia 10kA","LD2","OEZ:42139","LTS-40B-3N","Автоматический выключатель","In 40 A, Ue AC 230/400 V / DC 180 V, характеристика B, 3+N-полюс, Icn 10 kA","3 / -",0.622,0.56999999999999995,29.26,{"$f":"VLOOKUP(B313,#REF!,3,FALSE)","v":{"$error":"#REF!"}}]
["Minia","Minia 10kA","LD2","OEZ:42140","LTS-50B-3N","Автоматический выключатель","In 50 A, Ue AC 230/400 V / DC 180 V, характеристика B, 3+N-полюс, Icn 10 kA","3 / -",0.66,0.56999999999999995,32.28,{"$f":"VLOOKUP(B314,#REF!,3,FALSE)","v":{"$error":"#REF!"}}]
["Minia","Minia 10kA","LD2","OEZ:42141","LTS-63B-3N","Автоматический выключатель","In 63 A, Ue AC 230/400 V / DC 180 V, характеристика B, 3+N-полюс, Icn 10 kA","3 / -",0.66,0.56999999999999995,35.25,{"$f":"VLOOKUP(B315,#REF!,3,FALSE)","v":{"$error":"#REF!"}}]
["Minia","Minia 10kA","LD2","OEZ:43092","LTS-2C-3N","Автоматический выключатель","In 2 A, Ue AC 230/400 V / DC 180 V, характеристика C, 3+N-полюс, Icn 10 kA","3 / -",0.66,0.56999999999999995,29.380000000000003,{"$f":"VLOOKUP(B316,#REF!,3,FALSE)","v":{"$error":"#REF!"}}]
["Minia","Minia 10kA","LD2","OEZ:43091","LTS-4C-3N","Автоматический выключатель","In 4 A, Ue AC 230/400 V / DC 180 V, характеристика C, 3+N-полюс, Icn 10 kA","3 / -",0.60699999999999998,0.56999999999999995,29.44,{"$f":"VLOOKUP(B317,#REF!,3,FALSE)","v":{"$error":"#REF!"}}]
["Minia","Minia 10kA","LD2","OEZ:42142","LTS-6C-3N","Автоматический выключатель","In 6 A, Ue AC 230/400 V / DC 180 V, характеристика C, 3+N-полюс, Icn 10 kA","3 / -",0.60799999999999998,0.56999999999999995,27.01,{"$f":"VLOOKUP(B318,#REF!,3,FALSE)","v":{"$error":"#REF!"}}]
["Minia","Minia 10kA","LD2","OEZ:42143","LTS-8C-3N","Автоматический выключатель","In 8 A, Ue AC 230/400 V / DC 180 V, характеристика C, 3+N-полюс, Icn 10 kA","3 / -",0.60799999999999998,0.56999999999999995,27.01,{"$f":"VLOOKUP(B319,#REF!,3,FALSE)","v":{"$error":"#REF!"}}]
["Minia","Minia 10kA","LD2","OEZ:42144","LTS-10C-3N","Автоматический выключатель","In 10 A, Ue AC 230/400 V / DC 180 V, характеристика C, 3+N-полюс, Icn 10 kA","3 / -",0.60699999999999998,0.56999999999999995,25.610000000000003,{"$f":"VLOOKUP(B320,#REF!,3,FALSE)","v":{"$error":"#REF!"}}]
["Minia","Minia 10kA","LD2","OEZ:42145","LTS-13C-3N","Автоматический выключатель","In 13 A, Ue AC 230/400 V / DC 180 V, характеристика C, 3+N-полюс, Icn 10 kA","3 / -",0.59799999999999998,0.56999999999999995,25.610000000000003,{"$f":"VLOOKUP(B321,#REF!,3,FALSE)","v":{"$error":"#REF!"}}]
["Minia","Minia 10kA","LD2","OEZ:42146","LTS-16C-3N","Автоматический выключатель","In 16 A, Ue AC 230/400 V / DC 180 V, характеристика C, 3+N-полюс, Icn 10 kA","3 / -",0.61599999999999999,0.56999999999999995,25.610000000000003,{"$f":"VLOOKUP(B322,#REF!,3,FALSE)","v":{"$error":"#REF!"}}]
["Minia","Minia 10kA","LD2","OEZ:42147","LTS-20C-3N","Автоматический выключатель","In 20 A, Ue AC 230/400 V / DC 180 V, характеристика C, 3+N-полюс, Icn 10 kA","3 / -",0.61399999999999999,0.56999999999999995,25.970000000000002,{"$f":"VLOOKUP(B323,#REF!,3,FALSE)","v":{"$error":"#REF!"}}]
["Minia","Minia 10kA","LD2","OEZ:42148","LTS-25C-3N","Автоматический выключатель","In 25 A, Ue AC 230/400 V / DC 180 V, характеристика C, 3+N-полюс, Icn 10 kA","3 / -",0.61299999999999999,0.56999999999999995,26.240000000000002,{"$f":"VLOOKUP(B324,#REF!,3,FALSE)","v":{"$error":"#REF!"}}]
["Minia","Minia 10kA","LD2","OEZ:42149","LTS-32C-3N","Автоматический выключатель","In 32 A, Ue AC 230/400 V / DC 180 V, характеристика C, 3+N-полюс, Icn 10 kA","3 / -",0.61,0.56999999999999995,27.630000000000003,{"$f":"VLOOKUP(B325,#REF!,3,FALSE)","v":{"$error":"#REF!"}}]
["Minia","Minia 10kA","LD2","OEZ:42150","LTS-40C-3N","Автоматический выключатель","In 40 A, Ue AC 230/400 V / DC 180 V, характеристика C, 3+N-полюс, Icn 10 kA","3 / -",0.61599999999999999,0.56999999999999995,29.26,{"$f":"VLOOKUP(B326,#REF!,3,FALSE)","v":{"$error":"#REF!"}}]
["Minia","Minia 10kA","LD2","OEZ:42151","LTS-50C-3N","Автоматический выключатель","In 50 A, Ue AC 230/400 V / DC 180 V, характеристика C, 3+N-полюс, Icn 10 kA","3 / -",0.64700000000000002,0.56999999999999995,32.28,{"$f":"VLOOKUP(B327,#REF!,3,FALSE)","v":{"$error":"#REF!"}}]
["Minia","Minia 10kA","LD2","OEZ:42152","LTS-63C-3N","Автоматический выключатель","In 63 A, Ue AC 230/400 V / DC 180 V, характеристика C, 3+N-полюс, Icn 10 kA","3 / -",0.64900000000000002,0.56999999999999995,35.25,{"$f":"VLOOKUP(B328,#REF!,3,FALSE)","v":{"$error":"#REF!"}}]
["Minia","Minia 10kA","LD2","OEZ:43296","LTS-2D-3N","Автоматический выключатель","In 2 A, Ue AC 230/400 V / DC 180 V, характеристика D, 3+N-полюс, Icn 10 kA","3 / -",0.66,0.56999999999999995,35.28,{"$f":"VLOOKUP(B329,#REF!,3,FALSE)","v":{"$error":"#REF!"}}]
["Minia","Minia 10kA","LD2","OEZ:43297","LTS-4D-3N","Автоматический выключатель","In 4 A, Ue AC 230/400 V / DC 180 V, характеристика D, 3+N-полюс, Icn 10 kA","3 / -",0.60699999999999998,0.56999999999999995,35.309999999999995,{"$f":"VLOOKUP(B330,#REF!,3,FALSE)","v":{"$error":"#REF!"}}]
["Minia","Minia 10kA","LD2","OEZ:42153","LTS-6D-3N","Автоматический выключатель","In 6 A, Ue AC 230/400 V / DC 180 V, характеристика D, 3+N-полюс, Icn 10 kA","3 / -",0.66,0.56999999999999995,32.43,{"$f":"VLOOKUP(B331,#REF!,3,FALSE)","v":{"$error":"#REF!"}}]
["Minia","Minia 10kA","LD2","OEZ:42154","LTS-8D-3N","Автоматический выключатель","In 8 A, Ue AC 230/400 V / DC 180 V, характеристика D, 3+N-полюс, Icn 10 kA","3 / -",0.66,0.56999999999999995,32.43,{"$f":"VLOOKUP(B332,#REF!,3,FALSE)","v":{"$error":"#REF!"}}]
["Minia","Minia 10kA","LD2","OEZ:42155","LTS-10D-3N","Автоматический выключатель","In 10 A, Ue AC 230/400 V / DC 180 V, характеристика D, 3+N-полюс, Icn 10 kA","3 / -",0.59499999999999997,0.56999999999999995,30.71,{"$f":"VLOOKUP(B333,#REF!,3,FALSE)","v":{"$error":"#REF!"}}]
["Minia","Minia 10kA","LD2","OEZ:42156","LTS-13D-3N","Автоматический выключатель","In 13 A, Ue AC 230/400 V / DC 180 V, характеристика D, 3+N-полюс, Icn 10 kA","3 / -",0.66,0.56999999999999995,30.71,{"$f":"VLOOKUP(B334,#REF!,3,FALSE)","v":{"$error":"#REF!"}}]
["Minia","Minia 10kA","LD2","OEZ:42157","LTS-16D-3N","Автоматический выключатель","In 16 A, Ue AC 230/400 V / DC 180 V, характеристика D, 3+N-полюс, Icn 10 kA","3 / -",0.61,0.56999999999999995,30.71,{"$f":"VLOOKUP(B335,#REF!,3,FALSE)","v":{"$error":"#REF!"}}]
["Minia","Minia 10kA","LD2","OEZ:42158","LTS-20D-3N","Автоматический выключатель","In 20 A, Ue AC 230/400 V / DC 180 V, характеристика D, 3+N-полюс, Icn 10 kA","3 / -",0.61,0.56999999999999995,31.19,{"$f":"VLOOKUP(B336,#REF!,3,FALSE)","v":{"$error":"#REF!"}}]
["Minia","Minia 10kA","LD2","OEZ:42159","LTS-25D-3N","Автоматический выключатель","In 25 A, Ue AC 230/400 V / DC 180 V, характеристика D, 3+N-полюс, Icn 10 kA","3 / -",0.61199999999999999,0.56999999999999995,31.48,{"$f":"VLOOKUP(B337,#REF!,3,FALSE)","v":{"$error":"#REF!"}}]
["Minia","Minia 10kA","LD2","OEZ:42160","LTS-32D-3N","Автоматический выключатель","In 32 A, Ue AC 230/400 V / DC 180 V, характеристика D, 3+N-полюс, Icn 10 kA","3 / -",0.61599999999999999,0.56999999999999995,33.14,{"$f":"VLOOKUP(B338,#REF!,3,FALSE)","v":{"$error":"#REF!"}}]
["Minia","Minia 10kA","LD2","OEZ:42161","LTS-40D-3N","Автоматический выключатель","In 40 A, Ue AC 230/400 V / DC 180 V, характеристика D, 3+N-полюс, Icn 10 kA","3 / -",0.61699999999999999,0.56999999999999995,35.96,{"$f":"VLOOKUP(B339,#REF!,3,FALSE)","v":{"$error":"#REF!"}}]
["Minia","Minia 10kA","LD2","OEZ:43298","LTS-50D-3N","Автоматический выключатель","In 50 A, Ue AC 230/400 V / DC 180 V, характеристика D, 3+N-полюс, Icn 10 kA","3 / -",0.66,0.56999999999999995,38.71,{"$f":"VLOOKUP(B340,#REF!,3,FALSE)","v":{"$error":"#REF!"}}]
["Minia","Minia 10kA","LD2","OEZ:43299","LTS-63D-3N","Автоматический выключатель","In 63 A, Ue AC 230/400 V / DC 180 V, характеристика D, 3+N-полюс, Icn 10 kA","3 / -",0.66,0.56999999999999995,42.3,{"$f":"VLOOKUP(B341,#REF!,3,FALSE)","v":{"$error":"#REF!"}}]
[null,null,null,"Level  4","OD-LT - Принадлежности"]
[null,null,null,"Level  5","PS-LT - Вспомогательные выключатели"]
["Minia","Minia 10kA","LD2","OEZ:42297","PS-LT-1100","Вспомогательный выключатель","1x нормально разомкнутый контакт, 1x нормально замкнутый контакт, для LTS, LTP, LVN, LFE, LFN, OLE, OLI, MSO, MSN","1 / 15",5.5E-2,0.124,7.8,{"$f":"VLOOKUP(B344,#REF!,3,FALSE)","v":{"$error":"#REF!"}}]
["Minia","Minia 10kA","LD2","OEZ:42300","PS-LT-1100-TE","Вспомогательный выключатель","1x нормально разомкнутый контакт, 1x нормально замкнутый контакт, кнопка тестирования, для LTS, LTP, LVN, LFE, LFN, OLE, OLI, MSO, MSN","1 / 15",7.0999999999999994E-2,0.124,9.73,{"$f":"VLOOKUP(B345,#REF!,3,FALSE)","v":{"$error":"#REF!"}}]
["Minia","Minia 10kA","LD2","OEZ:42303","PS-LT-1100-MN","Вспомогательный выключатель","1x нормально разомкнутый контакт, 1x нормально замкнутый контакт, для LTS, LTP, LVN, LFE, LFN, OLE, OLI, MSO, MSN","1 / 15",7.4999999999999997E-2,0.124,15.57,{"$f":"VLOOKUP(B346,#REF!,3,FALSE)","v":{"$error":"#REF!"}}]
["Minia","Minia 10kA","LD2","OEZ:42304","PS-LT-1100-MN-TE","Вспомогательный выключатель","1x нормально разомкнутый контакт, 1x нормально замкнутый контакт, кнопка тестирования, для LTS, LTP, LVN, LFE, LFN, OLE, OLI, MSO, MSN","1 / 15",6.9000000000000006E-2,0.124,18.680000000000003,{"$f":"VLOOKUP(B347,#REF!,3,FALSE)","v":{"$error":"#REF!"}}]
["Minia","Minia 10kA","LD2","OEZ:42299","PS-LT-2000","Вспомогательный выключатель","2x нормально разомкнутый контакт, для LTS, LTP, LVN, LFE, LFN, OLE, OLI, MSO, MSN","1 / 15",6.6000000000000003E-2,0.124,8.66,{"$f":"VLOOKUP(B348,#REF!,3,FALSE)","v":{"$error":"#REF!"}}]
["Minia","Minia 10kA","LD2","OEZ:42302","PS-LT-2000-TE","Вспомогательный выключатель","2x нормально разомкнутый контакт, кнопка тестирования, для LTS, LTP, LVN, LFE, LFN, OLE, OLI, MSO, MSN","1 / 15",6.8000000000000005E-2,0.124,10.82,{"$f":"VLOOKUP(B349,#REF!,3,FALSE)","v":{"$error":"#REF!"}}]
["Minia","Minia 10kA","LD2","OEZ:42298","PS-LT-0200","Вспомогательный выключатель","2x нормально замкнутый контакт, для LTS, LTP, LVN, LFE, LFN, OLE, OLI, MSO, MSN","1 / 15",6.6000000000000003E-2,0.124,8.66,{"$f":"VLOOKUP(B350,#REF!,3,FALSE)","v":{"$error":"#REF!"}}]
["Minia","Minia 10kA","LD2","OEZ:42301","PS-LT-0200-TE","Вспомогательный выключатель","2x нормально замкнутый контакт, кнопка тестирования, для LTS, LTP, LVN, LFE, LFN, OLE, OLI, MSO, MSN","1 / 15",7.0999999999999994E-2,0.124,10.82,{"$f":"VLOOKUP(B351,#REF!,3,FALSE)","v":{"$error":"#REF!"}}]
[null,null,null,"Level  5","SS-LT - Сигнализационные выключатели"]
["Minia","Minia 10kA","LD2","OEZ:42306","SS-LT-1100","Сигнализационный выключатель","1x нормально разомкнутый контакт, 1x нормально замкнутый контакт, для LTS, LTP, LVN, LFE, LFN, OLE, OLI, MSN","1 / 15",6.6000000000000003E-2,0.124,7.8,{"$f":"VLOOKUP(B353,#REF!,3,FALSE)","v":{"$error":"#REF!"}}]
["Minia","Minia 10kA","LD2","OEZ:42309","SS-LT-1100-TE-RE","Сигнализационный выключатель","1x нормально разомкнутый контакт, 1x нормально замкнутый контакт, кнопка тестирования, сброс, для LTS, LTP, LVN, LFE, LFN, OLE, OLI, MSN","1 / 15",7.1999999999999995E-2,0.124,10.5,{"$f":"VLOOKUP(B354,#REF!,3,FALSE)","v":{"$error":"#REF!"}}]
["Minia","Minia 10kA","LD2","OEZ:42307","SS-LT-2000","Сигнализационный выключатель","2x нормально разомкнутый контакт, для LTS, LTP, LVN, LFE, LFN, OLE, OLI, MSN","1 / 15",6.5000000000000002E-2,0.124,8.66,{"$f":"VLOOKUP(B355,#REF!,3,FALSE)","v":{"$error":"#REF!"}}]
["Minia","Minia 10kA","LD2","OEZ:42310","SS-LT-2000-TE-RE","Сигнализационный выключатель","2x нормально разомкнутый контакт, кнопка тестирования, сброс, для LTS, LTP, LVN, LFE, LFN, OLE, OLI, MSN","1 / 15",7.0999999999999994E-2,0.124,11.68,{"$f":"VLOOKUP(B356,#REF!,3,FALSE)","v":{"$error":"#REF!"}}]
["Minia","Minia 10kA","LD2","OEZ:42308","SS-LT-0200","Сигнализационный выключатель","2x нормально замкнутый контакт, для LTS, LTP, LVN, LFE, LFN, OLE, OLI, MSN","1 / 15",6.5000000000000002E-2,0.124,8.66,{"$f":"VLOOKUP(B357,#REF!,3,FALSE)","v":{"$error":"#REF!"}}]
["Minia","Minia 10kA","LD2","OEZ:42311","SS-LT-0200-TE-RE","Сигнализационный выключатель","2x нормально замкнутый контакт, кнопка тестирования, сброс, для LTS, LTP, LVN, LFE, LFN, OLE, OLI, MSN","1 / 15",6.8000000000000005E-2,0.124,11.68,{"$f":"VLOOKUP(B358,#REF!,3,FALSE)","v":{"$error":"#REF!"}}]
[null,null,null,"Level  5","SV-LT - независимые расцепители"]
["Minia","Minia 10kA","LD2","OEZ:42312","SV-LT-X060","Независимый расцепитель","Uc AC/DC 24 - 60 V, для LTS, LTP, LVN, LFE, LFN, OLE, OLI, MSN","1 / -",0.106,0.255,20.520000000000003,{"$f":"VLOOKUP(B360,#REF!,3,FALSE)","v":{"$error":"#REF!"}}]
["Minia","Minia 10kA","LD2","OEZ:42313","SV-LT-X400","Независимый расцепитель","Uc AC 110 - 415 V / DC 110 V, для LTS, LTP, LVN, LFE, LFN, OLE, OLI, MSN","1 / -",9.8000000000000004E-2,0.255,20.580000000000002,{"$f":"VLOOKUP(B361,#REF!,3,FALSE)","v":{"$error":"#REF!"}}]
[null,null,null,"Level  5","SP-LT - Расцепители минимального напряжения"]
["Minia","Minia 10kA","LD2","OEZ:42315","SP-LT-A230","Расцепитель минимального напряжения","Uc AC 230 V, для LTS, LTP, LVN, LFE, LFN, OLE, OLI, MSN","1 / -",0.109,0.255,44.879999999999995,{"$f":"VLOOKUP(B363,#REF!,3,FALSE)","v":{"$error":"#REF!"}}]
["Minia","Minia 10kA","LD2","OEZ:42317","SP-LT-A230-2000","Расцепитель минимального напряжения","Uc AC 230 V, 2x нормально разомкнутый контакт, для LTS, LTP, LVN, LFE, LFN, OLE, OLI, MSN","1 / -",0.123,0.255,53.53,{"$f":"VLOOKUP(B364,#REF!,3,FALSE)","v":{"$error":"#REF!"}}]
["Minia","Minia 10kA","LD2","OEZ:42319","SP-LT-D024","Расцепитель минимального напряжения","Uc DC 24 V, для LTS, LTP, LVN, LFE, LFN, OLE, OLI, MSN","1 / -",0.113,0.255,60.089999999999996,{"$f":"VLOOKUP(B365,#REF!,3,FALSE)","v":{"$error":"#REF!"}}]
["Minia","Minia 10kA","LD2","OEZ:42321","SP-LT-D024-2000","Расцепитель минимального напряжения","Uc DC 24 V, 2x нормально разомкнутый контакт, для LTS, LTP, LVN, LFE, LFN, OLE, OLI, MSN","1 / -",0.128,0.255,68.710000000000008,{"$f":"VLOOKUP(B366,#REF!,3,FALSE)","v":{"$error":"#REF!"}}]
["Minia","Minia 10kA","LD2","OEZ:42320","SP-LT-D110","Расцепитель минимального напряжения","Uc DC 110 V, для LTS, LTP, LVN, LFE, LFN, OLE, OLI, MSN","1 / -",0.105,0.255,44.79,{"$f":"VLOOKUP(B367,#REF!,3,FALSE)","v":{"$error":"#REF!"}}]
["Minia","Minia 10kA","LD2","OEZ:42322","SP-LT-D110-2000","Расцепитель минимального напряжения","Uc DC 110 V, 2x нормально разомкнутый контакт, для LTS, LTP, LVN, LFE, LFN, OLE, OLI, MSN","1 / -",0.11700000000000001,0.255,53.449999999999996,{"$f":"VLOOKUP(B368,#REF!,3,FALSE)","v":{"$error":"#REF!"}}]
[null,null,null,"Level  5","OD-LT - Остальные принадлежности"]
["Minia","Minia 10kA","LD2","OEZ:42325","OD-LT-VU02","Вставка для запирания","для LFE, LFN, MSO","1 / 10",4.0000000000000001E-3,6.0000000000000001E-3,1.07,{"$f":"VLOOKUP(B370,#REF!,3,FALSE)","v":{"$error":"#REF!"}}]
["Minia","Minia 10kA","LD2","OEZ:42323","OD-LT-VP01","Пломбируемый вкладыш","для LTS, LTP, LVN, OLE, OLI, MSN, MSO, AVN-DC","1 / 10",2E-3,3.0000000000000001E-3,1.28,{"$f":"VLOOKUP(B371,#REF!,3,FALSE)","v":{"$error":"#REF!"}}]
[null,null,null,"Level  3","LTN-UC - Автоматические выключатели до 63 A (10 kA)"]
[null,null,null,"Level  4","LTN-UC-_-1 - Автоматические выключатели для защиты цепей постоянного (DC) и переменного (AC) тока, 1-полюсные"]
["Minia","Minia DC","LD2","OEZ:41846","LTN-UC-1C-1","Автоматический выключатель","In 1 A, Ue AC 230 V / DC 220 V, характеристика C, 1-полюс, Icn 10 kA","12 / -",0.16900000000000001,0.14299999999999999,12.129999999999999,{"$f":"VLOOKUP(B374,#REF!,3,FALSE)","v":{"$error":"#REF!"}}]
["Minia","Minia DC","LD2","OEZ:41847","LTN-UC-2C-1","Автоматический выключатель","In 2 A, Ue AC 230 V / DC 220 V, характеристика C, 1-полюс, Icn 10 kA","12 / -",0.17,0.14299999999999999,11.03,{"$f":"VLOOKUP(B375,#REF!,3,FALSE)","v":{"$error":"#REF!"}}]
["Minia","Minia DC","LD2","OEZ:41848","LTN-UC-4C-1","Автоматический выключатель","In 4 A, Ue AC 230 V / DC 220 V, характеристика C, 1-полюс, Icn 10 kA","12 / -",0.16400000000000001,0.14299999999999999,11.03,{"$f":"VLOOKUP(B376,#REF!,3,FALSE)","v":{"$error":"#REF!"}}]
["Minia","Minia DC","LD2","OEZ:41849","LTN-UC-6C-1","Автоматический выключатель","In 6 A, Ue AC 230 V / DC 220 V, характеристика C, 1-полюс, Icn 10 kA","12 / -",0.16600000000000001,0.14299999999999999,10.17,{"$f":"VLOOKUP(B377,#REF!,3,FALSE)","v":{"$error":"#REF!"}}]
["Minia","Minia DC","LD2","OEZ:41850","LTN-UC-8C-1","Автоматический выключатель","In 8 A, Ue AC 230 V / DC 220 V, характеристика C, 1-полюс, Icn 10 kA","12 / -",0.16300000000000001,0.14299999999999999,10.17,{"$f":"VLOOKUP(B378,#REF!,3,FALSE)","v":{"$error":"#REF!"}}]
["Minia","Minia DC","LD2","OEZ:41851","LTN-UC-10C-1","Автоматический выключатель","In 10 A, Ue AC 230 V / DC 220 V, характеристика C, 1-полюс, Icn 10 kA","12 / -",0.16400000000000001,0.14299999999999999,10.17,{"$f":"VLOOKUP(B379,#REF!,3,FALSE)","v":{"$error":"#REF!"}}]
["Minia","Minia DC","LD2","OEZ:41852","LTN-UC-13C-1","Автоматический выключатель","In 13 A, Ue AC 230 V / DC 220 V, характеристика C, 1-полюс, Icn 10 kA","12 / -",0.16800000000000001,0.14299999999999999,10.17,{"$f":"VLOOKUP(B380,#REF!,3,FALSE)","v":{"$error":"#REF!"}}]
["Minia","Minia DC","LD2","OEZ:41853","LTN-UC-16C-1","Автоматический выключатель","In 16 A, Ue AC 230 V / DC 220 V, характеристика C, 1-полюс, Icn 10 kA","12 / -",0.16400000000000001,0.14299999999999999,10.17,{"$f":"VLOOKUP(B381,#REF!,3,FALSE)","v":{"$error":"#REF!"}}]
["Minia","Minia DC","LD2","OEZ:41854","LTN-UC-20C-1","Автоматический выключатель","In 20 A, Ue AC 230 V / DC 220 V, характеристика C, 1-полюс, Icn 10 kA","12 / -",0.16700000000000001,0.14299999999999999,10.41,{"$f":"VLOOKUP(B382,#REF!,3,FALSE)","v":{"$error":"#REF!"}}]
["Minia","Minia DC","LD2","OEZ:41855","LTN-UC-25C-1","Автоматический выключатель","In 25 A, Ue AC 230 V / DC 220 V, характеристика C, 1-полюс, Icn 10 kA","12 / -",0.16700000000000001,0.14299999999999999,10.91,{"$f":"VLOOKUP(B383,#REF!,3,FALSE)","v":{"$error":"#REF!"}}]
["Minia","Minia DC","LD2","OEZ:41856","LTN-UC-32C-1","Автоматический выключатель","In 32 A, Ue AC 230 V / DC 220 V, характеристика C, 1-полюс, Icn 10 kA","12 / -",0.16800000000000001,0.14299999999999999,11.27,{"$f":"VLOOKUP(B384,#REF!,3,FALSE)","v":{"$error":"#REF!"}}]
["Minia","Minia DC","LD2","OEZ:41857","LTN-UC-40C-1","Автоматический выключатель","In 40 A, Ue AC 230 V / DC 220 V, характеристика C, 1-полюс, Icn 10 kA","12 / -",0.16800000000000001,0.14299999999999999,12.01,{"$f":"VLOOKUP(B385,#REF!,3,FALSE)","v":{"$error":"#REF!"}}]
["Minia","Minia DC","LD2","OEZ:41858","LTN-UC-50C-1","Автоматический выключатель","In 50 A, Ue AC 230 V / DC 220 V, характеристика C, 1-полюс, Icn 10 kA","12 / -",0.17199999999999999,0.14299999999999999,13.76,{"$f":"VLOOKUP(B386,#REF!,3,FALSE)","v":{"$error":"#REF!"}}]
["Minia","Minia DC","LD2","OEZ:41859","LTN-UC-63C-1","Автоматический выключатель","In 63 A, Ue AC 230 V / DC 220 V, характеристика C, 1-полюс, Icn 10 kA","12 / -",0.17599999999999999,0.14299999999999999,15.45,{"$f":"VLOOKUP(B387,#REF!,3,FALSE)","v":{"$error":"#REF!"}}]
[null,null,null,"Level  4","LTN-UC-_-2 - Автоматические выключатели для защиты цепей постоянного (DC) и переменного (AC) тока, 2-х полюсные"]
["Minia","Minia DC","LD2","OEZ:41860","LTN-UC-1C-2","Автоматический выключатель","In 1 A, Ue AC 230/400 V / DC 220/440 V, характеристика C, 2-полюс, Icn 10 kA","6 / -",0.32500000000000001,0.28499999999999998,25.610000000000003,{"$f":"VLOOKUP(B389,#REF!,3,FALSE)","v":{"$error":"#REF!"}}]
["Minia","Minia DC","LD2","OEZ:41861","LTN-UC-2C-2","Автоматический выключатель","In 2 A, Ue AC 230/400 V / DC 220/440 V, характеристика C, 2-полюс, Icn 10 kA","6 / -",0.32900000000000001,0.28499999999999998,23.3,{"$f":"VLOOKUP(B390,#REF!,3,FALSE)","v":{"$error":"#REF!"}}]
["Minia","Minia DC","LD2","OEZ:41862","LTN-UC-4C-2","Автоматический выключатель","In 4 A, Ue AC 230/400 V / DC 220/440 V, характеристика C, 2-полюс, Icn 10 kA","6 / -",0.32700000000000001,0.28499999999999998,23.3,{"$f":"VLOOKUP(B391,#REF!,3,FALSE)","v":{"$error":"#REF!"}}]
["Minia","Minia DC","LD2","OEZ:41863","LTN-UC-6C-2","Автоматический выключатель","In 6 A, Ue AC 230/400 V / DC 220/440 V, характеристика C, 2-полюс, Icn 10 kA","6 / -",0.309,0.28499999999999998,21.35,{"$f":"VLOOKUP(B392,#REF!,3,FALSE)","v":{"$error":"#REF!"}}]
["Minia","Minia DC","LD2","OEZ:41864","LTN-UC-8C-2","Автоматический выключатель","In 8 A, Ue AC 230/400 V / DC 220/440 V, характеристика C, 2-полюс, Icn 10 kA","6 / -",0.314,0.28499999999999998,21.35,{"$f":"VLOOKUP(B393,#REF!,3,FALSE)","v":{"$error":"#REF!"}}]
["Minia","Minia DC","LD2","OEZ:41865","LTN-UC-10C-2","Автоматический выключатель","In 10 A, Ue AC 230/400 V / DC 220/440 V, характеристика C, 2-полюс, Icn 10 kA","6 / -",0.315,0.28499999999999998,21.35,{"$f":"VLOOKUP(B394,#REF!,3,FALSE)","v":{"$error":"#REF!"}}]
["Minia","Minia DC","LD2","OEZ:41866","LTN-UC-13C-2","Автоматический выключатель","In 13 A, Ue AC 230/400 V / DC 220/440 V, характеристика C, 2-полюс, Icn 10 kA","6 / -",0.32200000000000001,0.28499999999999998,21.35,{"$f":"VLOOKUP(B395,#REF!,3,FALSE)","v":{"$error":"#REF!"}}]
["Minia","Minia DC","LD2","OEZ:41867","LTN-UC-16C-2","Автоматический выключатель","In 16 A, Ue AC 230/400 V / DC 220/440 V, характеристика C, 2-полюс, Icn 10 kA","6 / -",0.314,0.28499999999999998,21.35,{"$f":"VLOOKUP(B396,#REF!,3,FALSE)","v":{"$error":"#REF!"}}]
["Minia","Minia DC","LD2","OEZ:41868","LTN-UC-20C-2","Автоматический выключатель","In 20 A, Ue AC 230/400 V / DC 220/440 V, характеристика C, 2-полюс, Icn 10 kA","6 / -",0.32100000000000001,0.28499999999999998,21.82,{"$f":"VLOOKUP(B397,#REF!,3,FALSE)","v":{"$error":"#REF!"}}]
["Minia","Minia DC","LD2","OEZ:41869","LTN-UC-25C-2","Автоматический выключатель","In 25 A, Ue AC 230/400 V / DC 220/440 V, характеристика C, 2-полюс, Icn 10 kA","6 / -",0.32,0.28499999999999998,22.8,{"$f":"VLOOKUP(B398,#REF!,3,FALSE)","v":{"$error":"#REF!"}}]
["Minia","Minia DC","LD2","OEZ:41870","LTN-UC-32C-2","Автоматический выключатель","In 32 A, Ue AC 230/400 V / DC 220/440 V, характеристика C, 2-полюс, Icn 10 kA","6 / -",0.32300000000000001,0.28499999999999998,23.51,{"$f":"VLOOKUP(B399,#REF!,3,FALSE)","v":{"$error":"#REF!"}}]
["Minia","Minia DC","LD2","OEZ:41871","LTN-UC-40C-2","Автоматический выключатель","In 40 A, Ue AC 230/400 V / DC 220/440 V, характеристика C, 2-полюс, Icn 10 kA","6 / -",0.32200000000000001,0.28499999999999998,25.020000000000003,{"$f":"VLOOKUP(B400,#REF!,3,FALSE)","v":{"$error":"#REF!"}}]
["Minia","Minia DC","LD2","OEZ:41872","LTN-UC-50C-2","Автоматический выключатель","In 50 A, Ue AC 230/400 V / DC 220/440 V, характеристика C, 2-полюс, Icn 10 kA","6 / -",0.33700000000000002,0.28499999999999998,26.950000000000003,{"$f":"VLOOKUP(B401,#REF!,3,FALSE)","v":{"$error":"#REF!"}}]
["Minia","Minia DC","LD2","OEZ:41873","LTN-UC-63C-2","Автоматический выключатель","In 63 A, Ue AC 230/400 V / DC 220/440 V, характеристика C, 2-полюс, Icn 10 kA","6 / -",0.34300000000000003,0.28499999999999998,30.180000000000003,{"$f":"VLOOKUP(B402,#REF!,3,FALSE)","v":{"$error":"#REF!"}}]
[null,null,null,"Level  4","OD-LT - Принадлежности"]
[null,null,null,"Level  5","PS-LT - Вспомогательные выключатели"]
["Minia","Minia 10kA","LD2","OEZ:42297","PS-LT-1100","Вспомогательный выключатель","1x нормально разомкнутый контакт, 1x нормально замкнутый контакт, для LTS, LTP, LVN, LFE, LFN, OLE, OLI, MSO, MSN","1 / 15",5.5E-2,0.124,7.8,{"$f":"VLOOKUP(B405,#REF!,3,FALSE)","v":{"$error":"#REF!"}}]
["Minia","Minia 10kA","LD2","OEZ:42300","PS-LT-1100-TE","Вспомогательный выключатель","1x нормально разомкнутый контакт, 1x нормально замкнутый контакт, кнопка тестирования, для LTS, LTP, LVN, LFE, LFN, OLE, OLI, MSO, MSN","1 / 15",7.0999999999999994E-2,0.124,9.73,{"$f":"VLOOKUP(B406,#REF!,3,FALSE)","v":{"$error":"#REF!"}}]
["Minia","Minia 10kA","LD2","OEZ:42303","PS-LT-1100-MN","Вспомогательный выключатель","1x нормально разомкнутый контакт, 1x нормально замкнутый контакт, для LTS, LTP, LVN, LFE, LFN, OLE, OLI, MSO, MSN","1 / 15",7.4999999999999997E-2,0.124,15.57,{"$f":"VLOOKUP(B407,#REF!,3,FALSE)","v":{"$error":"#REF!"}}]
["Minia","Minia 10kA","LD2","OEZ:42304","PS-LT-1100-MN-TE","Вспомогательный выключатель","1x нормально разомкнутый контакт, 1x нормально замкнутый контакт, кнопка тестирования, для LTS, LTP, LVN, LFE, LFN, OLE, OLI, MSO, MSN","1 / 15",6.9000000000000006E-2,0.124,18.680000000000003,{"$f":"VLOOKUP(B408,#REF!,3,FALSE)","v":{"$error":"#REF!"}}]
["Minia","Minia 10kA","LD2","OEZ:42299","PS-LT-2000","Вспомогательный выключатель","2x нормально разомкнутый контакт, для LTS, LTP, LVN, LFE, LFN, OLE, OLI, MSO, MSN","1 / 15",6.6000000000000003E-2,0.124,8.66,{"$f":"VLOOKUP(B409,#REF!,3,FALSE)","v":{"$error":"#REF!"}}]
["Minia","Minia 10kA","LD2","OEZ:42302","PS-LT-2000-TE","Вспомогательный выключатель","2x нормально разомкнутый контакт, кнопка тестирования, для LTS, LTP, LVN, LFE, LFN, OLE, OLI, MSO, MSN","1 / 15",6.8000000000000005E-2,0.124,10.82,{"$f":"VLOOKUP(B410,#REF!,3,FALSE)","v":{"$error":"#REF!"}}]
["Minia","Minia 10kA","LD2","OEZ:42298","PS-LT-0200","Вспомогательный выключатель","2x нормально замкнутый контакт, для LTS, LTP, LVN, LFE, LFN, OLE, OLI, MSO, MSN","1 / 15",6.6000000000000003E-2,0.124,8.66,{"$f":"VLOOKUP(B411,#REF!,3,FALSE)","v":{"$error":"#REF!"}}]
["Minia","Minia 10kA","LD2","OEZ:42301","PS-LT-0200-TE","Вспомогательный выключатель","2x нормально замкнутый контакт, кнопка тестирования, для LTS, LTP, LVN, LFE, LFN, OLE, OLI, MSO, MSN","1 / 15",7.0999999999999994E-2,0.124,10.82,{"$f":"VLOOKUP(B412,#REF!,3,FALSE)","v":{"$error":"#REF!"}}]
[null,null,null,"Level  5","SS-LT - Сигнализационные выключатели"]
["Minia","Minia 10kA","LD2","OEZ:42306","SS-LT-1100","Сигнализационный выключатель","1x нормально разомкнутый контакт, 1x нормально замкнутый контакт, для LTS, LTP, LVN, LFE, LFN, OLE, OLI, MSN","1 / 15",6.6000000000000003E-2,0.124,7.8,{"$f":"VLOOKUP(B414,#REF!,3,FALSE)","v":{"$error":"#REF!"}}]
["Minia","Minia 10kA","LD2","OEZ:42309","SS-LT-1100-TE-RE","Сигнализационный выключатель","1x нормально разомкнутый контакт, 1x нормально замкнутый контакт, кнопка тестирования, сброс, для LTS, LTP, LVN, LFE, LFN, OLE, OLI, MSN","1 / 15",7.1999999999999995E-2,0.124,10.5,{"$f":"VLOOKUP(B415,#REF!,3,FALSE)","v":{"$error":"#REF!"}}]
["Minia","Minia 10kA","LD2","OEZ:42307","SS-LT-2000","Сигнализационный выключатель","2x нормально разомкнутый контакт, для LTS, LTP, LVN, LFE, LFN, OLE, OLI, MSN","1 / 15",6.5000000000000002E-2,0.124,8.66,{"$f":"VLOOKUP(B416,#REF!,3,FALSE)","v":{"$error":"#REF!"}}]
["Minia","Minia 10kA","LD2","OEZ:42310","SS-LT-2000-TE-RE","Сигнализационный выключатель","2x нормально разомкнутый контакт, кнопка тестирования, сброс, для LTS, LTP, LVN, LFE, LFN, OLE, OLI, MSN","1 / 15",7.0999999999999994E-2,0.124,11.68,{"$f":"VLOOKUP(B417,#REF!,3,FALSE)","v":{"$error":"#REF!"}}]
["Minia","Minia 10kA","LD2","OEZ:42308","SS-LT-0200","Сигнализационный выключатель","2x нормально замкнутый контакт, для LTS, LTP, LVN, LFE, LFN, OLE, OLI, MSN","1 / 15",6.5000000000000002E-2,0.124,8.66,{"$f":"VLOOKUP(B418,#REF!,3,FALSE)","v":{"$error":"#REF!"}}]
["Minia","Minia 10kA","LD2","OEZ:42311","SS-LT-0200-TE-RE","Сигнализационный выключатель","2x нормально замкнутый контакт, кнопка тестирования, сброс, для LTS, LTP, LVN, LFE, LFN, OLE, OLI, MSN","1 / 15",6.8000000000000005E-2,0.124,11.68,{"$f":"VLOOKUP(B419,#REF!,3,FALSE)","v":{"$error":"#REF!"}}]
[null,null,null,"Level  5","SV-LT - независимые расцепители"]
["Minia","Minia 10kA","LD2","OEZ:42312","SV-LT-X060","Независимый расцепитель","Uc AC/DC 24 - 60 V, для LTS, LTP, LVN, LFE, LFN, OLE, OLI, MSN","1 / -",0.106,0.255,20.520000000000003,{"$f":"VLOOKUP(B421,#REF!,3,FALSE)","v":{"$error":"#REF!"}}]
["Minia","Minia 10kA","LD2","OEZ:42313","SV-LT-X400","Независимый расцепитель","Uc AC 110 - 415 V / DC 110 V, для LTS, LTP, LVN, LFE, LFN, OLE, OLI, MSN","1 / -",9.8000000000000004E-2,0.255,20.580000000000002,{"$f":"VLOOKUP(B422,#REF!,3,FALSE)","v":{"$error":"#REF!"}}]
[null,null,null,"Level  5","SP-LT - Расцепители минимального напряжения"]
["Minia","Minia 10kA","LD2","OEZ:42315","SP-LT-A230","Расцепитель минимального напряжения","Uc AC 230 V, для LTS, LTP, LVN, LFE, LFN, OLE, OLI, MSN","1 / -",0.109,0.255,44.879999999999995,{"$f":"VLOOKUP(B424,#REF!,3,FALSE)","v":{"$error":"#REF!"}}]
["Minia","Minia 10kA","LD2","OEZ:42317","SP-LT-A230-2000","Расцепитель минимального напряжения","Uc AC 230 V, 2x нормально разомкнутый контакт, для LTS, LTP, LVN, LFE, LFN, OLE, OLI, MSN","1 / -",0.123,0.255,53.53,{"$f":"VLOOKUP(B425,#REF!,3,FALSE)","v":{"$error":"#REF!"}}]
["Minia","Minia 10kA","LD2","OEZ:42319","SP-LT-D024","Расцепитель минимального напряжения","Uc DC 24 V, для LTS, LTP, LVN, LFE, LFN, OLE, OLI, MSN","1 / -",0.113,0.255,60.089999999999996,{"$f":"VLOOKUP(B426,#REF!,3,FALSE)","v":{"$error":"#REF!"}}]
["Minia","Minia 10kA","LD2","OEZ:42321","SP-LT-D024-2000","Расцепитель минимального напряжения","Uc DC 24 V, 2x нормально разомкнутый контакт, для LTS, LTP, LVN, LFE, LFN, OLE, OLI, MSN","1 / -",0.128,0.255,68.710000000000008,{"$f":"VLOOKUP(B427,#REF!,3,FALSE)","v":{"$error":"#REF!"}}]
["Minia","Minia 10kA","LD2","OEZ:42320","SP-LT-D110","Расцепитель минимального напряжения","Uc DC 110 V, для LTS, LTP, LVN, LFE, LFN, OLE, OLI, MSN","1 / -",0.105,0.255,44.79,{"$f":"VLOOKUP(B428,#REF!,3,FALSE)","v":{"$error":"#REF!"}}]
["Minia","Minia 10kA","LD2","OEZ:42322","SP-LT-D110-2000","Расцепитель минимального напряжения","Uc DC 110 V, 2x нормально разомкнутый контакт, для LTS, LTP, LVN, LFE, LFN, OLE, OLI, MSN","1 / -",0.11700000000000001,0.255,53.449999999999996,{"$f":"VLOOKUP(B429,#REF!,3,FALSE)","v":{"$error":"#REF!"}}]
[null,null,null,"Level  5","OD-LTN - Остальные принадлежности"]
["Minia","Minia 10kA","LD2","OEZ:42324","OD-LT-VU01","Вставка для запирания","для LTS, LTP, LVN, OLE, OLI, MSN, AVN-DC","1 / 10",1.0999999999999999E-2,3.9E-2,6.97,{"$f":"VLOOKUP(B431,#REF!,3,FALSE)","v":{"$error":"#REF!"}}]
["Minia","Minia 10kA","LD2","OEZ:42323","OD-LT-VP01","Пломбируемый вкладыш","для LTS, LTP, LVN, OLE, OLI, MSN, MSO, AVN-DC","1 / 10",2E-3,3.0000000000000001E-3,1.28,{"$f":"VLOOKUP(B432,#REF!,3,FALSE)","v":{"$error":"#REF!"}}]
[null,null,null,"Level  3","LVN - Автоматические выключатели до 125 A (10 kA)"]
[null,null,null,"Level  4","LVN-_-1 - Автоматические выключатели, 1-полюсные"]
["Minia","Minia 10kA","LD3","OEZ:42262","LVN-80B-1","Автоматический выключатель","In 80 A, Ue AC 230 V / DC 72 V, характеристика B, 1-полюс, Icn 10 kA","1 / -",0.27100000000000002,0.26900000000000002,27.75,{"$f":"VLOOKUP(B435,#REF!,3,FALSE)","v":{"$error":"#REF!"}}]
["Minia","Minia 10kA","LD3","OEZ:42263","LVN-100B-1","Автоматический выключатель","In 100 A, Ue AC 230 V / DC 72 V, характеристика B, 1-полюс, Icn 10 kA","1 / -",0.26900000000000002,0.26900000000000002,30.150000000000002,{"$f":"VLOOKUP(B436,#REF!,3,FALSE)","v":{"$error":"#REF!"}}]
["Minia","Minia 10kA","LD3","OEZ:42264","LVN-125B-1","Автоматический выключатель","In 125 A, Ue AC 230 V / DC 72 V, характеристика B, 1-полюс, Icn 10 kA","1 / -",0.248,0.26900000000000002,34.299999999999997,{"$f":"VLOOKUP(B437,#REF!,3,FALSE)","v":{"$error":"#REF!"}}]
["Minia","Minia 10kA","LD3","OEZ:42265","LVN-80C-1","Автоматический выключатель","In 80 A, Ue AC 230 V / DC 72 V, характеристика C, 1-полюс, Icn 10 kA","1 / -",0.26400000000000001,0.26900000000000002,27.78,{"$f":"VLOOKUP(B438,#REF!,3,FALSE)","v":{"$error":"#REF!"}}]
["Minia","Minia 10kA","LD3","OEZ:42266","LVN-100C-1","Автоматический выключатель","In 100 A, Ue AC 230 V / DC 72 V, характеристика C, 1-полюс, Icn 10 kA","1 / -",0.26,0.26900000000000002,30.150000000000002,{"$f":"VLOOKUP(B439,#REF!,3,FALSE)","v":{"$error":"#REF!"}}]
["Minia","Minia 10kA","LD3","OEZ:42267","LVN-125C-1","Автоматический выключатель","In 125 A, Ue AC 230 V / DC 72 V, характеристика C, 1-полюс, Icn 10 kA","1 / -",0.26100000000000001,0.26900000000000002,34.299999999999997,{"$f":"VLOOKUP(B440,#REF!,3,FALSE)","v":{"$error":"#REF!"}}]
["Minia","Minia 10kA","LD3","OEZ:42268","LVN-80D-1","Автоматический выключатель","In 80 A, Ue AC 230 V / DC 72 V, характеристика D, 1-полюс, Icn 10 kA","1 / -",0.26400000000000001,0.26900000000000002,33.29,{"$f":"VLOOKUP(B441,#REF!,3,FALSE)","v":{"$error":"#REF!"}}]
["Minia","Minia 10kA","LD3","OEZ:42269","LVN-100D-1","Автоматический выключатель","In 100 A, Ue AC 230 V / DC 72 V, характеристика D, 1-полюс, Icn 10 kA","1 / -",0.26,0.26900000000000002,36.169999999999995,{"$f":"VLOOKUP(B442,#REF!,3,FALSE)","v":{"$error":"#REF!"}}]
[null,null,null,"Level  4","LVN-_-3 - Автоматические выключатели, 3-полюсные"]
["Minia","Minia 10kA","LD3","OEZ:42273","LVN-80B-3","Автоматический выключатель","In 80 A, Ue AC 230/400 V / DC 216 V, характеристика B, 3-полюс, Icn 10 kA","1 / -",0.78500000000000003,0.70899999999999996,82.29,{"$f":"VLOOKUP(B444,#REF!,3,FALSE)","v":{"$error":"#REF!"}}]
["Minia","Minia 10kA","LD3","OEZ:42274","LVN-100B-3","Автоматический выключатель","In 100 A, Ue AC 230/400 V / DC 216 V, характеристика B, 3-полюс, Icn 10 kA","1 / -",0.78900000000000003,0.70899999999999996,87.56,{"$f":"VLOOKUP(B445,#REF!,3,FALSE)","v":{"$error":"#REF!"}}]
["Minia","Minia 10kA","LD3","OEZ:42275","LVN-125B-3","Автоматический выключатель","In 125 A, Ue AC 230/400 V / DC 216 V, характеристика B, 3-полюс, Icn 10 kA","1 / -",0.79500000000000004,0.70899999999999996,92.690000000000012,{"$f":"VLOOKUP(B446,#REF!,3,FALSE)","v":{"$error":"#REF!"}}]
["Minia","Minia 10kA","LD3","OEZ:42276","LVN-80C-3","Автоматический выключатель","In 80 A, Ue AC 230/400 V / DC 216 V, характеристика C, 3-полюс, Icn 10 kA","1 / -",0.77800000000000002,0.70899999999999996,82.29,{"$f":"VLOOKUP(B447,#REF!,3,FALSE)","v":{"$error":"#REF!"}}]
["Minia","Minia 10kA","LD3","OEZ:42277","LVN-100C-3","Автоматический выключатель","In 100 A, Ue AC 230/400 V / DC 216 V, характеристика C, 3-полюс, Icn 10 kA","1 / -",0.77100000000000002,0.70899999999999996,87.56,{"$f":"VLOOKUP(B448,#REF!,3,FALSE)","v":{"$error":"#REF!"}}]
["Minia","Minia 10kA","LD3","OEZ:42278","LVN-125C-3","Автоматический выключатель","In 125 A, Ue AC 230/400 V / DC 216 V, характеристика C, 3-полюс, Icn 10 kA","1 / -",0.78100000000000003,0.70899999999999996,92.690000000000012,{"$f":"VLOOKUP(B449,#REF!,3,FALSE)","v":{"$error":"#REF!"}}]
["Minia","Minia 10kA","LD3","OEZ:42279","LVN-80D-3","Автоматический выключатель","In 80 A, Ue AC 230/400 V / DC 216 V, характеристика D, 3-полюс, Icn 10 kA","1 / -",0.77800000000000002,0.70899999999999996,92.990000000000009,{"$f":"VLOOKUP(B450,#REF!,3,FALSE)","v":{"$error":"#REF!"}}]
["Minia","Minia 10kA","LD3","OEZ:42280","LVN-100D-3","Автоматический выключатель","In 100 A, Ue AC 230/400 V / DC 216 V, характеристика D, 3-полюс, Icn 10 kA","1 / -",0.77100000000000002,0.70899999999999996,98.910000000000011,{"$f":"VLOOKUP(B451,#REF!,3,FALSE)","v":{"$error":"#REF!"}}]
[null,null,null,"Level  4","LVN-_-4 - Автоматические выключатели, 4-полюсные"]
["Minia","Minia 10kA","LD3","OEZ:42282","LVN-80B-4","Автоматический выключатель","In 80 A, Ue AC 230/400 V / DC 288 V, характеристика B, 4-полюс, Icn 10 kA","1 / -",1.032,0.92900000000000005,129.67999999999998,{"$f":"VLOOKUP(B453,#REF!,3,FALSE)","v":{"$error":"#REF!"}}]
["Minia","Minia 10kA","LD3","OEZ:42283","LVN-100B-4","Автоматический выключатель","In 100 A, Ue AC 230/400 V / DC 288 V, характеристика B, 4-полюс, Icn 10 kA","1 / -",1.034,0.92900000000000005,130.6,{"$f":"VLOOKUP(B454,#REF!,3,FALSE)","v":{"$error":"#REF!"}}]
["Minia","Minia 10kA","LD3","OEZ:42284","LVN-125B-4","Автоматический выключатель","In 125 A, Ue AC 230/400 V / DC 288 V, характеристика B, 4-полюс, Icn 10 kA","1 / -",1.0660000000000001,0.92900000000000005,136.88,{"$f":"VLOOKUP(B455,#REF!,3,FALSE)","v":{"$error":"#REF!"}}]
["Minia","Minia 10kA","LD3","OEZ:42285","LVN-80C-4","Автоматический выключатель","In 80 A, Ue AC 230/400 V / DC 288 V, характеристика C, 4-полюс, Icn 10 kA","1 / -",1.0309999999999999,0.92900000000000005,129.67999999999998,{"$f":"VLOOKUP(B456,#REF!,3,FALSE)","v":{"$error":"#REF!"}}]
["Minia","Minia 10kA","LD3","OEZ:42286","LVN-100C-4","Автоматический выключатель","In 100 A, Ue AC 230/400 V / DC 288 V, характеристика C, 4-полюс, Icn 10 kA","1 / -",1.0329999999999999,0.92900000000000005,130.6,{"$f":"VLOOKUP(B457,#REF!,3,FALSE)","v":{"$error":"#REF!"}}]
["Minia","Minia 10kA","LD3","OEZ:42287","LVN-125C-4","Автоматический выключатель","In 125 A, Ue AC 230/400 V / DC 288 V, характеристика C, 4-полюс, Icn 10 kA","1 / -",1.038,0.92900000000000005,136.88,{"$f":"VLOOKUP(B458,#REF!,3,FALSE)","v":{"$error":"#REF!"}}]
["Minia","Minia 10kA","LD3","OEZ:42288","LVN-80D-4","Автоматический выключатель","In 80 A, Ue AC 230/400 V / DC 288 V, характеристика D, 4-полюс, Icn 10 kA","1 / -",1.0309999999999999,0.92900000000000005,146.54999999999998,{"$f":"VLOOKUP(B459,#REF!,3,FALSE)","v":{"$error":"#REF!"}}]
["Minia","Minia 10kA","LD3","OEZ:42289","LVN-100D-4","Автоматический выключатель","In 100 A, Ue AC 230/400 V / DC 288 V, характеристика D, 4-полюс, Icn 10 kA","1 / -",1.026,0.92900000000000005,147.54999999999998,{"$f":"VLOOKUP(B460,#REF!,3,FALSE)","v":{"$error":"#REF!"}}]
[null,null,null,"Level  4","OD-LVN - Принадлежности"]
[null,null,null,"Level  5","PS-LT - Вспомогательные выключатели"]
["Minia","Minia 10kA","LD2","OEZ:42297","PS-LT-1100","Вспомогательный выключатель","1x нормально разомкнутый контакт, 1x нормально замкнутый контакт, для LTS, LTP, LVN, LFE, LFN, OLE, OLI, MSO, MSN","1 / 15",5.5E-2,0.124,7.8,{"$f":"VLOOKUP(B463,#REF!,3,FALSE)","v":{"$error":"#REF!"}}]
["Minia","Minia 10kA","LD2","OEZ:42300","PS-LT-1100-TE","Вспомогательный выключатель","1x нормально разомкнутый контакт, 1x нормально замкнутый контакт, кнопка тестирования, для LTS, LTP, LVN, LFE, LFN, OLE, OLI, MSO, MSN","1 / 15",7.0999999999999994E-2,0.124,9.73,{"$f":"VLOOKUP(B464,#REF!,3,FALSE)","v":{"$error":"#REF!"}}]
["Minia","Minia 10kA","LD2","OEZ:42303","PS-LT-1100-MN","Вспомогательный выключатель","1x нормально разомкнутый контакт, 1x нормально замкнутый контакт, для LTS, LTP, LVN, LFE, LFN, OLE, OLI, MSO, MSN","1 / 15",7.4999999999999997E-2,0.124,15.57,{"$f":"VLOOKUP(B465,#REF!,3,FALSE)","v":{"$error":"#REF!"}}]
["Minia","Minia 10kA","LD2","OEZ:42304","PS-LT-1100-MN-TE","Вспомогательный выключатель","1x нормально разомкнутый контакт, 1x нормально замкнутый контакт, кнопка тестирования, для LTS, LTP, LVN, LFE, LFN, OLE, OLI, MSO, MSN","1 / 15",6.9000000000000006E-2,0.124,18.680000000000003,{"$f":"VLOOKUP(B466,#REF!,3,FALSE)","v":{"$error":"#REF!"}}]
["Minia","Minia 10kA","LD2","OEZ:42299","PS-LT-2000","Вспомогательный выключатель","2x нормально разомкнутый контакт, для LTS, LTP, LVN, LFE, LFN, OLE, OLI, MSO, MSN","1 / 15",6.6000000000000003E-2,0.124,8.66,{"$f":"VLOOKUP(B467,#REF!,3,FALSE)","v":{"$error":"#REF!"}}]
["Minia","Minia 10kA","LD2","OEZ:42302","PS-LT-2000-TE","Вспомогательный выключатель","2x нормально разомкнутый контакт, кнопка тестирования, для LTS, LTP, LVN, LFE, LFN, OLE, OLI, MSO, MSN","1 / 15",6.8000000000000005E-2,0.124,10.82,{"$f":"VLOOKUP(B468,#REF!,3,FALSE)","v":{"$error":"#REF!"}}]
["Minia","Minia 10kA","LD2","OEZ:42298","PS-LT-0200","Вспомогательный выключатель","2x нормально замкнутый контакт, для LTS, LTP, LVN, LFE, LFN, OLE, OLI, MSO, MSN","1 / 15",6.6000000000000003E-2,0.124,8.66,{"$f":"VLOOKUP(B469,#REF!,3,FALSE)","v":{"$error":"#REF!"}}]
["Minia","Minia 10kA","LD2","OEZ:42301","PS-LT-0200-TE","Вспомогательный выключатель","2x нормально замкнутый контакт, кнопка тестирования, для LTS, LTP, LVN, LFE, LFN, OLE, OLI, MSO, MSN","1 / 15",7.0999999999999994E-2,0.124,10.82,{"$f":"VLOOKUP(B470,#REF!,3,FALSE)","v":{"$error":"#REF!"}}]
[null,null,null,"Level  5","SS-LT - Сигнализационные выключатели"]
["Minia","Minia 10kA","LD2","OEZ:42306","SS-LT-1100","Сигнализационный выключатель","1x нормально разомкнутый контакт, 1x нормально замкнутый контакт, для LTS, LTP, LVN, LFE, LFN, OLE, OLI, MSN","1 / 15",6.6000000000000003E-2,0.124,7.8,{"$f":"VLOOKUP(B472,#REF!,3,FALSE)","v":{"$error":"#REF!"}}]
["Minia","Minia 10kA","LD2","OEZ:42309","SS-LT-1100-TE-RE","Сигнализационный выключатель","1x нормально разомкнутый контакт, 1x нормально замкнутый контакт, кнопка тестирования, сброс, для LTS, LTP, LVN, LFE, LFN, OLE, OLI, MSN","1 / 15",7.1999999999999995E-2,0.124,10.5,{"$f":"VLOOKUP(B473,#REF!,3,FALSE)","v":{"$error":"#REF!"}}]
["Minia","Minia 10kA","LD2","OEZ:42307","SS-LT-2000","Сигнализационный выключатель","2x нормально разомкнутый контакт, для LTS, LTP, LVN, LFE, LFN, OLE, OLI, MSN","1 / 15",6.5000000000000002E-2,0.124,8.66,{"$f":"VLOOKUP(B474,#REF!,3,FALSE)","v":{"$error":"#REF!"}}]
["Minia","Minia 10kA","LD2","OEZ:42310","SS-LT-2000-TE-RE","Сигнализационный выключатель","2x нормально разомкнутый контакт, кнопка тестирования, сброс, для LTS, LTP, LVN, LFE, LFN, OLE, OLI, MSN","1 / 15",7.0999999999999994E-2,0.124,11.68,{"$f":"VLOOKUP(B475,#REF!,3,FALSE)","v":{"$error":"#REF!"}}]
["Minia","Minia 10kA","LD2","OEZ:42308","SS-LT-0200","Сигнализационный выключатель","2x нормально замкнутый контакт, для LTS, LTP, LVN, LFE, LFN, OLE, OLI, MSN","1 / 15",6.5000000000000002E-2,0.124,8.66,{"$f":"VLOOKUP(B476,#REF!,3,FALSE)","v":{"$error":"#REF!"}}]
["Minia","Minia 10kA","LD2","OEZ:42311","SS-LT-0200-TE-RE","Сигнализационный выключатель","2x нормально замкнутый контакт, кнопка тестирования, сброс, для LTS, LTP, LVN, LFE, LFN, OLE, OLI, MSN","1 / 15",6.8000000000000005E-2,0.124,11.68,{"$f":"VLOOKUP(B477,#REF!,3,FALSE)","v":{"$error":"#REF!"}}]
[null,null,null,"Level  5","SV-LT - независимые расцепители"]
["Minia","Minia 10kA","LD2","OEZ:42312","SV-LT-X060","Независимый расцепитель","Uc AC/DC 24 - 60 V, для LTS, LTP, LVN, LFE, LFN, OLE, OLI, MSN","1 / -",0.106,0.255,20.520000000000003,{"$f":"VLOOKUP(B479,#REF!,3,FALSE)","v":{"$error":"#REF!"}}]
["Minia","Minia 10kA","LD2","OEZ:42313","SV-LT-X400","Независимый расцепитель","Uc AC 110 - 415 V / DC 110 V, для LTS, LTP, LVN, LFE, LFN, OLE, OLI, MSN","1 / -",9.8000000000000004E-2,0.255,20.580000000000002,{"$f":"VLOOKUP(B480,#REF!,3,FALSE)","v":{"$error":"#REF!"}}]
[null,null,null,"Level  5","SP-LT - Расцепители минимального напряжения"]
["Minia","Minia 10kA","LD2","OEZ:42315","SP-LT-A230","Расцепитель минимального напряжения","Uc AC 230 V, для LTS, LTP, LVN, LFE, LFN, OLE, OLI, MSN","1 / -",0.109,0.255,44.879999999999995,{"$f":"VLOOKUP(B482,#REF!,3,FALSE)","v":{"$error":"#REF!"}}]
["Minia","Minia 10kA","LD2","OEZ:42317","SP-LT-A230-2000","Расцепитель минимального напряжения","Uc AC 230 V, 2x нормально разомкнутый контакт, для LTS, LTP, LVN, LFE, LFN, OLE, OLI, MSN","1 / -",0.123,0.255,53.53,{"$f":"VLOOKUP(B483,#REF!,3,FALSE)","v":{"$error":"#REF!"}}]
["Minia","Minia 10kA","LD2","OEZ:42319","SP-LT-D024","Расцепитель минимального напряжения","Uc DC 24 V, для LTS, LTP, LVN, LFE, LFN, OLE, OLI, MSN","1 / -",0.113,0.255,60.089999999999996,{"$f":"VLOOKUP(B484,#REF!,3,FALSE)","v":{"$error":"#REF!"}}]
["Minia","Minia 10kA","LD2","OEZ:42321","SP-LT-D024-2000","Расцепитель минимального напряжения","Uc DC 24 V, 2x нормально разомкнутый контакт, для LTS, LTP, LVN, LFE, LFN, OLE, OLI, MSN","1 / -",0.128,0.255,68.710000000000008,{"$f":"VLOOKUP(B485,#REF!,3,FALSE)","v":{"$error":"#REF!"}}]
["Minia","Minia 10kA","LD2","OEZ:42320","SP-LT-D110","Расцепитель минимального напряжения","Uc DC 110 V, для LTS, LTP, LVN, LFE, LFN, OLE, OLI, MSN","1 / -",0.105,0.255,44.79,{"$f":"VLOOKUP(B486,#REF!,3,FALSE)","v":{"$error":"#REF!"}}]
["Minia","Minia 10kA","LD2","OEZ:42322","SP-LT-D110-2000","Расцепитель минимального напряжения","Uc DC 110 V, 2x нормально разомкнутый контакт, для LTS, LTP, LVN, LFE, LFN, OLE, OLI, MSN","1 / -",0.11700000000000001,0.255,53.449999999999996,{"$f":"VLOOKUP(B487,#REF!,3,FALSE)","v":{"$error":"#REF!"}}]
[null,null,null,"Level  5","OD-LT - Остальные принадлежности"]
["Minia","Minia 10kA","LD2","OEZ:42324","OD-LT-VU01","Вставка для запирания","для LTS, LTP, LVN, OLE, OLI, MSN, AVN-DC","1 / 10",1.0999999999999999E-2,3.9E-2,6.97,{"$f":"VLOOKUP(B489,#REF!,3,FALSE)","v":{"$error":"#REF!"}}]
["Minia","Minia 10kA","LD2","OEZ:42323","OD-LT-VP01","Пломбируемый вкладыш","для LTS, LTP, LVN, OLE, OLI, MSN, MSO, AVN-DC","1 / 10",2E-3,3.0000000000000001E-3,1.28,{"$f":"VLOOKUP(B490,#REF!,3,FALSE)","v":{"$error":"#REF!"}}]
[null,null,null,"Level  3","LST-DC - Автоматические выключатели до 125 A DC; 10 kA"]
[null,null,null,"Level  4","LST-DC-_-2 - Автоматические выключатели для защиты цепей постоянного (DC) тока, 2-х полюсные"]
["Minia","Minia DC","LD3","OEZ:37241","LST-DC-80C-2","Автоматический выключатель","In 80 A, Ue DC 220/440 V, характеристика C, 2-полюс, Icu 10 kA","2 / -",0.42,0.39600000000000002,62.629999999999995,{"$f":"VLOOKUP(B493,#REF!,3,FALSE)","v":{"$error":"#REF!"}}]
["Minia","Minia DC","LD3","OEZ:37242","LST-DC-100C-2","Автоматический выключатель","In 100 A, Ue DC 220/440 V, характеристика C, 2-полюс, Icu 10 kA","2 / -",0.45600000000000002,0.39600000000000002,64.5,{"$f":"VLOOKUP(B494,#REF!,3,FALSE)","v":{"$error":"#REF!"}}]
["Minia","Minia DC","LD3","OEZ:37243","LST-DC-125C-2","Автоматический выключатель","In 125 A, Ue DC 220/440 V, характеристика C, 2-полюс, Icu 10 kA","2 / -",0.42,0.39600000000000002,73.100000000000009,{"$f":"VLOOKUP(B495,#REF!,3,FALSE)","v":{"$error":"#REF!"}}]
[null,null,null,"Level  4","OD-LST - Принадлежности"]
[null,null,null,"Level  5","PS-LS - Вспомогательные выключатели"]
["Minia","Minia 10kA","LD3","OEZ:35664","PS-LS-1100","Вспомогательный выключатель","1x нормально разомкнутый контакт, 1x нормально замкнутый контакт, для LST, AST","1 / -",4.2999999999999997E-2,0.17899999999999999,9.07,{"$f":"VLOOKUP(B498,#REF!,3,FALSE)","v":{"$error":"#REF!"}}]
[null,null,null,"Level  3","S1L, S2L, S3L, S4L, AS - Соединительные рейки"]
[null,null,null,"Level  4","S1L, S2L, S3L, S4L - Соединительные рейки"]
["Minia","Minia 10kA","LD6","OEZ:38475","S1L-210-10","Соединительная рейка","1-полюс. исполнение, сечение 10 mm2, расстояние 17,8 mm, количество выводов 12, штифты","50 / -",4.4999999999999998E-2,0.02,1.96,{"$f":"VLOOKUP(B501,#REF!,3,FALSE)","v":{"$error":"#REF!"}}]
["Minia","Minia 10kA","LD6","OEZ:37374","S1L-210-16","Соединительная рейка","1-полюс. исполнение, сечение 16 mm2, расстояние 17,8 mm, количество выводов 12, штифты","50 / -",4.7E-2,5.8999999999999997E-2,4.01,{"$f":"VLOOKUP(B502,#REF!,3,FALSE)","v":{"$error":"#REF!"}}]
["Minia","Minia 10kA","LD6","OEZ:37373","S1L-1000-10","Соединительная рейка","1-полюс. исполнение, сечение 10 mm2, расстояние 17,8 mm, количество выводов 57, штифты","50 / -",0.20399999999999999,0.20300000000000001,12.16,{"$f":"VLOOKUP(B503,#REF!,3,FALSE)","v":{"$error":"#REF!"}}]
["Minia","Minia 10kA","LD6","OEZ:37375","S1L-1000-16","Соединительная рейка","1-полюс. исполнение, сечение 16 mm2, расстояние 17,8 mm, количество выводов 57, штифты","50 / -",0.30199999999999999,0.20300000000000001,16.07,{"$f":"VLOOKUP(B504,#REF!,3,FALSE)","v":{"$error":"#REF!"}}]
["Minia","Minia 10kA","LD6","OEZ:37376","S1L-27-1000-16","Соединительная рейка","1-полюс. исполнение, сечение 10 mm2, расстояние 27 mm, количество выводов 27, штифты","50 / -",0.20100000000000001,0.20300000000000001,16.75,{"$f":"VLOOKUP(B505,#REF!,3,FALSE)","v":{"$error":"#REF!"}}]
["Minia","Minia 10kA","LD6","OEZ:37377","S1L-27-1000-25","Соединительная рейка","1-полюс. исполнение, сечение 25 mm2, расстояние 27 mm, количество выводов 37, штифты","30 / -",0.315,0.317,22.860000000000003,{"$f":"VLOOKUP(B506,#REF!,3,FALSE)","v":{"$error":"#REF!"}}]
["Minia","Minia 10kA","LD6","OEZ:38476","S2L-210-10","Соединительная рейка","2-полюсное исполнение, сечение 10 mm2, расстояние 17,8 mm, количество выводов 6 x 2, штифты","20 / -",6.7000000000000004E-2,7.0000000000000007E-2,5.22,{"$f":"VLOOKUP(B507,#REF!,3,FALSE)","v":{"$error":"#REF!"}}]
["Minia","Minia 10kA","LD6","OEZ:38477","S2L-210-16","Соединительная рейка","2-полюсное исполнение, сечение 16 mm2, расстояние 17,8 mm, количество выводов 2 x 6, штифты","20 / -",0.11,7.0000000000000007E-2,5.7299999999999995,{"$f":"VLOOKUP(B508,#REF!,3,FALSE)","v":{"$error":"#REF!"}}]
["Minia","Minia 10kA","LD6","OEZ:37378","S2L-1000-16","Соединительная рейка","2-полюсное исполнение, сечение 16 mm2, расстояние 17,8 mm, количество выводов 28 x 2, штифты","20 / -",0.315,0.317,27.3,{"$f":"VLOOKUP(B509,#REF!,3,FALSE)","v":{"$error":"#REF!"}}]
["Minia","Minia 10kA","LD6","OEZ:39849","S2L+N+9-1000-16","Соединительная рейка","2-полюсное исполнение (L1-N-L2-N), сечение 16 mm2, расстояние 17,8 mm + 26,8 mm, количество выводов 22 x 2, штифты","20 / -",0.71,0.67600000000000005,41.8,{"$f":"VLOOKUP(B510,#REF!,3,FALSE)","v":{"$error":"#REF!"}}]
["Minia","Minia 10kA","LD6","OEZ:38478","S3L-106-10","Соединительная рейка","3-полюсное исполнение, сечение 10 mm2, расстояние 17,8 mm, количество выводов 2 x 3, штифты","25 / -",5.5E-2,5.0999999999999997E-2,2.5799999999999996,{"$f":"VLOOKUP(B511,#REF!,3,FALSE)","v":{"$error":"#REF!"}}]
["Minia","Minia 10kA","LD6","OEZ:38479","S3L-106-16","Соединительная рейка","3-полюсное исполнение, сечение 16 mm2, расстояние 17,8 mm, количество выводов 2 x 3, штифты","25 / -",0.08,5.0999999999999997E-2,3.2399999999999998,{"$f":"VLOOKUP(B512,#REF!,3,FALSE)","v":{"$error":"#REF!"}}]
["Minia","Minia 10kA","LD6","OEZ:38480","S3L-160-10","Соединительная рейка","3-полюсное исполнение, сечение 10 mm2, расстояние 17,8 mm, количество выводов 3 x 3, штифты","25 / -",8.5000000000000006E-2,7.5999999999999998E-2,3.44,{"$f":"VLOOKUP(B513,#REF!,3,FALSE)","v":{"$error":"#REF!"}}]
["Minia","Minia 10kA","LD6","OEZ:38481","S3L-160-16","Соединительная рейка","3-полюсное исполнение, сечение 16 mm2, расстояние 17,8 mm, количество выводов 3 x 3, штифты","25 / -",0.115,7.5999999999999998E-2,4.84,{"$f":"VLOOKUP(B514,#REF!,3,FALSE)","v":{"$error":"#REF!"}}]
["Minia","Minia 10kA","LD6","OEZ:38482","S3L-210-10","Соединительная рейка","3-полюсное исполнение, сечение 10 mm2, расстояние 17,8 mm, количество выводов 4 x 3, штифты","25 / -",0.11,0.10100000000000001,6.2,{"$f":"VLOOKUP(B515,#REF!,3,FALSE)","v":{"$error":"#REF!"}}]
["Minia","Minia 10kA","LD6","OEZ:38483","S3L-210-16","Соединительная рейка","3-полюсное исполнение, сечение 16 mm2, расстояние 17,8 mm, количество выводов 4 x 3, штифты","25 / -",0.15,0.10100000000000001,6.5,{"$f":"VLOOKUP(B516,#REF!,3,FALSE)","v":{"$error":"#REF!"}}]
["Minia","Minia 10kA","LD6","OEZ:43144","S3L-210FI-10","Соединительная рейка","3-полюсное исполнение, сечение 10 mm2, расстояние 17,8 mm, количество выводов 3 x 3 + 2 x 1, штифты","25 / -",7.3999999999999996E-2,0.01,6.38,{"$f":"VLOOKUP(B517,#REF!,3,FALSE)","v":{"$error":"#REF!"}}]
["Minia","Minia 10kA","LD6","OEZ:43146","S3L-210FI-16","Соединительная рейка","3-полюсное исполнение, сечение 16 mm2, расстояние 17,8 mm, количество выводов 3 x 3 + 2 x 1, штифты","25 / -",9.9000000000000005E-2,0.01,9.67,{"$f":"VLOOKUP(B518,#REF!,3,FALSE)","v":{"$error":"#REF!"}}]
["Minia","Minia 10kA","LD6","OEZ:38484","S3L-1000-10","Соединительная рейка","3-полюсное исполнение, сечение 10 mm2, расстояние 17,8 mm, количество выводов 19 x 3, штифты","20 / -",0.505,0.50700000000000001,23.84,{"$f":"VLOOKUP(B519,#REF!,3,FALSE)","v":{"$error":"#REF!"}}]
["Minia","Minia 10kA","LD6","OEZ:37379","S3L-1000-16","Соединительная рейка","3-полюсное исполнение, сечение 16 mm2, расстояние 17,8 mm, количество выводов 19 x 3, штифты","20 / -",0.73699999999999999,0.50700000000000001,33.589999999999996,{"$f":"VLOOKUP(B520,#REF!,3,FALSE)","v":{"$error":"#REF!"}}]
["Minia","Minia 10kA","LD6","OEZ:38485","S3L+9-1000-16","Соединительная рейка","3-полюсное исполнение, сечение 16 mm2, расстояние 2 x 17,8 + 1 x 26,8 mm, количество выводов 16 x 3, штифты","20 / -",0.72,0.50700000000000001,30.98,{"$f":"VLOOKUP(B521,#REF!,3,FALSE)","v":{"$error":"#REF!"}}]
["Minia","Minia 10kA","LD6","OEZ:37380","S3L-27-1000-16","Соединительная рейка","3-полюсное исполнение, сечение 16 mm2, расстояние 27 mm, количество выводов 12 x 3, штифты","20 / -",0.53700000000000003,0.50700000000000001,33.35,{"$f":"VLOOKUP(B522,#REF!,3,FALSE)","v":{"$error":"#REF!"}}]
["Minia","Minia 10kA","LD6","OEZ:37381","S3L-27-1000-25","Соединительная рейка","3-полюсное исполнение, сечение 25 mm2, расстояние 27 mm, количество выводов 12 x 3, штифты","10 / -",0.995,1.272,73.84,{"$f":"VLOOKUP(B523,#REF!,3,FALSE)","v":{"$error":"#REF!"}}]
["Minia","Minia 10kA","LD6","OEZ:38487","S3L+N-1000-16","Соединительная рейка","3-полюсное исполнение (L1-N-L2-N-L3-N), сечение 16 mm2, расстояние 17,8 mm, количество выводов 27 x 2, штифты","15 / -",1.2050000000000001,0.67600000000000005,63.79,{"$f":"VLOOKUP(B524,#REF!,3,FALSE)","v":{"$error":"#REF!"}}]
["Minia","Minia 10kA","LD6","OEZ:39616","S3L+N+9-1000-16","Соединительная рейка","3-полюсное исполнение (L1-N-L2-N-L3-N), сечение 16 mm2, расстояние 1 x 17,8 + 1 x 26,8 mm, количество выводов 22 x 2, штифты","15 / -",0.98299999999999998,0.67600000000000005,67.64,{"$f":"VLOOKUP(B525,#REF!,3,FALSE)","v":{"$error":"#REF!"}}]
["Minia","Minia 10kA","LD6","OEZ:38486","S4L-1000-16","Соединительная рейка","4-полюсное исполнение, сечение 16 mm2, расстояние 17,8 mm, количество выводов 14 x 4, штифты","15 / -",1.2050000000000001,0.67600000000000005,44.35,{"$f":"VLOOKUP(B526,#REF!,3,FALSE)","v":{"$error":"#REF!"}}]
["Minia","Minia 10kA","LD6","OEZ:37382","S4L-27-1000-25","Соединительная рейка","4-полюсное исполнение, сечение 25 mm2, расстояние 27 mm, количество выводов 9 x 4, штифты","15 / -",1.327,1.696,124.11,{"$f":"VLOOKUP(B527,#REF!,3,FALSE)","v":{"$error":"#REF!"}}]
["Minia","Minia 10kA","LD6","OEZ:37383","EKC-1","Концевая заглушка","для однополюсных реек, сечение 10, 12, 16 mm2","10 / -",1E-3,7.0000000000000007E-2,0.75,{"$f":"VLOOKUP(B528,#REF!,3,FALSE)","v":{"$error":"#REF!"}}]
["Minia","Minia 10kA","LD6","OEZ:37384","EKC-2+3","Концевая заглушка","для двухполюсных реек, для трехполюсных реек, сечение 16 mm2","10 / -",1E-3,1E-3,0.6,{"$f":"VLOOKUP(B529,#REF!,3,FALSE)","v":{"$error":"#REF!"}}]
["Minia","Minia 10kA","LD6","OEZ:37385","EKC-3","Концевая заглушка","для трехполюсных реек, сечение 10 mm2","10 / -",1E-3,1E-3,0.6,{"$f":"VLOOKUP(B530,#REF!,3,FALSE)","v":{"$error":"#REF!"}}]
["Minia","Minia 10kA","LD6","OEZ:37386","EKC-3-36","Концевая заглушка","для трехполюсных реек, для четырехполюсных реек, сечение 25 mm2","10 / -",2E-3,3.0000000000000001E-3,0.72,{"$f":"VLOOKUP(B531,#REF!,3,FALSE)","v":{"$error":"#REF!"}}]
["Minia","Minia 10kA","LD6","OEZ:37387","EKC-4","Концевая заглушка","для четырехполюсных реек, сечение 16 mm2","10 / -",2E-3,2E-3,0.63,{"$f":"VLOOKUP(B532,#REF!,3,FALSE)","v":{"$error":"#REF!"}}]
["Minia","Minia 10kA","LD6","OEZ:43854","EKC-1-36","Концевая заглушка","для однополюсных реек, сечение 25 mm2","1 / -",1E-3,9.0999999999999998E-2,1.84,{"$f":"VLOOKUP(B533,#REF!,3,FALSE)","v":{"$error":"#REF!"}}]
["Minia","Minia 10kA","LD6","OEZ:43147","EKD-5","Крышка выводов","для всех типов реек","10 / -",4.0000000000000001E-3,1.4999999999999999E-2,1.64,{"$f":"VLOOKUP(B534,#REF!,3,FALSE)","v":{"$error":"#REF!"}}]
["Minia","Minia 10kA","LD6","OEZ:37388","ES-35-GS","Блок питания","сечение 35 mm2, для соединительных реек","10 / -",3.2000000000000001E-2,4.8000000000000001E-2,3.1799999999999997,{"$f":"VLOOKUP(B535,#REF!,3,FALSE)","v":{"$error":"#REF!"}}]
[null,null,null,"Level  4","AS - Адаптеры для присоединения"]
["Minia","Minia 10kA","LD6","OEZ:37389","AS-25-S","Адаптер для присоединения","штифт, сечение 6 - 25 mm2, для OFI-..-2-...., OFE-..-2-...., RLP","30 / -",1.4E-2,1.6E-2,1.64,{"$f":"VLOOKUP(B537,#REF!,3,FALSE)","v":{"$error":"#REF!"}}]
["Minia","Minia 10kA","LD6","OEZ:37390","AS-25-G","Адаптер для присоединения","вилка, сечение 6 - 25 mm2, для LPE, LPN, OFE, OFI, SJB, SJBC, SVBC, SVC, SVM, APN","30 / -",1.2999999999999999E-2,1.6E-2,1.72,{"$f":"VLOOKUP(B538,#REF!,3,FALSE)","v":{"$error":"#REF!"}}]
["Minia","Minia 10kA","LD6","OEZ:38749","AS-50-S-AL01","Адаптер для присоединения","штифт, сечение Cu / Al 2,5 ÷ 50 mm2, для LTE, LTN, LVN, LST-DC, LFE, LFN, OLE, OLI, OFI100/125, SJB, SJBC, SVBC, SVC, SVM, MSO, MSN, OPVP14","1 / -",1.7999999999999999E-2,3.2000000000000001E-2,9.879999999999999,{"$f":"VLOOKUP(B539,#REF!,3,FALSE)","v":{"$error":"#REF!"}}]
["Minia","Minia 10kA","LD6","OEZ:43149","AS-50-S-L","Адаптер для присоединения","штифт, сечение 6 ÷ 50 mm2, для OPVP10, OPVP14","1 / -",3.3000000000000002E-2,3.2000000000000001E-2,4.04,{"$f":"VLOOKUP(B540,#REF!,3,FALSE)","v":{"$error":"#REF!"}}]
[null,null,null,"Level  2","Устройства защитного отключения"]
[null,null,null,"Level  3","LFE - Устройства защитного отключения (6 кА)"]
[null,null,null,"Level  4","LFE-_-_-_AC - Устройства защитного отключения, тип AC"]
["Minia","Minia 6kA","LD4","OEZ:42388","LFE-16-2-010AC","Устройство защитного отключения","In 16 A, Ue AC 230/400 V, Idn 10 mA, 2-полюс, Inc 6 kA, тип AC","1 / -",0.215,0.371,58.86,{"$f":"VLOOKUP(B544,#REF!,3,FALSE)","v":{"$error":"#REF!"}}]
["Minia","Minia 6kA","LD4","OEZ:42389","LFE-25-2-030AC","Устройство защитного отключения","In 25 A, Ue AC 230/400 V, Idn 30 mA, 2-полюс, Inc 6 kA, тип AC","1 / -",0.20599999999999999,0.371,34.32,{"$f":"VLOOKUP(B545,#REF!,3,FALSE)","v":{"$error":"#REF!"}}]
["Minia","Minia 6kA","LD4","OEZ:42390","LFE-40-2-030AC","Устройство защитного отключения","In 40 A, Ue AC 230/400 V, Idn 30 mA, 2-полюс, Inc 6 kA, тип AC","1 / -",0.20499999999999999,0.371,39.6,{"$f":"VLOOKUP(B546,#REF!,3,FALSE)","v":{"$error":"#REF!"}}]
["Minia","Minia 6kA","LD4","OEZ:42391","LFE-25-2-100AC","Устройство защитного отключения","In 25 A, Ue AC 230/400 V, Idn 100 mA, 2-полюс, Inc 6 kA, тип AC","1 / -",0.19500000000000001,0.371,41.699999999999996,{"$f":"VLOOKUP(B547,#REF!,3,FALSE)","v":{"$error":"#REF!"}}]
["Minia","Minia 6kA","LD4","OEZ:42392","LFE-40-2-100AC","Устройство защитного отключения","In 40 A, Ue AC 230/400 V, Idn 100 mA, 2-полюс, Inc 6 kA, тип AC","1 / -",0.19500000000000001,0.371,42.01,{"$f":"VLOOKUP(B548,#REF!,3,FALSE)","v":{"$error":"#REF!"}}]
["Minia","Minia 6kA","LD4","OEZ:42393","LFE-25-2-300AC","Устройство защитного отключения","In 25 A, Ue AC 230/400 V, Idn 300 mA, 2-полюс, Inc 6 kA, тип AC","1 / -",0.20699999999999999,0.371,40.19,{"$f":"VLOOKUP(B549,#REF!,3,FALSE)","v":{"$error":"#REF!"}}]
["Minia","Minia 6kA","LD4","OEZ:42394","LFE-40-2-300AC","Устройство защитного отключения","In 40 A, Ue AC 230/400 V, Idn 300 mA, 2-полюс, Inc 6 kA, тип AC","1 / -",0.19500000000000001,0.371,40.83,{"$f":"VLOOKUP(B550,#REF!,3,FALSE)","v":{"$error":"#REF!"}}]
["Minia","Minia 6kA","LD4","OEZ:42395","LFE-25-4-030AC","Устройство защитного отключения","In 25 A, Ue AC 230/400 V, Idn 30 mA, 4-полюс, Inc 6 kA, тип AC","1 / -",0.36,0.65300000000000002,47.1,{"$f":"VLOOKUP(B551,#REF!,3,FALSE)","v":{"$error":"#REF!"}}]
["Minia","Minia 6kA","LD4","OEZ:42396","LFE-40-4-030AC","Устройство защитного отключения","In 40 A, Ue AC 230/400 V, Idn 30 mA, 4-полюс, Inc 6 kA, тип AC","1 / -",0.36499999999999999,0.65300000000000002,47.1,{"$f":"VLOOKUP(B552,#REF!,3,FALSE)","v":{"$error":"#REF!"}}]
["Minia","Minia 6kA","LD4","OEZ:42397","LFE-63-4-030AC","Устройство защитного отключения","In 63 A, Ue AC 230/400 V, Idn 30 mA, 4-полюс, Inc 6 kA, тип AC","1 / -",0.39800000000000002,0.65300000000000002,63.18,{"$f":"VLOOKUP(B553,#REF!,3,FALSE)","v":{"$error":"#REF!"}}]
["Minia","Minia 6kA","LD4","OEZ:42398","LFE-80-4-030AC","Устройство защитного отключения","In 80 A, Ue AC 230/400 V, Idn 30 mA, 4-полюс, Inc 6 kA, тип AC","1 / -",0.39900000000000002,0.65300000000000002,69.39,{"$f":"VLOOKUP(B554,#REF!,3,FALSE)","v":{"$error":"#REF!"}}]
["Minia","Minia 6kA","LD4","OEZ:42399","LFE-25-4-100AC","Устройство защитного отключения","In 25 A, Ue AC 230/400 V, Idn 100 mA, 4-полюс, Inc 6 kA, тип AC","1 / -",0.33500000000000002,0.65300000000000002,50.3,{"$f":"VLOOKUP(B555,#REF!,3,FALSE)","v":{"$error":"#REF!"}}]
["Minia","Minia 6kA","LD4","OEZ:42400","LFE-40-4-100AC","Устройство защитного отключения","In 40 A, Ue AC 230/400 V, Idn 100 mA, 4-полюс, Inc 6 kA, тип AC","1 / -",0.33500000000000002,0.65300000000000002,66.02000000000001,{"$f":"VLOOKUP(B556,#REF!,3,FALSE)","v":{"$error":"#REF!"}}]
["Minia","Minia 6kA","LD4","OEZ:42401","LFE-63-4-100AC","Устройство защитного отключения","In 63 A, Ue AC 230/400 V, Idn 100 mA, 4-полюс, Inc 6 kA, тип AC","1 / -",0.36699999999999999,0.65300000000000002,62.089999999999996,{"$f":"VLOOKUP(B557,#REF!,3,FALSE)","v":{"$error":"#REF!"}}]
["Minia","Minia 6kA","LD4","OEZ:42402","LFE-25-4-300AC","Устройство защитного отключения","In 25 A, Ue AC 230/400 V, Idn 300 mA, 4-полюс, Inc 6 kA, тип AC","1 / -",0.33600000000000002,0.65300000000000002,48.25,{"$f":"VLOOKUP(B558,#REF!,3,FALSE)","v":{"$error":"#REF!"}}]
["Minia","Minia 6kA","LD4","OEZ:42403","LFE-40-4-300AC","Устройство защитного отключения","In 40 A, Ue AC 230/400 V, Idn 300 mA, 4-полюс, Inc 6 kA, тип AC","1 / -",0.33500000000000002,0.65300000000000002,48.25,{"$f":"VLOOKUP(B559,#REF!,3,FALSE)","v":{"$error":"#REF!"}}]
["Minia","Minia 6kA","LD4","OEZ:42404","LFE-63-4-300AC","Устройство защитного отключения","In 63 A, Ue AC 230/400 V, Idn 300 mA, 4-полюс, Inc 6 kA, тип AC","1 / -",0.36299999999999999,0.65300000000000002,58.239999999999995,{"$f":"VLOOKUP(B560,#REF!,3,FALSE)","v":{"$error":"#REF!"}}]
["Minia","Minia 6kA","LD4","OEZ:42405","LFE-80-4-300AC","Устройство защитного отключения","In 80 A, Ue AC 230/400 V, Idn 300 mA, 4-полюс, Inc 6 kA, тип AC","1 / -",0.36099999999999999,0.65300000000000002,69.39,{"$f":"VLOOKUP(B561,#REF!,3,FALSE)","v":{"$error":"#REF!"}}]
["Minia","Minia 6kA","LD4","OEZ:42406","LFE-40-4-500AC","Устройство защитного отключения","In 40 A, Ue AC 230/400 V, Idn 500 mA, 4-полюс, Inc 6 kA, тип AC","1 / -",0.36199999999999999,0.65300000000000002,63.269999999999996,{"$f":"VLOOKUP(B562,#REF!,3,FALSE)","v":{"$error":"#REF!"}}]
["Minia","Minia 6kA","LD4","OEZ:42407","LFE-63-4-500AC","Устройство защитного отключения","In 63 A, Ue AC 230/400 V, Idn 500 mA, 4-полюс, Inc 6 kA, тип AC","1 / -",0.36199999999999999,0.65300000000000002,63.86,{"$f":"VLOOKUP(B563,#REF!,3,FALSE)","v":{"$error":"#REF!"}}]
[null,null,null,"Level  4","OD-LT - Принадлежности"]
[null,null,null,"Level  5","PS-LT - Вспомогательные выключатели"]
["Minia","Minia 10kA","LD2","OEZ:42297","PS-LT-1100","Вспомогательный выключатель","1x нормально разомкнутый контакт, 1x нормально замкнутый контакт, для LTS, LTP, LVN, LFE, LFN, OLE, OLI, MSO, MSN","1 / 15",5.5E-2,0.124,7.8,{"$f":"VLOOKUP(B566,#REF!,3,FALSE)","v":{"$error":"#REF!"}}]
["Minia","Minia 10kA","LD2","OEZ:42300","PS-LT-1100-TE","Вспомогательный выключатель","1x нормально разомкнутый контакт, 1x нормально замкнутый контакт, кнопка тестирования, для LTS, LTP, LVN, LFE, LFN, OLE, OLI, MSO, MSN","1 / 15",7.0999999999999994E-2,0.124,9.73,{"$f":"VLOOKUP(B567,#REF!,3,FALSE)","v":{"$error":"#REF!"}}]
["Minia","Minia 10kA","LD2","OEZ:42303","PS-LT-1100-MN","Вспомогательный выключатель","1x нормально разомкнутый контакт, 1x нормально замкнутый контакт, для LTS, LTP, LVN, LFE, LFN, OLE, OLI, MSO, MSN","1 / 15",7.4999999999999997E-2,0.124,15.57,{"$f":"VLOOKUP(B568,#REF!,3,FALSE)","v":{"$error":"#REF!"}}]
["Minia","Minia 10kA","LD2","OEZ:42304","PS-LT-1100-MN-TE","Вспомогательный выключатель","1x нормально разомкнутый контакт, 1x нормально замкнутый контакт, кнопка тестирования, для LTS, LTP, LVN, LFE, LFN, OLE, OLI, MSO, MSN","1 / 15",6.9000000000000006E-2,0.124,18.680000000000003,{"$f":"VLOOKUP(B569,#REF!,3,FALSE)","v":{"$error":"#REF!"}}]
["Minia","Minia 10kA","LD2","OEZ:42299","PS-LT-2000","Вспомогательный выключатель","2x нормально разомкнутый контакт, для LTS, LTP, LVN, LFE, LFN, OLE, OLI, MSO, MSN","1 / 15",6.6000000000000003E-2,0.124,8.66,{"$f":"VLOOKUP(B570,#REF!,3,FALSE)","v":{"$error":"#REF!"}}]
["Minia","Minia 10kA","LD2","OEZ:42302","PS-LT-2000-TE","Вспомогательный выключатель","2x нормально разомкнутый контакт, кнопка тестирования, для LTS, LTP, LVN, LFE, LFN, OLE, OLI, MSO, MSN","1 / 15",6.8000000000000005E-2,0.124,10.82,{"$f":"VLOOKUP(B571,#REF!,3,FALSE)","v":{"$error":"#REF!"}}]
["Minia","Minia 10kA","LD2","OEZ:42298","PS-LT-0200","Вспомогательный выключатель","2x нормально замкнутый контакт, для LTS, LTP, LVN, LFE, LFN, OLE, OLI, MSO, MSN","1 / 15",6.6000000000000003E-2,0.124,8.66,{"$f":"VLOOKUP(B572,#REF!,3,FALSE)","v":{"$error":"#REF!"}}]
["Minia","Minia 10kA","LD2","OEZ:42301","PS-LT-0200-TE","Вспомогательный выключатель","2x нормально замкнутый контакт, кнопка тестирования, для LTS, LTP, LVN, LFE, LFN, OLE, OLI, MSO, MSN","1 / 15",7.0999999999999994E-2,0.124,10.82,{"$f":"VLOOKUP(B573,#REF!,3,FALSE)","v":{"$error":"#REF!"}}]
[null,null,null,"Level  5","SS-LT - Сигнализационные выключатели"]
["Minia","Minia 10kA","LD2","OEZ:42306","SS-LT-1100","Сигнализационный выключатель","1x нормально разомкнутый контакт, 1x нормально замкнутый контакт, для LTS, LTP, LVN, LFE, LFN, OLE, OLI, MSN","1 / 15",6.6000000000000003E-2,0.124,7.8,{"$f":"VLOOKUP(B575,#REF!,3,FALSE)","v":{"$error":"#REF!"}}]
["Minia","Minia 10kA","LD2","OEZ:42309","SS-LT-1100-TE-RE","Сигнализационный выключатель","1x нормально разомкнутый контакт, 1x нормально замкнутый контакт, кнопка тестирования, сброс, для LTS, LTP, LVN, LFE, LFN, OLE, OLI, MSN","1 / 15",7.1999999999999995E-2,0.124,10.5,{"$f":"VLOOKUP(B576,#REF!,3,FALSE)","v":{"$error":"#REF!"}}]
["Minia","Minia 10kA","LD2","OEZ:42307","SS-LT-2000","Сигнализационный выключатель","2x нормально разомкнутый контакт, для LTS, LTP, LVN, LFE, LFN, OLE, OLI, MSN","1 / 15",6.5000000000000002E-2,0.124,8.66,{"$f":"VLOOKUP(B577,#REF!,3,FALSE)","v":{"$error":"#REF!"}}]
["Minia","Minia 10kA","LD2","OEZ:42310","SS-LT-2000-TE-RE","Сигнализационный выключатель","2x нормально разомкнутый контакт, кнопка тестирования, сброс, для LTS, LTP, LVN, LFE, LFN, OLE, OLI, MSN","1 / 15",7.0999999999999994E-2,0.124,11.68,{"$f":"VLOOKUP(B578,#REF!,3,FALSE)","v":{"$error":"#REF!"}}]
["Minia","Minia 10kA","LD2","OEZ:42308","SS-LT-0200","Сигнализационный выключатель","2x нормально замкнутый контакт, для LTS, LTP, LVN, LFE, LFN, OLE, OLI, MSN","1 / 15",6.5000000000000002E-2,0.124,8.66,{"$f":"VLOOKUP(B579,#REF!,3,FALSE)","v":{"$error":"#REF!"}}]
["Minia","Minia 10kA","LD2","OEZ:42311","SS-LT-0200-TE-RE","Сигнализационный выключатель","2x нормально замкнутый контакт, кнопка тестирования, сброс, для LTS, LTP, LVN, LFE, LFN, OLE, OLI, MSN","1 / 15",6.8000000000000005E-2,0.124,11.68,{"$f":"VLOOKUP(B580,#REF!,3,FALSE)","v":{"$error":"#REF!"}}]
[null,null,null,"Level  5","SV-LT - независимые расцепители"]
["Minia","Minia 10kA","LD2","OEZ:42312","SV-LT-X060","Независимый расцепитель","Uc AC/DC 24 - 60 V, для LTS, LTP, LVN, LFE, LFN, OLE, OLI, MSN","1 / -",0.106,0.255,20.520000000000003,{"$f":"VLOOKUP(B582,#REF!,3,FALSE)","v":{"$error":"#REF!"}}]
["Minia","Minia 10kA","LD2","OEZ:42313","SV-LT-X400","Независимый расцепитель","Uc AC 110 - 415 V / DC 110 V, для LTS, LTP, LVN, LFE, LFN, OLE, OLI, MSN","1 / -",9.8000000000000004E-2,0.255,20.580000000000002,{"$f":"VLOOKUP(B583,#REF!,3,FALSE)","v":{"$error":"#REF!"}}]
[null,null,null,"Level  5","SP-LT - Расцепители минимального напряжения"]
["Minia","Minia 10kA","LD2","OEZ:42315","SP-LT-A230","Расцепитель минимального напряжения","Uc AC 230 V, для LTS, LTP, LVN, LFE, LFN, OLE, OLI, MSN","1 / -",0.109,0.255,44.879999999999995,{"$f":"VLOOKUP(B585,#REF!,3,FALSE)","v":{"$error":"#REF!"}}]
["Minia","Minia 10kA","LD2","OEZ:42317","SP-LT-A230-2000","Расцепитель минимального напряжения","Uc AC 230 V, 2x нормально разомкнутый контакт, для LTS, LTP, LVN, LFE, LFN, OLE, OLI, MSN","1 / -",0.123,0.255,53.53,{"$f":"VLOOKUP(B586,#REF!,3,FALSE)","v":{"$error":"#REF!"}}]
["Minia","Minia 10kA","LD2","OEZ:42319","SP-LT-D024","Расцепитель минимального напряжения","Uc DC 24 V, для LTS, LTP, LVN, LFE, LFN, OLE, OLI, MSN","1 / -",0.113,0.255,60.089999999999996,{"$f":"VLOOKUP(B587,#REF!,3,FALSE)","v":{"$error":"#REF!"}}]
["Minia","Minia 10kA","LD2","OEZ:42321","SP-LT-D024-2000","Расцепитель минимального напряжения","Uc DC 24 V, 2x нормально разомкнутый контакт, для LTS, LTP, LVN, LFE, LFN, OLE, OLI, MSN","1 / -",0.128,0.255,68.710000000000008,{"$f":"VLOOKUP(B588,#REF!,3,FALSE)","v":{"$error":"#REF!"}}]
["Minia","Minia 10kA","LD2","OEZ:42320","SP-LT-D110","Расцепитель минимального напряжения","Uc DC 110 V, для LTS, LTP, LVN, LFE, LFN, OLE, OLI, MSN","1 / -",0.105,0.255,44.79,{"$f":"VLOOKUP(B589,#REF!,3,FALSE)","v":{"$error":"#REF!"}}]
["Minia","Minia 10kA","LD2","OEZ:42322","SP-LT-D110-2000","Расцепитель минимального напряжения","Uc DC 110 V, 2x нормально разомкнутый контакт, для LTS, LTP, LVN, LFE, LFN, OLE, OLI, MSN","1 / -",0.11700000000000001,0.255,53.449999999999996,{"$f":"VLOOKUP(B590,#REF!,3,FALSE)","v":{"$error":"#REF!"}}]
[null,null,null,"Level  5","OD-LT - Остальные принадлежности"]
["Minia","Minia 10kA","LD2","OEZ:42325","OD-LT-VU02","Вставка для запирания","для LFE, LFN, MSO","1 / 10",4.0000000000000001E-3,6.0000000000000001E-3,1.07,{"$f":"VLOOKUP(B592,#REF!,3,FALSE)","v":{"$error":"#REF!"}}]
[null,null,null,"Level  3","LFN - Устройства защитного отключения (10 kА)"]
[null,null,null,"Level  4","LFN-_-_-_AC - Устройства защитного отключения, тип AC"]
["Minia","Minia 10kA","LD5","OEZ:42408","LFN-16-2-010AC","Устройство защитного отключения","In 16 A, Ue AC 230/400 V, Idn 10 mA, 2-полюс, Inc 10 kA, тип AC","1 / -",0.215,0.371,74.08,{"$f":"VLOOKUP(B595,#REF!,3,FALSE)","v":{"$error":"#REF!"}}]
["Minia","Minia 10kA","LD5","OEZ:42409","LFN-25-2-030AC","Устройство защитного отключения","In 25 A, Ue AC 230/400 V, Idn 30 mA, 2-полюс, Inc 10 kA, тип AC","1 / -",0.20599999999999999,0.371,36.019999999999996,{"$f":"VLOOKUP(B596,#REF!,3,FALSE)","v":{"$error":"#REF!"}}]
["Minia","Minia 10kA","LD5","OEZ:42410","LFN-40-2-030AC","Устройство защитного отключения","In 40 A, Ue AC 230/400 V, Idn 30 mA, 2-полюс, Inc 10 kA, тип AC","1 / -",0.20499999999999999,0.371,41.68,{"$f":"VLOOKUP(B597,#REF!,3,FALSE)","v":{"$error":"#REF!"}}]
["Minia","Minia 10kA","LD5","OEZ:42411","LFN-63-2-030AC","Устройство защитного отключения","In 63 A, Ue AC 230/400 V, Idn 30 mA, 2-полюс, Inc 10 kA, тип AC","1 / -",0.22,0.371,66.69,{"$f":"VLOOKUP(B598,#REF!,3,FALSE)","v":{"$error":"#REF!"}}]
["Minia","Minia 10kA","LD5","OEZ:42412","LFN-25-2-100AC","Устройство защитного отключения","In 25 A, Ue AC 230/400 V, Idn 100 mA, 2-полюс, Inc 10 kA, тип AC","1 / -",0.19500000000000001,0.371,44.489999999999995,{"$f":"VLOOKUP(B599,#REF!,3,FALSE)","v":{"$error":"#REF!"}}]
["Minia","Minia 10kA","LD5","OEZ:42413","LFN-40-2-100AC","Устройство защитного отключения","In 40 A, Ue AC 230/400 V, Idn 100 mA, 2-полюс, Inc 10 kA, тип AC","1 / -",0.19500000000000001,0.371,44.44,{"$f":"VLOOKUP(B600,#REF!,3,FALSE)","v":{"$error":"#REF!"}}]
["Minia","Minia 10kA","LD5","OEZ:42414","LFN-63-2-100AC","Устройство защитного отключения","In 63 A, Ue AC 230/400 V, Idn 100 mA, 2-полюс, Inc 10 kA, тип AC","1 / -",0.20699999999999999,0.371,71.050000000000011,{"$f":"VLOOKUP(B601,#REF!,3,FALSE)","v":{"$error":"#REF!"}}]
["Minia","Minia 10kA","LD5","OEZ:42415","LFN-25-2-300AC","Устройство защитного отключения","In 25 A, Ue AC 230/400 V, Idn 300 mA, 2-полюс, Inc 10 kA, тип AC","1 / -",0.20699999999999999,0.371,42.629999999999995,{"$f":"VLOOKUP(B602,#REF!,3,FALSE)","v":{"$error":"#REF!"}}]
["Minia","Minia 10kA","LD5","OEZ:42416","LFN-40-2-300AC","Устройство защитного отключения","In 40 A, Ue AC 230/400 V, Idn 300 mA, 2-полюс, Inc 10 kA, тип AC","1 / -",0.19500000000000001,0.371,43.16,{"$f":"VLOOKUP(B603,#REF!,3,FALSE)","v":{"$error":"#REF!"}}]
["Minia","Minia 10kA","LD5","OEZ:42417","LFN-63-2-300AC","Устройство защитного отключения","In 63 A, Ue AC 230/400 V, Idn 300 mA, 2-полюс, Inc 10 kA, тип AC","1 / -",0.20399999999999999,0.371,69.070000000000007,{"$f":"VLOOKUP(B604,#REF!,3,FALSE)","v":{"$error":"#REF!"}}]
["Minia","Minia 10kA","LD5","OEZ:42418","LFN-25-4-030AC","Устройство защитного отключения","In 25 A, Ue AC 230/400 V, Idn 30 mA, 4-полюс, Inc 10 kA, тип AC","1 / -",0.36,0.65300000000000002,49.269999999999996,{"$f":"VLOOKUP(B605,#REF!,3,FALSE)","v":{"$error":"#REF!"}}]
["Minia","Minia 10kA","LD5","OEZ:42419","LFN-40-4-030AC","Устройство защитного отключения","In 40 A, Ue AC 230/400 V, Idn 30 mA, 4-полюс, Inc 10 kA, тип AC","1 / -",0.36499999999999999,0.65300000000000002,49.269999999999996,{"$f":"VLOOKUP(B606,#REF!,3,FALSE)","v":{"$error":"#REF!"}}]
["Minia","Minia 10kA","LD5","OEZ:42420","LFN-63-4-030AC","Устройство защитного отключения","In 63 A, Ue AC 230/400 V, Idn 30 mA, 4-полюс, Inc 10 kA, тип AC","1 / -",0.39800000000000002,0.65300000000000002,66.31,{"$f":"VLOOKUP(B607,#REF!,3,FALSE)","v":{"$error":"#REF!"}}]
["Minia","Minia 10kA","LD5","OEZ:42421","LFN-80-4-030AC","Устройство защитного отключения","In 80 A, Ue AC 230/400 V, Idn 30 mA, 4-полюс, Inc 10 kA, тип AC","1 / -",0.39900000000000002,0.65300000000000002,74.190000000000012,{"$f":"VLOOKUP(B608,#REF!,3,FALSE)","v":{"$error":"#REF!"}}]
["Minia","Minia 10kA","LD5","OEZ:42422","LFN-25-4-100AC","Устройство защитного отключения","In 25 A, Ue AC 230/400 V, Idn 100 mA, 4-полюс, Inc 10 kA, тип AC","1 / -",0.33500000000000002,0.65300000000000002,55.37,{"$f":"VLOOKUP(B609,#REF!,3,FALSE)","v":{"$error":"#REF!"}}]
["Minia","Minia 10kA","LD5","OEZ:42423","LFN-40-4-100AC","Устройство защитного отключения","In 40 A, Ue AC 230/400 V, Idn 100 mA, 4-полюс, Inc 10 kA, тип AC","1 / -",0.33500000000000002,0.65300000000000002,55.37,{"$f":"VLOOKUP(B610,#REF!,3,FALSE)","v":{"$error":"#REF!"}}]
["Minia","Minia 10kA","LD5","OEZ:42424","LFN-63-4-100AC","Устройство защитного отключения","In 63 A, Ue AC 230/400 V, Idn 100 mA, 4-полюс, Inc 10 kA, тип AC","1 / -",0.36699999999999999,0.65300000000000002,66.040000000000006,{"$f":"VLOOKUP(B611,#REF!,3,FALSE)","v":{"$error":"#REF!"}}]
["Minia","Minia 10kA","LD5","OEZ:42425","LFN-25-4-300AC","Устройство защитного отключения","In 25 A, Ue AC 230/400 V, Idn 300 mA, 4-полюс, Inc 10 kA, тип AC","1 / -",0.33600000000000002,0.65300000000000002,51.4,{"$f":"VLOOKUP(B612,#REF!,3,FALSE)","v":{"$error":"#REF!"}}]
["Minia","Minia 10kA","LD5","OEZ:42426","LFN-40-4-300AC","Устройство защитного отключения","In 40 A, Ue AC 230/400 V, Idn 300 mA, 4-полюс, Inc 10 kA, тип AC","1 / -",0.33500000000000002,0.65300000000000002,51.4,{"$f":"VLOOKUP(B613,#REF!,3,FALSE)","v":{"$error":"#REF!"}}]
["Minia","Minia 10kA","LD5","OEZ:42427","LFN-63-4-300AC","Устройство защитного отключения","In 63 A, Ue AC 230/400 V, Idn 300 mA, 4-полюс, Inc 10 kA, тип AC","1 / -",0.36299999999999999,0.65300000000000002,63.23,{"$f":"VLOOKUP(B614,#REF!,3,FALSE)","v":{"$error":"#REF!"}}]
["Minia","Minia 10kA","LD5","OEZ:42428","LFN-80-4-300AC","Устройство защитного отключения","In 80 A, Ue AC 230/400 V, Idn 300 mA, 4-полюс, Inc 10 kA, тип AC","1 / -",0.36099999999999999,0.65300000000000002,74.22,{"$f":"VLOOKUP(B615,#REF!,3,FALSE)","v":{"$error":"#REF!"}}]
["Minia","Minia 10kA","LD5","OEZ:42429","LFN-40-4-500AC","Устройство защитного отключения","In 40 A, Ue AC 230/400 V, Idn 500 mA, 4-полюс, Inc 10 kA, тип AC","1 / -",0.36199999999999999,0.65300000000000002,69.84,{"$f":"VLOOKUP(B616,#REF!,3,FALSE)","v":{"$error":"#REF!"}}]
["Minia","Minia 10kA","LD5","OEZ:42430","LFN-63-4-500AC","Устройство защитного отключения","In 63 A, Ue AC 230/400 V, Idn 500 mA, 4-полюс, Inc 10 kA, тип AC","1 / -",0.36199999999999999,0.65300000000000002,69.84,{"$f":"VLOOKUP(B617,#REF!,3,FALSE)","v":{"$error":"#REF!"}}]
[null,null,null,"Level  4","LFN-_-_-_A - Устройства защитного отключения, тип A"]
["Minia","Minia 10kA","LD5","OEZ:42441","LFN-16-2-010A","Устройство защитного отключения","In 16 A, Ue AC 230/400 V, Idn 10mA, 2-полюс, Inc 10 kA, тип A","1 / -",0.217,0.371,67.320000000000007,{"$f":"VLOOKUP(B619,#REF!,3,FALSE)","v":{"$error":"#REF!"}}]
["Minia","Minia 10kA","LD5","OEZ:42442","LFN-25-2-030A","Устройство защитного отключения","In 25 A, Ue AC 230/400 V, Idn 30 mA, 2-полюс, Inc 10 kA, тип A","1 / -",0.20300000000000001,0.371,49.71,{"$f":"VLOOKUP(B620,#REF!,3,FALSE)","v":{"$error":"#REF!"}}]
["Minia","Minia 10kA","LD5","OEZ:42443","LFN-40-2-030A","Устройство защитного отключения","In 40 A, Ue AC 230/400 V, Idn 30 mA, 2-полюс, Inc 10 kA, тип A","1 / -",0.214,0.371,50.39,{"$f":"VLOOKUP(B621,#REF!,3,FALSE)","v":{"$error":"#REF!"}}]
["Minia","Minia 10kA","LD5","OEZ:42444","LFN-63-2-030A","Устройство защитного отключения","In 63 A, Ue AC 230/400 V, Idn 30 mA, 2-полюс, Inc 10 kA, тип A","1 / -",0.22500000000000001,0.371,90.67,{"$f":"VLOOKUP(B622,#REF!,3,FALSE)","v":{"$error":"#REF!"}}]
["Minia","Minia 10kA","LD5","OEZ:42445","LFN-25-2-100A","Устройство защитного отключения","In 25 A, Ue AC 230/400 V, Idn 100 mA, 2-полюс, Inc 10 kA, тип A","1 / -",0.19700000000000001,0.371,50.39,{"$f":"VLOOKUP(B623,#REF!,3,FALSE)","v":{"$error":"#REF!"}}]
["Minia","Minia 10kA","LD5","OEZ:42446","LFN-40-2-100A","Устройство защитного отключения","In 40 A, Ue AC 230/400 V, Idn 100 mA, 2-полюс, Inc 10 kA, тип A","1 / -",0.20200000000000001,0.371,51.79,{"$f":"VLOOKUP(B624,#REF!,3,FALSE)","v":{"$error":"#REF!"}}]
["Minia","Minia 10kA","LD5","OEZ:42447","LFN-63-2-100A","Устройство защитного отключения","In 63 A, Ue AC 230/400 V, Idn 100 mA, 2-полюс, Inc 10 kA, тип A","1 / -",0.2,0.371,88.070000000000007,{"$f":"VLOOKUP(B625,#REF!,3,FALSE)","v":{"$error":"#REF!"}}]
["Minia","Minia 10kA","LD5","OEZ:42448","LFN-25-2-300A","Устройство защитного отключения","In 25 A, Ue AC 230/400 V, Idn 300 mA, 2-полюс, Inc 10 kA, тип A","1 / -",0.19600000000000001,0.371,49.71,{"$f":"VLOOKUP(B626,#REF!,3,FALSE)","v":{"$error":"#REF!"}}]
["Minia","Minia 10kA","LD5","OEZ:42449","LFN-40-2-300A","Устройство защитного отключения","In 40 A, Ue AC 230/400 V, Idn 300 mA, 2-полюс, Inc 10 kA, тип A","1 / -",0.19500000000000001,0.371,50.39,{"$f":"VLOOKUP(B627,#REF!,3,FALSE)","v":{"$error":"#REF!"}}]
["Minia","Minia 10kA","LD5","OEZ:42450","LFN-63-2-300A","Устройство защитного отключения","In 63 A, Ue AC 230/400 V, Idn 300 mA, 2-полюс, Inc 10 kA, тип A","1 / -",0.20899999999999999,0.371,80.600000000000009,{"$f":"VLOOKUP(B628,#REF!,3,FALSE)","v":{"$error":"#REF!"}}]
["Minia","Minia 10kA","LD5","OEZ:42451","LFN-25-4-030A","Устройство защитного отключения","In 25 A, Ue AC 230/400 V, Idn 30 mA, 4-полюс, Inc 10 kA, тип A","1 / -",0.36199999999999999,0.65300000000000002,62.55,{"$f":"VLOOKUP(B629,#REF!,3,FALSE)","v":{"$error":"#REF!"}}]
["Minia","Minia 10kA","LD5","OEZ:42452","LFN-40-4-030A","Устройство защитного отключения","In 40 A, Ue AC 230/400 V, Idn 30 mA, 4-полюс, Inc 10 kA, тип A","1 / -",0.36099999999999999,0.65300000000000002,62.55,{"$f":"VLOOKUP(B630,#REF!,3,FALSE)","v":{"$error":"#REF!"}}]
["Minia","Minia 10kA","LD5","OEZ:42453","LFN-63-4-030A","Устройство защитного отключения","In 63 A, Ue AC 230/400 V, Idn 30 mA, 4-полюс, Inc 10 kA, тип A","1 / -",0.39900000000000002,0.65300000000000002,91.03,{"$f":"VLOOKUP(B631,#REF!,3,FALSE)","v":{"$error":"#REF!"}}]
["Minia","Minia 10kA","LD5","OEZ:42454","LFN-80-4-030A","Устройство защитного отключения","In 80 A, Ue AC 230/400 V, Idn 30 mA, 4-полюс, Inc 10 kA, тип A","1 / -",0.39900000000000002,0.65300000000000002,216.85,{"$f":"VLOOKUP(B632,#REF!,3,FALSE)","v":{"$error":"#REF!"}}]
["Minia","Minia 10kA","LD5","OEZ:42455","LFN-25-4-100A","Устройство защитного отключения","In 25 A, Ue AC 230/400 V, Idn 100 mA, 4-полюс, Inc 10 kA, тип A","1 / -",0.36899999999999999,0.65300000000000002,62.55,{"$f":"VLOOKUP(B633,#REF!,3,FALSE)","v":{"$error":"#REF!"}}]
["Minia","Minia 10kA","LD5","OEZ:42456","LFN-40-4-100A","Устройство защитного отключения","In 40 A, Ue AC 230/400 V, Idn 100 mA, 4-полюс, Inc 10 kA, тип A","1 / -",0.36699999999999999,0.65300000000000002,62.55,{"$f":"VLOOKUP(B634,#REF!,3,FALSE)","v":{"$error":"#REF!"}}]
["Minia","Minia 10kA","LD5","OEZ:42457","LFN-63-4-100A","Устройство защитного отключения","In 63 A, Ue AC 230/400 V, Idn 100 mA, 4-полюс, Inc 10 kA, тип A","1 / -",0.372,0.65300000000000002,91.03,{"$f":"VLOOKUP(B635,#REF!,3,FALSE)","v":{"$error":"#REF!"}}]
["Minia","Minia 10kA","LD5","OEZ:42458","LFN-25-4-300A","Устройство защитного отключения","In 25 A, Ue AC 230/400 V, Idn 300 mA, 4-полюс, Inc 10 kA, тип A","1 / -",0.33600000000000002,0.65300000000000002,62.55,{"$f":"VLOOKUP(B636,#REF!,3,FALSE)","v":{"$error":"#REF!"}}]
["Minia","Minia 10kA","LD5","OEZ:42459","LFN-40-4-300A","Устройство защитного отключения","In 40 A, Ue AC 230/400 V, Idn 300 mA, 4-полюс, Inc 10 kA, тип A","1 / -",0.33800000000000002,0.65300000000000002,62.55,{"$f":"VLOOKUP(B637,#REF!,3,FALSE)","v":{"$error":"#REF!"}}]
["Minia","Minia 10kA","LD5","OEZ:42460","LFN-63-4-300A","Устройство защитного отключения","In 63 A, Ue AC 230/400 V, Idn 300 mA, 4-полюс, Inc 10 kA, тип A","1 / -",0.35799999999999998,0.65300000000000002,91.03,{"$f":"VLOOKUP(B638,#REF!,3,FALSE)","v":{"$error":"#REF!"}}]
["Minia","Minia 10kA","LD5","OEZ:42461","LFN-80-4-300A","Устройство защитного отключения","In 80 A, Ue AC 230/400 V, Idn 300 mA, 4-полюс, Inc 10 kA, тип A","1 / -",0.35799999999999998,0.65300000000000002,216.85,{"$f":"VLOOKUP(B639,#REF!,3,FALSE)","v":{"$error":"#REF!"}}]
["Minia","Minia 10kA","LD5","OEZ:42462","LFN-40-4-500A","Устройство защитного отключения","In 40 A, Ue AC 230/400 V, Idn 500 mA, 4-полюс, Inc 10 kA, тип A","1 / -",0.35,0.65300000000000002,62.55,{"$f":"VLOOKUP(B640,#REF!,3,FALSE)","v":{"$error":"#REF!"}}]
["Minia","Minia 10kA","LD5","OEZ:42463","LFN-63-4-500A","Устройство защитного отключения","In 63 A, Ue AC 230/400 V, Idn 500 mA, 4-полюс, Inc 10 kA, тип A","1 / -",0.36399999999999999,0.65300000000000002,91.03,{"$f":"VLOOKUP(B641,#REF!,3,FALSE)","v":{"$error":"#REF!"}}]
[null,null,null,"Level  4","LFN-_-_-_AC-G - Устройства защитного отключения, тип AC-G"]
["Minia","Minia 10kA","LD5","OEZ:42431","LFN-25-2-030AC-G","Устройство защитного отключения","In 25 A, Ue AC 230/400 V, Idn 30 mA, 2-полюс, Inc 10 kA, тип AC-G","1 / -",0.20599999999999999,0.371,126.78,{"$f":"VLOOKUP(B643,#REF!,3,FALSE)","v":{"$error":"#REF!"}}]
["Minia","Minia 10kA","LD5","OEZ:42432","LFN-40-2-030AC-G","Устройство защитного отключения","In 40 A, Ue AC 230/400 V, Idn 30 mA, 2-полюс, Inc 10 kA, тип AC-G","1 / -",0.20499999999999999,0.371,140.32,{"$f":"VLOOKUP(B644,#REF!,3,FALSE)","v":{"$error":"#REF!"}}]
["Minia","Minia 10kA","LD5","OEZ:42433","LFN-25-4-030AC-G","Устройство защитного отключения","In 25 A, Ue AC 230/400 V, Idn 30 mA, 4-полюс, Inc 10 kA, тип AC-G","1 / -",0.36,0.65300000000000002,96.28,{"$f":"VLOOKUP(B645,#REF!,3,FALSE)","v":{"$error":"#REF!"}}]
["Minia","Minia 10kA","LD5","OEZ:42434","LFN-40-4-030AC-G","Устройство защитного отключения","In 40 A, Ue AC 230/400 V, Idn 30 mA, 4-полюс, Inc 10 kA, тип AC-G","1 / -",0.36499999999999999,0.65300000000000002,96.28,{"$f":"VLOOKUP(B646,#REF!,3,FALSE)","v":{"$error":"#REF!"}}]
["Minia","Minia 10kA","LD5","OEZ:42435","LFN-63-4-030AC-G","Устройство защитного отключения","In 63 A, Ue AC 230/400 V, Idn 30 mA, 4-полюс, Inc 10 kA, тип AC-G","1 / -",0.39800000000000002,0.65300000000000002,128.22999999999999,{"$f":"VLOOKUP(B647,#REF!,3,FALSE)","v":{"$error":"#REF!"}}]
["Minia","Minia 10kA","LD5","OEZ:42437","LFN-25-4-100AC-G","Устройство защитного отключения","In 25 A, Ue AC 230/400 V, Idn 100 mA, 4-полюс, Inc 10 kA, тип AC-G","1 / -",0.33500000000000002,0.65300000000000002,96.28,{"$f":"VLOOKUP(B648,#REF!,3,FALSE)","v":{"$error":"#REF!"}}]
["Minia","Minia 10kA","LD5","OEZ:42438","LFN-40-4-100AC-G","Устройство защитного отключения","In 40 A, Ue AC 230/400 V, Idn 100 mA, 4-полюс, Inc 10 kA, тип AC-G","1 / -",0.33500000000000002,0.65300000000000002,96.28,{"$f":"VLOOKUP(B649,#REF!,3,FALSE)","v":{"$error":"#REF!"}}]
["Minia","Minia 10kA","LD5","OEZ:42439","LFN-63-4-100AC-G","Устройство защитного отключения","In 63 A, Ue AC 230/400 V, Idn 100 mA, 4-полюс, Inc 10 kA, тип AC-G","1 / -",0.36699999999999999,0.65300000000000002,140.04999999999998,{"$f":"VLOOKUP(B650,#REF!,3,FALSE)","v":{"$error":"#REF!"}}]
[null,null,null,"Level  4","LFN-_-_-_A-G - Устройства защитного отключения, тип A-G"]
["Minia","Minia 10kA","LD5","OEZ:42464","LFN-25-2-030A-G","Устройство защитного отключения","In 25 A, Ue AC 230/400 V, Idn 30 mA, 2-полюс, Inc 10 kA, тип A-G","1 / -",0.20300000000000001,0.371,140.32,{"$f":"VLOOKUP(B652,#REF!,3,FALSE)","v":{"$error":"#REF!"}}]
["Minia","Minia 10kA","LD5","OEZ:42465","LFN-40-2-030A-G","Устройство защитного отключения","In 40 A, Ue AC 230/400 V, Idn 30 mA, 2-полюс, Inc 10 kA, тип A-G","1 / -",0.214,0.371,153.95999999999998,{"$f":"VLOOKUP(B653,#REF!,3,FALSE)","v":{"$error":"#REF!"}}]
["Minia","Minia 10kA","LD5","OEZ:42466","LFN-25-4-030A-G","Устройство защитного отключения","In 25 A, Ue AC 230/400 V, Idn 30 mA, 4-полюс, Inc 10 kA, тип A-G","1 / -",0.36199999999999999,0.65300000000000002,167.82999999999998,{"$f":"VLOOKUP(B654,#REF!,3,FALSE)","v":{"$error":"#REF!"}}]
["Minia","Minia 10kA","LD5","OEZ:42467","LFN-40-4-030A-G","Устройство защитного отключения","In 40 A, Ue AC 230/400 V, Idn 30 mA, 4-полюс, Inc 10 kA, тип A-G","1 / -",0.36099999999999999,0.65300000000000002,193.01999999999998,{"$f":"VLOOKUP(B655,#REF!,3,FALSE)","v":{"$error":"#REF!"}}]
["Minia","Minia 10kA","LD5","OEZ:42468","LFN-63-4-030A-G","Устройство защитного отключения","In 63 A, Ue AC 230/400 V, Idn 30 mA, 4-полюс, Inc 10 kA, тип A-G","1 / -",0.39900000000000002,0.65300000000000002,219.07,{"$f":"VLOOKUP(B656,#REF!,3,FALSE)","v":{"$error":"#REF!"}}]
["Minia","Minia 10kA","LD5","OEZ:42469","LFN-80-4-030A-G","Устройство защитного отключения","In 80 A, Ue AC 230/400 V, Idn 30 mA, 4-полюс, Inc 10 kA, тип A-G","1 / -",0.39900000000000002,0.65300000000000002,316.86,{"$f":"VLOOKUP(B657,#REF!,3,FALSE)","v":{"$error":"#REF!"}}]
["Minia","Minia 10kA","LD5","OEZ:42470","LFN-25-4-100A-G","Устройство защитного отключения","In 25 A, Ue AC 230/400 V, Idn 100 mA, 4-полюс, Inc 10 kA, тип A-G","1 / -",0.36899999999999999,0.65300000000000002,129.88999999999999,{"$f":"VLOOKUP(B658,#REF!,3,FALSE)","v":{"$error":"#REF!"}}]
["Minia","Minia 10kA","LD5","OEZ:42471","LFN-40-4-100A-G","Устройство защитного отключения","In 40 A, Ue AC 230/400 V, Idn 100 mA, 4-полюс, Inc 10 kA, тип A-G","1 / -",0.36699999999999999,0.65300000000000002,149.26999999999998,{"$f":"VLOOKUP(B659,#REF!,3,FALSE)","v":{"$error":"#REF!"}}]
["Minia","Minia 10kA","LD5","OEZ:42472","LFN-63-4-100A-G","Устройство защитного отключения","In 63 A, Ue AC 230/400 V, Idn 100 mA, 4-полюс, Inc 10 kA, тип A-G","1 / -",0.372,0.65300000000000002,182.53,{"$f":"VLOOKUP(B660,#REF!,3,FALSE)","v":{"$error":"#REF!"}}]
["Minia","Minia 10kA","LD5","OEZ:42473","LFN-80-4-100A-G","Устройство защитного отключения","In 80 A, Ue AC 230/400 V, Idn 100 mA, 4-полюс, Inc 10 kA, тип A-G","1 / -",0.36699999999999999,0.65300000000000002,294.27,{"$f":"VLOOKUP(B661,#REF!,3,FALSE)","v":{"$error":"#REF!"}}]
[null,null,null,"Level  4","LFN-_-_-_A-S - Устройства защитного отключения, тип A-S"]
["Minia","Minia 10kA","LD5","OEZ:42474","LFN-40-4-300A-S","Устройство защитного отключения","In 40 A, Ue AC 230/400 V, Idn 300 mA, 4-полюс, Inc 10 kA, тип A-S","1 / -",0.40300000000000002,0.65300000000000002,108.67,{"$f":"VLOOKUP(B663,#REF!,3,FALSE)","v":{"$error":"#REF!"}}]
["Minia","Minia 10kA","LD5","OEZ:42475","LFN-63-4-300A-S","Устройство защитного отключения","In 63 A, Ue AC 230/400 V, Idn 300 mA, 4-полюс, Inc 10 kA, тип A-S","1 / -",0.40400000000000003,0.65300000000000002,138.78,{"$f":"VLOOKUP(B664,#REF!,3,FALSE)","v":{"$error":"#REF!"}}]
[null,null,null,"Level  4","OD-LT - Принадлежности"]
[null,null,null,"Level  5","PS-LT - Вспомогательные выключатели"]
["Minia","Minia 10kA","LD2","OEZ:42297","PS-LT-1100","Вспомогательный выключатель","1x нормально разомкнутый контакт, 1x нормально замкнутый контакт, для LTS, LTP, LVN, LFE, LFN, OLE, OLI, MSO, MSN","1 / 15",5.5E-2,0.124,7.8,{"$f":"VLOOKUP(B667,#REF!,3,FALSE)","v":{"$error":"#REF!"}}]
["Minia","Minia 10kA","LD2","OEZ:42300","PS-LT-1100-TE","Вспомогательный выключатель","1x нормально разомкнутый контакт, 1x нормально замкнутый контакт, кнопка тестирования, для LTS, LTP, LVN, LFE, LFN, OLE, OLI, MSO, MSN","1 / 15",7.0999999999999994E-2,0.124,9.73,{"$f":"VLOOKUP(B668,#REF!,3,FALSE)","v":{"$error":"#REF!"}}]
["Minia","Minia 10kA","LD2","OEZ:42303","PS-LT-1100-MN","Вспомогательный выключатель","1x нормально разомкнутый контакт, 1x нормально замкнутый контакт, для LTS, LTP, LVN, LFE, LFN, OLE, OLI, MSO, MSN","1 / 15",7.4999999999999997E-2,0.124,15.57,{"$f":"VLOOKUP(B669,#REF!,3,FALSE)","v":{"$error":"#REF!"}}]
["Minia","Minia 10kA","LD2","OEZ:42304","PS-LT-1100-MN-TE","Вспомогательный выключатель","1x нормально разомкнутый контакт, 1x нормально замкнутый контакт, кнопка тестирования, для LTS, LTP, LVN, LFE, LFN, OLE, OLI, MSO, MSN","1 / 15",6.9000000000000006E-2,0.124,18.680000000000003,{"$f":"VLOOKUP(B670,#REF!,3,FALSE)","v":{"$error":"#REF!"}}]
["Minia","Minia 10kA","LD2","OEZ:42299","PS-LT-2000","Вспомогательный выключатель","2x нормально разомкнутый контакт, для LTS, LTP, LVN, LFE, LFN, OLE, OLI, MSO, MSN","1 / 15",6.6000000000000003E-2,0.124,8.66,{"$f":"VLOOKUP(B671,#REF!,3,FALSE)","v":{"$error":"#REF!"}}]
["Minia","Minia 10kA","LD2","OEZ:42302","PS-LT-2000-TE","Вспомогательный выключатель","2x нормально разомкнутый контакт, кнопка тестирования, для LTS, LTP, LVN, LFE, LFN, OLE, OLI, MSO, MSN","1 / 15",6.8000000000000005E-2,0.124,10.82,{"$f":"VLOOKUP(B672,#REF!,3,FALSE)","v":{"$error":"#REF!"}}]
["Minia","Minia 10kA","LD2","OEZ:42298","PS-LT-0200","Вспомогательный выключатель","2x нормально замкнутый контакт, для LTS, LTP, LVN, LFE, LFN, OLE, OLI, MSO, MSN","1 / 15",6.6000000000000003E-2,0.124,8.66,{"$f":"VLOOKUP(B673,#REF!,3,FALSE)","v":{"$error":"#REF!"}}]
["Minia","Minia 10kA","LD2","OEZ:42301","PS-LT-0200-TE","Вспомогательный выключатель","2x нормально замкнутый контакт, кнопка тестирования, для LTS, LTP, LVN, LFE, LFN, OLE, OLI, MSO, MSN","1 / 15",7.0999999999999994E-2,0.124,10.82,{"$f":"VLOOKUP(B674,#REF!,3,FALSE)","v":{"$error":"#REF!"}}]
[null,null,null,"Level  5","SS-LT - Сигнализационные выключатели"]
["Minia","Minia 10kA","LD2","OEZ:42306","SS-LT-1100","Сигнализационный выключатель","1x нормально разомкнутый контакт, 1x нормально замкнутый контакт, для LTS, LTP, LVN, LFE, LFN, OLE, OLI, MSN","1 / 15",6.6000000000000003E-2,0.124,7.8,{"$f":"VLOOKUP(B676,#REF!,3,FALSE)","v":{"$error":"#REF!"}}]
["Minia","Minia 10kA","LD2","OEZ:42309","SS-LT-1100-TE-RE","Сигнализационный выключатель","1x нормально разомкнутый контакт, 1x нормально замкнутый контакт, кнопка тестирования, сброс, для LTS, LTP, LVN, LFE, LFN, OLE, OLI, MSN","1 / 15",7.1999999999999995E-2,0.124,10.5,{"$f":"VLOOKUP(B677,#REF!,3,FALSE)","v":{"$error":"#REF!"}}]
["Minia","Minia 10kA","LD2","OEZ:42307","SS-LT-2000","Сигнализационный выключатель","2x нормально разомкнутый контакт, для LTS, LTP, LVN, LFE, LFN, OLE, OLI, MSN","1 / 15",6.5000000000000002E-2,0.124,8.66,{"$f":"VLOOKUP(B678,#REF!,3,FALSE)","v":{"$error":"#REF!"}}]
["Minia","Minia 10kA","LD2","OEZ:42310","SS-LT-2000-TE-RE","Сигнализационный выключатель","2x нормально разомкнутый контакт, кнопка тестирования, сброс, для LTS, LTP, LVN, LFE, LFN, OLE, OLI, MSN","1 / 15",7.0999999999999994E-2,0.124,11.68,{"$f":"VLOOKUP(B679,#REF!,3,FALSE)","v":{"$error":"#REF!"}}]
["Minia","Minia 10kA","LD2","OEZ:42308","SS-LT-0200","Сигнализационный выключатель","2x нормально замкнутый контакт, для LTS, LTP, LVN, LFE, LFN, OLE, OLI, MSN","1 / 15",6.5000000000000002E-2,0.124,8.66,{"$f":"VLOOKUP(B680,#REF!,3,FALSE)","v":{"$error":"#REF!"}}]
["Minia","Minia 10kA","LD2","OEZ:42311","SS-LT-0200-TE-RE","Сигнализационный выключатель","2x нормально замкнутый контакт, кнопка тестирования, сброс, для LTS, LTP, LVN, LFE, LFN, OLE, OLI, MSN","1 / 15",6.8000000000000005E-2,0.124,11.68,{"$f":"VLOOKUP(B681,#REF!,3,FALSE)","v":{"$error":"#REF!"}}]
[null,null,null,"Level  5","SV-LT - независимые расцепители"]
["Minia","Minia 10kA","LD2","OEZ:42312","SV-LT-X060","Независимый расцепитель","Uc AC/DC 24 - 60 V, для LTS, LTP, LVN, LFE, LFN, OLE, OLI, MSN","1 / -",0.106,0.255,20.520000000000003,{"$f":"VLOOKUP(B683,#REF!,3,FALSE)","v":{"$error":"#REF!"}}]
["Minia","Minia 10kA","LD2","OEZ:42313","SV-LT-X400","Независимый расцепитель","Uc AC 110 - 415 V / DC 110 V, для LTS, LTP, LVN, LFE, LFN, OLE, OLI, MSN","1 / -",9.8000000000000004E-2,0.255,20.580000000000002,{"$f":"VLOOKUP(B684,#REF!,3,FALSE)","v":{"$error":"#REF!"}}]
[null,null,null,"Level  5","SP-LT - Расцепители минимального напряжения"]
["Minia","Minia 10kA","LD2","OEZ:42315","SP-LT-A230","Расцепитель минимального напряжения","Uc AC 230 V, для LTS, LTP, LVN, LFE, LFN, OLE, OLI, MSN","1 / -",0.109,0.255,44.879999999999995,{"$f":"VLOOKUP(B686,#REF!,3,FALSE)","v":{"$error":"#REF!"}}]
["Minia","Minia 10kA","LD2","OEZ:42317","SP-LT-A230-2000","Расцепитель минимального напряжения","Uc AC 230 V, 2x нормально разомкнутый контакт, для LTS, LTP, LVN, LFE, LFN, OLE, OLI, MSN","1 / -",0.123,0.255,53.53,{"$f":"VLOOKUP(B687,#REF!,3,FALSE)","v":{"$error":"#REF!"}}]
["Minia","Minia 10kA","LD2","OEZ:42319","SP-LT-D024","Расцепитель минимального напряжения","Uc DC 24 V, для LTS, LTP, LVN, LFE, LFN, OLE, OLI, MSN","1 / -",0.113,0.255,60.089999999999996,{"$f":"VLOOKUP(B688,#REF!,3,FALSE)","v":{"$error":"#REF!"}}]
["Minia","Minia 10kA","LD2","OEZ:42321","SP-LT-D024-2000","Расцепитель минимального напряжения","Uc DC 24 V, 2x нормально разомкнутый контакт, для LTS, LTP, LVN, LFE, LFN, OLE, OLI, MSN","1 / -",0.128,0.255,68.710000000000008,{"$f":"VLOOKUP(B689,#REF!,3,FALSE)","v":{"$error":"#REF!"}}]
["Minia","Minia 10kA","LD2","OEZ:42320","SP-LT-D110","Расцепитель минимального напряжения","Uc DC 110 V, для LTS, LTP, LVN, LFE, LFN, OLE, OLI, MSN","1 / -",0.105,0.255,44.79,{"$f":"VLOOKUP(B690,#REF!,3,FALSE)","v":{"$error":"#REF!"}}]
["Minia","Minia 10kA","LD2","OEZ:42322","SP-LT-D110-2000","Расцепитель минимального напряжения","Uc DC 110 V, 2x нормально разомкнутый контакт, для LTS, LTP, LVN, LFE, LFN, OLE, OLI, MSN","1 / -",0.11700000000000001,0.255,53.449999999999996,{"$f":"VLOOKUP(B691,#REF!,3,FALSE)","v":{"$error":"#REF!"}}]
[null,null,null,"Level  5","OD-LT - Остальные принадлежности"]
["Minia","Minia 10kA","LD2","OEZ:42325","OD-LT-VU02","Вставка для запирания","для LFE, LFN, MSO","1 / 10",4.0000000000000001E-3,6.0000000000000001E-3,1.07,{"$f":"VLOOKUP(B693,#REF!,3,FALSE)","v":{"$error":"#REF!"}}]
[null,null,null,"Level  3","OFI - Устройства защитного отключения до 125 A; 10 kA"]
[null,null,null,"Level  4","OFI-_-_-_AC - Устройства защитного отключения, тип AC"]
["Minia","Minia 10kA","LD5","OEZ:36819","OFI-100-4-030AC","Устройство защитного отключения","In 100 A, Ue AC 230/400 V, Idn 30 mA, 4-полюс, Inc 10 kA, тип AC","1 / -",0.54700000000000004,1.1499999999999999,130.66,{"$f":"VLOOKUP(B696,#REF!,3,FALSE)","v":{"$error":"#REF!"}}]
["Minia","Minia 10kA","LD5","OEZ:36823","OFI-125-4-030AC","Устройство защитного отключения","In 125 A, Ue AC 230/400 V, Idn 30 mA, 4-полюс, Inc 10 kA, тип AC","1 / -",0.54100000000000004,1.1499999999999999,402.78,{"$f":"VLOOKUP(B697,#REF!,3,FALSE)","v":{"$error":"#REF!"}}]
["Minia","Minia 10kA","LD5","OEZ:36820","OFI-100-4-100AC","Устройство защитного отключения","In 100 A, Ue AC 230/400 V, Idn 100 mA, 4-полюс, Inc 10 kA, тип AC","1 / -",0.50900000000000001,1.1499999999999999,130.78,{"$f":"VLOOKUP(B698,#REF!,3,FALSE)","v":{"$error":"#REF!"}}]
["Minia","Minia 10kA","LD5","OEZ:36824","OFI-125-4-100AC","Устройство защитного отключения","In 125 A, Ue AC 230/400 V, Idn 100 mA, 4-полюс, Inc 10 kA, тип AC","1 / -",0.51700000000000002,1.1499999999999999,402.78,{"$f":"VLOOKUP(B699,#REF!,3,FALSE)","v":{"$error":"#REF!"}}]
["Minia","Minia 10kA","LD5","OEZ:36821","OFI-100-4-300AC","Устройство защитного отключения","In 100 A, Ue AC 230/400 V, Idn 300 mA, 4-полюс, Inc 10 kA, тип AC","1 / -",0.52200000000000002,1.1499999999999999,122.51,{"$f":"VLOOKUP(B700,#REF!,3,FALSE)","v":{"$error":"#REF!"}}]
["Minia","Minia 10kA","LD5","OEZ:36825","OFI-125-4-300AC","Устройство защитного отключения","In 125 A, Ue AC 230/400 V, Idn 300 mA, 4-полюс, Inc 10 kA, тип AC","1 / -",0.51700000000000002,1.1499999999999999,336.83,{"$f":"VLOOKUP(B701,#REF!,3,FALSE)","v":{"$error":"#REF!"}}]
["Minia","Minia 10kA","LD5","OEZ:36822","OFI-100-4-500AC","Устройство защитного отключения","In 100 A, Ue AC 230/400 V, Idn 500 mA, 4-полюс, Inc 10 kA, тип AC","1 / -",0.51600000000000001,1.1499999999999999,97.34,{"$f":"VLOOKUP(B702,#REF!,3,FALSE)","v":{"$error":"#REF!"}}]
["Minia","Minia 10kA","LD5","OEZ:36826","OFI-125-4-500AC","Устройство защитного отключения","In 125 A, Ue AC 230/400 V, Idn 500 mA, 4-полюс, Inc 10 kA, тип AC","1 / -",0.50900000000000001,1.1499999999999999,319.94,{"$f":"VLOOKUP(B703,#REF!,3,FALSE)","v":{"$error":"#REF!"}}]
[null,null,null,"Level  4","OFI-_-_-_A - Устройства защитного отключения, тип A"]
["Minia","Minia 10kA","LD5","OEZ:36831","OFI-100-4-030A","Устройство защитного отключения","In 100 A, Ue AC 230/400 V, Idn 30 mA, 4-полюс, Inc 10 kA, тип A","1 / -",0.55400000000000005,1.1499999999999999,205.04999999999998,{"$f":"VLOOKUP(B705,#REF!,3,FALSE)","v":{"$error":"#REF!"}}]
["Minia","Minia 10kA","LD5","OEZ:36835","OFI-125-4-030A","Устройство защитного отключения","In 125 A, Ue AC 230/400 V, Idn 30 mA, 4-полюс, Inc 10 kA, тип A","1 / -",0.55600000000000005,1.1499999999999999,611.05999999999995,{"$f":"VLOOKUP(B706,#REF!,3,FALSE)","v":{"$error":"#REF!"}}]
["Minia","Minia 10kA","LD5","OEZ:36832","OFI-100-4-100A","Устройство защитного отключения","In 100 A, Ue AC 230/400 V, Idn 100 mA, 4-полюс, Inc 10 kA, тип A","1 / -",0.51800000000000002,1.1499999999999999,195.26999999999998,{"$f":"VLOOKUP(B707,#REF!,3,FALSE)","v":{"$error":"#REF!"}}]
["Minia","Minia 10kA","LD5","OEZ:36836","OFI-125-4-100A","Устройство защитного отключения","In 125 A, Ue AC 230/400 V, Idn 100 mA, 4-полюс, Inc 10 kA, тип A","1 / -",0.50800000000000001,1.1499999999999999,671.62,{"$f":"VLOOKUP(B708,#REF!,3,FALSE)","v":{"$error":"#REF!"}}]
["Minia","Minia 10kA","LD5","OEZ:36833","OFI-100-4-300A","Устройство защитного отключения","In 100 A, Ue AC 230/400 V, Idn 300 mA, 4-полюс, Inc 10 kA, тип A","1 / -",0.53200000000000003,1.1499999999999999,193.07999999999998,{"$f":"VLOOKUP(B709,#REF!,3,FALSE)","v":{"$error":"#REF!"}}]
["Minia","Minia 10kA","LD5","OEZ:36837","OFI-125-4-300A","Устройство защитного отключения","In 125 A, Ue AC 230/400 V, Idn 300 mA, 4-полюс, Inc 10 kA, тип A","1 / -",0.52300000000000002,1.1499999999999999,427.77,{"$f":"VLOOKUP(B710,#REF!,3,FALSE)","v":{"$error":"#REF!"}}]
["Minia","Minia 10kA","LD5","OEZ:36834","OFI-100-4-500A","Устройство защитного отключения","In 100 A, Ue AC 230/400 V, Idn 500 mA, 4-полюс, Inc 10 kA, тип A","1 / -",0.51900000000000002,1.1499999999999999,469.18,{"$f":"VLOOKUP(B711,#REF!,3,FALSE)","v":{"$error":"#REF!"}}]
["Minia","Minia 10kA","LD5","OEZ:36838","OFI-125-4-500A","Устройство защитного отключения","In 125 A, Ue AC 230/400 V, Idn 500 mA, 4-полюс, Inc 10 kA, тип A","1 / -",0.50700000000000001,1.1499999999999999,482.65999999999997,{"$f":"VLOOKUP(B712,#REF!,3,FALSE)","v":{"$error":"#REF!"}}]
[null,null,null,"Level  4","OD-OF - Принадлежности"]
[null,null,null,"Level  5","PS-OF - Вспомогательные выключатели"]
["Minia","Minia 10kA","LD5","OEZ:36840","PS-OF125-1100","Вспомогательный выключатель","1x нормально разомкнутый контакт, 1x нормально замкнутый контакт, для OFI-100-.., OFI-125-..","1 / -",0.05,0.13300000000000001,31.75,{"$f":"VLOOKUP(B715,#REF!,3,FALSE)","v":{"$error":"#REF!"}}]
[null,null,null,"Level  3","OLE - Устройства защитного отключения с максимальной токовой защитой 6kA"]
[null,null,null,"Level  4","OLE-_-1N-_AC - Устройства защитного отключения с максимальной токовой защитой, тип AC"]
["Minia","Minia 6kA","LD4","OEZ:38313","OLE-6B-1N-030AC","Устройство защитного отключения с максимальной токовой защитой","In 6 A, Ue AC 230 V, характеристика B, Idn 30 mA, 1+N-полюс, Icn 6 kA, тип AC","1 / -",0.27200000000000002,0.27,39.989999999999995,{"$f":"VLOOKUP(B718,#REF!,3,FALSE)","v":{"$error":"#REF!"}}]
["Minia","Minia 6kA","LD4","OEZ:38314","OLE-10B-1N-030AC","Устройство защитного отключения с максимальной токовой защитой","In 10 A, Ue AC 230 V, характеристика B, Idn 30 mA, 1+N-полюс, Icn 6 kA, тип AC","1 / -",0.27300000000000002,0.27,39.989999999999995,{"$f":"VLOOKUP(B719,#REF!,3,FALSE)","v":{"$error":"#REF!"}}]
["Minia","Minia 6kA","LD4","OEZ:38315","OLE-16B-1N-030AC","Устройство защитного отключения с максимальной токовой защитой","In 16 A, Ue AC 230 V, характеристика B, Idn 30 mA, 1+N-полюс, Icn 6 kA, тип AC","1 / -",0.27400000000000002,0.27,39.35,{"$f":"VLOOKUP(B720,#REF!,3,FALSE)","v":{"$error":"#REF!"}}]
["Minia","Minia 6kA","LD4","OEZ:38316","OLE-20B-1N-030AC","Устройство защитного отключения с максимальной токовой защитой","In 20 A, Ue AC 230 V, характеристика B, Idn 30 mA, 1+N-полюс, Icn 6 kA, тип AC","1 / -",0.25,0.27,40.919999999999995,{"$f":"VLOOKUP(B721,#REF!,3,FALSE)","v":{"$error":"#REF!"}}]
["Minia","Minia 6kA","LD4","OEZ:38317","OLE-25B-1N-030AC","Устройство защитного отключения с максимальной токовой защитой","In 25 A, Ue AC 230 V, характеристика B, Idn 30 mA, 1+N-полюс, Icn 6 kA, тип AC","1 / -",0.25,0.27,41.76,{"$f":"VLOOKUP(B722,#REF!,3,FALSE)","v":{"$error":"#REF!"}}]
["Minia","Minia 6kA","LD4","OEZ:38318","OLE-32B-1N-030AC","Устройство защитного отключения с максимальной токовой защитой","In 32 A, Ue AC 230 V, характеристика B, Idn 30 mA, 1+N-полюс, Icn 6 kA, тип AC","1 / -",0.25,0.27,47.26,{"$f":"VLOOKUP(B723,#REF!,3,FALSE)","v":{"$error":"#REF!"}}]
["Minia","Minia 6kA","LD4","OEZ:38319","OLE-40B-1N-030AC","Устройство защитного отключения с максимальной токовой защитой","In 40 A, Ue AC 230 V, характеристика B, Idn 30 mA, 1+N-полюс, Icn 6 kA, тип AC","1 / -",0.25,0.27,50.89,{"$f":"VLOOKUP(B724,#REF!,3,FALSE)","v":{"$error":"#REF!"}}]
["Minia","Minia 6kA","LD4","OEZ:38320","OLE-6C-1N-030AC","Устройство защитного отключения с максимальной токовой защитой","In 6 A, Ue AC 230 V, характеристика C, Idn 30 mA, 1+N-полюс, Icn 6 kA, тип AC","1 / -",0.27,0.27,39.989999999999995,{"$f":"VLOOKUP(B725,#REF!,3,FALSE)","v":{"$error":"#REF!"}}]
["Minia","Minia 6kA","LD4","OEZ:38321","OLE-10C-1N-030AC","Устройство защитного отключения с максимальной токовой защитой","In 10 A, Ue AC 230 V, характеристика C, Idn 30 mA, 1+N-полюс, Icn 6 kA, тип AC","1 / -",0.27200000000000002,0.27,39.989999999999995,{"$f":"VLOOKUP(B726,#REF!,3,FALSE)","v":{"$error":"#REF!"}}]
["Minia","Minia 6kA","LD4","OEZ:38322","OLE-16C-1N-030AC","Устройство защитного отключения с максимальной токовой защитой","In 16 A, Ue AC 230 V, характеристика C, Idn 30 mA, 1+N-полюс, Icn 6 kA, тип AC","1 / -",0.27200000000000002,0.27,39.35,{"$f":"VLOOKUP(B727,#REF!,3,FALSE)","v":{"$error":"#REF!"}}]
["Minia","Minia 6kA","LD4","OEZ:38323","OLE-20C-1N-030AC","Устройство защитного отключения с максимальной токовой защитой","In 20 A, Ue AC 230 V, характеристика C, Idn 30 mA, 1+N-полюс, Icn 6 kA, тип AC","1 / -",0.25,0.27,40.919999999999995,{"$f":"VLOOKUP(B728,#REF!,3,FALSE)","v":{"$error":"#REF!"}}]
["Minia","Minia 6kA","LD4","OEZ:38324","OLE-25C-1N-030AC","Устройство защитного отключения с максимальной токовой защитой","In 25 A, Ue AC 230 V, характеристика C, Idn 30 mA, 1+N-полюс, Icn 6 kA, тип AC","1 / -",0.25,0.27,41.76,{"$f":"VLOOKUP(B729,#REF!,3,FALSE)","v":{"$error":"#REF!"}}]
["Minia","Minia 6kA","LD4","OEZ:38325","OLE-32C-1N-030AC","Устройство защитного отключения с максимальной токовой защитой","In 32 A, Ue AC 230 V, характеристика C, Idn 30 mA, 1+N-полюс, Icn 6 kA, тип AC","1 / -",0.25,0.27,47.26,{"$f":"VLOOKUP(B730,#REF!,3,FALSE)","v":{"$error":"#REF!"}}]
["Minia","Minia 6kA","LD4","OEZ:38326","OLE-40C-1N-030AC","Устройство защитного отключения с максимальной токовой защитой","In 40 A, Ue AC 230 V, характеристика C, Idn 30 mA, 1+N-полюс, Icn 6 kA, тип AC","1 / -",0.25,0.27,50.89,{"$f":"VLOOKUP(B731,#REF!,3,FALSE)","v":{"$error":"#REF!"}}]
[null,null,null,"Level  4","OD-LT - Принадлежности"]
[null,null,null,"Level  5","PS-LT - Вспомогательные выключатели"]
["Minia","Minia 10kA","LD2","OEZ:42297","PS-LT-1100","Вспомогательный выключатель","1x нормально разомкнутый контакт, 1x нормально замкнутый контакт, для LTS, LTP, LVN, LFE, LFN, OLE, OLI, MSO, MSN","1 / 15",5.5E-2,0.124,7.8,{"$f":"VLOOKUP(B734,#REF!,3,FALSE)","v":{"$error":"#REF!"}}]
["Minia","Minia 10kA","LD2","OEZ:42305","PS-LT-1100-K","Вспомогательный выключатель","1x нормально разомкнутый контакт, 1x нормально замкнутый контакт, адаптер рукоятки, для OLE, OLI","1 / 15",5.5E-2,0.124,20.310000000000002,{"$f":"VLOOKUP(B735,#REF!,3,FALSE)","v":{"$error":"#REF!"}}]
["Minia","Minia 10kA","LD2","OEZ:42300","PS-LT-1100-TE","Вспомогательный выключатель","1x нормально разомкнутый контакт, 1x нормально замкнутый контакт, кнопка тестирования, для LTS, LTP, LVN, LFE, LFN, OLE, OLI, MSO, MSN","1 / 15",7.0999999999999994E-2,0.124,9.73,{"$f":"VLOOKUP(B736,#REF!,3,FALSE)","v":{"$error":"#REF!"}}]
["Minia","Minia 10kA","LD2","OEZ:42303","PS-LT-1100-MN","Вспомогательный выключатель","1x нормально разомкнутый контакт, 1x нормально замкнутый контакт, для LTS, LTP, LVN, LFE, LFN, OLE, OLI, MSO, MSN","1 / 15",7.4999999999999997E-2,0.124,15.57,{"$f":"VLOOKUP(B737,#REF!,3,FALSE)","v":{"$error":"#REF!"}}]
["Minia","Minia 10kA","LD2","OEZ:42304","PS-LT-1100-MN-TE","Вспомогательный выключатель","1x нормально разомкнутый контакт, 1x нормально замкнутый контакт, кнопка тестирования, для LTS, LTP, LVN, LFE, LFN, OLE, OLI, MSO, MSN","1 / 15",6.9000000000000006E-2,0.124,18.680000000000003,{"$f":"VLOOKUP(B738,#REF!,3,FALSE)","v":{"$error":"#REF!"}}]
["Minia","Minia 10kA","LD2","OEZ:42299","PS-LT-2000","Вспомогательный выключатель","2x нормально разомкнутый контакт, для LTS, LTP, LVN, LFE, LFN, OLE, OLI, MSO, MSN","1 / 15",6.6000000000000003E-2,0.124,8.66,{"$f":"VLOOKUP(B739,#REF!,3,FALSE)","v":{"$error":"#REF!"}}]
["Minia","Minia 10kA","LD2","OEZ:42302","PS-LT-2000-TE","Вспомогательный выключатель","2x нормально разомкнутый контакт, кнопка тестирования, для LTS, LTP, LVN, LFE, LFN, OLE, OLI, MSO, MSN","1 / 15",6.8000000000000005E-2,0.124,10.82,{"$f":"VLOOKUP(B740,#REF!,3,FALSE)","v":{"$error":"#REF!"}}]
["Minia","Minia 10kA","LD2","OEZ:42298","PS-LT-0200","Вспомогательный выключатель","2x нормально замкнутый контакт, для LTS, LTP, LVN, LFE, LFN, OLE, OLI, MSO, MSN","1 / 15",6.6000000000000003E-2,0.124,8.66,{"$f":"VLOOKUP(B741,#REF!,3,FALSE)","v":{"$error":"#REF!"}}]
["Minia","Minia 10kA","LD2","OEZ:42301","PS-LT-0200-TE","Вспомогательный выключатель","2x нормально замкнутый контакт, кнопка тестирования, для LTS, LTP, LVN, LFE, LFN, OLE, OLI, MSO, MSN","1 / 15",7.0999999999999994E-2,0.124,10.82,{"$f":"VLOOKUP(B742,#REF!,3,FALSE)","v":{"$error":"#REF!"}}]
[null,null,null,"Level  5","SS-LT - Сигнализационные выключатели"]
["Minia","Minia 10kA","LD2","OEZ:42306","SS-LT-1100","Сигнализационный выключатель","1x нормально разомкнутый контакт, 1x нормально замкнутый контакт, для LTS, LTP, LVN, LFE, LFN, OLE, OLI, MSN","1 / 15",6.6000000000000003E-2,0.124,7.8,{"$f":"VLOOKUP(B744,#REF!,3,FALSE)","v":{"$error":"#REF!"}}]
["Minia","Minia 10kA","LD2","OEZ:42309","SS-LT-1100-TE-RE","Сигнализационный выключатель","1x нормально разомкнутый контакт, 1x нормально замкнутый контакт, кнопка тестирования, сброс, для LTS, LTP, LVN, LFE, LFN, OLE, OLI, MSN","1 / 15",7.1999999999999995E-2,0.124,10.5,{"$f":"VLOOKUP(B745,#REF!,3,FALSE)","v":{"$error":"#REF!"}}]
["Minia","Minia 10kA","LD2","OEZ:42307","SS-LT-2000","Сигнализационный выключатель","2x нормально разомкнутый контакт, для LTS, LTP, LVN, LFE, LFN, OLE, OLI, MSN","1 / 15",6.5000000000000002E-2,0.124,8.66,{"$f":"VLOOKUP(B746,#REF!,3,FALSE)","v":{"$error":"#REF!"}}]
["Minia","Minia 10kA","LD2","OEZ:42310","SS-LT-2000-TE-RE","Сигнализационный выключатель","2x нормально разомкнутый контакт, кнопка тестирования, сброс, для LTS, LTP, LVN, LFE, LFN, OLE, OLI, MSN","1 / 15",7.0999999999999994E-2,0.124,11.68,{"$f":"VLOOKUP(B747,#REF!,3,FALSE)","v":{"$error":"#REF!"}}]
["Minia","Minia 10kA","LD2","OEZ:42308","SS-LT-0200","Сигнализационный выключатель","2x нормально замкнутый контакт, для LTS, LTP, LVN, LFE, LFN, OLE, OLI, MSN","1 / 15",6.5000000000000002E-2,0.124,8.66,{"$f":"VLOOKUP(B748,#REF!,3,FALSE)","v":{"$error":"#REF!"}}]
["Minia","Minia 10kA","LD2","OEZ:42311","SS-LT-0200-TE-RE","Сигнализационный выключатель","2x нормально замкнутый контакт, кнопка тестирования, сброс, для LTS, LTP, LVN, LFE, LFN, OLE, OLI, MSN","1 / 15",6.8000000000000005E-2,0.124,11.68,{"$f":"VLOOKUP(B749,#REF!,3,FALSE)","v":{"$error":"#REF!"}}]
[null,null,null,"Level  5","SV-LT - независимые расцепители"]
["Minia","Minia 10kA","LD2","OEZ:42312","SV-LT-X060","Независимый расцепитель","Uc AC/DC 24 - 60 V, для LTS, LTP, LVN, LFE, LFN, OLE, OLI, MSN","1 / -",0.106,0.255,20.520000000000003,{"$f":"VLOOKUP(B751,#REF!,3,FALSE)","v":{"$error":"#REF!"}}]
["Minia","Minia 10kA","LD2","OEZ:42313","SV-LT-X400","Независимый расцепитель","Uc AC 110 - 415 V / DC 110 V, для LTS, LTP, LVN, LFE, LFN, OLE, OLI, MSN","1 / -",9.8000000000000004E-2,0.255,20.580000000000002,{"$f":"VLOOKUP(B752,#REF!,3,FALSE)","v":{"$error":"#REF!"}}]
[null,null,null,"Level  5","SP-LT - Расцепители минимального напряжения"]
["Minia","Minia 10kA","LD2","OEZ:42315","SP-LT-A230","Расцепитель минимального напряжения","Uc AC 230 V, для LTS, LTP, LVN, LFE, LFN, OLE, OLI, MSN","1 / -",0.109,0.255,44.879999999999995,{"$f":"VLOOKUP(B754,#REF!,3,FALSE)","v":{"$error":"#REF!"}}]
["Minia","Minia 10kA","LD2","OEZ:42317","SP-LT-A230-2000","Расцепитель минимального напряжения","Uc AC 230 V, 2x нормально разомкнутый контакт, для LTS, LTP, LVN, LFE, LFN, OLE, OLI, MSN","1 / -",0.123,0.255,53.53,{"$f":"VLOOKUP(B755,#REF!,3,FALSE)","v":{"$error":"#REF!"}}]
["Minia","Minia 10kA","LD2","OEZ:42319","SP-LT-D024","Расцепитель минимального напряжения","Uc DC 24 V, для LTS, LTP, LVN, LFE, LFN, OLE, OLI, MSN","1 / -",0.113,0.255,60.089999999999996,{"$f":"VLOOKUP(B756,#REF!,3,FALSE)","v":{"$error":"#REF!"}}]
["Minia","Minia 10kA","LD2","OEZ:42321","SP-LT-D024-2000","Расцепитель минимального напряжения","Uc DC 24 V, 2x нормально разомкнутый контакт, для LTS, LTP, LVN, LFE, LFN, OLE, OLI, MSN","1 / -",0.128,0.255,68.710000000000008,{"$f":"VLOOKUP(B757,#REF!,3,FALSE)","v":{"$error":"#REF!"}}]
["Minia","Minia 10kA","LD2","OEZ:42320","SP-LT-D110","Расцепитель минимального напряжения","Uc DC 110 V, для LTS, LTP, LVN, LFE, LFN, OLE, OLI, MSN","1 / -",0.105,0.255,44.79,{"$f":"VLOOKUP(B758,#REF!,3,FALSE)","v":{"$error":"#REF!"}}]
["Minia","Minia 10kA","LD2","OEZ:42322","SP-LT-D110-2000","Расцепитель минимального напряжения","Uc DC 110 V, 2x нормально разомкнутый контакт, для LTS, LTP, LVN, LFE, LFN, OLE, OLI, MSN","1 / -",0.11700000000000001,0.255,53.449999999999996,{"$f":"VLOOKUP(B759,#REF!,3,FALSE)","v":{"$error":"#REF!"}}]
[null,null,null,"Level  5","OD-LT - Остальные принадлежности"]
["Minia","Minia 10kA","LD2","OEZ:42324","OD-LT-VU01","Вставка для запирания","для LTS, LTP, LVN, OLE, OLI, MSN, AVN-DC","1 / 10",1.0999999999999999E-2,3.9E-2,6.97,{"$f":"VLOOKUP(B761,#REF!,3,FALSE)","v":{"$error":"#REF!"}}]
["Minia","Minia 10kA","LD2","OEZ:42323","OD-LT-VP01","Пломбируемый вкладыш","для LTS, LTP, LVN, OLE, OLI, MSN, MSO, AVN-DC","1 / 10",2E-3,3.0000000000000001E-3,1.28,{"$f":"VLOOKUP(B762,#REF!,3,FALSE)","v":{"$error":"#REF!"}}]
["Minia","Minia 10kA","LD5","OEZ:38270","OD-OL-NR01","Адаптер рукоятки","для OLI, OLE","1 / 5",2E-3,1E-3,3.4699999999999998,{"$f":"VLOOKUP(B763,#REF!,3,FALSE)","v":{"$error":"#REF!"}}]
[null,null,null,"Level  3","OLI - Устройства защитного отключения с максимальной токовой защитой 10 kA"]
[null,null,null,"Level  4","OLI-_-1N-_AC - Устройства защитного отключения с максимальной токовой защитой, тип AC"]
["Minia","Minia 10kA","LD5","OEZ:38271","OLI-6B-1N-030AC","Устройство защитного отключения с максимальной токовой защитой","In 6 A, Ue AC 230 V, характеристика B, Idn 30 mA, 1+N-полюс, Icn 10 kA, тип AC","1 / -",0.27800000000000002,0.27,52.23,{"$f":"VLOOKUP(B766,#REF!,3,FALSE)","v":{"$error":"#REF!"}}]
["Minia","Minia 10kA","LD5","OEZ:38272","OLI-10B-1N-030AC","Устройство защитного отключения с максимальной токовой защитой","In 10 A, Ue AC 230 V, характеристика B, Idn 30 mA, 1+N-полюс, Icn 10 kA, тип AC","1 / -",0.27100000000000002,0.27,52.23,{"$f":"VLOOKUP(B767,#REF!,3,FALSE)","v":{"$error":"#REF!"}}]
["Minia","Minia 10kA","LD5","OEZ:38273","OLI-16B-1N-030AC","Устройство защитного отключения с максимальной токовой защитой","In 16 A, Ue AC 230 V, характеристика B, Idn 30 mA, 1+N-полюс, Icn 10 kA, тип AC","1 / -",0.27700000000000002,0.27,52.08,{"$f":"VLOOKUP(B768,#REF!,3,FALSE)","v":{"$error":"#REF!"}}]
["Minia","Minia 10kA","LD5","OEZ:38274","OLI-20B-1N-030AC","Устройство защитного отключения с максимальной токовой защитой","In 20 A, Ue AC 230 V, характеристика B, Idn 30 mA, 1+N-полюс, Icn 10 kA, тип AC","1 / -",0.27100000000000002,0.27,53.419999999999995,{"$f":"VLOOKUP(B769,#REF!,3,FALSE)","v":{"$error":"#REF!"}}]
["Minia","Minia 10kA","LD5","OEZ:38275","OLI-25B-1N-030AC","Устройство защитного отключения с максимальной токовой защитой","In 25 A, Ue AC 230 V, характеристика B, Idn 30 mA, 1+N-полюс, Icn 10 kA, тип AC","1 / -",0.27900000000000003,0.27,54.449999999999996,{"$f":"VLOOKUP(B770,#REF!,3,FALSE)","v":{"$error":"#REF!"}}]
["Minia","Minia 10kA","LD5","OEZ:38276","OLI-32B-1N-030AC","Устройство защитного отключения с максимальной токовой защитой","In 32 A, Ue AC 230 V, характеристика B, Idn 30 mA, 1+N-полюс, Icn 10 kA, тип AC","1 / -",0.28899999999999998,0.27,61.66,{"$f":"VLOOKUP(B771,#REF!,3,FALSE)","v":{"$error":"#REF!"}}]
["Minia","Minia 10kA","LD5","OEZ:38277","OLI-40B-1N-030AC","Устройство защитного отключения с максимальной токовой защитой","In 40 A, Ue AC 230 V, характеристика B, Idn 30 mA, 1+N-полюс, Icn 10 kA, тип AC","1 / -",0.28399999999999997,0.27,66.400000000000006,{"$f":"VLOOKUP(B772,#REF!,3,FALSE)","v":{"$error":"#REF!"}}]
["Minia","Minia 10kA","LD5","OEZ:38278","OLI-6C-1N-030AC","Устройство защитного отключения с максимальной токовой защитой","In 6 A, Ue AC 230 V, характеристика C, Idn 30 mA, 1+N-полюс, Icn 10 kA, тип AC","1 / -",0.27500000000000002,0.27,52.23,{"$f":"VLOOKUP(B773,#REF!,3,FALSE)","v":{"$error":"#REF!"}}]
["Minia","Minia 10kA","LD5","OEZ:38279","OLI-10C-1N-030AC","Устройство защитного отключения с максимальной токовой защитой","In 10 A, Ue AC 230 V, характеристика C, Idn 30 mA, 1+N-полюс, Icn 10 kA, тип AC","1 / -",0.27600000000000002,0.27,52.23,{"$f":"VLOOKUP(B774,#REF!,3,FALSE)","v":{"$error":"#REF!"}}]
["Minia","Minia 10kA","LD5","OEZ:38280","OLI-16C-1N-030AC","Устройство защитного отключения с максимальной токовой защитой","In 16 A, Ue AC 230 V, характеристика C, Idn 30 mA, 1+N-полюс, Icn 10 kA, тип AC","1 / -",0.27500000000000002,0.27,52.08,{"$f":"VLOOKUP(B775,#REF!,3,FALSE)","v":{"$error":"#REF!"}}]
["Minia","Minia 10kA","LD5","OEZ:38281","OLI-20C-1N-030AC","Устройство защитного отключения с максимальной токовой защитой","In 20 A, Ue AC 230 V, характеристика C, Idn 30 mA, 1+N-полюс, Icn 10 kA, тип AC","1 / -",0.27800000000000002,0.27,53.419999999999995,{"$f":"VLOOKUP(B776,#REF!,3,FALSE)","v":{"$error":"#REF!"}}]
["Minia","Minia 10kA","LD5","OEZ:38282","OLI-25C-1N-030AC","Устройство защитного отключения с максимальной токовой защитой","In 25 A, Ue AC 230 V, характеристика C, Idn 30 mA, 1+N-полюс, Icn 10 kA, тип AC","1 / -",0.27700000000000002,0.27,54.449999999999996,{"$f":"VLOOKUP(B777,#REF!,3,FALSE)","v":{"$error":"#REF!"}}]
["Minia","Minia 10kA","LD5","OEZ:38283","OLI-32C-1N-030AC","Устройство защитного отключения с максимальной токовой защитой","In 32 A, Ue AC 230 V, характеристика C, Idn 30 mA, 1+N-полюс, Icn 10 kA, тип AC","1 / -",0.28299999999999997,0.27,61.66,{"$f":"VLOOKUP(B778,#REF!,3,FALSE)","v":{"$error":"#REF!"}}]
["Minia","Minia 10kA","LD5","OEZ:38284","OLI-40C-1N-030AC","Устройство защитного отключения с максимальной токовой защитой","In 40 A, Ue AC 230 V, характеристика C, Idn 30 mA, 1+N-полюс, Icn 10 kA, тип AC","1 / -",0.28399999999999997,0.27,66.400000000000006,{"$f":"VLOOKUP(B779,#REF!,3,FALSE)","v":{"$error":"#REF!"}}]
["Minia","Minia 10kA","LD5","OEZ:38285","OLI-6C-1N-300AC","Устройство защитного отключения с максимальной токовой защитой","In 6 A, Ue AC 230 V, характеристика C, Idn 300mA, 1+N-полюс, Icn 10 kA, тип AC","1 / -",0.251,0.27,57.449999999999996,{"$f":"VLOOKUP(B780,#REF!,3,FALSE)","v":{"$error":"#REF!"}}]
["Minia","Minia 10kA","LD5","OEZ:38286","OLI-10C-1N-300AC","Устройство защитного отключения с максимальной токовой защитой","In 10A, Ue AC 230 V, характеристика C, Idn 300 mA, 1+N-полюс, Icn 10 kA, тип AC","1 / -",0.27200000000000002,0.27,57.449999999999996,{"$f":"VLOOKUP(B781,#REF!,3,FALSE)","v":{"$error":"#REF!"}}]
["Minia","Minia 10kA","LD5","OEZ:38287","OLI-16C-1N-300AC","Устройство защитного отключения с максимальной токовой защитой","In 16 A, Ue AC 230 V, характеристика C, Idn 300 mA, 1+N-полюс, Icn 10 kA, тип AC","1 / -",0.27,0.27,56.44,{"$f":"VLOOKUP(B782,#REF!,3,FALSE)","v":{"$error":"#REF!"}}]
["Minia","Minia 10kA","LD5","OEZ:38288","OLI-20C-1N-300AC","Устройство защитного отключения с максимальной токовой защитой","In 20 A, Ue AC 230 V, характеристика C, Idn 300 mA, 1+N-полюс, Icn 10 kA, тип AC","1 / -",0.27500000000000002,0.27,58.75,{"$f":"VLOOKUP(B783,#REF!,3,FALSE)","v":{"$error":"#REF!"}}]
["Minia","Minia 10kA","LD5","OEZ:38289","OLI-25C-1N-300AC","Устройство защитного отключения с максимальной токовой защитой","In 25 A, Ue AC 230 V, характеристика C, Idn 300 mA, 1+N-полюс, Icn 10 kA, тип AC","1 / -",0.27800000000000002,0.27,59.91,{"$f":"VLOOKUP(B784,#REF!,3,FALSE)","v":{"$error":"#REF!"}}]
["Minia","Minia 10kA","LD5","OEZ:38290","OLI-32C-1N-300AC","Устройство защитного отключения с максимальной токовой защитой","In 32 A, Ue AC 230 V, характеристика C, Idn 300 mA, 1+N-полюс, Icn 10 kA, тип AC","1 / -",0.27500000000000002,0.27,64.06,{"$f":"VLOOKUP(B785,#REF!,3,FALSE)","v":{"$error":"#REF!"}}]
["Minia","Minia 10kA","LD5","OEZ:38291","OLI-40C-1N-300AC","Устройство защитного отключения с максимальной токовой защитой","In 40 A, Ue AC 230 V, характеристика C, Idn 300 mA, 1+N-полюс, Icn 10 kA, тип AC","1 / -",0.27700000000000002,0.27,67.850000000000009,{"$f":"VLOOKUP(B786,#REF!,3,FALSE)","v":{"$error":"#REF!"}}]
[null,null,null,"Level  4","OLI-_-1N-_A - Устройства защитного отключения с максимальной токовой защитой, тип A"]
["Minia","Minia 10kA","LD5","OEZ:38292","OLI-6B-1N-030A","Устройство защитного отключения с максимальной токовой защитой","In 6 A, Ue AC 230 V, характеристика B, Idn 30 mA, 1+N-полюс, Icn 10 kA, тип A","1 / -",0.27500000000000002,0.313,65.300000000000011,{"$f":"VLOOKUP(B788,#REF!,3,FALSE)","v":{"$error":"#REF!"}}]
["Minia","Minia 10kA","LD5","OEZ:38293","OLI-10B-1N-030A","Устройство защитного отключения с максимальной токовой защитой","In 10 A, Ue AC 230 V, характеристика B, Idn 30 mA, 1+N-полюс, Icn 10 kA, тип A","1 / -",0.27600000000000002,0.313,65.300000000000011,{"$f":"VLOOKUP(B789,#REF!,3,FALSE)","v":{"$error":"#REF!"}}]
["Minia","Minia 10kA","LD5","OEZ:38294","OLI-16B-1N-030A","Устройство защитного отключения с максимальной токовой защитой","In 16 A, Ue AC 230 V, характеристика B, Idn 30 mA, 1+N-полюс, Icn 10 kA, тип A","1 / -",0.27700000000000002,0.313,65.300000000000011,{"$f":"VLOOKUP(B790,#REF!,3,FALSE)","v":{"$error":"#REF!"}}]
["Minia","Minia 10kA","LD5","OEZ:38295","OLI-20B-1N-030A","Устройство защитного отключения с максимальной токовой защитой","In 20 A, Ue AC 230 V, характеристика B, Idn 30 mA, 1+N-полюс, Icn 10 kA, тип A","1 / -",0.27500000000000002,0.313,67.760000000000005,{"$f":"VLOOKUP(B791,#REF!,3,FALSE)","v":{"$error":"#REF!"}}]
["Minia","Minia 10kA","LD5","OEZ:38296","OLI-25B-1N-030A","Устройство защитного отключения с максимальной токовой защитой","In 25 A, Ue AC 230 V, характеристика B, Idn 30 mA, 1+N-полюс, Icn 10 kA, тип A","1 / -",0.28100000000000003,0.313,70.190000000000012,{"$f":"VLOOKUP(B792,#REF!,3,FALSE)","v":{"$error":"#REF!"}}]
["Minia","Minia 10kA","LD5","OEZ:38297","OLI-32B-1N-030A","Устройство защитного отключения с максимальной токовой защитой","In 32 A, Ue AC 230 V, характеристика B, Idn 30 mA, 1+N-полюс, Icn 10 kA, тип A","1 / -",0.28299999999999997,0.313,75.47,{"$f":"VLOOKUP(B793,#REF!,3,FALSE)","v":{"$error":"#REF!"}}]
["Minia","Minia 10kA","LD5","OEZ:38298","OLI-40B-1N-030A","Устройство защитного отключения с максимальной токовой защитой","In 40 A, Ue AC 230 V, характеристика B, Idn 30 mA, 1+N-полюс, Icn 10 kA, тип A","1 / -",0.28199999999999997,0.313,75.47,{"$f":"VLOOKUP(B794,#REF!,3,FALSE)","v":{"$error":"#REF!"}}]
["Minia","Minia 10kA","LD5","OEZ:38299","OLI-6C-1N-030A","Устройство защитного отключения с максимальной токовой защитой","In 6 A, Ue AC 230 V, характеристика C, Idn 30 mA, 1+N-полюс, Icn 10 kA, тип A","1 / -",0.27400000000000002,0.313,65.300000000000011,{"$f":"VLOOKUP(B795,#REF!,3,FALSE)","v":{"$error":"#REF!"}}]
["Minia","Minia 10kA","LD5","OEZ:38300","OLI-10C-1N-030A","Устройство защитного отключения с максимальной токовой защитой","In 10 A, Ue AC 230 V, характеристика C, Idn 30 mA, 1+N-полюс, Icn 10 kA, тип A","1 / -",0.27400000000000002,0.313,65.300000000000011,{"$f":"VLOOKUP(B796,#REF!,3,FALSE)","v":{"$error":"#REF!"}}]
["Minia","Minia 10kA","LD5","OEZ:38301","OLI-16C-1N-030A","Устройство защитного отключения с максимальной токовой защитой","In 16 A, Ue AC 230 V, характеристика C, Idn 30 mA, 1+N-полюс, Icn 10 kA, тип A","1 / -",0.28000000000000003,0.313,65.300000000000011,{"$f":"VLOOKUP(B797,#REF!,3,FALSE)","v":{"$error":"#REF!"}}]
["Minia","Minia 10kA","LD5","OEZ:38302","OLI-20C-1N-030A","Устройство защитного отключения с максимальной токовой защитой","In 20 A, Ue AC 230 V, характеристика C, Idn 30 mA, 1+N-полюс, Icn 10 kA, тип A","1 / -",0.28000000000000003,0.313,67.760000000000005,{"$f":"VLOOKUP(B798,#REF!,3,FALSE)","v":{"$error":"#REF!"}}]
["Minia","Minia 10kA","LD5","OEZ:38303","OLI-25C-1N-030A","Устройство защитного отключения с максимальной токовой защитой","In 25 A, Ue AC 230 V, характеристика C, Idn 30 mA, 1+N-полюс, Icn 10 kA, тип A","1 / -",0.27600000000000002,0.313,70.190000000000012,{"$f":"VLOOKUP(B799,#REF!,3,FALSE)","v":{"$error":"#REF!"}}]
["Minia","Minia 10kA","LD5","OEZ:38304","OLI-32C-1N-030A","Устройство защитного отключения с максимальной токовой защитой","In 32 A, Ue AC 230 V, характеристика C, Idn 30 mA, 1+N-полюс, Icn 10 kA, тип A","1 / -",0.28199999999999997,0.313,76.95,{"$f":"VLOOKUP(B800,#REF!,3,FALSE)","v":{"$error":"#REF!"}}]
["Minia","Minia 10kA","LD5","OEZ:38305","OLI-40C-1N-030A","Устройство защитного отключения с максимальной токовой защитой","In 40 A, Ue AC 230 V, характеристика C, Idn 30 mA, 1+N-полюс, Icn 10 kA, тип A","1 / -",0.28199999999999997,0.313,76.95,{"$f":"VLOOKUP(B801,#REF!,3,FALSE)","v":{"$error":"#REF!"}}]
["Minia","Minia 10kA","LD5","OEZ:38306","OLI-6C-1N-300A","Устройство защитного отключения с максимальной токовой защитой","In 6 A, Ue AC 230 V, характеристика C, Idn 300 mA, 1+N-полюс, Icn 10 kA, тип A","1 / -",0.27100000000000002,0.313,73.72,{"$f":"VLOOKUP(B802,#REF!,3,FALSE)","v":{"$error":"#REF!"}}]
["Minia","Minia 10kA","LD5","OEZ:38307","OLI-10C-1N-300A","Устройство защитного отключения с максимальной токовой защитой","In 10 A, Ue AC 230 V, характеристика C, Idn 300mA, 1+N-полюс, Icn 10 kA, тип A","1 / -",0.27,0.313,73.72,{"$f":"VLOOKUP(B803,#REF!,3,FALSE)","v":{"$error":"#REF!"}}]
["Minia","Minia 10kA","LD5","OEZ:38308","OLI-16C-1N-300A","Устройство защитного отключения с максимальной токовой защитой","In 16 A, Ue AC 230 V, характеристика C, Idn 300 mA, 1+N-полюс, Icn 10 kA, тип A","1 / -",0.27100000000000002,0.313,73.72,{"$f":"VLOOKUP(B804,#REF!,3,FALSE)","v":{"$error":"#REF!"}}]
["Minia","Minia 10kA","LD5","OEZ:38309","OLI-20C-1N-300A","Устройство защитного отключения с максимальной токовой защитой","In 20 A, Ue AC 230 V, характеристика C, Idn 300 mA, 1+N-полюс, Icn 10 kA, тип A","1 / -",0.27300000000000002,0.313,73.72,{"$f":"VLOOKUP(B805,#REF!,3,FALSE)","v":{"$error":"#REF!"}}]
["Minia","Minia 10kA","LD5","OEZ:38310","OLI-25C-1N-300A","Устройство защитного отключения с максимальной токовой защитой","In 25 A, Ue AC 230 V, характеристика C, Idn 300 mA, 1+N-полюс, Icn 10 kA, тип A","1 / -",0.27400000000000002,0.313,73.72,{"$f":"VLOOKUP(B806,#REF!,3,FALSE)","v":{"$error":"#REF!"}}]
["Minia","Minia 10kA","LD5","OEZ:38311","OLI-32C-1N-300A","Устройство защитного отключения с максимальной токовой защитой","In 32 A, Ue AC 230 V, характеристика C, Idn 300 mA, 1+N-полюс, Icn 10 kA, тип A","1 / -",0.27300000000000002,0.313,83.12,{"$f":"VLOOKUP(B807,#REF!,3,FALSE)","v":{"$error":"#REF!"}}]
["Minia","Minia 10kA","LD5","OEZ:38312","OLI-40C-1N-300A","Устройство защитного отключения с максимальной токовой защитой","In 40 A, Ue AC 230 V, характеристика C, Idn 300 mA, 1+N-полюс, Icn 10 kA, тип A","1 / -",0.28100000000000003,0.313,83.12,{"$f":"VLOOKUP(B808,#REF!,3,FALSE)","v":{"$error":"#REF!"}}]
[null,null,null,"Level  4","OLI-_-1N-_AC-G - Устройства защитного отключения с максимальной токовой защитой, тип AC-G"]
["Minia","Minia 10kA","LD5","OEZ:38328","OLI-10B-1N-030AC-G","Устройство защитного отключения с максимальной токовой защитой","In 10 A, Ue AC 230 V, характеристика B, Idn 30 mA, 1+N-полюс, Icn 10 kA, тип AC-G","1 / -",0.28299999999999997,0.27,90.410000000000011,{"$f":"VLOOKUP(B810,#REF!,3,FALSE)","v":{"$error":"#REF!"}}]
["Minia","Minia 10kA","LD5","OEZ:38329","OLI-16B-1N-030AC-G","Устройство защитного отключения с максимальной токовой защитой","In 16 A, Ue AC 230 V, характеристика B, Idn 30 mA, 1+N-полюс, Icn 10 kA, тип AC-G","1 / -",0.28299999999999997,0.27,90.17,{"$f":"VLOOKUP(B811,#REF!,3,FALSE)","v":{"$error":"#REF!"}}]
["Minia","Minia 10kA","LD5","OEZ:38330","OLI-20B-1N-030AC-G","Устройство защитного отключения с максимальной токовой защитой","In 20 A, Ue AC 230 V, характеристика B, Idn 30 mA, 1+N-полюс, Icn 10 kA, тип AC-G","1 / -",0.29699999999999999,0.27,91.18,{"$f":"VLOOKUP(B812,#REF!,3,FALSE)","v":{"$error":"#REF!"}}]
["Minia","Minia 10kA","LD5","OEZ:38331","OLI-25B-1N-030AC-G","Устройство защитного отключения с максимальной токовой защитой","In 25 A, Ue AC 230 V, характеристика B, Idn 30 mA, 1+N-полюс, Icn 10 kA, тип AC-G","1 / -",0.29299999999999998,0.27,91.62,{"$f":"VLOOKUP(B813,#REF!,3,FALSE)","v":{"$error":"#REF!"}}]
["Minia","Minia 10kA","LD5","OEZ:38333","OLI-10C-1N-030AC-G","Устройство защитного отключения с максимальной токовой защитой","In 10 A, Ue AC 230 V, характеристика C, Idn 30 mA, 1+N-полюс, Icn 10 kA, тип AC-G","1 / -",0.28399999999999997,0.27,90.410000000000011,{"$f":"VLOOKUP(B814,#REF!,3,FALSE)","v":{"$error":"#REF!"}}]
["Minia","Minia 10kA","LD5","OEZ:38334","OLI-16C-1N-030AC-G","Устройство защитного отключения с максимальной токовой защитой","In 16 A, Ue AC 230 V, характеристика C, Idn 30 mA, 1+N-полюс, Icn 10 kA, тип AC-G","1 / -",0.28199999999999997,0.27,90.17,{"$f":"VLOOKUP(B815,#REF!,3,FALSE)","v":{"$error":"#REF!"}}]
["Minia","Minia 10kA","LD5","OEZ:38335","OLI-20C-1N-030AC-G","Устройство защитного отключения с максимальной токовой защитой","In 20 A, Ue AC 230 V, характеристика C, Idn 30 mA, 1+N-полюс, Icn 10 kA, тип AC-G","1 / -",0.28299999999999997,0.27,91.18,{"$f":"VLOOKUP(B816,#REF!,3,FALSE)","v":{"$error":"#REF!"}}]
["Minia","Minia 10kA","LD5","OEZ:38336","OLI-25C-1N-030AC-G","Устройство защитного отключения с максимальной токовой защитой","In 25 A, Ue AC 230 V, характеристика C, Idn 30 mA, 1+N-полюс, Icn 10 kA, тип AC-G","1 / -",0.28899999999999998,0.27,91.62,{"$f":"VLOOKUP(B817,#REF!,3,FALSE)","v":{"$error":"#REF!"}}]
[null,null,null,"Level  4","OD-LT - Принадлежности"]
[null,null,null,"Level  5","PS-LT - Вспомогательные выключатели"]
["Minia","Minia 10kA","LD2","OEZ:42297","PS-LT-1100","Вспомогательный выключатель","1x нормально разомкнутый контакт, 1x нормально замкнутый контакт, для LTS, LTP, LVN, LFE, LFN, OLE, OLI, MSO, MSN","1 / 15",5.5E-2,0.124,7.8,{"$f":"VLOOKUP(B820,#REF!,3,FALSE)","v":{"$error":"#REF!"}}]
["Minia","Minia 10kA","LD2","OEZ:42305","PS-LT-1100-K","Вспомогательный выключатель","1x нормально разомкнутый контакт, 1x нормально замкнутый контакт, адаптер рукоятки, для OLE, OLI","1 / 15",5.5E-2,0.124,20.310000000000002,{"$f":"VLOOKUP(B821,#REF!,3,FALSE)","v":{"$error":"#REF!"}}]
["Minia","Minia 10kA","LD2","OEZ:42300","PS-LT-1100-TE","Вспомогательный выключатель","1x нормально разомкнутый контакт, 1x нормально замкнутый контакт, кнопка тестирования, для LTS, LTP, LVN, LFE, LFN, OLE, OLI, MSO, MSN","1 / 15",7.0999999999999994E-2,0.124,9.73,{"$f":"VLOOKUP(B822,#REF!,3,FALSE)","v":{"$error":"#REF!"}}]
["Minia","Minia 10kA","LD2","OEZ:42303","PS-LT-1100-MN","Вспомогательный выключатель","1x нормально разомкнутый контакт, 1x нормально замкнутый контакт, для LTS, LTP, LVN, LFE, LFN, OLE, OLI, MSO, MSN","1 / 15",7.4999999999999997E-2,0.124,15.57,{"$f":"VLOOKUP(B823,#REF!,3,FALSE)","v":{"$error":"#REF!"}}]
["Minia","Minia 10kA","LD2","OEZ:42304","PS-LT-1100-MN-TE","Вспомогательный выключатель","1x нормально разомкнутый контакт, 1x нормально замкнутый контакт, кнопка тестирования, для LTS, LTP, LVN, LFE, LFN, OLE, OLI, MSO, MSN","1 / 15",6.9000000000000006E-2,0.124,18.680000000000003,{"$f":"VLOOKUP(B824,#REF!,3,FALSE)","v":{"$error":"#REF!"}}]
["Minia","Minia 10kA","LD2","OEZ:42299","PS-LT-2000","Вспомогательный выключатель","2x нормально разомкнутый контакт, для LTS, LTP, LVN, LFE, LFN, OLE, OLI, MSO, MSN","1 / 15",6.6000000000000003E-2,0.124,8.66,{"$f":"VLOOKUP(B825,#REF!,3,FALSE)","v":{"$error":"#REF!"}}]
["Minia","Minia 10kA","LD2","OEZ:42302","PS-LT-2000-TE","Вспомогательный выключатель","2x нормально разомкнутый контакт, кнопка тестирования, для LTS, LTP, LVN, LFE, LFN, OLE, OLI, MSO, MSN","1 / 15",6.8000000000000005E-2,0.124,10.82,{"$f":"VLOOKUP(B826,#REF!,3,FALSE)","v":{"$error":"#REF!"}}]
["Minia","Minia 10kA","LD2","OEZ:42298","PS-LT-0200","Вспомогательный выключатель","2x нормально замкнутый контакт, для LTS, LTP, LVN, LFE, LFN, OLE, OLI, MSO, MSN","1 / 15",6.6000000000000003E-2,0.124,8.66,{"$f":"VLOOKUP(B827,#REF!,3,FALSE)","v":{"$error":"#REF!"}}]
["Minia","Minia 10kA","LD2","OEZ:42301","PS-LT-0200-TE","Вспомогательный выключатель","2x нормально замкнутый контакт, кнопка тестирования, для LTS, LTP, LVN, LFE, LFN, OLE, OLI, MSO, MSN","1 / 15",7.0999999999999994E-2,0.124,10.82,{"$f":"VLOOKUP(B828,#REF!,3,FALSE)","v":{"$error":"#REF!"}}]
[null,null,null,"Level  5","SS-LT - Сигнализационные выключатели"]
["Minia","Minia 10kA","LD2","OEZ:42306","SS-LT-1100","Сигнализационный выключатель","1x нормально разомкнутый контакт, 1x нормально замкнутый контакт, для LTS, LTP, LVN, LFE, LFN, OLE, OLI, MSN","1 / 15",6.6000000000000003E-2,0.124,7.8,{"$f":"VLOOKUP(B830,#REF!,3,FALSE)","v":{"$error":"#REF!"}}]
["Minia","Minia 10kA","LD2","OEZ:42309","SS-LT-1100-TE-RE","Сигнализационный выключатель","1x нормально разомкнутый контакт, 1x нормально замкнутый контакт, кнопка тестирования, сброс, для LTS, LTP, LVN, LFE, LFN, OLE, OLI, MSN","1 / 15",7.1999999999999995E-2,0.124,10.5,{"$f":"VLOOKUP(B831,#REF!,3,FALSE)","v":{"$error":"#REF!"}}]
["Minia","Minia 10kA","LD2","OEZ:42307","SS-LT-2000","Сигнализационный выключатель","2x нормально разомкнутый контакт, для LTS, LTP, LVN, LFE, LFN, OLE, OLI, MSN","1 / 15",6.5000000000000002E-2,0.124,8.66,{"$f":"VLOOKUP(B832,#REF!,3,FALSE)","v":{"$error":"#REF!"}}]
["Minia","Minia 10kA","LD2","OEZ:42310","SS-LT-2000-TE-RE","Сигнализационный выключатель","2x нормально разомкнутый контакт, кнопка тестирования, сброс, для LTS, LTP, LVN, LFE, LFN, OLE, OLI, MSN","1 / 15",7.0999999999999994E-2,0.124,11.68,{"$f":"VLOOKUP(B833,#REF!,3,FALSE)","v":{"$error":"#REF!"}}]
["Minia","Minia 10kA","LD2","OEZ:42308","SS-LT-0200","Сигнализационный выключатель","2x нормально замкнутый контакт, для LTS, LTP, LVN, LFE, LFN, OLE, OLI, MSN","1 / 15",6.5000000000000002E-2,0.124,8.66,{"$f":"VLOOKUP(B834,#REF!,3,FALSE)","v":{"$error":"#REF!"}}]
["Minia","Minia 10kA","LD2","OEZ:42311","SS-LT-0200-TE-RE","Сигнализационный выключатель","2x нормально замкнутый контакт, кнопка тестирования, сброс, для LTS, LTP, LVN, LFE, LFN, OLE, OLI, MSN","1 / 15",6.8000000000000005E-2,0.124,11.68,{"$f":"VLOOKUP(B835,#REF!,3,FALSE)","v":{"$error":"#REF!"}}]
[null,null,null,"Level  5","SV-LT - независимые расцепители"]
["Minia","Minia 10kA","LD2","OEZ:42312","SV-LT-X060","Независимый расцепитель","Uc AC/DC 24 - 60 V, для LTS, LTP, LVN, LFE, LFN, OLE, OLI, MSN","1 / -",0.106,0.255,20.520000000000003,{"$f":"VLOOKUP(B837,#REF!,3,FALSE)","v":{"$error":"#REF!"}}]
["Minia","Minia 10kA","LD2","OEZ:42313","SV-LT-X400","Независимый расцепитель","Uc AC 110 - 415 V / DC 110 V, для LTS, LTP, LVN, LFE, LFN, OLE, OLI, MSN","1 / -",9.8000000000000004E-2,0.255,20.580000000000002,{"$f":"VLOOKUP(B838,#REF!,3,FALSE)","v":{"$error":"#REF!"}}]
[null,null,null,"Level  5","SP-LT - Расцепители минимального напряжения"]
["Minia","Minia 10kA","LD2","OEZ:42315","SP-LT-A230","Расцепитель минимального напряжения","Uc AC 230 V, для LTS, LTP, LVN, LFE, LFN, OLE, OLI, MSN","1 / -",0.109,0.255,44.879999999999995,{"$f":"VLOOKUP(B840,#REF!,3,FALSE)","v":{"$error":"#REF!"}}]
["Minia","Minia 10kA","LD2","OEZ:42317","SP-LT-A230-2000","Расцепитель минимального напряжения","Uc AC 230 V, 2x нормально разомкнутый контакт, для LTS, LTP, LVN, LFE, LFN, OLE, OLI, MSN","1 / -",0.123,0.255,53.53,{"$f":"VLOOKUP(B841,#REF!,3,FALSE)","v":{"$error":"#REF!"}}]
["Minia","Minia 10kA","LD2","OEZ:42319","SP-LT-D024","Расцепитель минимального напряжения","Uc DC 24 V, для LTS, LTP, LVN, LFE, LFN, OLE, OLI, MSN","1 / -",0.113,0.255,60.089999999999996,{"$f":"VLOOKUP(B842,#REF!,3,FALSE)","v":{"$error":"#REF!"}}]
["Minia","Minia 10kA","LD2","OEZ:42321","SP-LT-D024-2000","Расцепитель минимального напряжения","Uc DC 24 V, 2x нормально разомкнутый контакт, для LTS, LTP, LVN, LFE, LFN, OLE, OLI, MSN","1 / -",0.128,0.255,68.710000000000008,{"$f":"VLOOKUP(B843,#REF!,3,FALSE)","v":{"$error":"#REF!"}}]
["Minia","Minia 10kA","LD2","OEZ:42320","SP-LT-D110","Расцепитель минимального напряжения","Uc DC 110 V, для LTS, LTP, LVN, LFE, LFN, OLE, OLI, MSN","1 / -",0.105,0.255,44.79,{"$f":"VLOOKUP(B844,#REF!,3,FALSE)","v":{"$error":"#REF!"}}]
["Minia","Minia 10kA","LD2","OEZ:42322","SP-LT-D110-2000","Расцепитель минимального напряжения","Uc DC 110 V, 2x нормально разомкнутый контакт, для LTS, LTP, LVN, LFE, LFN, OLE, OLI, MSN","1 / -",0.11700000000000001,0.255,53.449999999999996,{"$f":"VLOOKUP(B845,#REF!,3,FALSE)","v":{"$error":"#REF!"}}]
[null,null,null,"Level  5","OD-LT - Остальные принадлежности"]
["Minia","Minia 10kA","LD2","OEZ:42324","OD-LT-VU01","Вставка для запирания","для LTS, LTP, LVN, OLE, OLI, MSN, AVN-DC","1 / 10",1.0999999999999999E-2,3.9E-2,6.97,{"$f":"VLOOKUP(B847,#REF!,3,FALSE)","v":{"$error":"#REF!"}}]
["Minia","Minia 10kA","LD2","OEZ:42323","OD-LT-VP01","Пломбируемый вкладыш","для LTS, LTP, LVN, OLE, OLI, MSN, MSO, AVN-DC","1 / 10",2E-3,3.0000000000000001E-3,1.28,{"$f":"VLOOKUP(B848,#REF!,3,FALSE)","v":{"$error":"#REF!"}}]
["Minia","Minia 10kA","LD5","OEZ:38270","OD-OL-NR01","Адаптер рукоятки","для OLI, OLE","1 / 5",2E-3,1E-3,3.4699999999999998,{"$f":"VLOOKUP(B849,#REF!,3,FALSE)","v":{"$error":"#REF!"}}]
[null,null,null,"Level  3","OFE, OFI - Устройства защитного отключения"]
[null,null,null,"Level  2","Устройства защиты от искрения"]
[null,null,null,"Level  3","ARC - Детекторы искрения"]
[null,null,null,"Level  4","ARC - Детекторы искрения"]
["Minia","Minia 10kA","LD5","OEZ:45533","ARC-16-1N-2M","Детектор искрения","In 16 A, Un 230 V, 1+N-полюс, ширина 2 модуля","1 / -",0.10100000000000001,0.34399999999999997,204.07999999999998,{"$f":"VLOOKUP(B854,#REF!,3,FALSE)","v":{"$error":"#REF!"}}]
["Minia","Minia 10kA","LD5","OEZ:45532","ARC-16-1N-3M","Детектор искрения","In 16 A, Un 230 V, 1+N-полюс, ширина 3 модуля","1 / -",0.105,0.48799999999999999,204.07999999999998,{"$f":"VLOOKUP(B855,#REF!,3,FALSE)","v":{"$error":"#REF!"}}]
["Minia","Minia 10kA","LD5","OEZ:45535","ARC-40-1N-2M","Детектор искрения","In 40 A, Un 230 V, 1+N-полюс, ширина 2 модуля","1 / -",0.10100000000000001,0.34399999999999997,244.89,{"$f":"VLOOKUP(B856,#REF!,3,FALSE)","v":{"$error":"#REF!"}}]
["Minia","Minia 10kA","LD5","OEZ:45534","ARC-40-1N-3M","Детектор искрения","In 40 A, Un 230 V, 1+N-полюс, ширина 3 модуля","1 / -",0.105,0.48799999999999999,244.89,{"$f":"VLOOKUP(B857,#REF!,3,FALSE)","v":{"$error":"#REF!"}}]
[null,null,null,"Level  2","Защиты от перенапряжения"]
[null,null,null,"Level  3","SJB - Разрядники тока молнии"]
[null,null,null,"Level  4","SJB - Разрядники тока молнии"]
["Minia","Minia 10kA","LD6","OEZ:38357","SJB-25E-3-MZS","Разрядник тока молнии","тип 1, Iimp 25 kA, Uc AC 350 V, сменные модули, с сигнализацией, искровой разрядник","1 / -",0.90900000000000003,0.78600000000000003,506.32,{"$f":"VLOOKUP(B861,#REF!,3,FALSE)","v":{"$error":"#REF!"}}]
["Minia","Minia 10kA","LD6","OEZ:38358","SJB-25E-3N-MZS","Разрядник тока молнии","тип 1, Iimp 25 kA, Uc AC 350 V, сменные модули, с сигнализацией, искровой разрядник","1 / -",1.31,1.0429999999999999,633.41,{"$f":"VLOOKUP(B862,#REF!,3,FALSE)","v":{"$error":"#REF!"}}]
["Minia","Minia 10kA","LD6","OEZ:45559","SJB-50E-1-MZS","Разрядник тока молнии","тип 1, Iimp 50 kA, Uc AC 264 V, сменные модули, с сигнализацией, искровой разрядник","1 / 60",0.41499999999999998,0.34,353.96999999999997,{"$f":"VLOOKUP(B863,#REF!,3,FALSE)","v":{"$error":"#REF!"}}]
["Minia","Minia 10kA","LD6","OEZ:45560","SJB-50E-1N-MZS","Разрядник тока молнии","тип 1, Iimp 50 kA, Uc AC 264 V, сменные модули, с сигнализацией, искровой разрядник","1 / 36",0.77,0.63,661.78,{"$f":"VLOOKUP(B864,#REF!,3,FALSE)","v":{"$error":"#REF!"}}]
["Minia","Minia 10kA","LD6","OEZ:38360","SJB-25E-1-M","Сменный модуль","тип 1, запасная часть, Iimp 25 kA, Uc AC 350 V, только сменный модуль, искровой разрядник, для SJB-25E (L/N)","1 / -",0.24,0.10199999999999999,141.26999999999998,{"$f":"VLOOKUP(B865,#REF!,3,FALSE)","v":{"$error":"#REF!"}}]
["Minia","Minia 10kA","LD6","OEZ:45561","SJB-50E-1-M","Сменный модуль","тип 1, запасная часть, Iimp 50 kA, Uc AC 264 V, только сменный модуль, искровой разрядник, для SJB-50E (L/N, L/PEN)","1 / 5",0.26200000000000001,0.34,311.25,{"$f":"VLOOKUP(B866,#REF!,3,FALSE)","v":{"$error":"#REF!"}}]
["Minia","Minia 10kA","LD6","OEZ:38359","SJB-100E-N-M","Сменный модуль","тип 1, запасная часть, Iimp 100 kA, Uc AC 350 V, только сменный модуль, искровой разрядник, для SJB-25E, SJB-50E, SJBC-25E (N/PE)","1 / -",0.24,0.10199999999999999,131.54999999999998,{"$f":"VLOOKUP(B867,#REF!,3,FALSE)","v":{"$error":"#REF!"}}]
["Minia","Minia 10kA","LD6","OEZ:39227","SJBplus-50-2,5","Разрядник тока молнии","тип 1, Iimp 50 kA, дугогасящий ток короткого замыкания 50 kA, искровой разрядник","1 / -",0.56699999999999995,0.51,111.66000000000001,{"$f":"VLOOKUP(B868,#REF!,3,FALSE)","v":{"$error":"#REF!"}}]
[null,null,null,"Level  3","SJBC, SVBC - Комбинированные разрядники тока молнии и перенапряжения"]
[null,null,null,"Level  4","SJBC - Комбинированные разрядники тока молнии и перенапряжения"]
["Minia","Minia 10kA","LD6","OEZ:38361","SJBC-25E-3-MZS","Комбинированный разрядник тока молнии и перенапряжения","тип 1+2, Iimp 25 kA, Uc AC 350 V, сменные модули, с сигнализацией, искровой разрядник, варистор","1 / -",1.04,0.78600000000000003,574.28,{"$f":"VLOOKUP(B871,#REF!,3,FALSE)","v":{"$error":"#REF!"}}]
["Minia","Minia 10kA","LD6","OEZ:38362","SJBC-25E-3N-MZS","Комбинированный разрядник тока молнии и перенапряжения","тип 1+2, Iimp 25 kA, Uc AC 350 V, сменные модули, с сигнализацией, искровой разрядник, варистор","1 / -",1.43,1.0429999999999999,706.59,{"$f":"VLOOKUP(B872,#REF!,3,FALSE)","v":{"$error":"#REF!"}}]
["Minia","Minia 10kA","LD6","OEZ:38363","SJB-N25E-1-M","Сменный модуль","тип 1, запасная часть, Iimp 25 kA, Uc AC 350 V, только сменный модуль, искровой разрядник, для SJBC-25E (L/N, L/PEN)","1 / -",0.129,7.4999999999999997E-2,141.29999999999998,{"$f":"VLOOKUP(B873,#REF!,3,FALSE)","v":{"$error":"#REF!"}}]
["Minia","Minia 10kA","LD6","OEZ:38364","SVC-N350-1-M","Сменный модуль","тип 2, запасная часть, Imax 40 kA, Uc AC 350 V, только сменный модуль, варистор, для SJBC-25E (L/N, L/PEN)","1 / -",5.1999999999999998E-2,5.3999999999999999E-2,45.089999999999996,{"$f":"VLOOKUP(B874,#REF!,3,FALSE)","v":{"$error":"#REF!"}}]
["Minia","Minia 10kA","LD6","OEZ:38359","SJB-100E-N-M","Сменный модуль","тип 1, запасная часть, Iimp 100 kA, Uc AC 350 V, только сменный модуль, искровой разрядник, для SJB-25E, SJB-50E, SJBC-25E (N/PE)","1 / -",0.24,0.10199999999999999,131.54999999999998,{"$f":"VLOOKUP(B875,#REF!,3,FALSE)","v":{"$error":"#REF!"}}]
[null,null,null,"Level  4","SVBC - Комбинированные разрядники тока молнии и перенапряжения"]
["Minia","Minia 10kA","LD6","OEZ:40619","SVBC-12,5-3-MZ","Комбинированный разрядник тока молнии и перенапряжения","тип 1+2, Iimp 12,5 kA, Uc AC 335 V, сменные модули, варистор","1 / -",0.55300000000000005,0.63100000000000001,212.54999999999998,{"$f":"VLOOKUP(B877,#REF!,3,FALSE)","v":{"$error":"#REF!"}}]
["Minia","Minia 10kA","LD6","OEZ:40620","SVBC-12,5-3-MZS","Комбинированный разрядник тока молнии и перенапряжения","тип 1+2, Iimp 12,5 kA, Uc AC 335 V, сменные модули, с сигнализацией, варистор","1 / -",0.56000000000000005,0.63100000000000001,254.01999999999998,{"$f":"VLOOKUP(B878,#REF!,3,FALSE)","v":{"$error":"#REF!"}}]
["Minia","Minia 10kA","LD6","OEZ:40621","SVBC-12,5-3N-MZ","Комбинированный разрядник тока молнии и перенапряжения","тип 1+2, Iimp 12,5 kA, Uc AC 335 V, сменные модули, варистор, искровой разрядник","1 / -",0.67200000000000004,0.84199999999999997,339.77,{"$f":"VLOOKUP(B879,#REF!,3,FALSE)","v":{"$error":"#REF!"}}]
["Minia","Minia 10kA","LD6","OEZ:40622","SVBC-12,5-3N-MZS","Комбинированный разрядник тока молнии и перенапряжения","тип 1+2, Iimp 12,5 kA, Uc AC 335 V, сменные модули, с сигнализацией, варистор, искровой разрядник","1 / -",0.68100000000000005,0.84199999999999997,381.18,{"$f":"VLOOKUP(B880,#REF!,3,FALSE)","v":{"$error":"#REF!"}}]
["Minia","Minia 10kA","LD6","OEZ:40623","SVBC-12,5-4-MZ","Комбинированный разрядник тока молнии и перенапряжения","тип 1+2, Iimp 12,5 kA, Uc AC 335 V, сменные модули, варистор","1 / -",0.749,0.84199999999999997,283.45,{"$f":"VLOOKUP(B881,#REF!,3,FALSE)","v":{"$error":"#REF!"}}]
["Minia","Minia 10kA","LD6","OEZ:40624","SVBC-12,5-4-MZS","Комбинированный разрядник тока молнии и перенапряжения","тип 1+2, Iimp 12,5 kA, Uc AC 335 V, сменные модули, с сигнализацией, варистор","1 / -",0.753,0.84199999999999997,338.7,{"$f":"VLOOKUP(B882,#REF!,3,FALSE)","v":{"$error":"#REF!"}}]
["Minia","Minia 10kA","LD6","OEZ:40615","SVBC-12,5-1-MZ","Комбинированный разрядник тока молнии и перенапряжения","тип 1+2, Iimp 12,5 kA, Uc AC 335 V, сменные модули, варистор","1 / -",0.158,0.215,123.04,{"$f":"VLOOKUP(B883,#REF!,3,FALSE)","v":{"$error":"#REF!"}}]
["Minia","Minia 10kA","LD6","OEZ:40618","SVBC-12,5-1N-MZS","Комбинированный разрядник тока молнии и перенапряжения","тип 1+2, Iimp 12,5 kA, Uc AC 335 V, сменные модули, с сигнализацией, варистор, искровой разрядник","1 / -",0.36,0.42099999999999999,217.85999999999999,{"$f":"VLOOKUP(B884,#REF!,3,FALSE)","v":{"$error":"#REF!"}}]
["Minia","Minia 10kA","LD6","OEZ:40625","SVBC-12,5-1-M","Сменный модуль","тип 1+2, запасная часть, Iimp 12,5 kA, Uc AC 335 V, только сменный модуль, варистор, для SVBC-12,5 (L/N, L/PEN)","1 / -",0.114,0.21,72,{"$f":"VLOOKUP(B885,#REF!,3,FALSE)","v":{"$error":"#REF!"}}]
["Minia","Minia 10kA","LD6","OEZ:40626","SVBC-50-N-M","Сменный модуль","тип 1+2, запасная часть, Iimp 50 kA, Uc AC 264 V, только сменный модуль, искровой разрядник, для SVBC-12,5 (N/PE)","1 / -",7.8E-2,0.21,85.100000000000009,{"$f":"VLOOKUP(B886,#REF!,3,FALSE)","v":{"$error":"#REF!"}}]
[null,null,null,"Level  3","SVC - Разрядники перенапряжения"]
[null,null,null,"Level  4","SVC - Разрядники перенапряжения"]
["Minia","Minia 10kA","LD6","OEZ:38365","SVC-350-3-MZ","Разрядник перенапряжения","тип 2, Imax 40 kA, Uc AC 350 V, сменные модули, варистор","1 / -",0.39300000000000002,0.36499999999999999,135.66999999999999,{"$f":"VLOOKUP(B889,#REF!,3,FALSE)","v":{"$error":"#REF!"}}]
["Minia","Minia 10kA","LD6","OEZ:38366","SVC-350-3-MZS","Разрядник перенапряжения","тип 2, Imax 40 kA, Uc AC 350 V, сменные модули, с сигнализацией, варистор","1 / -",0.40300000000000002,0.4,165.31,{"$f":"VLOOKUP(B890,#REF!,3,FALSE)","v":{"$error":"#REF!"}}]
["Minia","Minia 10kA","LD6","OEZ:38367","SVC-350-3N-MZ","Разрядник перенапряжения","тип 2, Imax 40 kA, Uc AC 350 V, сменные модули, варистор, искровой разрядник","1 / -",0.433,0.48199999999999998,161.1,{"$f":"VLOOKUP(B891,#REF!,3,FALSE)","v":{"$error":"#REF!"}}]
["Minia","Minia 10kA","LD6","OEZ:38368","SVC-350-3N-MZS","Разрядник перенапряжения","тип 2, Imax 40 kA, Uc AC 350 V, сменные модули, с сигнализацией, варистор, искровой разрядник","1 / -",0.443,0.52900000000000003,197.23,{"$f":"VLOOKUP(B892,#REF!,3,FALSE)","v":{"$error":"#REF!"}}]
["Minia","Minia 10kA","LD6","OEZ:40861","SVC-350-4-MZ","Разрядник перенапряжения","тип 2, Imax 40 kA, Uc AC 350 V, сменные модули, варистор","1 / -",0.433,0.48199999999999998,160.47999999999999,{"$f":"VLOOKUP(B893,#REF!,3,FALSE)","v":{"$error":"#REF!"}}]
["Minia","Minia 10kA","LD6","OEZ:40862","SVC-350-4-MZS","Разрядник перенапряжения","тип 2, Imax 40 kA, Uc AC 350 V, сменные модули, с сигнализацией, варистор","1 / -",0.433,0.48199999999999998,192.57999999999998,{"$f":"VLOOKUP(B894,#REF!,3,FALSE)","v":{"$error":"#REF!"}}]
["Minia","Minia 10kA","LD6","OEZ:42378","SVC-350-1-MZ","Разрядник перенапряжения","тип 2, Imax 40 kA, Uc AC 350 V, сменные модули, варистор","1 / -",0.13800000000000001,0.25,50.48,{"$f":"VLOOKUP(B895,#REF!,3,FALSE)","v":{"$error":"#REF!"}}]
["Minia","Minia 10kA","LD6","OEZ:42379","SVC-350-1-MZS","Разрядник перенапряжения","тип 2, Imax 40 kA, Uc AC 350 V, сменные модули, с сигнализацией, варистор","1 / -",0.14399999999999999,0.25,55.61,{"$f":"VLOOKUP(B896,#REF!,3,FALSE)","v":{"$error":"#REF!"}}]
["Minia","Minia 10kA","LD6","OEZ:42380","SVC-350-1N-MZ","Разрядник перенапряжения","тип 2, Imax 40 kA, Uc AC 350 V, сменные модули, варистор, искровой разрядник","1 / -",0.25600000000000001,0.33,111.39,{"$f":"VLOOKUP(B897,#REF!,3,FALSE)","v":{"$error":"#REF!"}}]
["Minia","Minia 10kA","LD6","OEZ:42381","SVC-350-1N-MZS","Разрядник перенапряжения","тип 2, Imax 40 kA, Uc AC 350 V, сменные модули, с сигнализацией, варистор, искровой разрядник","1 / -",0.26800000000000002,0.33,134.54,{"$f":"VLOOKUP(B898,#REF!,3,FALSE)","v":{"$error":"#REF!"}}]
["Minia","Minia 10kA","LD6","OEZ:38369","SVC-350-1-M","Сменный модуль","тип 2, запасная часть, Imax 40 kA, Uc AC 350 V, только сменный модуль, варистор, для SVC-350 (L/N, L/PEN)","1 / -",5.0999999999999997E-2,5.3999999999999999E-2,41.35,{"$f":"VLOOKUP(B899,#REF!,3,FALSE)","v":{"$error":"#REF!"}}]
["Minia","Minia 10kA","LD6","OEZ:38370","SVC-264-N-M","Сменный модуль","тип 2, запасная часть, Imax 40 kA, Uc AC 260 V, только сменный модуль, суммирующий искровой разрядник между PE и N, для SVC-350 (N/PE)","1 / -",0.04,5.3999999999999999E-2,51.43,{"$f":"VLOOKUP(B900,#REF!,3,FALSE)","v":{"$error":"#REF!"}}]
[null,null,null,"Level  4","SVM - Разрядники перенапряжения"]
[null,null,null,"Level  3","SVD - Разрядники перенапряжения"]
[null,null,null,"Level  4","SVD - Разрядники перенапряжения"]
["Minia","Minia 10kA","LD6","OEZ:38371","SVD-253-1N-MZS","Разрядник перенапряжения","тип 3, In 3 kA, Uc AC 253 V, сменные модули, с сигнализацией, варистор, искровой разрядник","1 / -",8.1000000000000003E-2,0.12,81.900000000000006,{"$f":"VLOOKUP(B904,#REF!,3,FALSE)","v":{"$error":"#REF!"}}]
["Minia","Minia 10kA","LD6","OEZ:38372","SVD-335-3N-MZS","Разрядник перенапряжения","тип 3, In 1,5 kA, Uc AC 335 V, сменные модули, с сигнализацией, варистор, искровой разрядник","1 / -",0.129,0.22700000000000001,167.47,{"$f":"VLOOKUP(B905,#REF!,3,FALSE)","v":{"$error":"#REF!"}}]
["Minia","Minia 10kA","LD6","OEZ:38373","SVD-253-1N-M","Сменный модуль","тип 3, запасная часть, In 3 kA, Uc AC 253 V, только сменный модуль, варистор, для SVD-253","1 / -",2.8000000000000001E-2,5.3999999999999999E-2,67.7,{"$f":"VLOOKUP(B906,#REF!,3,FALSE)","v":{"$error":"#REF!"}}]
["Minia","Minia 10kA","LD6","OEZ:38374","SVD-335-3N-M","Сменный модуль","тип 3, запасная часть, In 1,5 kA, Uc AC 335 V, только сменный модуль, варистор, для SVD-335","1 / -",0.16200000000000001,0.10299999999999999,132.57999999999998,{"$f":"VLOOKUP(B907,#REF!,3,FALSE)","v":{"$error":"#REF!"}}]
["Minia","Minia 10kA","LD6","OEZ:39164","SVD-335-1N-AS","Разрядник перенапряжения","тип 3, In 1,5 kA, Uc AC 335 V, для монтажных коробок, варистор, искровой разрядник","1 / -",4.1000000000000002E-2,4.4999999999999998E-2,51.1,{"$f":"VLOOKUP(B908,#REF!,3,FALSE)","v":{"$error":"#REF!"}}]
[null,null,null,"Level  3","SVBC-DC, SVC-DC - Защиты от перенапряжения для проводки постоянного тока"]
[null,null,null,"Level  4","SVBC-DC - Защиты от перенапряжения для проводки постоянного тока"]
["Minia","Minia DC","LD6","OEZ:42717","SVBC-DC-720-3V-MZ","Комбинированный разрядник тока молнии и перенапряжения","тип 1+2, Iimp 5 kA, Uc DC 720 V, сменные модули, варистор","1 / -",0.36499999999999999,0.47,140.32,{"$f":"VLOOKUP(B911,#REF!,3,FALSE)","v":{"$error":"#REF!"}}]
["Minia","Minia DC","LD6","OEZ:42718","SVBC-DC-720-3V-MZS","Комбинированный разрядник тока молнии и перенапряжения","тип 1+2, Iimp 5 kA, Uc DC 720 V, сменные модули, с сигнализацией, варистор","1 / -",0.371,0.47,161.25,{"$f":"VLOOKUP(B912,#REF!,3,FALSE)","v":{"$error":"#REF!"}}]
["Minia","Minia DC","LD6","OEZ:42719","SVBC-DC-720-V-M","Сменный модуль","тип 1+2, запасная часть, Iimp 5 kA, Uc DC 360 V, только сменный модуль, варистор, для SVBC-DC-720-3V-MZ(S)","1 / -",5.7000000000000002E-2,0.05,48.94,{"$f":"VLOOKUP(B913,#REF!,3,FALSE)","v":{"$error":"#REF!"}}]
["Minia","Minia DC","LD6","OEZ:42714","SVBC-DC-1050-3V-MZ","Комбинированный разрядник тока молнии и перенапряжения","тип 1+2, Iimp 5 kA, Uc DC 1050 V, сменные модули, варистор","1 / -",0.379,0.47,161.25,{"$f":"VLOOKUP(B914,#REF!,3,FALSE)","v":{"$error":"#REF!"}}]
["Minia","Minia DC","LD6","OEZ:42715","SVBC-DC-1050-3V-MZS","Комбинированный разрядник тока молнии и перенапряжения","тип 1+2, Iimp 5 kA, Uc DC 1050 V, сменные модули, с сигнализацией, варистор","1 / -",0.38500000000000001,0.47,183.39,{"$f":"VLOOKUP(B915,#REF!,3,FALSE)","v":{"$error":"#REF!"}}]
["Minia","Minia DC","LD6","OEZ:42716","SVBC-DC-1050-V-M","Сменный модуль","тип 1+2, запасная часть, Iimp 5 kA, Uc DC 525 V, только сменный модуль, варистор, для SVBC-DC-1050-3V-MZ(S)","1 / -",7.1999999999999995E-2,0.05,58.04,{"$f":"VLOOKUP(B916,#REF!,3,FALSE)","v":{"$error":"#REF!"}}]
[null,null,null,"Level  4","SVC-DC - Защиты от перенапряжения для проводки постоянного тока"]
["Minia","Minia DC","LD6","OEZ:42708","SVC-DC-1170-3V-MZ","Разрядник перенапряжения","тип 2, Imax 40 kA, Uc DC 1170 V, сменные модули, варистор","1 / -",0.32800000000000001,0.47,146.57,{"$f":"VLOOKUP(B918,#REF!,3,FALSE)","v":{"$error":"#REF!"}}]
["Minia","Minia DC","LD6","OEZ:42709","SVC-DC-1170-3V-MZS","Разрядник перенапряжения","тип 2, Imax 40 kA, Uc DC 1170 V, сменные модули, с сигнализацией, варистор","1 / -",0.33300000000000002,0.47,166.73,{"$f":"VLOOKUP(B919,#REF!,3,FALSE)","v":{"$error":"#REF!"}}]
["Minia","Minia DC","LD6","OEZ:42710","SVC-DC-1170-V-M","Сменный модуль","тип 2, запасная часть, Imax 40 kA, только сменный модуль, варистор, для SVC-DC-1170-3V-MZ(S)","1 / -",7.5999999999999998E-2,0.05,52.76,{"$f":"VLOOKUP(B920,#REF!,3,FALSE)","v":{"$error":"#REF!"}}]
["Minia","Minia DC","LD6","OEZ:42711","SVC-DC-800-3V-MZ","Разрядник перенапряжения","тип 2, Imax 40 kA, Uc DC 800 V, сменные модули, варистор","1 / -",0.32200000000000001,0.47,127.58,{"$f":"VLOOKUP(B921,#REF!,3,FALSE)","v":{"$error":"#REF!"}}]
["Minia","Minia DC","LD6","OEZ:42712","SVC-DC-800-3V-MZS","Разрядник перенапряжения","тип 2, Imax 40 kA, Uc DC 800 V, сменные модули, с сигнализацией, варистор","1 / -",0.32600000000000001,0.47,146.57,{"$f":"VLOOKUP(B922,#REF!,3,FALSE)","v":{"$error":"#REF!"}}]
["Minia","Minia DC","LD6","OEZ:42713","SVC-DC-800-V-M","Сменный модуль","тип 2, запасная часть, Imax 40 kA, только сменный модуль, варистор, для SVC-DC-800-3V-MZ(S)","1 / -",6.8000000000000005E-2,0.05,44.489999999999995,{"$f":"VLOOKUP(B923,#REF!,3,FALSE)","v":{"$error":"#REF!"}}]
[null,null,null,"Level  4","SVF - Защиты от перенапряжения для проводки постоянного тока"]
[null,null,null,"Level  2","Коммутационные приборы"]
[null,null,null,"Level  3","RSI - Контакторы для проводок"]
[null,null,null,"Level  4","RSI-_-_-A_ - Контакторы для проводок AC"]
["Minia","Minia 10kA","LD6","OEZ:36609","RSI-20-10-A230","Контактор для проводок","Ith 20 A, Uc AC 230 V, 1x нормально разомкнутый контакт","1 / -",0.13,0.14899999999999999,16.57,{"$f":"VLOOKUP(B928,#REF!,3,FALSE)","v":{"$error":"#REF!"}}]
["Minia","Minia 10kA","LD6","OEZ:36610","RSI-20-20-A230","Контактор для проводок","Ith 20 A, Uc AC 230 V, 2x нормально разомкнутый контакт","1 / -",0.13,0.14899999999999999,18.32,{"$f":"VLOOKUP(B929,#REF!,3,FALSE)","v":{"$error":"#REF!"}}]
["Minia","Minia 10kA","LD6","OEZ:36614","RSI-20-20-A024","Контактор для проводок","Ith 20 A, Uc AC 24 V, 2x нормально разомкнутый контакт","1 / -",0.13,0.14899999999999999,20.190000000000001,{"$f":"VLOOKUP(B930,#REF!,3,FALSE)","v":{"$error":"#REF!"}}]
["Minia","Minia 10kA","LD6","OEZ:36611","RSI-20-11-A230","Контактор для проводок","Ith 20 A, Uc AC 230 V, 1x нормально разомкнутый контакт, 1x нормально замкнутый контакт","1 / -",0.13,0.14899999999999999,18.32,{"$f":"VLOOKUP(B931,#REF!,3,FALSE)","v":{"$error":"#REF!"}}]
["Minia","Minia 10kA","LD6","OEZ:36615","RSI-20-11-A024","Контактор для проводок","Ith 20 A, Uc AC 24 V, 1x нормально разомкнутый контакт, 1x нормально замкнутый контакт","1 / -",0.13,0.14899999999999999,20.190000000000001,{"$f":"VLOOKUP(B932,#REF!,3,FALSE)","v":{"$error":"#REF!"}}]
["Minia","Minia 10kA","LD6","OEZ:36612","RSI-20-02-A230","Контактор для проводок","Ith 20 A, Uc AC 230 V, 2x нормально замкнутый контакт","1 / -",0.13,0.14899999999999999,19.360000000000003,{"$f":"VLOOKUP(B933,#REF!,3,FALSE)","v":{"$error":"#REF!"}}]
["Minia","Minia 10kA","LD6","OEZ:36616","RSI-20-02-A024","Контактор для проводок","Ith 20 A, Uc AC 24 V, 2x нормально замкнутый контакт","1 / -",0.13,0.14899999999999999,21.32,{"$f":"VLOOKUP(B934,#REF!,3,FALSE)","v":{"$error":"#REF!"}}]
["Minia","Minia 10kA","LD6","OEZ:36617","RSI-25-40-A230","Контактор для проводок","Ith 25 A, Uc AC 230 V, 4x нормально разомкнутый контакт","1 / -",0.23,0.309,20.46,{"$f":"VLOOKUP(B935,#REF!,3,FALSE)","v":{"$error":"#REF!"}}]
["Minia","Minia 10kA","LD6","OEZ:36621","RSI-25-40-A024","Контактор для проводок","Ith 25 A, Uc AC 24 V, 4x нормально разомкнутый контакт","1 / -",0.23,0.309,22.950000000000003,{"$f":"VLOOKUP(B936,#REF!,3,FALSE)","v":{"$error":"#REF!"}}]
["Minia","Minia 10kA","LD6","OEZ:36618","RSI-25-31-A230","Контактор для проводок","Ith 25 A, Uc AC 230 V, 3x нормально разомкнутый контакт, 1x нормально замкнутый контакт","1 / -",0.23,0.309,20.46,{"$f":"VLOOKUP(B937,#REF!,3,FALSE)","v":{"$error":"#REF!"}}]
["Minia","Minia 10kA","LD6","OEZ:36622","RSI-25-31-A024","Контактор для проводок","Ith 25 A, Uc AC 24 V, 3x нормально разомкнутый контакт, 1x нормально замкнутый контакт","1 / -",0.23,0.309,22.950000000000003,{"$f":"VLOOKUP(B938,#REF!,3,FALSE)","v":{"$error":"#REF!"}}]
["Minia","Minia 10kA","LD6","OEZ:36620","RSI-25-04-A230","Контактор для проводок","Ith 25 A, Uc AC 230 V, 4x нормально замкнутый контакт","1 / -",0.23,0.309,21.080000000000002,{"$f":"VLOOKUP(B939,#REF!,3,FALSE)","v":{"$error":"#REF!"}}]
["Minia","Minia 10kA","LD6","OEZ:43273","RSI-32-20-A230","Контактор для проводок","Ith 32 A, Uc AC 230 V, 2x нормально разомкнутый контакт","1 / -",0.13,0.14899999999999999,29.290000000000003,{"$f":"VLOOKUP(B940,#REF!,3,FALSE)","v":{"$error":"#REF!"}}]
["Minia","Minia 10kA","LD6","OEZ:43274","RSI-32-11-A230","Контактор для проводок","Ith 32 A, Uc AC 230 V, 1x нормально разомкнутый контакт, 1x нормально замкнутый контакт","1 / -",0.13,0.14899999999999999,29.290000000000003,{"$f":"VLOOKUP(B941,#REF!,3,FALSE)","v":{"$error":"#REF!"}}]
["Minia","Minia 10kA","LD6","OEZ:43275","RSI-32-02-A230","Контактор для проводок","Ith 32 A, Uc AC 230 V, 2x нормально замкнутый контакт","1 / -",0.13,0.14899999999999999,30.950000000000003,{"$f":"VLOOKUP(B942,#REF!,3,FALSE)","v":{"$error":"#REF!"}}]
["Minia","Minia 10kA","LD6","OEZ:43276","RSI-32-40-A230","Контактор для проводок","Ith 32 A, Uc AC 230 V, 4x нормально разомкнутый контакт","1 / -",0.26,0.309,36.79,{"$f":"VLOOKUP(B943,#REF!,3,FALSE)","v":{"$error":"#REF!"}}]
["Minia","Minia 10kA","LD6","OEZ:43277","RSI-32-31-A230","Контактор для проводок","Ith 32 A, Uc AC 230 V, 3x нормально разомкнутый контакт, 1x нормально замкнутый контакт","1 / -",0.26,0.309,36.79,{"$f":"VLOOKUP(B944,#REF!,3,FALSE)","v":{"$error":"#REF!"}}]
["Minia","Minia 10kA","LD6","OEZ:43278","RSI-32-04-A230","Контактор для проводок","Ith 32 A, Uc AC 230 V, 4x нормально замкнутый контакт","1 / -",0.26,0.309,37.97,{"$f":"VLOOKUP(B945,#REF!,3,FALSE)","v":{"$error":"#REF!"}}]
["Minia","Minia 10kA","LD6","OEZ:36625","RSI-40-40-A230","Контактор для проводок","Ith 40 A, Uc AC 230 V, 4x нормально разомкнутый контакт","1 / -",0.38,0.43,53.83,{"$f":"VLOOKUP(B946,#REF!,3,FALSE)","v":{"$error":"#REF!"}}]
["Minia","Minia 10kA","LD6","OEZ:36629","RSI-40-40-A024","Контактор для проводок","Ith 40 A, Uc AC 24 V, 4x нормально разомкнутый контакт","1 / -",0.38,0.43,60.29,{"$f":"VLOOKUP(B947,#REF!,3,FALSE)","v":{"$error":"#REF!"}}]
["Minia","Minia 10kA","LD6","OEZ:36626","RSI-40-31-A230","Контактор для проводок","Ith 40 A, Uc AC 230 V, 3x нормально разомкнутый контакт, 1x нормально замкнутый контакт","1 / -",0.38,4.2999999999999997E-2,53.83,{"$f":"VLOOKUP(B948,#REF!,3,FALSE)","v":{"$error":"#REF!"}}]
["Minia","Minia 10kA","LD6","OEZ:36630","RSI-40-31-A024","Контактор для проводок","Ith 40 A, Uc AC 24 V, 3x нормально разомкнутый контакт, 1x нормально замкнутый контакт","1 / -",0.38,0.43,60.29,{"$f":"VLOOKUP(B949,#REF!,3,FALSE)","v":{"$error":"#REF!"}}]
["Minia","Minia 10kA","LD6","OEZ:36628","RSI-40-04-A230","Контактор для проводок","Ith 40 A, Uc AC 230 V, 4x нормально замкнутый контакт","1 / -",0.38,0.43,53.83,{"$f":"VLOOKUP(B950,#REF!,3,FALSE)","v":{"$error":"#REF!"}}]
["Minia","Minia 10kA","LD6","OEZ:36633","RSI-63-40-A230","Контактор для проводок","Ith 63 A, Uc AC 230 V, 4x нормально разомкнутый контакт","1 / -",0.38,0.43,60.29,{"$f":"VLOOKUP(B951,#REF!,3,FALSE)","v":{"$error":"#REF!"}}]
["Minia","Minia 10kA","LD6","OEZ:36637","RSI-63-40-A024","Контактор для проводок","Ith 63 A, Uc AC 24 V, 4x нормально разомкнутый контакт","1 / -",0.38,0.43,67.52000000000001,{"$f":"VLOOKUP(B952,#REF!,3,FALSE)","v":{"$error":"#REF!"}}]
["Minia","Minia 10kA","LD6","OEZ:36634","RSI-63-31-A230","Контактор для проводок","Ith 63 A, Uc AC 230 V, 3x нормально разомкнутый контакт, 1x нормально замкнутый контакт","1 / -",0.38,0.43,61.39,{"$f":"VLOOKUP(B953,#REF!,3,FALSE)","v":{"$error":"#REF!"}}]
["Minia","Minia 10kA","LD6","OEZ:36638","RSI-63-31-A024","Контактор для проводок","Ith 63 A, Uc AC 24 V, 3x нормально разомкнутый контакт, 1x нормально замкнутый контакт","1 / -",0.38,0.43,68.740000000000009,{"$f":"VLOOKUP(B954,#REF!,3,FALSE)","v":{"$error":"#REF!"}}]
["Minia","Minia 10kA","LD6","OEZ:36636","RSI-63-04-A230","Контактор для проводок","Ith 63 A, Uc AC 230 V, 4x нормально замкнутый контакт","1 / -",0.38,0.43,68.740000000000009,{"$f":"VLOOKUP(B955,#REF!,3,FALSE)","v":{"$error":"#REF!"}}]
[null,null,null,"Level  4","RSI-_-_-A_-M - Контакторы для проводок AC с ручным управлением"]
["Minia","Minia 10kA","LD6","OEZ:36641","RSI-20-20-A230-M","Контактор для проводок","Ith 20 A, Uc AC 230 V, 2x нормально разомкнутый контакт, с ручным управлением","1 / -",0.13500000000000001,0.14899999999999999,20.34,{"$f":"VLOOKUP(B957,#REF!,3,FALSE)","v":{"$error":"#REF!"}}]
["Minia","Minia 10kA","LD6","OEZ:36643","RSI-20-20-A024-M","Контактор для проводок","Ith 20 A, Uc AC 24 V, 2x нормально разомкнутый контакт, с ручным управлением","1 / -",0.13500000000000001,0.14899999999999999,22.41,{"$f":"VLOOKUP(B958,#REF!,3,FALSE)","v":{"$error":"#REF!"}}]
["Minia","Minia 10kA","LD6","OEZ:36642","RSI-20-11-A230-M","Контактор для проводок","Ith 20 A, Uc AC 230 V, 1x нормально разомкнутый контакт, 1x нормально замкнутый контакт, с ручным управлением","1 / -",0.13500000000000001,0.14899999999999999,20.34,{"$f":"VLOOKUP(B959,#REF!,3,FALSE)","v":{"$error":"#REF!"}}]
["Minia","Minia 10kA","LD6","OEZ:36644","RSI-20-11-A024-M","Контактор для проводок","Ith 20 A, Uc AC 24 V, 1x нормально разомкнутый контакт, 1x нормально замкнутый контакт, с ручным управлением","1 / -",0.13500000000000001,0.14899999999999999,22.41,{"$f":"VLOOKUP(B960,#REF!,3,FALSE)","v":{"$error":"#REF!"}}]
["Minia","Minia 10kA","LD6","OEZ:36645","RSI-25-40-A230-M","Контактор для проводок","Ith 25 A, Uc AC 230 V, 4x нормально разомкнутый контакт, с ручным управлением","1 / -",0.23499999999999999,0.309,22.71,{"$f":"VLOOKUP(B961,#REF!,3,FALSE)","v":{"$error":"#REF!"}}]
["Minia","Minia 10kA","LD6","OEZ:36647","RSI-25-40-A024-M","Контактор для проводок","Ith 25 A, Uc AC 24 V, 4x нормально разомкнутый контакт, с ручным управлением","1 / -",0.23499999999999999,0.309,25.44,{"$f":"VLOOKUP(B962,#REF!,3,FALSE)","v":{"$error":"#REF!"}}]
["Minia","Minia 10kA","LD6","OEZ:36646","RSI-25-31-A230-M","Контактор для проводок","Ith 25 A, Uc AC 230 V, 3x нормально разомкнутый контакт, 1x нормально замкнутый контакт, с ручным управлением","1 / -",0.23499999999999999,0.309,22.71,{"$f":"VLOOKUP(B963,#REF!,3,FALSE)","v":{"$error":"#REF!"}}]
["Minia","Minia 10kA","LD6","OEZ:36648","RSI-25-31-A024-M","Контактор для проводок","Ith 25 A, Uc AC 24 V, 3x нормально разомкнутый контакт, 1x нормально замкнутый контакт, с ручным управлением","1 / -",0.23499999999999999,0.309,25.44,{"$f":"VLOOKUP(B964,#REF!,3,FALSE)","v":{"$error":"#REF!"}}]
["Minia","Minia 10kA","LD6","OEZ:36649","RSI-40-40-A230-M","Контактор для проводок","Ith 40 A, Uc AC 230 V, 4x нормально разомкнутый контакт, с ручным управлением","1 / -",0.39,0.43,59.76,{"$f":"VLOOKUP(B965,#REF!,3,FALSE)","v":{"$error":"#REF!"}}]
["Minia","Minia 10kA","LD6","OEZ:36651","RSI-40-40-A024-M","Контактор для проводок","Ith 40 A, Uc AC 24 V, 4x нормально разомкнутый контакт, с ручным управлением","1 / -",0.39,0.43,66.900000000000006,{"$f":"VLOOKUP(B966,#REF!,3,FALSE)","v":{"$error":"#REF!"}}]
["Minia","Minia 10kA","LD6","OEZ:36650","RSI-40-31-A230-M","Контактор для проводок","Ith 40 A, Uc AC 230 V, 3x нормально разомкнутый контакт, 1x нормально замкнутый контакт, с ручным управлением","1 / -",0.39,0.43,59.76,{"$f":"VLOOKUP(B967,#REF!,3,FALSE)","v":{"$error":"#REF!"}}]
["Minia","Minia 10kA","LD6","OEZ:36652","RSI-40-31-A024-M","Контактор для проводок","Ith 40 A, Uc AC 24 V, 3x нормально разомкнутый контакт, 1x нормально замкнутый контакт, с ручным управлением","1 / -",0.39,0.43,66.900000000000006,{"$f":"VLOOKUP(B968,#REF!,3,FALSE)","v":{"$error":"#REF!"}}]
["Minia","Minia 10kA","LD6","OEZ:36653","RSI-63-40-A230-M","Контактор для проводок","Ith 63 A, Uc AC 230 V, 4x нормально разомкнутый контакт, с ручным управлением","1 / -",0.39,0.43,66.930000000000007,{"$f":"VLOOKUP(B969,#REF!,3,FALSE)","v":{"$error":"#REF!"}}]
[null,null,null,"Level  4","RSI-_-_-X_ - Контакторы для проводок AC/DC"]
["Minia","Minia 10kA","LD6","OEZ:43104","RSI-20-10-X230","Контактор для проводок","Ith 20 A, Uc AC/DC 230 V, 1x нормально разомкнутый контакт","1 / -",0.13,0.14899999999999999,24.84,{"$f":"VLOOKUP(B971,#REF!,3,FALSE)","v":{"$error":"#REF!"}}]
["Minia","Minia 10kA","LD6","OEZ:43105","RSI-20-20-X230","Контактор для проводок","Ith 20 A, Uc AC/DC 230 V, 2x нормально разомкнутый контакт","1 / -",0.13,0.14899999999999999,27.48,{"$f":"VLOOKUP(B972,#REF!,3,FALSE)","v":{"$error":"#REF!"}}]
["Minia","Minia 10kA","LD6","OEZ:43106","RSI-20-20-X024","Контактор для проводок","Ith 20 A, Uc AC/DC 24 V, 2x нормально разомкнутый контакт","1 / -",0.13,0.14899999999999999,30.240000000000002,{"$f":"VLOOKUP(B973,#REF!,3,FALSE)","v":{"$error":"#REF!"}}]
["Minia","Minia 10kA","LD6","OEZ:43107","RSI-20-11-X230","Контактор для проводок","Ith 20 A, Uc AC/DC 230 V, 1x нормально разомкнутый контакт, 1x нормально замкнутый контакт","1 / -",0.13,0.14899999999999999,27.48,{"$f":"VLOOKUP(B974,#REF!,3,FALSE)","v":{"$error":"#REF!"}}]
["Minia","Minia 10kA","LD6","OEZ:43108","RSI-20-11-X024","Контактор для проводок","Ith 20 A, Uc AC/DC 24 V, 1x нормально разомкнутый контакт, 1x нормально замкнутый контакт","1 / -",0.13,0.14899999999999999,30.240000000000002,{"$f":"VLOOKUP(B975,#REF!,3,FALSE)","v":{"$error":"#REF!"}}]
["Minia","Minia 10kA","LD6","OEZ:43109","RSI-20-02-X230","Контактор для проводок","Ith 20 A, Uc AC/DC 230 V, 2x нормально замкнутый контакт","1 / -",0.13,0.14899999999999999,29.020000000000003,{"$f":"VLOOKUP(B976,#REF!,3,FALSE)","v":{"$error":"#REF!"}}]
["Minia","Minia 10kA","LD6","OEZ:43110","RSI-20-02-X024","Контактор для проводок","Ith 20 A, Uc AC/DC 24 V, 2x нормально замкнутый контакт","1 / -",0.13,0.14899999999999999,31.930000000000003,{"$f":"VLOOKUP(B977,#REF!,3,FALSE)","v":{"$error":"#REF!"}}]
["Minia","Minia 10kA","LD6","OEZ:43115","RSI-25-40-X230","Контактор для проводок","Ith 25 A, Uc AC/DC 230 V, 4x нормально разомкнутый контакт","1 / -",0.24,0.309,30.680000000000003,{"$f":"VLOOKUP(B978,#REF!,3,FALSE)","v":{"$error":"#REF!"}}]
["Minia","Minia 10kA","LD6","OEZ:43116","RSI-25-40-X024","Контактор для проводок","Ith 25 A, Uc AC/DC 24 V, 4x нормально разомкнутый контакт","1 / -",0.24,0.309,34.39,{"$f":"VLOOKUP(B979,#REF!,3,FALSE)","v":{"$error":"#REF!"}}]
["Minia","Minia 10kA","LD6","OEZ:43117","RSI-25-31-X230","Контактор для проводок","Ith 25 A, Uc AC/DC 230 V, 3x нормально разомкнутый контакт, 1x нормально замкнутый контакт","1 / -",0.24,0.309,30.680000000000003,{"$f":"VLOOKUP(B980,#REF!,3,FALSE)","v":{"$error":"#REF!"}}]
["Minia","Minia 10kA","LD6","OEZ:43118","RSI-25-31-X024","Контактор для проводок","Ith 25 A, Uc AC/DC 24 V, 3x нормально разомкнутый контакт, 1x нормально замкнутый контакт","1 / -",0.24,0.309,34.39,{"$f":"VLOOKUP(B981,#REF!,3,FALSE)","v":{"$error":"#REF!"}}]
["Minia","Minia 10kA","LD6","OEZ:43119","RSI-25-04-X230","Контактор для проводок","Ith 25 A, Uc AC/DC 230 V, 4x нормально замкнутый контакт","1 / -",0.24,0.309,31.66,{"$f":"VLOOKUP(B982,#REF!,3,FALSE)","v":{"$error":"#REF!"}}]
["Minia","Minia 10kA","LD6","OEZ:43121","RSI-32-20-X230","Контактор для проводок","Ith 32 A, Uc AC/DC 230 V, 2x нормально разомкнутый контакт","1 / -",0.13,0.14899999999999999,43.96,{"$f":"VLOOKUP(B983,#REF!,3,FALSE)","v":{"$error":"#REF!"}}]
["Minia","Minia 10kA","LD6","OEZ:43122","RSI-32-11-X230","Контактор для проводок","Ith 32 A, Uc AC/DC 230 V, 1x нормально разомкнутый контакт, 1x нормально замкнутый контакт","1 / -",0.13,0.14899999999999999,43.96,{"$f":"VLOOKUP(B984,#REF!,3,FALSE)","v":{"$error":"#REF!"}}]
["Minia","Minia 10kA","LD6","OEZ:43123","RSI-32-02-X230","Контактор для проводок","Ith 32 A, Uc AC/DC 230 V, 2x нормально замкнутый контакт","1 / -",0.13,0.14899999999999999,46.419999999999995,{"$f":"VLOOKUP(B985,#REF!,3,FALSE)","v":{"$error":"#REF!"}}]
["Minia","Minia 10kA","LD6","OEZ:43124","RSI-32-40-X230","Контактор для проводок","Ith 32 A, Uc AC/DC 230 V, 4x нормально разомкнутый контакт","1 / -",0.26,0.309,55.22,{"$f":"VLOOKUP(B986,#REF!,3,FALSE)","v":{"$error":"#REF!"}}]
["Minia","Minia 10kA","LD6","OEZ:43125","RSI-32-31-X230","Контактор для проводок","Ith 32 A, Uc AC/DC 230 V, 3x нормально разомкнутый контакт, 1x нормально замкнутый контакт","1 / -",0.26,0.309,55.22,{"$f":"VLOOKUP(B987,#REF!,3,FALSE)","v":{"$error":"#REF!"}}]
["Minia","Minia 10kA","LD6","OEZ:43126","RSI-32-04-X230","Контактор для проводок","Ith 32 A, Uc AC/DC 230 V, 4x нормально замкнутый контакт","1 / -",0.26,0.309,56.97,{"$f":"VLOOKUP(B988,#REF!,3,FALSE)","v":{"$error":"#REF!"}}]
["Minia","Minia 10kA","LD6","OEZ:43127","RSI-40-40-X230","Контактор для проводок","Ith 40 A, Uc AC/DC 230 V, 4x нормально разомкнутый контакт","1 / -",0.42,0.43,80.740000000000009,{"$f":"VLOOKUP(B989,#REF!,3,FALSE)","v":{"$error":"#REF!"}}]
["Minia","Minia 10kA","LD6","OEZ:43128","RSI-40-40-X024","Контактор для проводок","Ith 40 A, Uc AC/DC 24 V, 4x нормально разомкнутый контакт","1 / -",0.42,0.43,90.440000000000012,{"$f":"VLOOKUP(B990,#REF!,3,FALSE)","v":{"$error":"#REF!"}}]
["Minia","Minia 10kA","LD6","OEZ:43129","RSI-40-31-X230","Контактор для проводок","Ith 40 A, Uc AC/DC 230 V, 3x нормально разомкнутый контакт, 1x нормально замкнутый контакт","1 / -",0.42,0.43,80.740000000000009,{"$f":"VLOOKUP(B991,#REF!,3,FALSE)","v":{"$error":"#REF!"}}]
["Minia","Minia 10kA","LD6","OEZ:43130","RSI-40-31-X024","Контактор для проводок","Ith 40 A, Uc AC/DC 24 V, 3x нормально разомкнутый контакт, 1x нормально замкнутый контакт","1 / -",0.42,0.43,90.440000000000012,{"$f":"VLOOKUP(B992,#REF!,3,FALSE)","v":{"$error":"#REF!"}}]
["Minia","Minia 10kA","LD6","OEZ:43131","RSI-40-04-X230","Контактор для проводок","Ith 40 A, Uc AC/DC 230 V, 4x нормально замкнутый контакт","1 / -",0.42,0.43,80.740000000000009,{"$f":"VLOOKUP(B993,#REF!,3,FALSE)","v":{"$error":"#REF!"}}]
["Minia","Minia 10kA","LD6","OEZ:43132","RSI-63-40-X230","Контактор для проводок","Ith 63 A, Uc AC/DC 230 V, 4x нормально разомкнутый контакт","1 / -",0.42,0.43,90.47,{"$f":"VLOOKUP(B994,#REF!,3,FALSE)","v":{"$error":"#REF!"}}]
["Minia","Minia 10kA","LD6","OEZ:43133","RSI-63-40-X024","Контактор для проводок","Ith 63 A, Uc AC/DC 24 V, 4x нормально разомкнутый контакт","1 / -",0.42,0.43,101.28,{"$f":"VLOOKUP(B995,#REF!,3,FALSE)","v":{"$error":"#REF!"}}]
["Minia","Minia 10kA","LD6","OEZ:43134","RSI-63-31-X230","Контактор для проводок","Ith 63 A, Uc AC/DC 230 V, 3x нормально разомкнутый контакт, 1x нормально замкнутый контакт","1 / -",0.42,0.43,92.100000000000009,{"$f":"VLOOKUP(B996,#REF!,3,FALSE)","v":{"$error":"#REF!"}}]
["Minia","Minia 10kA","LD6","OEZ:43135","RSI-63-31-X024","Контактор для проводок","Ith 63 A, Uc AC/DC 24 V, 3x нормально разомкнутый контакт, 1x нормально замкнутый контакт","1 / -",0.42,0.43,103.12,{"$f":"VLOOKUP(B997,#REF!,3,FALSE)","v":{"$error":"#REF!"}}]
[null,null,null,"Level  4","RSI-_-_-X_-M - Контакторы для проводок AC/DC с ручным управлением"]
["Minia","Minia 10kA","LD6","OEZ:43162","RSI-20-20-X230-M","Контактор для проводок","Ith 20 A, Uc AC/DC 230 V, 2x нормально разомкнутый контакт, с ручным управлением","1 / -",0.13,0.14899999999999999,30.5,{"$f":"VLOOKUP(B999,#REF!,3,FALSE)","v":{"$error":"#REF!"}}]
["Minia","Minia 10kA","LD6","OEZ:43163","RSI-20-20-X024-M","Контактор для проводок","Ith 20 A, Uc AC/DC 24 V, 2x нормально разомкнутый контакт, с ручным управлением","1 / -",0.13,0.14899999999999999,33.589999999999996,{"$f":"VLOOKUP(B1000,#REF!,3,FALSE)","v":{"$error":"#REF!"}}]
["Minia","Minia 10kA","LD6","OEZ:43164","RSI-20-11-X230-M","Контактор для проводок","Ith 20 A, Uc AC/DC 230 V, 1x нормально разомкнутый контакт, 1x нормально замкнутый контакт, с ручным управлением","1 / -",0.13,0.14899999999999999,30.5,{"$f":"VLOOKUP(B1001,#REF!,3,FALSE)","v":{"$error":"#REF!"}}]
["Minia","Minia 10kA","LD6","OEZ:43165","RSI-20-11-X024-M","Контактор для проводок","Ith 20 A, Uc AC/DC 24 V, 1x нормально разомкнутый контакт, 1x нормально замкнутый контакт, с ручным управлением","1 / -",0.13,0.14899999999999999,33.589999999999996,{"$f":"VLOOKUP(B1002,#REF!,3,FALSE)","v":{"$error":"#REF!"}}]
["Minia","Minia 10kA","LD6","OEZ:43166","RSI-25-40-X230-M","Контактор для проводок","Ith 25 A, Uc AC/DC 230 V, 4x нормально разомкнутый контакт, с ручным управлением","1 / -",0.24,0.309,34.089999999999996,{"$f":"VLOOKUP(B1003,#REF!,3,FALSE)","v":{"$error":"#REF!"}}]
["Minia","Minia 10kA","LD6","OEZ:43167","RSI-25-40-X024-M","Контактор для проводок","Ith 25 A, Uc AC/DC 24 V, 4x нормально разомкнутый контакт, с ручным управлением","1 / -",0.24,0.309,38.18,{"$f":"VLOOKUP(B1004,#REF!,3,FALSE)","v":{"$error":"#REF!"}}]
["Minia","Minia 10kA","LD6","OEZ:43168","RSI-25-31-X230-M","Контактор для проводок","Ith 25 A, Uc AC/DC 230 V, 3x нормально разомкнутый контакт, 1x нормально замкнутый контакт, с ручным управлением","1 / -",0.24,0.309,34.089999999999996,{"$f":"VLOOKUP(B1005,#REF!,3,FALSE)","v":{"$error":"#REF!"}}]
["Minia","Minia 10kA","LD6","OEZ:43169","RSI-25-31-X024-M","Контактор для проводок","Ith 25 A, Uc AC/DC 24 V, 3x нормально разомкнутый контакт, 1x нормально замкнутый контакт, с ручным управлением","1 / -",0.24,0.309,38.18,{"$f":"VLOOKUP(B1006,#REF!,3,FALSE)","v":{"$error":"#REF!"}}]
[null,null,null,"Level  4","OD-RSI - Принадлежности"]
[null,null,null,"Level  5","PS-RSI - Вспомогательные выключатели"]
["Minia","Minia 10kA","LD6","OEZ:36657","PS-RSI-1100","Вспомогательный выключатель","In 6 A, Un AC 230 V, 1x нормально разомкнутый контакт, 1x нормально замкнутый контакт, для RSI...","1 / -",0.03,0.13300000000000001,18.860000000000003,{"$f":"VLOOKUP(B1009,#REF!,3,FALSE)","v":{"$error":"#REF!"}}]
[null,null,null,"Level  3","RPI - Реле для проводок"]
[null,null,null,"Level  4","RPI - Реле для проводок"]
["Minia","Minia 10kA","LD6","OEZ:43250","RPI-16-001-X230-SE","Реле для проводок","Uc AC 230 V, AC/DC 24 V, 1x перекидной контакт 16 A, зеленая сигнальная лампа","1 / -",7.0000000000000007E-2,0.157,19.240000000000002,{"$f":"VLOOKUP(B1012,#REF!,3,FALSE)","v":{"$error":"#REF!"}}]
["Minia","Minia 10kA","LD6","OEZ:43251","RPI-16-001-X230-SC","Реле для проводок","Uc AC 230 V, AC/DC 24 V, 1x перекидной контакт 16 A, красная сигнальная лампа","1 / -",7.0000000000000007E-2,0.157,19.240000000000002,{"$f":"VLOOKUP(B1013,#REF!,3,FALSE)","v":{"$error":"#REF!"}}]
["Minia","Minia 10kA","LD6","OEZ:43252","RPI-08-002-X230-SE","Реле для проводок","Uc AC 230 V, AC/DC 24 V, 2x перекидной контакт 8 A, зеленая сигнальная лампа","1 / -",7.0000000000000007E-2,0.157,22.650000000000002,{"$f":"VLOOKUP(B1014,#REF!,3,FALSE)","v":{"$error":"#REF!"}}]
["Minia","Minia 10kA","LD6","OEZ:43253","RPI-08-002-X230-SC","Реле для проводок","Uc AC 230 V, AC/DC 24 V, 2x перекидной контакт 8 A, красная сигнальная лампа","1 / -",7.0000000000000007E-2,0.157,22.650000000000002,{"$f":"VLOOKUP(B1015,#REF!,3,FALSE)","v":{"$error":"#REF!"}}]
["Minia","Minia 10kA","LD6","OEZ:43254","RPI-08-003-UNI-SE","Реле для проводок","Uc AC 24 ÷ 230 V, DC 24 ÷ 220 V, 3x перекидной контакт 8 A, зеленая сигнальная лампа","1 / -",7.0000000000000007E-2,0.157,43.66,{"$f":"VLOOKUP(B1016,#REF!,3,FALSE)","v":{"$error":"#REF!"}}]
["Minia","Minia 10kA","LD6","OEZ:43255","RPI-08-003-UNI-SC","Реле для проводок","Uc AC 24 ÷ 230 V, DC 24 ÷ 220 V, 3x перекидной контакт 8 A, красная сигнальная лампа","1 / -",7.0000000000000007E-2,0.157,43.66,{"$f":"VLOOKUP(B1017,#REF!,3,FALSE)","v":{"$error":"#REF!"}}]
[null,null,null,"Level  3","MIG - Механические электронные импульсные реле (памяти)"]
[null,null,null,"Level  4","MIG - Механические электронные импульсные реле (памяти)"]
["Minia","Minia 10kA","LD6","OEZ:43184","MIG-20-10-A230","Импульсное реле","Ith 20 A, Uc AC 230 V, 1x нормально разомкнутый контакт","1 / -",0.13500000000000001,28,22.180000000000003,{"$f":"VLOOKUP(B1020,#REF!,3,FALSE)","v":{"$error":"#REF!"}}]
["Minia","Minia 10kA","LD6","OEZ:43186","MIG-20-20-A230","Импульсное реле","Ith 20 A, Uc AC 230 V, 2x нормально разомкнутый контакт","1 / -",0.13500000000000001,28,22.62,{"$f":"VLOOKUP(B1021,#REF!,3,FALSE)","v":{"$error":"#REF!"}}]
["Minia","Minia 10kA","LD6","OEZ:43185","MIG-20-11-A230","Импульсное реле","Ith 20 A, Uc AC 230 V, 1x нормально разомкнутый контакт, 1x нормально замкнутый контакт","1 / -",0.13500000000000001,28,22.62,{"$f":"VLOOKUP(B1022,#REF!,3,FALSE)","v":{"$error":"#REF!"}}]
["Minia","Minia 10kA","LD6","OEZ:43191","MIG-32-20-A230","Импульсное реле","Ith 32 A, Uc AC 230 V, 2x нормально разомкнутый контакт","1 / -",0.13500000000000001,28,25.110000000000003,{"$f":"VLOOKUP(B1023,#REF!,3,FALSE)","v":{"$error":"#REF!"}}]
["Minia","Minia 10kA","LD6","OEZ:43258","MIG-32-20-A024","Импульсное реле","Ith 32 A, Uc AC 24 V, 2x нормально разомкнутый контакт","1 / -",0.13500000000000001,28,25.110000000000003,{"$f":"VLOOKUP(B1024,#REF!,3,FALSE)","v":{"$error":"#REF!"}}]
["Minia","Minia 10kA","LD6","OEZ:43190","MIG-32-11-A230","Импульсное реле","Ith 32 A, Uc AC 230 V, 1x нормально разомкнутый контакт, 1x нормально замкнутый контакт","1 / -",0.13500000000000001,28,25.080000000000002,{"$f":"VLOOKUP(B1025,#REF!,3,FALSE)","v":{"$error":"#REF!"}}]
["Minia","Minia 10kA","LD6","OEZ:43257","MIG-32-11-A024","Импульсное реле","Ith 32 A, Uc AC 24 V, 1x нормально разомкнутый контакт, 1x нормально замкнутый контакт","1 / -",0.13500000000000001,28,25.110000000000003,{"$f":"VLOOKUP(B1026,#REF!,3,FALSE)","v":{"$error":"#REF!"}}]
["Minia","Minia 10kA","LD6","OEZ:43193","MIG-32-40-A230","Импульсное реле","Ith 32 A, Uc AC 230 V, 4x нормально разомкнутый контакт","1 / -",0.19500000000000001,28,36.11,{"$f":"VLOOKUP(B1027,#REF!,3,FALSE)","v":{"$error":"#REF!"}}]
["Minia","Minia 10kA","LD6","OEZ:43260","MIG-32-40-A024","Импульсное реле","Ith 32 A, Uc AC 24 V, 4x нормально разомкнутый контакт","1 / -",0.19500000000000001,28,36.11,{"$f":"VLOOKUP(B1028,#REF!,3,FALSE)","v":{"$error":"#REF!"}}]
["Minia","Minia 10kA","LD6","OEZ:43256","MIG-32-31-A230","Импульсное реле","Ith 32 A, Uc AC 230 V, 3x нормально разомкнутый контакт, 1x нормально замкнутый контакт","1 / -",0.19500000000000001,28,36.11,{"$f":"VLOOKUP(B1029,#REF!,3,FALSE)","v":{"$error":"#REF!"}}]
["Minia","Minia 10kA","LD6","OEZ:43259","MIG-32-31-A024","Импульсное реле","Ith 32 A, Uc AC 24 V, 3x нормально разомкнутый контакт, 1x нормально замкнутый контакт","1 / -",0.19500000000000001,28,36.11,{"$f":"VLOOKUP(B1030,#REF!,3,FALSE)","v":{"$error":"#REF!"}}]
["Minia","Minia 10kA","LD6","OEZ:43270","MIG-63-40-A230","Импульсное реле","Ith 63 A, Uc AC 230 V, 4x нормально разомкнутый контакт","1 / -",0.4,28,52.91,{"$f":"VLOOKUP(B1031,#REF!,3,FALSE)","v":{"$error":"#REF!"}}]
["Minia","Minia 10kA","LD6","OEZ:43272","MIG-63-40-A024","Импульсное реле","Ith 63 A, Uc AC 24 V, 4x нормально разомкнутый контакт","1 / -",0.4,28,52.91,{"$f":"VLOOKUP(B1032,#REF!,3,FALSE)","v":{"$error":"#REF!"}}]
["Minia","Minia 10kA","LD6","OEZ:43269","MIG-63-31-A230","Импульсное реле","Ith 63 A, Uc AC 230 V, 3x нормально разомкнутый контакт, 1x нормально замкнутый контакт","1 / -",0.4,28,52.91,{"$f":"VLOOKUP(B1033,#REF!,3,FALSE)","v":{"$error":"#REF!"}}]
["Minia","Minia 10kA","LD6","OEZ:43271","MIG-63-31-A024","Импульсное реле","Ith 63 A, Uc AC 24 V, 3x нормально разомкнутый контакт, 1x нормально замкнутый контакт","1 / -",0.4,28,52.91,{"$f":"VLOOKUP(B1034,#REF!,3,FALSE)","v":{"$error":"#REF!"}}]
[null,null,null,"Level  4","OD-MIG - Принадлежности"]
[null,null,null,"Level  5","PS-MIG - Вспомогательные выключатели"]
["Minia","Minia 10kA","LD6","OEZ:43208","PS-MIG-1100","Вспомогательный выключатель","Ie 6 A, Ue AC 250 V, 1x нормально разомкнутый контакт, 1x нормально замкнутый контакт, для MIG","1 / -",0.03,0.48,16.46,{"$f":"VLOOKUP(B1037,#REF!,3,FALSE)","v":{"$error":"#REF!"}}]
[null,null,null,"Level  5","OD-MIG - Остальные принадлежности"]
["Minia","Minia 10kA","LD6","OEZ:43210","OD-MIG-CO1","Блок для центрального управления","Ue AC 250 V, 1x перекидной контакт, для MIG","1 / -",0.03,0.48,17.200000000000003,{"$f":"VLOOKUP(B1039,#REF!,3,FALSE)","v":{"$error":"#REF!"}}]
["Minia","Minia 10kA","LD6","OEZ:43211","OD-MIG-CO2","Блок для многоуровневого центрального управления","Ue AC 250 V, для MIG","1 / -",0.03,0.48,16.16,{"$f":"VLOOKUP(B1040,#REF!,3,FALSE)","v":{"$error":"#REF!"}}]
["Minia","Minia 10kA","LD6","OEZ:35676","OD-MIR-BK","Блок компенсации","для MIR, MIG","1 / -",5.5E-2,5.5E-2,14.17,{"$f":"VLOOKUP(B1041,#REF!,3,FALSE)","v":{"$error":"#REF!"}}]
[null,null,null,"Level  3","MIR - Электронные импульсные реле (памяти)"]
[null,null,null,"Level  4","MIR - Электронные импульсные реле (памяти)"]
["Minia","Minia 10kA","LD6","OEZ:35675","MIR-16-001-A230","Импульсное реле","In 16 A, Uc AC 230 V, 1x перекидной контакт","1 / -",8.5000000000000006E-2,0.17899999999999999,35.989999999999995,{"$f":"VLOOKUP(B1044,#REF!,3,FALSE)","v":{"$error":"#REF!"}}]
[null,null,null,"Level  4","OD-MIR - Принадлежности"]
[null,null,null,"Level  5","OD-MIR - Остальные принадлежности"]
["Minia","Minia 10kA","LD6","OEZ:35676","OD-MIR-BK","Блок компенсации","для MIR, MIG","1 / -",5.5E-2,5.5E-2,14.17,{"$f":"VLOOKUP(B1047,#REF!,3,FALSE)","v":{"$error":"#REF!"}}]
["Minia","Minia 10kA","LD6","OEZ:35677","OD-MIR-CO","Блок для многоуровневого центрального управления","для MIR","1 / -",5.5E-2,5.5E-2,12.93,{"$f":"VLOOKUP(B1048,#REF!,3,FALSE)","v":{"$error":"#REF!"}}]
[null,null,null,"Level  3","MCR - Многофункциональные реле времени"]
[null,null,null,"Level  4","MCR - Многофункциональные реле времени"]
["Minia","Minia 10kA","LD6","OEZ:43239","MCR-MA-001-UNI","Многофункциональное реле времени","Uc AC 12 ÷ 230 V, DC 12 ÷ 220 V, 1x перекидной контакт 8 A, количество функций 9","1 / 10",0.105,0.17899999999999999,40.97,{"$f":"VLOOKUP(B1051,#REF!,3,FALSE)","v":{"$error":"#REF!"}}]
["Minia","Minia 10kA","LD6","OEZ:43240","MCR-MA-003-UNI","Многофункциональное реле времени","Uc AC 24 ÷ 230 V, DC 24 ÷ 220 V, 3x перекидной контакт 8 A, количество функций 9","1 / 10",0.105,0.17899999999999999,54.01,{"$f":"VLOOKUP(B1052,#REF!,3,FALSE)","v":{"$error":"#REF!"}}]
["Minia","Minia 10kA","LD6","OEZ:43241","MCR-MB-001-UNI","Многофункциональное реле времени","Uc AC 12 ÷ 230 V, DC 12 ÷ 220 V, 1x перекидной контакт 8 A, количество функций 18","1 / 10",0.105,0.17899999999999999,42.419999999999995,{"$f":"VLOOKUP(B1053,#REF!,3,FALSE)","v":{"$error":"#REF!"}}]
["Minia","Minia 10kA","LD6","OEZ:43242","MCR-MB-003-UNI","Многофункциональное реле времени","Uc AC 24 ÷ 230 V, DC 24 ÷ 220 V, 3x перекидной контакт 8 A, количество функций 18","1 / 10",0.105,0.17899999999999999,55.489999999999995,{"$f":"VLOOKUP(B1054,#REF!,3,FALSE)","v":{"$error":"#REF!"}}]
["Minia","Minia 10kA","LD6","OEZ:43243","MCR-TK-001-UNI","Импульсное реле времени","Uc AC 12 ÷ 230 V, DC 12 ÷ 220 V, 1x перекидной контакт 8 A, асимметрический циклователь, начинающийся импульсом или промежутком","1 / 10",0.105,0.17899999999999999,40.97,{"$f":"VLOOKUP(B1055,#REF!,3,FALSE)","v":{"$error":"#REF!"}}]
[null,null,null,"Level  3","MAE, MAN, MAA - Таймеры"]
[null,null,null,"Level  4","MAE, MAN, MAA - Таймеры"]
["Minia","Minia 10kA","LD6","OEZ:43078","MAE-A16-100-A230-MINI","Аналоговые таймеры","In 16 A, Uc AC 230 V, 1x нормально разомкнутый контакт, дневная программа, ширина 1 модуль, без резерва хода","1 / -",8.2000000000000003E-2,0.188,34.03,{"$f":"VLOOKUP(B1058,#REF!,3,FALSE)","v":{"$error":"#REF!"}}]
["Minia","Minia 10kA","LD6","OEZ:43067","MAE-A16-001-A230","Аналоговые таймеры","In 16 A, Uc AC 230 V, 1x перекидной контакт, дневная программа, ширина 3 модуля, без резерва хода","1 / -",0.153,0.48,37.799999999999997,{"$f":"VLOOKUP(B1059,#REF!,3,FALSE)","v":{"$error":"#REF!"}}]
["Minia","Minia 10kA","LD6","OEZ:45596","MAE-D16-100-A230-MINI","Цифровой таймер","In 16 A, Uc AC 230 V, 1x нормально разомкнутый контакт, недельная программа, ширина 1 модуль, 1 канал, язык EN, резерв хода","1 / -",9.0999999999999998E-2,0.18,55.339999999999996,{"$f":"VLOOKUP(B1060,#REF!,3,FALSE)","v":{"$error":"#REF!"}}]
["Minia","Minia 10kA","LD6","OEZ:43068","MAE-D16-001-A230","Цифровой таймер","In 16 A, Uc AC 230 V, 1x перекидной контакт, недельная программа, 1 канал, язык EN, резерв хода","1 / -",0.13900000000000001,0.48,56.44,{"$f":"VLOOKUP(B1061,#REF!,3,FALSE)","v":{"$error":"#REF!"}}]
["Minia","Minia 10kA","LD6","OEZ:43069","MAE-D16-002-A230","Цифровой таймер","In 16 A, Uc AC 230 V, 2x перекидной контакт, недельная программа, Количество каналов 2, язык EN, резерв хода","1 / -",0.161,0.48,85.87,{"$f":"VLOOKUP(B1062,#REF!,3,FALSE)","v":{"$error":"#REF!"}}]
["Minia","Minia 10kA","LD6","OEZ:43070","MAN-A16-100-A230-MINI","Аналоговые таймеры","In 16 A, Uc AC 230 V, 1x нормально разомкнутый контакт, дневная программа, ширина 1 модуль, резерв хода","1 / -",8.5000000000000006E-2,0.19,57.059999999999995,{"$f":"VLOOKUP(B1063,#REF!,3,FALSE)","v":{"$error":"#REF!"}}]
["Minia","Minia 10kA","LD6","OEZ:43071","MAN-A16-001-A230","Аналоговые таймеры","In 16 A, Uc AC 230 V, 1x перекидной контакт, дневная программа, ширина 3 модуля, резерв хода","1 / -",0.155,0.48,60.68,{"$f":"VLOOKUP(B1064,#REF!,3,FALSE)","v":{"$error":"#REF!"}}]
["Minia","Minia 10kA","LD6","OEZ:43072","MAN-D16-001-A230","Цифровой таймер","In 16 A, Uc AC 230 V, 1x перекидной контакт, недельная программа, 1 канал, язык CS, EN, DE, PL, RU, IT, FR, ES, PT, NL, DA, FI, NO, SV, TR, резерв хода","1 / -",0.17299999999999999,0.48,84.33,{"$f":"VLOOKUP(B1065,#REF!,3,FALSE)","v":{"$error":"#REF!"}}]
["Minia","Minia 10kA","LD6","OEZ:43073","MAN-D16-002-A230","Цифровой таймер","In 16 A, Uc AC 230 V, 2x перекидной контакт, недельная программа, Количество каналов 2, язык CS, EN, DE, PL, RU, IT, FR, ES, PT, NL, DA, FI, NO, SV, TR, резерв хода","1 / -",0.19700000000000001,0.48,104.37,{"$f":"VLOOKUP(B1066,#REF!,3,FALSE)","v":{"$error":"#REF!"}}]
["Minia","Minia 10kA","LD6","OEZ:43074","MAA-D16-001-A230","Цифровой таймер","In 16 A, Uc AC 230 V, 1x перекидной контакт, недельная программа, 1 канал, функция astro, язык CS, EN, DE, PL, RU, IT, FR, ES, PT, NL, DA, FI, NO, SV, TR, резерв хода","1 / -",0.17299999999999999,0.48,144.10999999999999,{"$f":"VLOOKUP(B1067,#REF!,3,FALSE)","v":{"$error":"#REF!"}}]
["Minia","Minia 10kA","LD6","OEZ:43075","MAA-D16-002-A230","Цифровой таймер","In 16 A, Uc AC 230 V, 2x перекидной контакт, недельная программа, Количество каналов 2, функция astro, язык CS, EN, DE, PL, RU, IT, FR, ES, PT, NL, DA, FI, NO, SV, TR, резерв хода","1 / -",0.19700000000000001,0.48,196.98999999999998,{"$f":"VLOOKUP(B1068,#REF!,3,FALSE)","v":{"$error":"#REF!"}}]
[null,null,null,"Level  4","OD-MA - Принадлежности"]
[null,null,null,"Level  5","OD-MA - Остальные принадлежности"]
["Minia","Minia 10kA","LD6","OEZ:43076","OD-MA-DK","Ключ данных","для цифрового таймера MAN-D.., MAA-D..","1 / -",1.4999999999999999E-2,0.19,11.74,{"$f":"VLOOKUP(B1071,#REF!,3,FALSE)","v":{"$error":"#REF!"}}]
["Minia","Minia 10kA","LD6","OEZ:43077","OD-MA-USB","Адаптер USB","для ключа данных OD-MA-DK, ключ данных входит в упаковку","1 / -",0.111,0.48,124.2,{"$f":"VLOOKUP(B1072,#REF!,3,FALSE)","v":{"$error":"#REF!"}}]
[null,null,null,"Level  3","MQC, MQD - Лестничные выключатели"]
[null,null,null,"Level  4","MQC, MQD - Лестничные выключатели"]
["Minia","Minia 10kA","LD6","OEZ:37830","MQC-16-100-A230","Лестничный выключатель","In 16 A, Uc AC 230 V, 1x нормально разомкнутый контакт, интервал времени 3 ÷ 60 min, предупреждение перед концом отсчета времени","1 / -",8.5999999999999993E-2,0.14499999999999999,40.229999999999997,{"$f":"VLOOKUP(B1075,#REF!,3,FALSE)","v":{"$error":"#REF!"}}]
["Minia","Minia 10kA","LD6","OEZ:45602","MQD-16-100-A230","Лестничный выключатель","In 16 A, Uc AC 230 V, 1x нормально разомкнутый контакт, интервал времени 0,5 ÷ 10 min","1 / 10",0.115,0.188,59.169999999999995,{"$f":"VLOOKUP(B1076,#REF!,3,FALSE)","v":{"$error":"#REF!"}}]
[null,null,null,"Level  3","MMR, 5SV8 - Контрольные реле"]
[null,null,null,"Level  4","MMR-U3 - Контрольное реле напряжения"]
["Minia","Minia 10kA","LD6","OEZ:43244","MMR-U3-001-A230","Контрольное реле","контроль перенапряжения, пониженного напряжения и выпадения фазы, Uc AC 230 V, 1x перекидной контакт 8 A","1 / 10",9.0999999999999998E-2,0.17899999999999999,60.199999999999996,{"$f":"VLOOKUP(B1079,#REF!,3,FALSE)","v":{"$error":"#REF!"}}]
["Minia","Minia 10kA","LD6","OEZ:43245","MMR-X3-001-A230","Контрольное реле","контроль перенапряжения, пониженного напряжения, выпадения фазы, последовательности фаз и асимметрии, Uc AC 230 V, 1x перекидной контакт 8 A","1 / 10",9.0999999999999998E-2,0.17899999999999999,62.839999999999996,{"$f":"VLOOKUP(B1080,#REF!,3,FALSE)","v":{"$error":"#REF!"}}]
[null,null,null,"Level  4","MMR-P - Контрольные реле тока"]
["Minia","Minia 10kA","LD6","OEZ:45597","MMR-P1-001-A230","Контрольное реле тока","диапазон настройки тока 0,1 ÷ 1 A, настраиваемое время задержки 0 ÷ 15 min, гистерезис 10 %, Uc AC 230 V, 1x перекидной контакт 16 A","1 / 10",8.7999999999999995E-2,0.188,98.050000000000011,{"$f":"VLOOKUP(B1082,#REF!,3,FALSE)","v":{"$error":"#REF!"}}]
["Minia","Minia 10kA","LD6","OEZ:45598","MMR-P5-001-A230","Контрольное реле тока","диапазон настройки тока 0,5 ÷ 5 A, настраиваемое время задержки 0 ÷ 15 min, гистерезис 10 %, Uc AC 230 V, 1x перекидной контакт 16 A","1 / 10",8.7999999999999995E-2,0.188,98.050000000000011,{"$f":"VLOOKUP(B1083,#REF!,3,FALSE)","v":{"$error":"#REF!"}}]
["Minia","Minia 10kA","LD6","OEZ:45599","MMR-P25-001-A230","Контрольное реле тока","диапазон настройки тока 2,5 ÷ 25 A, настраиваемое время задержки 0 ÷ 15 min, гистерезис 10 %, Uc AC 230 V, 1x перекидной контакт 16 A","1 / 10",9.8000000000000004E-2,0.188,115.10000000000001,{"$f":"VLOOKUP(B1084,#REF!,3,FALSE)","v":{"$error":"#REF!"}}]
[null,null,null,"Level  4","RLP - Приоритетные реле тока"]
[null,null,null,"Level  4","5SV8 - Контрольные реле остаточного тока"]
["Minia","Minia 10kA","LD6","OEZ:42658","5SV8000-6KK","Контрольное реле остаточного тока","аналоговое исполнение, настройка Idn и tdn","1 / -",0.19600000000000001,0.31,195.35999999999999,{"$f":"VLOOKUP(B1087,#REF!,3,FALSE)","v":{"$error":"#REF!"}}]
["Minia","Minia 10kA","LD6","OEZ:42659","5SV8001-6KK","Контрольное реле остаточного тока","цифровое исполнение, настройка Idn и tdn","1 / -",0.26900000000000002,0.49,251.67999999999998,{"$f":"VLOOKUP(B1088,#REF!,3,FALSE)","v":{"$error":"#REF!"}}]
["Minia","Minia 10kA","LD6","OEZ:42660","5SV8200-6KK","Контрольное реле остаточного тока","цифровое исполнение, настройка Idn и tdn, 4 каналы","1 / -",0.29499999999999998,0.49,406.15999999999997,{"$f":"VLOOKUP(B1089,#REF!,3,FALSE)","v":{"$error":"#REF!"}}]
["Minia","Minia 10kA","LD6","OEZ:42661","5SV8700-0KK","Трансформаторы тока","внутренний диаметр 20 mm, включая держателя, для монтажа на \"U\" рейку, для 5SV8...","1 / -",7.4999999999999997E-2,0.26,69.240000000000009,{"$f":"VLOOKUP(B1090,#REF!,3,FALSE)","v":{"$error":"#REF!"}}]
["Minia","Minia 10kA","LD6","OEZ:42662","5SV8701-0KK","Трансформаторы тока","внутренний диаметр 30 mm, включая держателя, для монтажа на \"U\" рейку, для 5SV8...","1 / -",0.09,0.26,70.67,{"$f":"VLOOKUP(B1091,#REF!,3,FALSE)","v":{"$error":"#REF!"}}]
["Minia","Minia 10kA","LD6","OEZ:42663","5SV8702-0KK","Трансформаторы тока","внутренний диаметр 35 mm, включая держателя, для монтажа на \"U\" рейку, для 5SV8...","1 / -",0.16700000000000001,0.5,74.7,{"$f":"VLOOKUP(B1092,#REF!,3,FALSE)","v":{"$error":"#REF!"}}]
["Minia","Minia 10kA","LD6","OEZ:42664","5SV8703-0KK","Трансформаторы тока","внутренний диаметр 70 mm, включая держателя, для монтажа на \"U\" рейку, для 5SV8...","1 / -",0.29399999999999998,0.75,103.21000000000001,{"$f":"VLOOKUP(B1093,#REF!,3,FALSE)","v":{"$error":"#REF!"}}]
["Minia","Minia 10kA","LD6","OEZ:42665","5SV8704-0KK","Трансформаторы тока","внутренний диаметр 105 mm, включая держателя, для монтажа на \"U\" рейку, для 5SV8...","1 / -",0.52,1.44,150.92999999999998,{"$f":"VLOOKUP(B1094,#REF!,3,FALSE)","v":{"$error":"#REF!"}}]
["Minia","Minia 10kA","LD6","OEZ:42666","5SV8705-0KK","Трансформаторы тока","внутренний диаметр 140 mm, включая держателя, для монтажа на \"U\" рейку, для 5SV8...","1 / -",1.0649999999999999,2.1,319.96999999999997,{"$f":"VLOOKUP(B1095,#REF!,3,FALSE)","v":{"$error":"#REF!"}}]
["Minia","Minia 10kA","LD6","OEZ:42667","5SV8706-0KK","Трансформаторы тока","внутренний диаметр 210 mm, включая держателя, для монтажа на \"U\" рейку, для 5SV8...","1 / -",1.7529999999999999,4.8,469.62,{"$f":"VLOOKUP(B1096,#REF!,3,FALSE)","v":{"$error":"#REF!"}}]
["Minia","Minia 10kA","LD6","OEZ:42668","5SV8900-1KK","Держатель","для монтажа на \"U\" рейку, для трансформаторов тока с внутренним диаметром до 105 mm включительно","2 / -",5.0000000000000001E-3,0.02,4.54,{"$f":"VLOOKUP(B1097,#REF!,3,FALSE)","v":{"$error":"#REF!"}}]
[null,null,null,"Level  4","MMR-HL - Реле уровня"]
["Minia","Minia 10kA","LD6","OEZ:43246","MMR-HL-001-A230","Реле уровня","Uc AC 230 V, 1x перекидной контакт 16 A","1 / 10",9.0999999999999998E-2,0.17899999999999999,91.33,{"$f":"VLOOKUP(B1099,#REF!,3,FALSE)","v":{"$error":"#REF!"}}]
[null,null,null,"Level  4","MMR-T1 - Термисторное реле"]
["Minia","Minia 10kA","LD6","OEZ:43247","MMR-T1-001-A230","Термисторное реле","контроль температуры обмотки двигателя, Uc AC 230 V, 1x перекидной контакт 8 A","1 / 10",8.1000000000000003E-2,0.17899999999999999,44.85,{"$f":"VLOOKUP(B1101,#REF!,3,FALSE)","v":{"$error":"#REF!"}}]
[null,null,null,"Level  4","MMR-T2, MMR-TD - Термостаты"]
["Minia","Minia 10kA","LD6","OEZ:43248","MMR-T2-200-A230","Тепловое реле","контроль двух температур, 2x нормально разомкнутый контакт 16 A, Uc AC 230 V, диапазон измерения температуры -25 ÷ +95 °C","1 / 10",0.21099999999999999,0.42399999999999999,112.7,{"$f":"VLOOKUP(B1103,#REF!,3,FALSE)","v":{"$error":"#REF!"}}]
["Minia","Minia 10kA","LD6","OEZ:43249","MMR-TD-200-A230","Тепловое реле","дифференциальный термостат, 2x нормально разомкнутый контакт 16 A, Uc AC 230 V, количество функций 6, диапазон измерения температуры -25 ÷ +95 °C","1 / 10",0.21099999999999999,0.17899999999999999,112.7,{"$f":"VLOOKUP(B1104,#REF!,3,FALSE)","v":{"$error":"#REF!"}}]
["Minia","Minia 10kA","LD6","OEZ:43725","OD-MMR-T3N","Тепловой зонд","для MMR-T2, MMR-TD, ПВХ кабель 3 m, пластмассовый наконечник, до 100 °C","1 / -",0.05,0.2,9.31,{"$f":"VLOOKUP(B1105,#REF!,3,FALSE)","v":{"$error":"#REF!"}}]
["Minia","Minia 10kA","LD6","OEZ:43726","OD-MMR-T3S","Тепловой зонд","для MMR-T2, MMR-TD, силиконовый кабель 3 m, металлический наконечник, до 150 °C","1 / -",0.05,0.2,31.78,{"$f":"VLOOKUP(B1106,#REF!,3,FALSE)","v":{"$error":"#REF!"}}]
[null,null,null,"Level  2","Остальные приборы"]
[null,null,null,"Level  3","MSO, MSN, AVN-DC - Выключатели"]
[null,null,null,"Level  4","MSO - Выключатели"]
[null,null,null,"Level  5","MSO - Выключатели"]
["Minia","Minia 10kA","LD6","OEZ:42326","MSO-20-1","Выключатель","In 20 A, Ue AC 250 V, 1-полюс","12 / -",0.11,0.14299999999999999,5.8999999999999995,{"$f":"VLOOKUP(B1111,#REF!,3,FALSE)","v":{"$error":"#REF!"}}]
["Minia","Minia 10kA","LD6","OEZ:42330","MSO-32-1","Выключатель","In 32 A, Ue AC 250 V, 1-полюс","12 / -",0.115,0.14299999999999999,6.08,{"$f":"VLOOKUP(B1112,#REF!,3,FALSE)","v":{"$error":"#REF!"}}]
["Minia","Minia 10kA","LD6","OEZ:42334","MSO-40-1","Выключатель","In 40 A, Ue AC 250 V, 1-полюс","12 / -",0.115,0.14299999999999999,6.79,{"$f":"VLOOKUP(B1113,#REF!,3,FALSE)","v":{"$error":"#REF!"}}]
["Minia","Minia 10kA","LD6","OEZ:42338","MSO-63-1","Выключатель","In 63 A, Ue AC 250 V, 1-полюс","12 / -",0.109,0.14299999999999999,7.0299999999999994,{"$f":"VLOOKUP(B1114,#REF!,3,FALSE)","v":{"$error":"#REF!"}}]
["Minia","Minia 10kA","LD6","OEZ:42342","MSO-80-1","Выключатель","In 80 A, Ue AC 250 V, 1-полюс","12 / -",0.115,0.14299999999999999,10.41,{"$f":"VLOOKUP(B1115,#REF!,3,FALSE)","v":{"$error":"#REF!"}}]
["Minia","Minia 10kA","LD6","OEZ:42346","MSO-100-1","Выключатель","In 100 A, Ue AC 250 V, 1-полюс","12 / -",0.11700000000000001,0.14299999999999999,15.6,{"$f":"VLOOKUP(B1116,#REF!,3,FALSE)","v":{"$error":"#REF!"}}]
["Minia","Minia 10kA","LD6","OEZ:42350","MSO-125-1","Выключатель","In 125 A, Ue AC 250 V, 1-полюс","12 / -",0.11700000000000001,0.14299999999999999,24.700000000000003,{"$f":"VLOOKUP(B1117,#REF!,3,FALSE)","v":{"$error":"#REF!"}}]
["Minia","Minia 10kA","LD6","OEZ:42328","MSO-20-1N","Выключатель","In 20 A, Ue AC 250 V, 1+N-полюс","6 / -",0.22800000000000001,0.28499999999999998,13.19,{"$f":"VLOOKUP(B1118,#REF!,3,FALSE)","v":{"$error":"#REF!"}}]
["Minia","Minia 10kA","LD6","OEZ:42332","MSO-32-1N","Выключатель","In 32 A, Ue AC 250 V, 1+N-полюс","6 / -",0.22800000000000001,0.28499999999999998,13.37,{"$f":"VLOOKUP(B1119,#REF!,3,FALSE)","v":{"$error":"#REF!"}}]
["Minia","Minia 10kA","LD6","OEZ:42336","MSO-40-1N","Выключатель","In 40 A, Ue AC 250 V, 1+N-полюс","6 / -",0.22800000000000001,0.28499999999999998,13.37,{"$f":"VLOOKUP(B1120,#REF!,3,FALSE)","v":{"$error":"#REF!"}}]
["Minia","Minia 10kA","LD6","OEZ:42340","MSO-63-1N","Выключатель","In 63 A, Ue AC 250 V, 1+N-полюс","6 / -",0.22800000000000001,0.28499999999999998,14.709999999999999,{"$f":"VLOOKUP(B1121,#REF!,3,FALSE)","v":{"$error":"#REF!"}}]
["Minia","Minia 10kA","LD6","OEZ:42344","MSO-80-1N","Выключатель","In 80 A, Ue AC 250 V, 1+N-полюс","6 / -",0.22800000000000001,0.28499999999999998,20.84,{"$f":"VLOOKUP(B1122,#REF!,3,FALSE)","v":{"$error":"#REF!"}}]
["Minia","Minia 10kA","LD6","OEZ:42348","MSO-100-1N","Выключатель","In 100 A, Ue AC 250 V, 1+N-полюс","6 / -",0.22800000000000001,0.28499999999999998,26.53,{"$f":"VLOOKUP(B1123,#REF!,3,FALSE)","v":{"$error":"#REF!"}}]
["Minia","Minia 10kA","LD6","OEZ:42352","MSO-125-1N","Выключатель","In 125 A, Ue AC 250 V, 1+N-полюс","6 / -",0.22800000000000001,0.28499999999999998,32.11,{"$f":"VLOOKUP(B1124,#REF!,3,FALSE)","v":{"$error":"#REF!"}}]
["Minia","Minia 10kA","LD6","OEZ:42327","MSO-20-3","Выключатель","In 20 A, Ue AC 250/440 V, 3-полюс","4 / -",0.32800000000000001,0.42799999999999999,20.37,{"$f":"VLOOKUP(B1125,#REF!,3,FALSE)","v":{"$error":"#REF!"}}]
["Minia","Minia 10kA","LD6","OEZ:42331","MSO-32-3","Выключатель","In 32 A, Ue AC 250/440 V, 3-полюс","4 / -",0.308,0.42799999999999999,20.55,{"$f":"VLOOKUP(B1126,#REF!,3,FALSE)","v":{"$error":"#REF!"}}]
["Minia","Minia 10kA","LD6","OEZ:42335","MSO-40-3","Выключатель","In 40 A, Ue AC 250/440 V, 3-полюс","4 / -",0.309,0.42799999999999999,21.23,{"$f":"VLOOKUP(B1127,#REF!,3,FALSE)","v":{"$error":"#REF!"}}]
["Minia","Minia 10kA","LD6","OEZ:42339","MSO-63-3","Выключатель","In 63 A, Ue AC 250/440 V, 3-полюс","4 / -",0.31,0.42799999999999999,21.94,{"$f":"VLOOKUP(B1128,#REF!,3,FALSE)","v":{"$error":"#REF!"}}]
["Minia","Minia 10kA","LD6","OEZ:42343","MSO-80-3","Выключатель","In 80 A, Ue AC 250/440 V, 3-полюс","4 / -",0.33200000000000002,0.42799999999999999,39.659999999999997,{"$f":"VLOOKUP(B1129,#REF!,3,FALSE)","v":{"$error":"#REF!"}}]
["Minia","Minia 10kA","LD6","OEZ:42347","MSO-100-3","Выключатель","In 100 A, Ue AC 250/440 V, 3-полюс","4 / -",0.32200000000000001,0.42799999999999999,51.96,{"$f":"VLOOKUP(B1130,#REF!,3,FALSE)","v":{"$error":"#REF!"}}]
["Minia","Minia 10kA","LD6","OEZ:42351","MSO-125-3","Выключатель","In 125 A, Ue AC 250/440 V, 3-полюс","4 / -",0.33,0.42799999999999999,79.2,{"$f":"VLOOKUP(B1131,#REF!,3,FALSE)","v":{"$error":"#REF!"}}]
["Minia","Minia 10kA","LD6","OEZ:42329","MSO-20-3N","Выключатель","In 20 A, Ue AC 250/440 V, 3+N-полюс","3 / -",0.44900000000000001,0.56999999999999995,26.35,{"$f":"VLOOKUP(B1132,#REF!,3,FALSE)","v":{"$error":"#REF!"}}]
["Minia","Minia 10kA","LD6","OEZ:42333","MSO-32-3N","Выключатель","In 32 A, Ue AC 250/440 V, 3+N-полюс","3 / -",0.41099999999999998,0.56999999999999995,26.35,{"$f":"VLOOKUP(B1133,#REF!,3,FALSE)","v":{"$error":"#REF!"}}]
["Minia","Minia 10kA","LD6","OEZ:42337","MSO-40-3N","Выключатель","In 40 A, Ue AC 250/440 V, 3+N-полюс","3 / -",0.41299999999999998,0.56999999999999995,26.35,{"$f":"VLOOKUP(B1134,#REF!,3,FALSE)","v":{"$error":"#REF!"}}]
["Minia","Minia 10kA","LD6","OEZ:42341","MSO-63-3N","Выключатель","In 63 A, Ue AC 250/440 V, 3+N-полюс","3 / -",0.41299999999999998,0.56999999999999995,28.55,{"$f":"VLOOKUP(B1135,#REF!,3,FALSE)","v":{"$error":"#REF!"}}]
["Minia","Minia 10kA","LD6","OEZ:42345","MSO-80-3N","Выключатель","In 80 A, Ue AC 250/440 V, 3+N-полюс","3 / -",0.44,0.56999999999999995,56.47,{"$f":"VLOOKUP(B1136,#REF!,3,FALSE)","v":{"$error":"#REF!"}}]
["Minia","Minia 10kA","LD6","OEZ:42349","MSO-100-3N","Выключатель","In 100 A, Ue AC 250/440 V, 3+N-полюс","3 / -",0.433,0.56999999999999995,78.88000000000001,{"$f":"VLOOKUP(B1137,#REF!,3,FALSE)","v":{"$error":"#REF!"}}]
["Minia","Minia 10kA","LD6","OEZ:42353","MSO-125-3N","Выключатель","In 125 A, Ue AC 250/440 V, 3+N-полюс","3 / -",0.443,0.56999999999999995,98.47,{"$f":"VLOOKUP(B1138,#REF!,3,FALSE)","v":{"$error":"#REF!"}}]
[null,null,null,"Level  5","OD-MSO - Принадлежности"]
[null,null,null,"Level  6","PS-LT - Вспомогательные выключатели"]
["Minia","Minia 10kA","LD2","OEZ:42297","PS-LT-1100","Вспомогательный выключатель","1x нормально разомкнутый контакт, 1x нормально замкнутый контакт, для LTS, LTP, LVN, LFE, LFN, OLE, OLI, MSO, MSN","1 / 15",5.5E-2,0.124,7.8,{"$f":"VLOOKUP(B1141,#REF!,3,FALSE)","v":{"$error":"#REF!"}}]
["Minia","Minia 10kA","LD2","OEZ:42300","PS-LT-1100-TE","Вспомогательный выключатель","1x нормально разомкнутый контакт, 1x нормально замкнутый контакт, кнопка тестирования, для LTS, LTP, LVN, LFE, LFN, OLE, OLI, MSO, MSN","1 / 15",7.0999999999999994E-2,0.124,9.73,{"$f":"VLOOKUP(B1142,#REF!,3,FALSE)","v":{"$error":"#REF!"}}]
["Minia","Minia 10kA","LD2","OEZ:42303","PS-LT-1100-MN","Вспомогательный выключатель","1x нормально разомкнутый контакт, 1x нормально замкнутый контакт, для LTS, LTP, LVN, LFE, LFN, OLE, OLI, MSO, MSN","1 / 15",7.4999999999999997E-2,0.124,15.57,{"$f":"VLOOKUP(B1143,#REF!,3,FALSE)","v":{"$error":"#REF!"}}]
["Minia","Minia 10kA","LD2","OEZ:42304","PS-LT-1100-MN-TE","Вспомогательный выключатель","1x нормально разомкнутый контакт, 1x нормально замкнутый контакт, кнопка тестирования, для LTS, LTP, LVN, LFE, LFN, OLE, OLI, MSO, MSN","1 / 15",6.9000000000000006E-2,0.124,18.680000000000003,{"$f":"VLOOKUP(B1144,#REF!,3,FALSE)","v":{"$error":"#REF!"}}]
["Minia","Minia 10kA","LD2","OEZ:42299","PS-LT-2000","Вспомогательный выключатель","2x нормально разомкнутый контакт, для LTS, LTP, LVN, LFE, LFN, OLE, OLI, MSO, MSN","1 / 15",6.6000000000000003E-2,0.124,8.66,{"$f":"VLOOKUP(B1145,#REF!,3,FALSE)","v":{"$error":"#REF!"}}]
["Minia","Minia 10kA","LD2","OEZ:42302","PS-LT-2000-TE","Вспомогательный выключатель","2x нормально разомкнутый контакт, кнопка тестирования, для LTS, LTP, LVN, LFE, LFN, OLE, OLI, MSO, MSN","1 / 15",6.8000000000000005E-2,0.124,10.82,{"$f":"VLOOKUP(B1146,#REF!,3,FALSE)","v":{"$error":"#REF!"}}]
["Minia","Minia 10kA","LD2","OEZ:42298","PS-LT-0200","Вспомогательный выключатель","2x нормально замкнутый контакт, для LTS, LTP, LVN, LFE, LFN, OLE, OLI, MSO, MSN","1 / 15",6.6000000000000003E-2,0.124,8.66,{"$f":"VLOOKUP(B1147,#REF!,3,FALSE)","v":{"$error":"#REF!"}}]
["Minia","Minia 10kA","LD2","OEZ:42301","PS-LT-0200-TE","Вспомогательный выключатель","2x нормально замкнутый контакт, кнопка тестирования, для LTS, LTP, LVN, LFE, LFN, OLE, OLI, MSO, MSN","1 / 15",7.0999999999999994E-2,0.124,10.82,{"$f":"VLOOKUP(B1148,#REF!,3,FALSE)","v":{"$error":"#REF!"}}]
[null,null,null,"Level  6","OD-LT - Остальные принадлежности"]
["Minia","Minia 10kA","LD2","OEZ:42325","OD-LT-VU02","Вставка для запирания","для LFE, LFN, MSO","1 / 10",4.0000000000000001E-3,6.0000000000000001E-3,1.07,{"$f":"VLOOKUP(B1150,#REF!,3,FALSE)","v":{"$error":"#REF!"}}]
["Minia","Minia 10kA","LD2","OEZ:42323","OD-LT-VP01","Пломбируемый вкладыш","для LTS, LTP, LVN, OLE, OLI, MSN, MSO, AVN-DC","1 / 10",2E-3,3.0000000000000001E-3,1.28,{"$f":"VLOOKUP(B1151,#REF!,3,FALSE)","v":{"$error":"#REF!"}}]
[null,null,null,"Level  4","MSN - Выключатели"]
[null,null,null,"Level  5","MSN - Выключатели"]
["Minia","Minia 10kA","LD6","OEZ:44291","MSN-32-1","Выключатель","In 32 A, Ue AC 230 V, 1-полюс","12 / -",0.123,0.14299999999999999,13.08,{"$f":"VLOOKUP(B1154,#REF!,3,FALSE)","v":{"$error":"#REF!"}}]
["Minia","Minia 10kA","LD6","OEZ:44292","MSN-40-1","Выключатель","In 40 A, Ue AC 230 V, 1-полюс","12 / -",0.123,0.14299999999999999,13.08,{"$f":"VLOOKUP(B1155,#REF!,3,FALSE)","v":{"$error":"#REF!"}}]
["Minia","Minia 10kA","LD6","OEZ:44293","MSN-63-1","Выключатель","In 63 A, Ue AC 230 V, 1-полюс","12 / -",0.13800000000000001,0.14299999999999999,12.36,{"$f":"VLOOKUP(B1156,#REF!,3,FALSE)","v":{"$error":"#REF!"}}]
["Minia","Minia 10kA","LD6","OEZ:44294","MSN-32-2","Выключатель","In 32 A, Ue AC 230/400 V, 2-полюс","6 / -",0.26,0.28499999999999998,25.14,{"$f":"VLOOKUP(B1157,#REF!,3,FALSE)","v":{"$error":"#REF!"}}]
["Minia","Minia 10kA","LD6","OEZ:44295","MSN-40-2","Выключатель","In 40 A, Ue AC 230/400 V, 2-полюс","6 / -",0.26,0.28499999999999998,25.14,{"$f":"VLOOKUP(B1158,#REF!,3,FALSE)","v":{"$error":"#REF!"}}]
["Minia","Minia 10kA","LD6","OEZ:44296","MSN-63-2","Выключатель","In 63 A, Ue AC 230/400 V, 2-полюс","6 / -",0.249,0.28499999999999998,25.14,{"$f":"VLOOKUP(B1159,#REF!,3,FALSE)","v":{"$error":"#REF!"}}]
["Minia","Minia 10kA","LD6","OEZ:44297","MSN-125-2","Выключатель","In 125 A, Ue AC 230/400 V, 2-полюс","1 / -",0.48199999999999998,0.48899999999999999,50.419999999999995,{"$f":"VLOOKUP(B1160,#REF!,3,FALSE)","v":{"$error":"#REF!"}}]
["Minia","Minia 10kA","LD6","OEZ:44298","MSN-32-3","Выключатель","In 32 A, Ue AC 230/400 V, 3-полюс","4 / -",0.38200000000000001,0.42799999999999999,33.76,{"$f":"VLOOKUP(B1161,#REF!,3,FALSE)","v":{"$error":"#REF!"}}]
["Minia","Minia 10kA","LD6","OEZ:44299","MSN-40-3","Выключатель","In 40 A, Ue AC 230/400 V, 3-полюс","4 / -",0.38200000000000001,0.42799999999999999,34.589999999999996,{"$f":"VLOOKUP(B1162,#REF!,3,FALSE)","v":{"$error":"#REF!"}}]
["Minia","Minia 10kA","LD6","OEZ:44300","MSN-63-3","Выключатель","In 63 A, Ue AC 230/400 V, 3-полюс","4 / -",0.373,0.42799999999999999,34.589999999999996,{"$f":"VLOOKUP(B1163,#REF!,3,FALSE)","v":{"$error":"#REF!"}}]
["Minia","Minia 10kA","LD6","OEZ:44301","MSN-125-3","Выключатель","In 125 A, Ue AC 230/400 V, 3-полюс","1 / -",0.72099999999999997,0.70899999999999996,73.600000000000009,{"$f":"VLOOKUP(B1164,#REF!,3,FALSE)","v":{"$error":"#REF!"}}]
["Minia","Minia 10kA","LD6","OEZ:44302","MSN-32-4","Выключатель","In 32 A, Ue AC 230/400 V, 4-полюс","3 / -",0.499,0.56999999999999995,45.41,{"$f":"VLOOKUP(B1165,#REF!,3,FALSE)","v":{"$error":"#REF!"}}]
["Minia","Minia 10kA","LD6","OEZ:44303","MSN-40-4","Выключатель","In 40 A, Ue AC 230/400 V, 4-полюс","3 / -",0.499,0.56999999999999995,44.85,{"$f":"VLOOKUP(B1166,#REF!,3,FALSE)","v":{"$error":"#REF!"}}]
["Minia","Minia 10kA","LD6","OEZ:44304","MSN-63-4","Выключатель","In 63 A, Ue AC 230/400 V, 4-полюс","3 / -",0.504,0.56999999999999995,45.41,{"$f":"VLOOKUP(B1167,#REF!,3,FALSE)","v":{"$error":"#REF!"}}]
["Minia","Minia 10kA","LD6","OEZ:44305","MSN-125-4","Выключатель","In 125 A, Ue AC 230/400 V, 4-полюс","1 / -",0.96699999999999997,0.92900000000000005,96.75,{"$f":"VLOOKUP(B1168,#REF!,3,FALSE)","v":{"$error":"#REF!"}}]
[null,null,null,"Level  5","OD-MSN - Принадлежности"]
[null,null,null,"Level  6","PS-LT - Вспомогательные выключатели"]
["Minia","Minia 10kA","LD2","OEZ:42297","PS-LT-1100","Вспомогательный выключатель","1x нормально разомкнутый контакт, 1x нормально замкнутый контакт, для LTS, LTP, LVN, LFE, LFN, OLE, OLI, MSO, MSN","1 / 15",5.5E-2,0.124,7.8,{"$f":"VLOOKUP(B1171,#REF!,3,FALSE)","v":{"$error":"#REF!"}}]
["Minia","Minia 10kA","LD2","OEZ:42300","PS-LT-1100-TE","Вспомогательный выключатель","1x нормально разомкнутый контакт, 1x нормально замкнутый контакт, кнопка тестирования, для LTS, LTP, LVN, LFE, LFN, OLE, OLI, MSO, MSN","1 / 15",7.0999999999999994E-2,0.124,9.73,{"$f":"VLOOKUP(B1172,#REF!,3,FALSE)","v":{"$error":"#REF!"}}]
["Minia","Minia 10kA","LD2","OEZ:42303","PS-LT-1100-MN","Вспомогательный выключатель","1x нормально разомкнутый контакт, 1x нормально замкнутый контакт, для LTS, LTP, LVN, LFE, LFN, OLE, OLI, MSO, MSN","1 / 15",7.4999999999999997E-2,0.124,15.57,{"$f":"VLOOKUP(B1173,#REF!,3,FALSE)","v":{"$error":"#REF!"}}]
["Minia","Minia 10kA","LD2","OEZ:42304","PS-LT-1100-MN-TE","Вспомогательный выключатель","1x нормально разомкнутый контакт, 1x нормально замкнутый контакт, кнопка тестирования, для LTS, LTP, LVN, LFE, LFN, OLE, OLI, MSO, MSN","1 / 15",6.9000000000000006E-2,0.124,18.680000000000003,{"$f":"VLOOKUP(B1174,#REF!,3,FALSE)","v":{"$error":"#REF!"}}]
["Minia","Minia 10kA","LD2","OEZ:42299","PS-LT-2000","Вспомогательный выключатель","2x нормально разомкнутый контакт, для LTS, LTP, LVN, LFE, LFN, OLE, OLI, MSO, MSN","1 / 15",6.6000000000000003E-2,0.124,8.66,{"$f":"VLOOKUP(B1175,#REF!,3,FALSE)","v":{"$error":"#REF!"}}]
["Minia","Minia 10kA","LD2","OEZ:42302","PS-LT-2000-TE","Вспомогательный выключатель","2x нормально разомкнутый контакт, кнопка тестирования, для LTS, LTP, LVN, LFE, LFN, OLE, OLI, MSO, MSN","1 / 15",6.8000000000000005E-2,0.124,10.82,{"$f":"VLOOKUP(B1176,#REF!,3,FALSE)","v":{"$error":"#REF!"}}]
["Minia","Minia 10kA","LD2","OEZ:42298","PS-LT-0200","Вспомогательный выключатель","2x нормально замкнутый контакт, для LTS, LTP, LVN, LFE, LFN, OLE, OLI, MSO, MSN","1 / 15",6.6000000000000003E-2,0.124,8.66,{"$f":"VLOOKUP(B1177,#REF!,3,FALSE)","v":{"$error":"#REF!"}}]
["Minia","Minia 10kA","LD2","OEZ:42301","PS-LT-0200-TE","Вспомогательный выключатель","2x нормально замкнутый контакт, кнопка тестирования, для LTS, LTP, LVN, LFE, LFN, OLE, OLI, MSO, MSN","1 / 15",7.0999999999999994E-2,0.124,10.82,{"$f":"VLOOKUP(B1178,#REF!,3,FALSE)","v":{"$error":"#REF!"}}]
[null,null,null,"Level  6","SV-LT - независимые расцепители"]
["Minia","Minia 10kA","LD2","OEZ:42312","SV-LT-X060","Независимый расцепитель","Uc AC/DC 24 - 60 V, для LTS, LTP, LVN, LFE, LFN, OLE, OLI, MSN","1 / -",0.106,0.255,20.520000000000003,{"$f":"VLOOKUP(B1180,#REF!,3,FALSE)","v":{"$error":"#REF!"}}]
["Minia","Minia 10kA","LD2","OEZ:42313","SV-LT-X400","Независимый расцепитель","Uc AC 110 - 415 V / DC 110 V, для LTS, LTP, LVN, LFE, LFN, OLE, OLI, MSN","1 / -",9.8000000000000004E-2,0.255,20.580000000000002,{"$f":"VLOOKUP(B1181,#REF!,3,FALSE)","v":{"$error":"#REF!"}}]
[null,null,null,"Level  6","SP-LT - Расцепители минимального напряжения"]
["Minia","Minia 10kA","LD2","OEZ:42315","SP-LT-A230","Расцепитель минимального напряжения","Uc AC 230 V, для LTS, LTP, LVN, LFE, LFN, OLE, OLI, MSN","1 / -",0.109,0.255,44.879999999999995,{"$f":"VLOOKUP(B1183,#REF!,3,FALSE)","v":{"$error":"#REF!"}}]
["Minia","Minia 10kA","LD2","OEZ:42317","SP-LT-A230-2000","Расцепитель минимального напряжения","Uc AC 230 V, 2x нормально разомкнутый контакт, для LTS, LTP, LVN, LFE, LFN, OLE, OLI, MSN","1 / -",0.123,0.255,53.53,{"$f":"VLOOKUP(B1184,#REF!,3,FALSE)","v":{"$error":"#REF!"}}]
["Minia","Minia 10kA","LD2","OEZ:42319","SP-LT-D024","Расцепитель минимального напряжения","Uc DC 24 V, для LTS, LTP, LVN, LFE, LFN, OLE, OLI, MSN","1 / -",0.113,0.255,60.089999999999996,{"$f":"VLOOKUP(B1185,#REF!,3,FALSE)","v":{"$error":"#REF!"}}]
["Minia","Minia 10kA","LD2","OEZ:42321","SP-LT-D024-2000","Расцепитель минимального напряжения","Uc DC 24 V, 2x нормально разомкнутый контакт, для LTS, LTP, LVN, LFE, LFN, OLE, OLI, MSN","1 / -",0.128,0.255,68.710000000000008,{"$f":"VLOOKUP(B1186,#REF!,3,FALSE)","v":{"$error":"#REF!"}}]
["Minia","Minia 10kA","LD2","OEZ:42320","SP-LT-D110","Расцепитель минимального напряжения","Uc DC 110 V, для LTS, LTP, LVN, LFE, LFN, OLE, OLI, MSN","1 / -",0.105,0.255,44.79,{"$f":"VLOOKUP(B1187,#REF!,3,FALSE)","v":{"$error":"#REF!"}}]
["Minia","Minia 10kA","LD2","OEZ:42322","SP-LT-D110-2000","Расцепитель минимального напряжения","Uc DC 110 V, 2x нормально разомкнутый контакт, для LTS, LTP, LVN, LFE, LFN, OLE, OLI, MSN","1 / -",0.11700000000000001,0.255,53.449999999999996,{"$f":"VLOOKUP(B1188,#REF!,3,FALSE)","v":{"$error":"#REF!"}}]
[null,null,null,"Level  6","OD-LT - Остальные принадлежности"]
["Minia","Minia 10kA","LD2","OEZ:42324","OD-LT-VU01","Вставка для запирания","для LTS, LTP, LVN, OLE, OLI, MSN, AVN-DC","1 / 10",1.0999999999999999E-2,3.9E-2,6.97,{"$f":"VLOOKUP(B1190,#REF!,3,FALSE)","v":{"$error":"#REF!"}}]
["Minia","Minia 10kA","LD2","OEZ:42323","OD-LT-VP01","Пломбируемый вкладыш","для LTS, LTP, LVN, OLE, OLI, MSN, MSO, AVN-DC","1 / 10",2E-3,3.0000000000000001E-3,1.28,{"$f":"VLOOKUP(B1191,#REF!,3,FALSE)","v":{"$error":"#REF!"}}]
[null,null,null,"Level  4","AVN-DC - Выключатели"]
[null,null,null,"Level  5","AVN-DC - Выключатели"]
["Minia","Minia DC","LD6","OEZ:39752","AVN-DC-63-4","Тумблерный выключатель","In 63 A, Ue DC 1000 V, 4-полюс, ширина 4 модуля, замена 5TE2 515-1","1 / -",0.67200000000000004,0.49199999999999999,172.89999999999998,{"$f":"VLOOKUP(B1194,#REF!,3,FALSE)","v":{"$error":"#REF!"}}]
[null,null,null,"Level  5","OD-AVN - Принадлежности"]
[null,null,null,"Level  6","PS-LT - Вспомогательные выключатели"]
["Minia","Minia 10kA","LD2","OEZ:42297","PS-LT-1100","Вспомогательный выключатель","1x нормально разомкнутый контакт, 1x нормально замкнутый контакт, для LTS, LTP, LVN, LFE, LFN, OLE, OLI, MSO, MSN","1 / 15",5.5E-2,0.124,7.8,{"$f":"VLOOKUP(B1197,#REF!,3,FALSE)","v":{"$error":"#REF!"}}]
["Minia","Minia 10kA","LD2","OEZ:42300","PS-LT-1100-TE","Вспомогательный выключатель","1x нормально разомкнутый контакт, 1x нормально замкнутый контакт, кнопка тестирования, для LTS, LTP, LVN, LFE, LFN, OLE, OLI, MSO, MSN","1 / 15",7.0999999999999994E-2,0.124,9.73,{"$f":"VLOOKUP(B1198,#REF!,3,FALSE)","v":{"$error":"#REF!"}}]
["Minia","Minia 10kA","LD2","OEZ:42303","PS-LT-1100-MN","Вспомогательный выключатель","1x нормально разомкнутый контакт, 1x нормально замкнутый контакт, для LTS, LTP, LVN, LFE, LFN, OLE, OLI, MSO, MSN","1 / 15",7.4999999999999997E-2,0.124,15.57,{"$f":"VLOOKUP(B1199,#REF!,3,FALSE)","v":{"$error":"#REF!"}}]
["Minia","Minia 10kA","LD2","OEZ:42304","PS-LT-1100-MN-TE","Вспомогательный выключатель","1x нормально разомкнутый контакт, 1x нормально замкнутый контакт, кнопка тестирования, для LTS, LTP, LVN, LFE, LFN, OLE, OLI, MSO, MSN","1 / 15",6.9000000000000006E-2,0.124,18.680000000000003,{"$f":"VLOOKUP(B1200,#REF!,3,FALSE)","v":{"$error":"#REF!"}}]
["Minia","Minia 10kA","LD2","OEZ:42299","PS-LT-2000","Вспомогательный выключатель","2x нормально разомкнутый контакт, для LTS, LTP, LVN, LFE, LFN, OLE, OLI, MSO, MSN","1 / 15",6.6000000000000003E-2,0.124,8.66,{"$f":"VLOOKUP(B1201,#REF!,3,FALSE)","v":{"$error":"#REF!"}}]
["Minia","Minia 10kA","LD2","OEZ:42302","PS-LT-2000-TE","Вспомогательный выключатель","2x нормально разомкнутый контакт, кнопка тестирования, для LTS, LTP, LVN, LFE, LFN, OLE, OLI, MSO, MSN","1 / 15",6.8000000000000005E-2,0.124,10.82,{"$f":"VLOOKUP(B1202,#REF!,3,FALSE)","v":{"$error":"#REF!"}}]
["Minia","Minia 10kA","LD2","OEZ:42298","PS-LT-0200","Вспомогательный выключатель","2x нормально замкнутый контакт, для LTS, LTP, LVN, LFE, LFN, OLE, OLI, MSO, MSN","1 / 15",6.6000000000000003E-2,0.124,8.66,{"$f":"VLOOKUP(B1203,#REF!,3,FALSE)","v":{"$error":"#REF!"}}]
["Minia","Minia 10kA","LD2","OEZ:42301","PS-LT-0200-TE","Вспомогательный выключатель","2x нормально замкнутый контакт, кнопка тестирования, для LTS, LTP, LVN, LFE, LFN, OLE, OLI, MSO, MSN","1 / 15",7.0999999999999994E-2,0.124,10.82,{"$f":"VLOOKUP(B1204,#REF!,3,FALSE)","v":{"$error":"#REF!"}}]
[null,null,null,"Level  6","OD-LT - Остальные принадлежности"]
["Minia","Minia 10kA","LD2","OEZ:42324","OD-LT-VU01","Вставка для запирания","для LTS, LTP, LVN, OLE, OLI, MSN, AVN-DC","1 / 10",1.0999999999999999E-2,3.9E-2,6.97,{"$f":"VLOOKUP(B1206,#REF!,3,FALSE)","v":{"$error":"#REF!"}}]
["Minia","Minia 10kA","LD2","OEZ:42323","OD-LT-VP01","Пломбируемый вкладыш","для LTS, LTP, LVN, OLE, OLI, MSN, MSO, AVN-DC","1 / 10",2E-3,3.0000000000000001E-3,1.28,{"$f":"VLOOKUP(B1207,#REF!,3,FALSE)","v":{"$error":"#REF!"}}]
[null,null,null,"Level  3","MSP, MSK, MST, MTX, MT2 - Выключатели и кнопки"]
[null,null,null,"Level  4","MSP - Тумблерные выключатели"]
[null,null,null,"Level  5","MSP - Тумблерные выключатели"]
["Minia","Minia 10kA","LD6","OEZ:35865","MSP-11","Тумблерный выключатель","Ith 25 A, Ue AC 230/400 V, 1x нормально разомкнутый контакт, 1x нормально замкнутый контакт, ширина 1 модуль","1 / -",8.4000000000000005E-2,0.17899999999999999,10.82,{"$f":"VLOOKUP(B1211,#REF!,3,FALSE)","v":{"$error":"#REF!"}}]
["Minia","Minia 10kA","LD6","OEZ:35870","MSP-22","Тумблерный выключатель","Ith 25 A, Ue AC 230/400 V, 2x нормально разомкнутый контакт, 2x нормально замкнутый контакт, ширина 1 модуль","1 / -",9.4E-2,0.17899999999999999,10.82,{"$f":"VLOOKUP(B1212,#REF!,3,FALSE)","v":{"$error":"#REF!"}}]
["Minia","Minia 10kA","LD6","OEZ:35874","MSP-40","Тумблерный выключатель","Ith 25 A, Ue AC 230/400 V, 4x нормально разомкнутый контакт, ширина 1 модуль","1 / -",9.4E-2,0.17899999999999999,13.97,{"$f":"VLOOKUP(B1213,#REF!,3,FALSE)","v":{"$error":"#REF!"}}]
["Minia","Minia 10kA","LD6","OEZ:37262","MSP-11-SG-A230","Тумблерный выключатель","Ith 25 A, Ue AC 230/400 V, 1x нормально разомкнутый контакт, 1x нормально замкнутый контакт, ширина 1 модуль, с сигнализацией - белый цвет / AC 230 V","1 / -",9.4E-2,0.17899999999999999,13.49,{"$f":"VLOOKUP(B1214,#REF!,3,FALSE)","v":{"$error":"#REF!"}}]
["Minia","Minia 10kA","LD6","OEZ:37263","MSP-20-SG-A230","Тумблерный выключатель","Ith 25 A, Ue AC 230/400 V, 2x нормально разомкнутый контакт, ширина 1 модуль, с сигнализацией - белый цвет / AC 230 V","1 / -",9.4E-2,0.17899999999999999,13.49,{"$f":"VLOOKUP(B1215,#REF!,3,FALSE)","v":{"$error":"#REF!"}}]
["Minia","Minia 10kA","LD6","OEZ:35866","MSP-11N","Модуль тумблерных выключателей с сигнализацией","Ith 25 A, Ue AC 230/400 V, 1x нормально разомкнутый контакт, 1x нормально замкнутый контакт, ширина 1 модуль, для дополнения сигнальной лампой","1 / -",8.4000000000000005E-2,0.17599999999999999,7.8,{"$f":"VLOOKUP(B1216,#REF!,3,FALSE)","v":{"$error":"#REF!"}}]
["Minia","Minia 10kA","LD6","OEZ:35868","MSP-20N","Модуль тумблерных выключателей с сигнализацией","Ith 25 A, Ue AC 230/400 V, 2x нормально разомкнутый контакт, ширина 1 модуль, для дополнения сигнальной лампой","1 / -",8.4000000000000005E-2,0.17599999999999999,7.77,{"$f":"VLOOKUP(B1217,#REF!,3,FALSE)","v":{"$error":"#REF!"}}]
[null,null,null,"Level  5","S_ - Сигнальные лампы"]
["Minia","Minia 10kA","LD6","OEZ:11102","SC-A230","Сигнальная лампа","Ue AC 230 V, красный цвет, для MSP, MTX, MKA","12 / -",3.0000000000000001E-3,6.0000000000000001E-3,7.27,{"$f":"VLOOKUP(B1219,#REF!,3,FALSE)","v":{"$error":"#REF!"}}]
["Minia","Minia 10kA","LD6","OEZ:11104","SD-A230","Сигнальная лампа","Ue AC 230 V, желтый цвет, для MSP, MTX, MKA","12 / -",3.0000000000000001E-3,6.0000000000000001E-3,7.27,{"$f":"VLOOKUP(B1220,#REF!,3,FALSE)","v":{"$error":"#REF!"}}]
["Minia","Minia 10kA","LD6","OEZ:11103","SE-A230","Сигнальная лампа","Ue AC 230 V, зеленый цвет, для MSP, MTX, MKA","12 / -",3.0000000000000001E-3,6.0000000000000001E-3,7.27,{"$f":"VLOOKUP(B1221,#REF!,3,FALSE)","v":{"$error":"#REF!"}}]
["Minia","Minia 10kA","LD6","OEZ:11101","SG-A230","Сигнальная лампа","Ue AC 230 V, белый цвет, для MSP, MTX, MKA","12 / -",3.0000000000000001E-3,6.0000000000000001E-3,7.27,{"$f":"VLOOKUP(B1222,#REF!,3,FALSE)","v":{"$error":"#REF!"}}]
["Minia","Minia 10kA","LD6","OEZ:11106","SC-X024","Сигнальная лампа","Ue AC/DC 24 V, красный цвет, для MSP, MTX, MKA","12 / -",3.0000000000000001E-3,6.0000000000000001E-3,7.27,{"$f":"VLOOKUP(B1223,#REF!,3,FALSE)","v":{"$error":"#REF!"}}]
["Minia","Minia 10kA","LD6","OEZ:11108","SD-X024","Сигнальная лампа","Ue AC/DC 24 V, желтый цвет, для MSP, MTX, MKA","12 / -",3.0000000000000001E-3,6.0000000000000001E-3,7.27,{"$f":"VLOOKUP(B1224,#REF!,3,FALSE)","v":{"$error":"#REF!"}}]
["Minia","Minia 10kA","LD6","OEZ:11107","SE-X024","Сигнальная лампа","Ue AC/DC 24 V, зеленый цвет, для MSP, MTX, MKA","12 / -",3.0000000000000001E-3,6.0000000000000001E-3,7.27,{"$f":"VLOOKUP(B1225,#REF!,3,FALSE)","v":{"$error":"#REF!"}}]
["Minia","Minia 10kA","LD6","OEZ:11105","SG-X024","Сигнальная лампа","Ue AC/DC 24 V, белый цвет, для MSP, MTX, MKA","12 / -",3.0000000000000001E-3,6.0000000000000001E-3,7.27,{"$f":"VLOOKUP(B1226,#REF!,3,FALSE)","v":{"$error":"#REF!"}}]
[null,null,null,"Level  4","MSK - Кулисные выключатели и переключатели"]
["Minia","Minia 10kA","LD6","OEZ:35678","MSK-10","Кулисный выключатель","Ith 16 A, Ue AC 250 V, DC 12 V, 1x нормально разомкнутый контакт","1 / -",6.5000000000000002E-2,0.17899999999999999,13.61,{"$f":"VLOOKUP(B1228,#REF!,3,FALSE)","v":{"$error":"#REF!"}}]
["Minia","Minia 10kA","LD6","OEZ:35679","MSK-10-SC","Кулисный выключатель","Ith 16 A, Ue AC 250 V, DC 12 V, 1x нормально разомкнутый контакт, с сигнализацией - красный цвет","1 / -",6.5000000000000002E-2,0.17899999999999999,15.77,{"$f":"VLOOKUP(B1229,#REF!,3,FALSE)","v":{"$error":"#REF!"}}]
["Minia","Minia 10kA","LD6","OEZ:35680","MSK-10-SE","Кулисный выключатель","Ith 16 A, Ue AC 250 V, DC 12 V, 1x нормально разомкнутый контакт, с сигнализацией - зеленый цвет","1 / -",6.5000000000000002E-2,0.17899999999999999,17.170000000000002,{"$f":"VLOOKUP(B1230,#REF!,3,FALSE)","v":{"$error":"#REF!"}}]
["Minia","Minia 10kA","LD6","OEZ:35681","MSK-001-102","Кулисный переключатель","Ith 16 A, Ue AC 250 V, DC 12 V, 1x перекидной контакт, с промежуточным положением","1 / -",6.5000000000000002E-2,0.17899999999999999,14.709999999999999,{"$f":"VLOOKUP(B1231,#REF!,3,FALSE)","v":{"$error":"#REF!"}}]
["Minia","Minia 10kA","LD6","OEZ:35682","MSK-001-1X2","Кулисный переключатель","Ith 16 A, Ue AC 250 V, DC 12 V, 1x перекидной контакт","1 / -",6.5000000000000002E-2,0.17899999999999999,13.85,{"$f":"VLOOKUP(B1232,#REF!,3,FALSE)","v":{"$error":"#REF!"}}]
["Minia","Minia 10kA","LD6","OEZ:35683","MSK-001-1T2","Кулисный переключатель","Ith 16 A, Ue AC 250 V, DC 12 V, 1x перекидной контакт, с промежуточным положением, без фиксации","1 / -",6.5000000000000002E-2,0.17899999999999999,19.21,{"$f":"VLOOKUP(B1233,#REF!,3,FALSE)","v":{"$error":"#REF!"}}]
[null,null,null,"Level  4","MST - Кнопочные выключатели"]
[null,null,null,"Level  5","MST - Кнопочные выключатели"]
["Minia","Minia 10kA","LD6","OEZ:35554","MST-11","Кнопочный выключатель","Ith 25 A, Ue AC 230/400 V, 1x нормально разомкнутый контакт, 1x нормально замкнутый контакт, кнопка включения - зеленый цвет, кнопка выключения - красный цвет","1 / -",8.4000000000000005E-2,0.17599999999999999,13.02,{"$f":"VLOOKUP(B1236,#REF!,3,FALSE)","v":{"$error":"#REF!"}}]
["Minia","Minia 10kA","LD6","OEZ:35555","MST-22","Кнопочный выключатель","Ith 25 A, Ue AC 230/400 V, 2x нормально разомкнутый контакт, 2x нормально замкнутый контакт, кнопка включения - зеленый цвет, кнопка выключения - красный цвет","1 / -",0.12,0.17899999999999999,13.7,{"$f":"VLOOKUP(B1237,#REF!,3,FALSE)","v":{"$error":"#REF!"}}]
["Minia","Minia 10kA","LD6","OEZ:35556","MST-40","Кнопочный выключатель","Ith 25 A, Ue AC 230/400 V, 4x нормально разомкнутый контакт, кнопка включения - зеленый цвет, кнопка выключения - красный цвет","1 / -",8.4000000000000005E-2,0.17599999999999999,13.7,{"$f":"VLOOKUP(B1238,#REF!,3,FALSE)","v":{"$error":"#REF!"}}]
[null,null,null,"Level  5","T_ - Кнопки"]
["Minia","Minia 10kA","LD6","OEZ:08932","TB","Кнопка","черный цвет, для MST, MTX, MT2","12 / -",2E-3,1.9E-2,0.54,{"$f":"VLOOKUP(B1240,#REF!,3,FALSE)","v":{"$error":"#REF!"}}]
["Minia","Minia 10kA","LD6","OEZ:08930","TC","Кнопка","красный цвет, для MST, MTX, MT2","12 / -",2E-3,1.9E-2,0.54,{"$f":"VLOOKUP(B1241,#REF!,3,FALSE)","v":{"$error":"#REF!"}}]
["Minia","Minia 10kA","LD6","OEZ:08931","TE","Кнопка","зеленый цвет, для MST, MTX, MT2","12 / -",2E-3,1.9E-2,0.54,{"$f":"VLOOKUP(B1242,#REF!,3,FALSE)","v":{"$error":"#REF!"}}]
["Minia","Minia 10kA","LD6","OEZ:08934","TG","Кнопка","белый цвет, для MST, MTX, MT2","12 / -",2E-3,1.9E-2,0.54,{"$f":"VLOOKUP(B1243,#REF!,3,FALSE)","v":{"$error":"#REF!"}}]
[null,null,null,"Level  4","MTX, MT2 - Кнопки управления"]
[null,null,null,"Level  5","MTX - Кнопки управления"]
["Minia","Minia 10kA","LD6","OEZ:37265","MTX-01-TB","Кнопка управления","Ith 25 A, Ue AC 230 V, 1x нормально замкнутый контакт, кнопка - черный цвет","1 / -",7.1999999999999995E-2,0.188,5.76,{"$f":"VLOOKUP(B1246,#REF!,3,FALSE)","v":{"$error":"#REF!"}}]
["Minia","Minia 10kA","LD6","OEZ:37266","MTX-01-TC","Кнопка управления","Ith 25 A, Ue AC 230 V, 1x нормально замкнутый контакт, кнопка - красный цвет","1 / -",7.1999999999999995E-2,0.17899999999999999,5.76,{"$f":"VLOOKUP(B1247,#REF!,3,FALSE)","v":{"$error":"#REF!"}}]
["Minia","Minia 10kA","LD6","OEZ:37267","MTX-01-TE","Кнопка управления","Ith 25 A, Ue AC 230 V, 1x нормально замкнутый контакт, кнопка - зеленый цвет","1 / -",7.1999999999999995E-2,0.17899999999999999,5.76,{"$f":"VLOOKUP(B1248,#REF!,3,FALSE)","v":{"$error":"#REF!"}}]
["Minia","Minia 10kA","LD6","OEZ:37268","MTX-10-TB","Кнопка управления","Ith 25 A, Ue AC 230 V, 1x нормально разомкнутый контакт, кнопка - черный цвет","1 / -",7.1999999999999995E-2,0.17899999999999999,5.76,{"$f":"VLOOKUP(B1249,#REF!,3,FALSE)","v":{"$error":"#REF!"}}]
["Minia","Minia 10kA","LD6","OEZ:37269","MTX-10-TC","Кнопка управления","Ith 25 A, Ue AC 230 V, 1x нормально разомкнутый контакт, кнопка - красный цвет","1 / -",7.1999999999999995E-2,0.17899999999999999,5.76,{"$f":"VLOOKUP(B1250,#REF!,3,FALSE)","v":{"$error":"#REF!"}}]
["Minia","Minia 10kA","LD6","OEZ:37270","MTX-10-TE","Кнопка управления","Ith 25 A, Ue AC 230 V, 1x нормально разомкнутый контакт, кнопка - зеленый цвет","1 / -",7.1999999999999995E-2,0.17899999999999999,5.76,{"$f":"VLOOKUP(B1251,#REF!,3,FALSE)","v":{"$error":"#REF!"}}]
["Minia","Minia 10kA","LD6","OEZ:37271","MTX-22-TB","Кнопка управления","Ith 25 A, Ue AC 230 V, 2x нормально разомкнутый контакт, 2x нормально замкнутый контакт, кнопка - черный цвет","1 / -",9.7000000000000003E-2,0.17899999999999999,11.03,{"$f":"VLOOKUP(B1252,#REF!,3,FALSE)","v":{"$error":"#REF!"}}]
["Minia","Minia 10kA","LD6","OEZ:37272","MTX-22-TC","Кнопка управления","Ith 25 A, Ue AC 230 V, 2x нормально разомкнутый контакт, 2x нормально замкнутый контакт, кнопка - красный цвет","1 / -",9.7000000000000003E-2,0.17899999999999999,11.03,{"$f":"VLOOKUP(B1253,#REF!,3,FALSE)","v":{"$error":"#REF!"}}]
["Minia","Minia 10kA","LD6","OEZ:37273","MTX-22-TE","Кнопка управления","Ith 25 A, Ue AC 230 V, 2x нормально разомкнутый контакт, 2x нормально замкнутый контакт, кнопка - зеленый цвет","1 / -",9.7000000000000003E-2,0.17899999999999999,11.03,{"$f":"VLOOKUP(B1254,#REF!,3,FALSE)","v":{"$error":"#REF!"}}]
["Minia","Minia 10kA","LD6","OEZ:37274","MTX-11-TB-SG-A230","Кнопка управления","Ith 25 A, Ue AC 230 V, 1x нормально разомкнутый контакт, 1x нормально замкнутый контакт, кнопка - черный цвет, с сигнализацией - белый цвет / AC 230 V","1 / -",0.107,0.17899999999999999,14.91,{"$f":"VLOOKUP(B1255,#REF!,3,FALSE)","v":{"$error":"#REF!"}}]
["Minia","Minia 10kA","LD6","OEZ:37275","MTX-20-TB-SG-A230","Кнопка управления","Ith 25 A, Ue AC 230 V, 2x нормально разомкнутый контакт, кнопка - черный цвет, с сигнализацией - белый цвет / AC 230 V","1 / -",0.107,0.17899999999999999,14.91,{"$f":"VLOOKUP(B1256,#REF!,3,FALSE)","v":{"$error":"#REF!"}}]
[null,null,null,"Level  5","MT2 - Кнопки управления"]
["Minia","Minia 10kA","LD6","OEZ:37264","MT2-11-TB","Двойная кнопка управления","Ith 25 A, Ue AC 230/400 V, 2x (1x нормально разомкнутый контакт, 1x нормально замкнутый контакт ), кнопки - черный цвет","1 / -",9.7000000000000003E-2,0.17899999999999999,15.629999999999999,{"$f":"VLOOKUP(B1258,#REF!,3,FALSE)","v":{"$error":"#REF!"}}]
[null,null,null,"Level  5","S_ - Сигнальные лампы"]
["Minia","Minia 10kA","LD6","OEZ:11102","SC-A230","Сигнальная лампа","Ue AC 230 V, красный цвет, для MSP, MTX, MKA","12 / -",3.0000000000000001E-3,6.0000000000000001E-3,7.27,{"$f":"VLOOKUP(B1260,#REF!,3,FALSE)","v":{"$error":"#REF!"}}]
["Minia","Minia 10kA","LD6","OEZ:11104","SD-A230","Сигнальная лампа","Ue AC 230 V, желтый цвет, для MSP, MTX, MKA","12 / -",3.0000000000000001E-3,6.0000000000000001E-3,7.27,{"$f":"VLOOKUP(B1261,#REF!,3,FALSE)","v":{"$error":"#REF!"}}]
["Minia","Minia 10kA","LD6","OEZ:11103","SE-A230","Сигнальная лампа","Ue AC 230 V, зеленый цвет, для MSP, MTX, MKA","12 / -",3.0000000000000001E-3,6.0000000000000001E-3,7.27,{"$f":"VLOOKUP(B1262,#REF!,3,FALSE)","v":{"$error":"#REF!"}}]
["Minia","Minia 10kA","LD6","OEZ:11101","SG-A230","Сигнальная лампа","Ue AC 230 V, белый цвет, для MSP, MTX, MKA","12 / -",3.0000000000000001E-3,6.0000000000000001E-3,7.27,{"$f":"VLOOKUP(B1263,#REF!,3,FALSE)","v":{"$error":"#REF!"}}]
["Minia","Minia 10kA","LD6","OEZ:11106","SC-X024","Сигнальная лампа","Ue AC/DC 24 V, красный цвет, для MSP, MTX, MKA","12 / -",3.0000000000000001E-3,6.0000000000000001E-3,7.27,{"$f":"VLOOKUP(B1264,#REF!,3,FALSE)","v":{"$error":"#REF!"}}]
["Minia","Minia 10kA","LD6","OEZ:11108","SD-X024","Сигнальная лампа","Ue AC/DC 24 V, желтый цвет, для MSP, MTX, MKA","12 / -",3.0000000000000001E-3,6.0000000000000001E-3,7.27,{"$f":"VLOOKUP(B1265,#REF!,3,FALSE)","v":{"$error":"#REF!"}}]
["Minia","Minia 10kA","LD6","OEZ:11107","SE-X024","Сигнальная лампа","Ue AC/DC 24 V, зеленый цвет, для MSP, MTX, MKA","12 / -",3.0000000000000001E-3,6.0000000000000001E-3,7.27,{"$f":"VLOOKUP(B1266,#REF!,3,FALSE)","v":{"$error":"#REF!"}}]
["Minia","Minia 10kA","LD6","OEZ:11105","SG-X024","Сигнальная лампа","Ue AC/DC 24 V, белый цвет, для MSP, MTX, MKA","12 / -",3.0000000000000001E-3,6.0000000000000001E-3,7.27,{"$f":"VLOOKUP(B1267,#REF!,3,FALSE)","v":{"$error":"#REF!"}}]
[null,null,null,"Level  5","T_ - Кнопки"]
["Minia","Minia 10kA","LD6","OEZ:08932","TB","Кнопка","черный цвет, для MST, MTX, MT2","12 / -",2E-3,1.9E-2,0.54,{"$f":"VLOOKUP(B1269,#REF!,3,FALSE)","v":{"$error":"#REF!"}}]
["Minia","Minia 10kA","LD6","OEZ:08930","TC","Кнопка","красный цвет, для MST, MTX, MT2","12 / -",2E-3,1.9E-2,0.54,{"$f":"VLOOKUP(B1270,#REF!,3,FALSE)","v":{"$error":"#REF!"}}]
["Minia","Minia 10kA","LD6","OEZ:08931","TE","Кнопка","зеленый цвет, для MST, MTX, MT2","12 / -",2E-3,1.9E-2,0.54,{"$f":"VLOOKUP(B1271,#REF!,3,FALSE)","v":{"$error":"#REF!"}}]
["Minia","Minia 10kA","LD6","OEZ:08934","TG","Кнопка","белый цвет, для MST, MTX, MT2","12 / -",2E-3,1.9E-2,0.54,{"$f":"VLOOKUP(B1272,#REF!,3,FALSE)","v":{"$error":"#REF!"}}]
[null,null,null,"Level  3","MKA - Устройства световой сигнализации"]
[null,null,null,"Level  4","MKA - Устройства световой сигнализации"]
["Minia","Minia 10kA","LD6","OEZ:37276","MKA-SC-A230","Устройство световой сигнализации","Ue AC 230 V, красный цвет","1 / -",0.08,0.17899999999999999,11.33,{"$f":"VLOOKUP(B1275,#REF!,3,FALSE)","v":{"$error":"#REF!"}}]
["Minia","Minia 10kA","LD6","OEZ:37277","MKA-SC-X024","Устройство световой сигнализации","Ue AC/DC 24 V, красный цвет","1 / -",0.08,0.17899999999999999,11.33,{"$f":"VLOOKUP(B1276,#REF!,3,FALSE)","v":{"$error":"#REF!"}}]
["Minia","Minia 10kA","LD6","OEZ:37278","MKA-SE-A230","Устройство световой сигнализации","Ue AC 230 V, зеленый цвет","1 / -",0.08,0.17899999999999999,11.33,{"$f":"VLOOKUP(B1277,#REF!,3,FALSE)","v":{"$error":"#REF!"}}]
["Minia","Minia 10kA","LD6","OEZ:37279","MKA-SE-X024","Устройство световой сигнализации","Ue AC/DC 24 V, зеленый цвет","1 / -",0.08,0.17899999999999999,11.33,{"$f":"VLOOKUP(B1278,#REF!,3,FALSE)","v":{"$error":"#REF!"}}]
["Minia","Minia 10kA","LD6","OEZ:37280","MKA-SG-A230","Устройство световой сигнализации","Ue AC 230 V, белый цвет","1 / -",0.08,0.17899999999999999,11.33,{"$f":"VLOOKUP(B1279,#REF!,3,FALSE)","v":{"$error":"#REF!"}}]
["Minia","Minia 10kA","LD6","OEZ:37281","MKA-SC-SE-A230","Устройство световой сигнализации","Ue AC 230 V, красный цвет, зеленый цвет","1 / -",0.09,0.17899999999999999,18.970000000000002,{"$f":"VLOOKUP(B1280,#REF!,3,FALSE)","v":{"$error":"#REF!"}}]
["Minia","Minia 10kA","LD6","OEZ:35558","MKA-1","Блок устройства световой сигнализации","Ue AC/DC 24 V, AC 230 V, для дополнения сигнальной лампой","1 / -",7.0000000000000007E-2,0.17899999999999999,4.9799999999999995,{"$f":"VLOOKUP(B1281,#REF!,3,FALSE)","v":{"$error":"#REF!"}}]
["Minia","Minia 10kA","LD6","OEZ:35559","MKA-2","Модуль двойного устройства световой сигнализации","Ue AC/DC 24 V, AC 230 V, для дополнения двумя сигнальными лампами","1 / -",7.0000000000000007E-2,0.17899999999999999,6.2,{"$f":"VLOOKUP(B1282,#REF!,3,FALSE)","v":{"$error":"#REF!"}}]
[null,null,null,"Level  4","S_ - Сигнальные лампы"]
["Minia","Minia 10kA","LD6","OEZ:11102","SC-A230","Сигнальная лампа","Ue AC 230 V, красный цвет, для MSP, MTX, MKA","12 / -",3.0000000000000001E-3,6.0000000000000001E-3,7.27,{"$f":"VLOOKUP(B1284,#REF!,3,FALSE)","v":{"$error":"#REF!"}}]
["Minia","Minia 10kA","LD6","OEZ:11104","SD-A230","Сигнальная лампа","Ue AC 230 V, желтый цвет, для MSP, MTX, MKA","12 / -",3.0000000000000001E-3,6.0000000000000001E-3,7.27,{"$f":"VLOOKUP(B1285,#REF!,3,FALSE)","v":{"$error":"#REF!"}}]
["Minia","Minia 10kA","LD6","OEZ:11103","SE-A230","Сигнальная лампа","Ue AC 230 V, зеленый цвет, для MSP, MTX, MKA","12 / -",3.0000000000000001E-3,6.0000000000000001E-3,7.27,{"$f":"VLOOKUP(B1286,#REF!,3,FALSE)","v":{"$error":"#REF!"}}]
["Minia","Minia 10kA","LD6","OEZ:11101","SG-A230","Сигнальная лампа","Ue AC 230 V, белый цвет, для MSP, MTX, MKA","12 / -",3.0000000000000001E-3,6.0000000000000001E-3,7.27,{"$f":"VLOOKUP(B1287,#REF!,3,FALSE)","v":{"$error":"#REF!"}}]
["Minia","Minia 10kA","LD6","OEZ:11106","SC-X024","Сигнальная лампа","Ue AC/DC 24 V, красный цвет, для MSP, MTX, MKA","12 / -",3.0000000000000001E-3,6.0000000000000001E-3,7.27,{"$f":"VLOOKUP(B1288,#REF!,3,FALSE)","v":{"$error":"#REF!"}}]
["Minia","Minia 10kA","LD6","OEZ:11108","SD-X024","Сигнальная лампа","Ue AC/DC 24 V, желтый цвет, для MSP, MTX, MKA","12 / -",3.0000000000000001E-3,6.0000000000000001E-3,7.27,{"$f":"VLOOKUP(B1289,#REF!,3,FALSE)","v":{"$error":"#REF!"}}]
["Minia","Minia 10kA","LD6","OEZ:11107","SE-X024","Сигнальная лампа","Ue AC/DC 24 V, зеленый цвет, для MSP, MTX, MKA","12 / -",3.0000000000000001E-3,6.0000000000000001E-3,7.27,{"$f":"VLOOKUP(B1290,#REF!,3,FALSE)","v":{"$error":"#REF!"}}]
["Minia","Minia 10kA","LD6","OEZ:11105","SG-X024","Сигнальная лампа","Ue AC/DC 24 V, белый цвет, для MSP, MTX, MKA","12 / -",3.0000000000000001E-3,6.0000000000000001E-3,7.27,{"$f":"VLOOKUP(B1291,#REF!,3,FALSE)","v":{"$error":"#REF!"}}]
[null,null,null,"Level  3","UMZ - Звонки "]
[null,null,null,"Level  4","UMZ - Звонки "]
["Minia","Minia 10kA","LD6","OEZ:35692","UMZ-A230","Звонок","Ue AC 230 V, модульное исполнение","1 / -",7.4999999999999997E-2,0.17899999999999999,9.82,{"$f":"VLOOKUP(B1294,#REF!,3,FALSE)","v":{"$error":"#REF!"}}]
["Minia","Minia 10kA","LD6","OEZ:35691","UMZ-A012","Звонок","Ue AC 8 - 12 V, модульное исполнение","1 / -",7.4999999999999997E-2,0.17899999999999999,8.7799999999999994,{"$f":"VLOOKUP(B1295,#REF!,3,FALSE)","v":{"$error":"#REF!"}}]
[null,null,null,"Level  3","UTZ, UNZ, UNZR - Источники питания"]
[null,null,null,"Level  4","UTZ, UNZ, UNZR - Источники питания"]
["Minia","Minia 10kA","LD6","OEZ:35688","UTZ-4-A","Звонковый трансформатор","мощность 4 VA, Upri AC 230 V, Usec AC 6, 8, 12 V, исполнение стойкое к короткому замыканию, ширина 3 модуля","1 / -",0.47499999999999998,0.40600000000000003,26.5,{"$f":"VLOOKUP(B1298,#REF!,3,FALSE)","v":{"$error":"#REF!"}}]
["Minia","Minia 10kA","LD6","OEZ:35685","UNZ-10T-X012","Источник питания","мощность 10 VA, Upri AC 230 V, Usec AC/DC 12 V, защита PTC сопротивлением, ширина 3 модуля","1 / -",0.36,0.40600000000000003,35.07,{"$f":"VLOOKUP(B1299,#REF!,3,FALSE)","v":{"$error":"#REF!"}}]
["Minia","Minia 10kA","LD6","OEZ:35686","UNZ-10T-X024","Источник питания","мощность 10 VA, Upri AC 230 V, Usec AC/DC 24 V, защита PTC сопротивлением, ширина 3 модуля","1 / -",0.36,0.40600000000000003,35.4,{"$f":"VLOOKUP(B1300,#REF!,3,FALSE)","v":{"$error":"#REF!"}}]
["Minia","Minia 10kA","LD6","OEZ:35687","UNZR-10T-X024","Источник питания","мощность 10 VA, Upri AC 230 V, Usec AC 24 V, DC 1,2 ÷ 24 V, защита PTC сопротивлением, с регулировкой, ширина 3 модуля","1 / -",0.36,0.40600000000000003,38.03,{"$f":"VLOOKUP(B1301,#REF!,3,FALSE)","v":{"$error":"#REF!"}}]
[null,null,null,"Level  3","ZSE, ZSF - Цокольные розетки"]
[null,null,null,"Level  4","ZSE, ZSF - Цокольные розетки"]
["Minia","Minia 10kA","LD6","OEZ:37290","ZSE-03","Цокольная розетка","In 16 A, Ue AC 230 V, с защитным пальцем, подвод снизу, ширина 2,5 модуля","1 / -",0.13200000000000001,0.311,9.76,{"$f":"VLOOKUP(B1304,#REF!,3,FALSE)","v":{"$error":"#REF!"}}]
["Minia","Minia 10kA","LD6","OEZ:37291","ZSE-06","Цокольная розетка","In 16 A, Ue AC 230 V, с защитным пальцем, подвод снизу, подвод сверху, ширина 2,5 модуля","1 / -",0.15,0.311,11.209999999999999,{"$f":"VLOOKUP(B1305,#REF!,3,FALSE)","v":{"$error":"#REF!"}}]
["Minia","Minia 10kA","LD6","OEZ:37292","ZSF-03","Цокольная розетка","In 16 A, Ue AC 230 V, исполнение \"schuko\", подвод снизу, ширина 2,5 модуля","1 / -",0.13200000000000001,0.311,10.47,{"$f":"VLOOKUP(B1306,#REF!,3,FALSE)","v":{"$error":"#REF!"}}]
["Minia","Minia 10kA","LD6","OEZ:37293","ZSF-06","Цокольная розетка","In 16 A, Ue AC 230 V, исполнение \"schuko\", подвод снизу, подвод сверху, ширина 2,5 модуля","1 / -",0.15,0.311,12.22,{"$f":"VLOOKUP(B1307,#REF!,3,FALSE)","v":{"$error":"#REF!"}}]
[null,null,null,"Level  3","CS-L, CS-N, CS-PE - Ответвительный блок зажимов"]
[null,null,null,"Level  4","CS-L, CS-N, CS-PE - Ответвительный блок зажимов"]
["Minia","Minia 10kA","LD6","OEZ:35898","CS-L7","Ответвительный мостик","количество зажимов 7, сечение 16 mm2, серый цвет, с изоляционной крышкой","10 / -",2.5999999999999999E-2,3.5999999999999997E-2,1.72,{"$f":"VLOOKUP(B1310,#REF!,3,FALSE)","v":{"$error":"#REF!"}}]
["Minia","Minia 10kA","LD6","OEZ:35899","CS-L12","Ответвительный мостик","количество зажимов 12, сечение 16 mm2, серый цвет, с изоляционной крышкой","10 / -",0.03,4.2000000000000003E-2,3,{"$f":"VLOOKUP(B1311,#REF!,3,FALSE)","v":{"$error":"#REF!"}}]
["Minia","Minia 10kA","LD6","OEZ:35900","CS-L15","Ответвительный мостик","количество зажимов 15, сечение 16 mm2, серый цвет, с изоляционной крышкой","10 / -",4.8000000000000001E-2,7.2999999999999995E-2,3.5,{"$f":"VLOOKUP(B1312,#REF!,3,FALSE)","v":{"$error":"#REF!"}}]
["Minia","Minia 10kA","LD6","OEZ:35904","CS-PE7","Ответвительный мостик","количество зажимов 7, сечение 16 mm2, зеленый цвет","10 / -",2.5999999999999999E-2,3.5999999999999997E-2,1.64,{"$f":"VLOOKUP(B1313,#REF!,3,FALSE)","v":{"$error":"#REF!"}}]
["Minia","Minia 10kA","LD6","OEZ:35905","CS-PE12","Ответвительный мостик","количество зажимов 12, сечение 16 mm2, зеленый цвет","10 / -",0.03,4.2000000000000003E-2,2.76,{"$f":"VLOOKUP(B1314,#REF!,3,FALSE)","v":{"$error":"#REF!"}}]
["Minia","Minia 10kA","LD6","OEZ:35906","CS-PE15","Ответвительный мостик","количество зажимов 15, сечение 16 mm2, зеленый цвет","10 / -",4.8000000000000001E-2,7.2999999999999995E-2,3.5,{"$f":"VLOOKUP(B1315,#REF!,3,FALSE)","v":{"$error":"#REF!"}}]
["Minia","Minia 10kA","LD6","OEZ:35901","CS-N7","Ответвительный мостик","количество зажимов 7, сечение 16 mm2, синий цвет","10 / -",2.5999999999999999E-2,3.5999999999999997E-2,1.64,{"$f":"VLOOKUP(B1316,#REF!,3,FALSE)","v":{"$error":"#REF!"}}]
["Minia","Minia 10kA","LD6","OEZ:35902","CS-N12","Ответвительный мостик","количество зажимов 12, сечение 16 mm2, синий цвет","10 / -",0.03,4.2000000000000003E-2,2.76,{"$f":"VLOOKUP(B1317,#REF!,3,FALSE)","v":{"$error":"#REF!"}}]
["Minia","Minia 10kA","LD6","OEZ:35903","CS-N15","Ответвительный мостик","количество зажимов 15, сечение 16 mm2, синий цвет","10 / -",4.8000000000000001E-2,7.2999999999999995E-2,3.5,{"$f":"VLOOKUP(B1318,#REF!,3,FALSE)","v":{"$error":"#REF!"}}]
[null,null,null,"Level  1","Компактные автоматические выключатели Modeion"]
[null,null,null,"Level  2","Компактные автоматические выключатели Modeion"]
[null,null,null,"Level  3","BC160 - Компактные автоматические выключатели до 160 A"]
[null,null,null,"Level  4","BC160 - Компактные автоматические выключатели"]
[null,null,null,"Level  5","BC160NT305 - Компактные автоматические выключатели (3P)"]
["Modeion","Modeion BC","LM1","OEZ:20214","BC160NT305-40-L","Компактный автоматический выключатель","3-полюс, In 40 A, Icu 25 kA, характеристика проводки L, без настройки IR, Cu/Al кабели 2,5 - 95 mm2","1 / -",1.0429999999999999,1.331,104.57000000000001,{"$f":"VLOOKUP(B1324,#REF!,3,FALSE)","v":{"$error":"#REF!"}}]
["Modeion","Modeion BC","LM1","OEZ:20216","BC160NT305-50-L","Компактный автоматический выключатель","3-полюс, In 50 A, Icu 25 kA, характеристика проводки L, без настройки IR, Cu/Al кабели 2,5 - 95 mm2","1 / -",1.0429999999999999,1.331,104.57000000000001,{"$f":"VLOOKUP(B1325,#REF!,3,FALSE)","v":{"$error":"#REF!"}}]
["Modeion","Modeion BC","LM1","OEZ:20218","BC160NT305-63-L","Компактный автоматический выключатель","3-полюс, In 63 A, Icu 25 kA, характеристика проводки L, без настройки IR, Cu/Al кабели 2,5 - 95 mm2","1 / -",1.0620000000000001,1.331,104.57000000000001,{"$f":"VLOOKUP(B1326,#REF!,3,FALSE)","v":{"$error":"#REF!"}}]
["Modeion","Modeion BC","LM1","OEZ:20221","BC160NT305-80-L","Компактный автоматический выключатель","3-полюс, In 80 A, Icu 25 kA, характеристика проводки L, без настройки IR, Cu/Al кабели 2,5 - 95 mm2","1 / -",1.0620000000000001,1.331,104.57000000000001,{"$f":"VLOOKUP(B1327,#REF!,3,FALSE)","v":{"$error":"#REF!"}}]
["Modeion","Modeion BC","LM1","OEZ:20203","BC160NT305-100-L","Компактный автоматический выключатель","3-полюс, In 100 A, Icu 25 kA, характеристика проводки L, без настройки IR, Cu/Al кабели 2,5 - 95 mm2","1 / -",1.0469999999999999,1.331,104.57000000000001,{"$f":"VLOOKUP(B1328,#REF!,3,FALSE)","v":{"$error":"#REF!"}}]
["Modeion","Modeion BC","LM1","OEZ:20205","BC160NT305-125-L","Компактный автоматический выключатель","3-полюс, In 125 A, Icu 25 kA, характеристика проводки L, без настройки IR, Cu/Al кабели 2,5 - 95 mm2","1 / -",1.0469999999999999,1.331,114.12,{"$f":"VLOOKUP(B1329,#REF!,3,FALSE)","v":{"$error":"#REF!"}}]
["Modeion","Modeion BC","LM1","OEZ:20207","BC160NT305-160-L","Компактный автоматический выключатель","3-полюс, In 160 A, Icu 25 kA, характеристика проводки L, без настройки IR, Cu/Al кабели 2,5 - 95 mm2","1 / -",1.0740000000000001,1.331,128.41,{"$f":"VLOOKUP(B1330,#REF!,3,FALSE)","v":{"$error":"#REF!"}}]
["Modeion","Modeion BC","LM1","OEZ:20209","BC160NT305-16-D","Компактный автоматический выключатель","3-полюс, In 16 A, Icu 25 kA, характеристика распределительная D, настройка IR 12,5 - 16 A, Cu/Al кабели 2,5 - 95 mm2","1 / -",1.048,1.331,109.79,{"$f":"VLOOKUP(B1331,#REF!,3,FALSE)","v":{"$error":"#REF!"}}]
["Modeion","Modeion BC","LM1","OEZ:20211","BC160NT305-20-D","Компактный автоматический выключатель","3-полюс, In 20 A, Icu 25 kA, характеристика распределительная D, настройка IR 16 - 20 A, Cu/Al кабели 2,5 - 95 mm2","1 / -",1.048,1.331,109.79,{"$f":"VLOOKUP(B1332,#REF!,3,FALSE)","v":{"$error":"#REF!"}}]
["Modeion","Modeion BC","LM1","OEZ:20212","BC160NT305-25-D","Компактный автоматический выключатель","3-полюс, In 25 A, Icu 25 kA, характеристика распределительная D, настройка IR 20 - 25 A, Cu/Al кабели 2,5 - 95 mm2","1 / -",1.0429999999999999,1.331,109.79,{"$f":"VLOOKUP(B1333,#REF!,3,FALSE)","v":{"$error":"#REF!"}}]
["Modeion","Modeion BC","LM1","OEZ:20213","BC160NT305-32-D","Компактный автоматический выключатель","3-полюс, In 32 A, Icu 25 kA, характеристика распределительная D, настройка IR 25 - 32 A, Cu/Al кабели 2,5 - 95 mm2","1 / -",1.0469999999999999,1.331,109.79,{"$f":"VLOOKUP(B1334,#REF!,3,FALSE)","v":{"$error":"#REF!"}}]
["Modeion","Modeion BC","LM1","OEZ:20215","BC160NT305-40-D","Компактный автоматический выключатель","3-полюс, In 40 A, Icu 25 kA, характеристика распределительная D, настройка IR 32 - 40 A, Cu/Al кабели 2,5 - 95 mm2","1 / -",1.0429999999999999,1.331,110.95,{"$f":"VLOOKUP(B1335,#REF!,3,FALSE)","v":{"$error":"#REF!"}}]
["Modeion","Modeion BC","LM1","OEZ:20217","BC160NT305-50-D","Компактный автоматический выключатель","3-полюс, In 50 A, Icu 25 kA, характеристика распределительная D, настройка IR 40 - 50 A, Cu/Al кабели 2,5 - 95 mm2","1 / -",1.0429999999999999,1.331,110.95,{"$f":"VLOOKUP(B1336,#REF!,3,FALSE)","v":{"$error":"#REF!"}}]
["Modeion","Modeion BC","LM1","OEZ:20219","BC160NT305-63-D","Компактный автоматический выключатель","3-полюс, In 63 A, Icu 25 kA, характеристика распределительная D, настройка IR 50 - 63 A, Cu/Al кабели 2,5 - 95 mm2","1 / -",1.0620000000000001,1.331,110.95,{"$f":"VLOOKUP(B1337,#REF!,3,FALSE)","v":{"$error":"#REF!"}}]
["Modeion","Modeion BC","LM1","OEZ:20222","BC160NT305-80-D","Компактный автоматический выключатель","3-полюс, In 80 A, Icu 25 kA, характеристика распределительная D, настройка IR 63 - 80 A, Cu/Al кабели 2,5 - 95 mm2","1 / -",1.0620000000000001,1.331,112.55000000000001,{"$f":"VLOOKUP(B1338,#REF!,3,FALSE)","v":{"$error":"#REF!"}}]
["Modeion","Modeion BC","LM1","OEZ:20204","BC160NT305-100-D","Компактный автоматический выключатель","3-полюс, In 100 A, Icu 25 kA, характеристика распределительная D, настройка IR 80 - 100 A, Cu/Al кабели 2,5 - 95 mm2","1 / -",1.0469999999999999,1.331,114.12,{"$f":"VLOOKUP(B1339,#REF!,3,FALSE)","v":{"$error":"#REF!"}}]
["Modeion","Modeion BC","LM1","OEZ:20206","BC160NT305-125-D","Компактный автоматический выключатель","3-полюс, In 125 A, Icu 25 kA, характеристика распределительная D, настройка IR 100 - 125 A, Cu/Al кабели 2,5 - 95 mm2","1 / -",1.0469999999999999,1.331,126.80000000000001,{"$f":"VLOOKUP(B1340,#REF!,3,FALSE)","v":{"$error":"#REF!"}}]
["Modeion","Modeion BC","LM1","OEZ:20208","BC160NT305-160-D","Компактный автоматический выключатель","3-полюс, In 160 A, Icu 25 kA, характеристика распределительная D, настройка IR 125 - 160 A, Cu/Al кабели 2,5 - 95 mm2","1 / -",1.0740000000000001,1.331,142.66,{"$f":"VLOOKUP(B1341,#REF!,3,FALSE)","v":{"$error":"#REF!"}}]
["Modeion","Modeion BC","LM1","OEZ:20243","BC160NT305-16-M","Компактный автоматический выключатель","3-полюс, In 16 A, Icu 25 kA, характеристика моторная M, настройка IR 12,5 - 16 A, Cu/Al кабели 2,5 - 95 mm2","1 / -",1.048,1.331,115.27000000000001,{"$f":"VLOOKUP(B1342,#REF!,3,FALSE)","v":{"$error":"#REF!"}}]
["Modeion","Modeion BC","LM1","OEZ:20244","BC160NT305-20-M","Компактный автоматический выключатель","3-полюс, In 20 A, Icu 25 kA, характеристика моторная M, настройка IR 16 - 20 A, Cu/Al кабели 2,5 - 95 mm2","1 / -",1.048,1.331,115.27000000000001,{"$f":"VLOOKUP(B1343,#REF!,3,FALSE)","v":{"$error":"#REF!"}}]
["Modeion","Modeion BC","LM1","OEZ:20245","BC160NT305-25-M","Компактный автоматический выключатель","3-полюс, In 25 A, Icu 25 kA, характеристика моторная M, настройка IR 20 - 25 A, Cu/Al кабели 2,5 - 95 mm2","1 / -",1.0429999999999999,1.331,115.27000000000001,{"$f":"VLOOKUP(B1344,#REF!,3,FALSE)","v":{"$error":"#REF!"}}]
["Modeion","Modeion BC","LM1","OEZ:20246","BC160NT305-32-M","Компактный автоматический выключатель","3-полюс, In 32 A, Icu 25 kA, характеристика моторная M, настройка IR 25 - 32 A, Cu/Al кабели 2,5 - 95 mm2","1 / -",1.0429999999999999,1.331,115.27000000000001,{"$f":"VLOOKUP(B1345,#REF!,3,FALSE)","v":{"$error":"#REF!"}}]
["Modeion","Modeion BC","LM1","OEZ:20247","BC160NT305-40-M","Компактный автоматический выключатель","3-полюс, In 40 A, Icu 25 kA, характеристика моторная M, настройка IR 32 - 40 A, Cu/Al кабели 2,5 - 95 mm2","1 / -",1.0429999999999999,1.331,116.49000000000001,{"$f":"VLOOKUP(B1346,#REF!,3,FALSE)","v":{"$error":"#REF!"}}]
["Modeion","Modeion BC","LM1","OEZ:20248","BC160NT305-50-M","Компактный автоматический выключатель","3-полюс, In 50 A, Icu 25 kA, характеристика моторная M, настройка IR 40 - 50 A, Cu/Al кабели 2,5 - 95 mm2","1 / -",1.0429999999999999,1.331,116.49000000000001,{"$f":"VLOOKUP(B1347,#REF!,3,FALSE)","v":{"$error":"#REF!"}}]
["Modeion","Modeion BC","LM1","OEZ:20249","BC160NT305-63-M","Компактный автоматический выключатель","3-полюс, In 63 A, Icu 25 kA, характеристика моторная M, настройка IR 50 - 63 A, Cu/Al кабели 2,5 - 95 mm2","1 / -",1.0620000000000001,1.331,116.49000000000001,{"$f":"VLOOKUP(B1348,#REF!,3,FALSE)","v":{"$error":"#REF!"}}]
["Modeion","Modeion BC","LM1","OEZ:20250","BC160NT305-80-M","Компактный автоматический выключатель","3-полюс, In 80 A, Icu 25 kA, характеристика моторная M, настройка IR 63 - 80 A, Cu/Al кабели 2,5 - 95 mm2","1 / -",1.0589999999999999,1.331,118.18,{"$f":"VLOOKUP(B1349,#REF!,3,FALSE)","v":{"$error":"#REF!"}}]
["Modeion","Modeion BC","LM1","OEZ:20242","BC160NT305-100-M","Компактный автоматический выключатель","3-полюс, In 100 A, Icu 25 kA, характеристика моторная M, настройка IR 80 - 100 A, Cu/Al кабели 2,5 - 95 mm2","1 / -",1.0469999999999999,1.331,119.87,{"$f":"VLOOKUP(B1350,#REF!,3,FALSE)","v":{"$error":"#REF!"}}]
["Modeion","Modeion BC","LM1","OEZ:20641","BC160NT305-32-N","Компактный автоматический выключатель","3-полюс, In 32 A, Icu 25 kA, характеристика N, только расцепитель короткого замыкания, Cu/Al кабели 2,5 - 95 mm2","1 / -",1.0429999999999999,1.331,115.27000000000001,{"$f":"VLOOKUP(B1351,#REF!,3,FALSE)","v":{"$error":"#REF!"}}]
["Modeion","Modeion BC","LM1","OEZ:20642","BC160NT305-40-N","Компактный автоматический выключатель","3-полюс, In 40 A, Icu 25 kA, характеристика N, только расцепитель короткого замыкания, Cu/Al кабели 2,5 - 95 mm2","1 / -",1.0429999999999999,1.331,116.49000000000001,{"$f":"VLOOKUP(B1352,#REF!,3,FALSE)","v":{"$error":"#REF!"}}]
["Modeion","Modeion BC","LM1","OEZ:20643","BC160NT305-50-N","Компактный автоматический выключатель","3-полюс, In 50 A, Icu 25 kA, характеристика N, только расцепитель короткого замыкания, Cu/Al кабели 2,5 - 95 mm2","1 / -",1.048,1.331,116.49000000000001,{"$f":"VLOOKUP(B1353,#REF!,3,FALSE)","v":{"$error":"#REF!"}}]
["Modeion","Modeion BC","LM1","OEZ:20644","BC160NT305-63-N","Компактный автоматический выключатель","3-полюс, In 63 A, Icu 25 kA, характеристика N, только расцепитель короткого замыкания, Cu/Al кабели 2,5 - 95 mm2","1 / -",1.048,1.331,116.49000000000001,{"$f":"VLOOKUP(B1354,#REF!,3,FALSE)","v":{"$error":"#REF!"}}]
["Modeion","Modeion BC","LM1","OEZ:20645","BC160NT305-80-N","Компактный автоматический выключатель","3-полюс, In 80 A, Icu 25 kA, характеристика N, только расцепитель короткого замыкания, Cu/Al кабели 2,5 - 95 mm2","1 / -",1.048,1.331,118.18,{"$f":"VLOOKUP(B1355,#REF!,3,FALSE)","v":{"$error":"#REF!"}}]
["Modeion","Modeion BC","LM1","OEZ:20646","BC160NT305-100-N","Компактный автоматический выключатель","3-полюс, In 100 A, Icu 25 kA, характеристика N, только расцепитель короткого замыкания, Cu/Al кабели 2,5 - 95 mm2","1 / -",1.05,1.331,119.87,{"$f":"VLOOKUP(B1356,#REF!,3,FALSE)","v":{"$error":"#REF!"}}]
["Modeion","Modeion BC","LM1","OEZ:20647","BC160NT305-125-N","Компактный автоматический выключатель","3-полюс, In 125 A, Icu 25 kA, характеристика N, только расцепитель короткого замыкания, Cu/Al кабели 2,5 - 95 mm2","1 / -",1.0589999999999999,1.331,133.14999999999998,{"$f":"VLOOKUP(B1357,#REF!,3,FALSE)","v":{"$error":"#REF!"}}]
["Modeion","Modeion BC","LM1","OEZ:20621","BC160NT305-160-N","Компактный автоматический выключатель","3-полюс, In 160 A, Icu 25 kA, характеристика N, только расцепитель короткого замыкания, Cu/Al кабели 2,5 - 95 mm2","1 / -",1.048,1.331,149.81,{"$f":"VLOOKUP(B1358,#REF!,3,FALSE)","v":{"$error":"#REF!"}}]
["Modeion","Modeion BC","LM1","OEZ:20585","BC160NT305-160-V","Разъединитель нагрузки","3-полюс, Ie 160 A, Ue AC 690 V (AC-23A)/ DC 250 V (DC-22A), Cu/Al кабели 2,5 - 95 mm2","1 / -",1.0429999999999999,1.331,110.53,{"$f":"VLOOKUP(B1359,#REF!,3,FALSE)","v":{"$error":"#REF!"}}]
[null,null,null,"Level  5","BC160NT405 - Компактные автоматические выключатели (3+N)"]
["Modeion","Modeion BC","LM1","OEZ:33617","BC160NT405-16-D","Компактный автоматический выключатель","3+N-полюс, In 16 A, Icu 25 kA, характеристика распределительная D, настройка IR 12,5 - 16 A, Cu/Al кабели 2,5 - 95 mm2","1 / -",1.3360000000000001,1.597,153.07,{"$f":"VLOOKUP(B1361,#REF!,3,FALSE)","v":{"$error":"#REF!"}}]
["Modeion","Modeion BC","LM1","OEZ:33616","BC160NT405-20-D","Компактный автоматический выключатель","3+N-полюс, In 20 A, Icu 25 kA, характеристика распределительная D, настройка IR 16 - 20 A, Cu/Al кабели 2,5 - 95 mm2","1 / -",1.3360000000000001,1.597,153.07,{"$f":"VLOOKUP(B1362,#REF!,3,FALSE)","v":{"$error":"#REF!"}}]
["Modeion","Modeion BC","LM1","OEZ:33615","BC160NT405-25-D","Компактный автоматический выключатель","3+N-полюс, In 25 A, Icu 25 kA, характеристика распределительная D, настройка IR 20 - 25 A, Cu/Al кабели 2,5 - 95 mm2","1 / -",1.3360000000000001,1.597,153.07,{"$f":"VLOOKUP(B1363,#REF!,3,FALSE)","v":{"$error":"#REF!"}}]
["Modeion","Modeion BC","LM1","OEZ:33614","BC160NT405-32-D","Компактный автоматический выключатель","3+N-полюс, In 32 A, Icu 25 kA, характеристика распределительная D, настройка IR 25 - 32 A, Cu/Al кабели 2,5 - 95 mm2","1 / -",1.3360000000000001,1.597,153.07,{"$f":"VLOOKUP(B1364,#REF!,3,FALSE)","v":{"$error":"#REF!"}}]
["Modeion","Modeion BC","LM1","OEZ:33613","BC160NT405-40-D","Компактный автоматический выключатель","3+N-полюс, In 40 A, Icu 25 kA, характеристика распределительная D, настройка IR 32 - 40 A, Cu/Al кабели 2,5 - 95 mm2","1 / -",1.3360000000000001,1.597,166.37,{"$f":"VLOOKUP(B1365,#REF!,3,FALSE)","v":{"$error":"#REF!"}}]
["Modeion","Modeion BC","LM1","OEZ:33611","BC160NT405-50-D","Компактный автоматический выключатель","3+N-полюс, In 50 A, Icu 25 kA, характеристика распределительная D, настройка IR 40 - 50 A, Cu/Al кабели 2,5 - 95 mm2","1 / -",1.3360000000000001,1.597,166.37,{"$f":"VLOOKUP(B1366,#REF!,3,FALSE)","v":{"$error":"#REF!"}}]
["Modeion","Modeion BC","LM1","OEZ:33609","BC160NT405-63-D","Компактный автоматический выключатель","3+N-полюс, In 63 A, Icu 25 kA, характеристика распределительная D, настройка IR 50 - 63 A, Cu/Al кабели 2,5 - 95 mm2","1 / -",1.3360000000000001,1.597,166.37,{"$f":"VLOOKUP(B1367,#REF!,3,FALSE)","v":{"$error":"#REF!"}}]
["Modeion","Modeion BC","LM1","OEZ:33607","BC160NT405-80-D","Компактный автоматический выключатель","3+N-полюс, In 80 A, Icu 25 kA, характеристика распределительная D, настройка IR 63 - 80 A, Cu/Al кабели 2,5 - 95 mm2","1 / -",1.3360000000000001,1.597,168.79999999999998,{"$f":"VLOOKUP(B1368,#REF!,3,FALSE)","v":{"$error":"#REF!"}}]
["Modeion","Modeion BC","LM1","OEZ:33605","BC160NT405-100-D","Компактный автоматический выключатель","3+N-полюс, In 100 A, Icu 25 kA, характеристика распределительная D, настройка IR 80 - 100 A, Cu/Al кабели 2,5 - 95 mm2","1 / -",1.3360000000000001,1.597,171.20999999999998,{"$f":"VLOOKUP(B1369,#REF!,3,FALSE)","v":{"$error":"#REF!"}}]
["Modeion","Modeion BC","LM1","OEZ:33603","BC160NT405-125-D","Компактный автоматический выключатель","3+N-полюс, In 125 A, Icu 25 kA, характеристика распределительная D, настройка IR 100 - 125 A, Cu/Al кабели 2,5 - 95 mm2","1 / -",1.3360000000000001,1.597,202.92,{"$f":"VLOOKUP(B1370,#REF!,3,FALSE)","v":{"$error":"#REF!"}}]
["Modeion","Modeion BC","LM1","OEZ:33601","BC160NT405-160-D","Компактный автоматический выключатель","3+N-полюс, In 160 A, Icu 25 kA, характеристика распределительная D, настройка IR 125 - 160 A, Cu/Al кабели 2,5 - 95 mm2","1 / -",1.3360000000000001,1.597,228.26,{"$f":"VLOOKUP(B1371,#REF!,3,FALSE)","v":{"$error":"#REF!"}}]
["Modeion","Modeion BC","LM1","OEZ:33626","BC160NT405-160-V","Разъединитель нагрузки","4-полюс, Ie 160 A, Ue AC 690 V (AC-23A) / DC 440 V (DC-22A), Cu/Al кабели 2,5 - 95 mm2","1 / -",1.3360000000000001,1.597,165.54,{"$f":"VLOOKUP(B1372,#REF!,3,FALSE)","v":{"$error":"#REF!"}}]
[null,null,null,"Level  5","BC160NT406 - Компактные автоматические выключатели (4P)"]
["Modeion","Modeion BC","LM1","OEZ:33644","BC160NT406-16-D","Компактный автоматический выключатель","4-полюс, In 16 A, Icu 25 kA, характеристика распределительная D, настройка IR 12,5 - 16 A, Cu/Al кабели 2,5 - 95 mm2","1 / -",1.3360000000000001,1.7050000000000001,160.70999999999998,{"$f":"VLOOKUP(B1374,#REF!,3,FALSE)","v":{"$error":"#REF!"}}]
["Modeion","Modeion BC","LM1","OEZ:33643","BC160NT406-20-D","Компактный автоматический выключатель","4-полюс, In 20 A, Icu 25 kA, характеристика распределительная D, настройка IR 16 - 20 A, Cu/Al кабели 2,5 - 95 mm2","1 / -",1.3360000000000001,1.7050000000000001,160.70999999999998,{"$f":"VLOOKUP(B1375,#REF!,3,FALSE)","v":{"$error":"#REF!"}}]
["Modeion","Modeion BC","LM1","OEZ:33642","BC160NT406-25-D","Компактный автоматический выключатель","4-полюс, In 25 A, Icu 25 kA, характеристика распределительная D, настройка IR 20 - 25 A, Cu/Al кабели 2,5 - 95 mm2","1 / -",1.3360000000000001,1.7050000000000001,160.70999999999998,{"$f":"VLOOKUP(B1376,#REF!,3,FALSE)","v":{"$error":"#REF!"}}]
["Modeion","Modeion BC","LM1","OEZ:33641","BC160NT406-32-D","Компактный автоматический выключатель","4-полюс, In 32 A, Icu 25 kA, характеристика распределительная D, настройка IR 25 - 32 A, Cu/Al кабели 2,5 - 95 mm2","1 / -",1.3360000000000001,1.7050000000000001,160.70999999999998,{"$f":"VLOOKUP(B1377,#REF!,3,FALSE)","v":{"$error":"#REF!"}}]
["Modeion","Modeion BC","LM1","OEZ:33640","BC160NT406-40-D","Компактный автоматический выключатель","4-полюс, In 40 A, Icu 25 kA, характеристика распределительная D, настройка IR 32 - 40 A, Cu/Al кабели 2,5 - 95 mm2","1 / -",1.3360000000000001,1.7050000000000001,174.7,{"$f":"VLOOKUP(B1378,#REF!,3,FALSE)","v":{"$error":"#REF!"}}]
["Modeion","Modeion BC","LM1","OEZ:33638","BC160NT406-50-D","Компактный автоматический выключатель","4-полюс, In 50 A, Icu 25 kA, характеристика распределительная D, настройка IR 40 - 50 A, Cu/Al кабели 2,5 - 95 mm2","1 / -",1.3360000000000001,1.7050000000000001,174.7,{"$f":"VLOOKUP(B1379,#REF!,3,FALSE)","v":{"$error":"#REF!"}}]
["Modeion","Modeion BC","LM1","OEZ:33636","BC160NT406-63-D","Компактный автоматический выключатель","4-полюс, In 63 A, Icu 25 kA, характеристика распределительная D, настройка IR 50 - 63 A, Cu/Al кабели 2,5 - 95 mm2","1 / -",1.3360000000000001,1.7050000000000001,174.7,{"$f":"VLOOKUP(B1380,#REF!,3,FALSE)","v":{"$error":"#REF!"}}]
["Modeion","Modeion BC","LM1","OEZ:33634","BC160NT406-80-D","Компактный автоматический выключатель","4-полюс, In 80 A, Icu 25 kA, характеристика распределительная D, настройка IR 63 - 80 A, Cu/Al кабели 2,5 - 95 mm2","1 / -",1.38,1.7050000000000001,177.25,{"$f":"VLOOKUP(B1381,#REF!,3,FALSE)","v":{"$error":"#REF!"}}]
["Modeion","Modeion BC","LM1","OEZ:33632","BC160NT406-100-D","Компактный автоматический выключатель","4-полюс, In 100 A, Icu 25 kA, характеристика распределительная D, настройка IR 80 - 100 A, Cu/Al кабели 2,5 - 95 mm2","1 / -",1.3360000000000001,1.7050000000000001,179.76999999999998,{"$f":"VLOOKUP(B1382,#REF!,3,FALSE)","v":{"$error":"#REF!"}}]
["Modeion","Modeion BC","LM1","OEZ:33630","BC160NT406-125-D","Компактный автоматический выключатель","4-полюс, In 125 A, Icu 25 kA, характеристика распределительная D, настройка IR 100 - 125 A, Cu/Al кабели 2,5 - 95 mm2","1 / -",1.3360000000000001,1.7050000000000001,213.03,{"$f":"VLOOKUP(B1383,#REF!,3,FALSE)","v":{"$error":"#REF!"}}]
["Modeion","Modeion BC","LM1","OEZ:33628","BC160NT406-160-D","Компактный автоматический выключатель","4-полюс, In 160 A, Icu 25 kA, характеристика распределительная D, настройка IR 125 - 160 A, Cu/Al кабели 2,5 - 95 mm2","1 / -",1.3360000000000001,1.7050000000000001,239.64,{"$f":"VLOOKUP(B1384,#REF!,3,FALSE)","v":{"$error":"#REF!"}}]
[null,null,null,"Level  4","RCD-BC - Модули защитного отключения"]
[null,null,null,"Level  5","RCD-BC - Модули защитного отключения"]
["Modeion","Modeion BC","LM1","OEZ:37745","RCD-BC3-EF06","Модуль защитного отключения","3-полюс, In 63 A, Idn 0,3 A, с соединительными шинами, Cu/Al кабели 2,5 - 95 mm2, для BC160","1 / -",1.4430000000000001,4.0540000000000003,520.36,{"$f":"VLOOKUP(B1387,#REF!,3,FALSE)","v":{"$error":"#REF!"}}]
["Modeion","Modeion BC","LM1","OEZ:37746","RCD-BC3-EF16","Модуль защитного отключения","3-полюс, In 160 A, Idn 0,3 A, с соединительными шинами, Cu/Al кабели 2,5 - 95 mm2, для BC160","1 / -",1.6519999999999999,4.0540000000000003,526.83000000000004,{"$f":"VLOOKUP(B1388,#REF!,3,FALSE)","v":{"$error":"#REF!"}}]
["Modeion","Modeion BC","LM1","OEZ:37747","RCD-BC3-EA06","Модуль защитного отключения","3-полюс, In 63 A, Idn 0,03 - 3 A, с соединительными шинами, Cu/Al кабели 2,5 - 95 mm2, для BC160","1 / -",1.4430000000000001,4.0540000000000003,614.05999999999995,{"$f":"VLOOKUP(B1389,#REF!,3,FALSE)","v":{"$error":"#REF!"}}]
["Modeion","Modeion BC","LM1","OEZ:37748","RCD-BC3-EA16","Модуль защитного отключения","3-полюс, In 160 A, Idn 0,03 - 3 A, с соединительными шинами, Cu/Al кабели 2,5 - 95 mm2, для BC160","1 / -",1.6519999999999999,4.0540000000000003,593.28,{"$f":"VLOOKUP(B1390,#REF!,3,FALSE)","v":{"$error":"#REF!"}}]
["Modeion","Modeion BC","LM1","OEZ:37753","RCD-BC4-EF06","Модуль защитного отключения","4-полюс, In 63 A, Idn 0,3 A, с соединительными шинами, Cu/Al кабели 2,5 - 95 mm2, для BC160","1 / -",1.756,4.0540000000000003,574.01,{"$f":"VLOOKUP(B1391,#REF!,3,FALSE)","v":{"$error":"#REF!"}}]
["Modeion","Modeion BC","LM1","OEZ:37754","RCD-BC4-EF16","Модуль защитного отключения","4-полюс, In 160 A, Idn 0,3 A, с соединительными шинами, Cu/Al кабели 2,5 - 95 mm2, для BC160","1 / -",2.032,4.0540000000000003,632.46,{"$f":"VLOOKUP(B1392,#REF!,3,FALSE)","v":{"$error":"#REF!"}}]
["Modeion","Modeion BC","LM1","OEZ:37755","RCD-BC4-EA06","Модуль защитного отключения","4-полюс, In 63 A, Idn 0,03 - 3 A, с соединительными шинами, Cu/Al кабели 2,5 - 95 mm2, для BC160","1 / -",1.756,4.0540000000000003,600.41999999999996,{"$f":"VLOOKUP(B1393,#REF!,3,FALSE)","v":{"$error":"#REF!"}}]
["Modeion","Modeion BC","LM1","OEZ:37756","RCD-BC4-EA16","Модуль защитного отключения","4-полюс, In 160 A, Idn 0,03 - 3 A, с соединительными шинами, Cu/Al кабели 2,5 - 95 mm2, для BC160","1 / -",2.0339999999999998,4.0540000000000003,670.02,{"$f":"VLOOKUP(B1394,#REF!,3,FALSE)","v":{"$error":"#REF!"}}]
["Modeion","Modeion BC","LM1","OEZ:37761","RCD-BC0-EF16","Модуль защитного отключения","4-полюс, In 160 A, Idn 0,3 A, без соединительных шин, Cu/Al кабели 2,5 - 95 mm2, для BC160","1 / -",1.2769999999999999,4.0540000000000003,353.90999999999997,{"$f":"VLOOKUP(B1395,#REF!,3,FALSE)","v":{"$error":"#REF!"}}]
["Modeion","Modeion BC","LM1","OEZ:37762","RCD-BC0-EA16","Модуль защитного отключения","4-полюс, In 160 A, Idn 0,03 - 3 A, без соединительных шин, Cu/Al кабели 2,5 - 95 mm2, для BC160","1 / -",1.2769999999999999,4.0540000000000003,348.65999999999997,{"$f":"VLOOKUP(B1396,#REF!,3,FALSE)","v":{"$error":"#REF!"}}]
["Modeion","Modeion BC","LM1","OEZ:38375","RCD-BC0-EF06","Модуль защитного отключения","4-полюс, In 63 A, Idn 0,3 A, без соединительных шин, Cu/Al кабели 2,5 - 95 mm2, для BC160","1 / -",1.2769999999999999,4.0540000000000003,457.90999999999997,{"$f":"VLOOKUP(B1397,#REF!,3,FALSE)","v":{"$error":"#REF!"}}]
["Modeion","Modeion BC","LM1","OEZ:38376","RCD-BC0-EA06","Модуль защитного отключения","4-полюс, In 63 A, Idn 0,03 - 3 A, без соединительных шин, Cu/Al кабели 2,5 - 95 mm2, для BC160","1 / -",1.2769999999999999,4.0540000000000003,452.7,{"$f":"VLOOKUP(B1398,#REF!,3,FALSE)","v":{"$error":"#REF!"}}]
[null,null,null,"Level  5","OD-RCD - Принадлежности"]
[null,null,null,"Level  6","CS-BC-S - Присоединительные комплекты для модуля защитного отключения"]
["Modeion","Modeion BC","LM1","OEZ:38379","CS-BC-S006","Присоединительный комплект","соединительные шины, In 63 A, 3 шт., для RCD-BC","1 / -",0.16600000000000001,0.62,193.26,{"$f":"VLOOKUP(B1401,#REF!,3,FALSE)","v":{"$error":"#REF!"}}]
["Modeion","Modeion BC","LM1","OEZ:38380","CS-BC-S016","Присоединительный комплект","соединительные шины, In 160 A, 3 шт., для RCD-BC","1 / -",0.49099999999999999,0.66,208.76,{"$f":"VLOOKUP(B1402,#REF!,3,FALSE)","v":{"$error":"#REF!"}}]
["Modeion","Modeion BC","LM1","OEZ:38383","CS-BC-S406","Присоединительный комплект","соединительные шины, In 63 A, 4 шт., для RCD-BC","1 / -",0.21099999999999999,0.71399999999999997,257.21999999999997,{"$f":"VLOOKUP(B1403,#REF!,3,FALSE)","v":{"$error":"#REF!"}}]
["Modeion","Modeion BC","LM1","OEZ:38384","CS-BC-S416","Присоединительный комплект","соединительные шины, In 160 A, 4 шт., для RCD-BC","1 / -",0.64500000000000002,0.75,277.88,{"$f":"VLOOKUP(B1404,#REF!,3,FALSE)","v":{"$error":"#REF!"}}]
[null,null,null,"Level  4","OD-BC - Принадлежности"]
[null,null,null,"Level  5","CS-BC - Присоединительные комплекты"]
["Modeion","Modeion BC","LM1","OEZ:20223","CS-BC-A011","Присоединительный комплект","передний подвод, Cu/Al шины / кабельные наконечники / гибкие шины, 3 шт., для BC160","1 / -",4.4999999999999998E-2,0.63800000000000001,7.21,{"$f":"VLOOKUP(B1407,#REF!,3,FALSE)","v":{"$error":"#REF!"}}]
["Modeion","Modeion BC","LM1","OEZ:20237","CS-BC-B021","Присоединительный комплект","зажимы для присоединения проводников без кабельных наконечников, Cu/Al кабели 2x (25 - 120) mm2, 3 шт., для BC160","1 / -",0.18,0.373,205.5,{"$f":"VLOOKUP(B1408,#REF!,3,FALSE)","v":{"$error":"#REF!"}}]
["Modeion","Modeion BC","LM1","OEZ:20236","CS-BC-A021","Присоединительный комплект","задний подвод, Cu/Al шины / кабельные наконечники, 3 шт., для BC160","1 / -",0.17499999999999999,0.71799999999999997,25.17,{"$f":"VLOOKUP(B1409,#REF!,3,FALSE)","v":{"$error":"#REF!"}}]
["Modeion","Modeion BC","LM1","OEZ:20239","CS-BC-PS01","Присоединительный комплект","зажим для присоединения вспомогательных цепей и цепей управления, Cu провода 1,5 - 2,5/4 - 6 mm2, 3 шт., для BC160","1 / -",0.01,0.14399999999999999,6.29,{"$f":"VLOOKUP(B1410,#REF!,3,FALSE)","v":{"$error":"#REF!"}}]
["Modeion","Modeion BC","LM1","OEZ:20608","CS-BC-A033","Присоединительный комплект","замена BA*33-50, передний подвод, Cu/Al шины / кабельные наконечники, 3 шт., для BC160","1 / -",0.10299999999999999,0.51,21.700000000000003,{"$f":"VLOOKUP(B1411,#REF!,3,FALSE)","v":{"$error":"#REF!"}}]
["Modeion","Modeion BC","LM1","OEZ:43710","CS-BC-AJ21","Присоединительный комплект","замена J21U50, передний подвод, Cu/Al шины / кабельные наконечники, 3 шт., для BC160","1 / -",1,0.8,70.81,{"$f":"VLOOKUP(B1412,#REF!,3,FALSE)","v":{"$error":"#REF!"}}]
["Modeion","Modeion BC","LM1","OEZ:20622","CS-BC-T011","Присоединительный комплект","хомутные зажимы, Cu/Al кабели 2,5-95 mm2, до 125A, 3 шт., для BC160","1 / -",8.6999999999999994E-2,0.63800000000000001,5.55,{"$f":"VLOOKUP(B1413,#REF!,3,FALSE)","v":{"$error":"#REF!"}}]
["Modeion","Modeion BC","LM1","OEZ:20623","CS-BC-T012","Присоединительный комплект","хомутные зажимы, Cu/Al кабели 2,5-95 mm2, до 160A, 3 шт., для BC160","1 / -",8.6999999999999994E-2,0.63800000000000001,7.39,{"$f":"VLOOKUP(B1414,#REF!,3,FALSE)","v":{"$error":"#REF!"}}]
["Modeion","Modeion BC","LM1","OEZ:33653","CS-BC-A411","Присоединительный комплект","передний подвод, Cu/Al шины / кабельные наконечники / гибкие шины, 1 шт., для BC160","1 / -",1.4999999999999999E-2,0.3,1.75,{"$f":"VLOOKUP(B1415,#REF!,3,FALSE)","v":{"$error":"#REF!"}}]
["Modeion","Modeion BC","LM1","OEZ:33654","CS-BC-A421","Присоединительный комплект","задний подвод, Cu/Al шины / кабельные наконечники, 1 шт., для BC160","1 / -",0.08,0.40799999999999997,10.76,{"$f":"VLOOKUP(B1416,#REF!,3,FALSE)","v":{"$error":"#REF!"}}]
["Modeion","Modeion BC","LM1","OEZ:33658","CS-BC-B421","Присоединительный комплект","двойные зажимы для присоединения проводников без кабельных наконечников, Cu/Al кабели 2x (25 - 120) mm2, 4 шт., для BC160","1 / -",0.25,0.54800000000000004,277.58,{"$f":"VLOOKUP(B1417,#REF!,3,FALSE)","v":{"$error":"#REF!"}}]
["Modeion","Modeion BC","LM1","OEZ:34957","CS-BC-B014","Присоединительный комплект","зажимы для присоединения проводников без кабельных наконечников, Cu/Al кабели 5x(2,5-25) mm2, 3 шт., для BC160","1 / -",0.18,0.373,207.69,{"$f":"VLOOKUP(B1418,#REF!,3,FALSE)","v":{"$error":"#REF!"}}]
["Modeion","Modeion BC","LM1","OEZ:34958","CS-BC-B414","Присоединительный комплект","зажимы для присоединения проводников без кабельных наконечников, Cu/Al кабели 5x(2,5-25) mm2, 4 шт., для BC160","1 / -",0.24,0.54800000000000004,275.36,{"$f":"VLOOKUP(B1419,#REF!,3,FALSE)","v":{"$error":"#REF!"}}]
["Modeion","Modeion BC","LM1","OEZ:36030","CS-BC-PS41","Присоединительный комплект","зажим для присоединения вспомогательных цепей и цепей управления, Cu провода 1,5 - 2,5/4 - 6 mm2, 1 шт., для BC160","1 / -",5.0000000000000001E-3,6.5000000000000002E-2,2.6999999999999997,{"$f":"VLOOKUP(B1420,#REF!,3,FALSE)","v":{"$error":"#REF!"}}]
[null,null,null,"Level  5","OD-BC-M - Монтажные комплекты"]
["Modeion","Modeion BC","LM1","OEZ:20625","OD-BC-MS33","Монтажный комплект","замена BA*33-50, передний подвод, для BC160","1 / -",0.125,0.748,55.79,{"$f":"VLOOKUP(B1422,#REF!,3,FALSE)","v":{"$error":"#REF!"}}]
["Modeion","Modeion BC","LM1","OEZ:43711","OD-BC-MS21","Монтажный комплект","замена J21U50, передний подвод, для BC160","1 / -",0.9,0.8,86.73,{"$f":"VLOOKUP(B1423,#REF!,3,FALSE)","v":{"$error":"#REF!"}}]
["Modeion","Modeion BC","LM1","OEZ:20238","OD-BC-DIN1","Монтажный комплект","адаптер для \"U\" рейки, для BC160","1 / -",0.05,0.51,5.84,{"$f":"VLOOKUP(B1424,#REF!,3,FALSE)","v":{"$error":"#REF!"}}]
[null,null,null,"Level  5","PS-BC - Вспомогательные выключатели"]
["Modeion","Modeion BC","LM1","OEZ:20227","PS-BC-0010","Вспомогательный выключатель","1x CO, AC/DC 60 - 250 V, для BC160","1 / -",0.01,0.192,9.93,{"$f":"VLOOKUP(B1426,#REF!,3,FALSE)","v":{"$error":"#REF!"}}]
["Modeion","Modeion BC","LM1","OEZ:20228","PS-BC-0010-Au","Вспомогательный выключатель","1x CO, AC/DC 5 - 60 V, для BC160","1 / -",0.01,0.192,15.18,{"$f":"VLOOKUP(B1427,#REF!,3,FALSE)","v":{"$error":"#REF!"}}]
["Modeion","Modeion BC","LM1","OEZ:20225","NS-BC-0010","Сигнальный выключатель","1x CO, AC/DC 60 - 250 V, для BC160","1 / -",0.01,0.192,9.99,{"$f":"VLOOKUP(B1428,#REF!,3,FALSE)","v":{"$error":"#REF!"}}]
["Modeion","Modeion BC","LM1","OEZ:20226","NS-BC-0010-Au","Сигнальный выключатель","1x CO, AC/DC 5 - 60 V, для BC160","1 / -",0.01,0.192,15.18,{"$f":"VLOOKUP(B1429,#REF!,3,FALSE)","v":{"$error":"#REF!"}}]
[null,null,null,"Level  5","SV-BC - независимые расцепители"]
["Modeion","Modeion BC","LM1","OEZ:20233","SV-BC-X024","Независимый расцепитель","AC/DC 24, 48 V, для BC160","1 / -",0.05,0.26800000000000002,26.740000000000002,{"$f":"VLOOKUP(B1431,#REF!,3,FALSE)","v":{"$error":"#REF!"}}]
["Modeion","Modeion BC","LM1","OEZ:20234","SV-BC-X110","Независимый расцепитель","AC/DC 110 V, для BC160","1 / -",0.05,0.26800000000000002,28.37,{"$f":"VLOOKUP(B1432,#REF!,3,FALSE)","v":{"$error":"#REF!"}}]
["Modeion","Modeion BC","LM1","OEZ:20235","SV-BC-X230","Независимый расцепитель","AC 230, 400 V / DC 220 V, для BC160","1 / -",0.05,0.26800000000000002,29.23,{"$f":"VLOOKUP(B1433,#REF!,3,FALSE)","v":{"$error":"#REF!"}}]
[null,null,null,"Level  5","SP-BC - Расцепители минимального напряжения"]
["Modeion","Modeion BC","LM1","OEZ:20229","SP-BC-X024","Расцепитель минимального напряжения","AC/DC 24, 48 V, для BC160","1 / -",0.05,0.26800000000000002,27.48,{"$f":"VLOOKUP(B1435,#REF!,3,FALSE)","v":{"$error":"#REF!"}}]
["Modeion","Modeion BC","LM1","OEZ:20231","SP-BC-X110","Расцепитель минимального напряжения","AC/DC 110 V, для BC160","1 / -",0.05,0.26800000000000002,26.860000000000003,{"$f":"VLOOKUP(B1436,#REF!,3,FALSE)","v":{"$error":"#REF!"}}]
["Modeion","Modeion BC","LM1","OEZ:20232","SP-BC-X230","Расцепитель минимального напряжения","AC 230, 400 V / DC 220 V, для BC160","1 / -",0.05,0.26800000000000002,30.98,{"$f":"VLOOKUP(B1437,#REF!,3,FALSE)","v":{"$error":"#REF!"}}]
[null,null,null,"Level  5","BZ-BX - Блоки задержки"]
["Modeion","Modeion BL","LM3","OEZ:36696","BZ-BX-X230-A","Блок задержки","для расцепителей минимального напряжения, AC 230 V / DC 220 V, для SP-BC-..., SP-BD-..., SP-BH-..., SP-BL-...","1 / -",0.12,0.40600000000000003,22.23,{"$f":"VLOOKUP(B1439,#REF!,3,FALSE)","v":{"$error":"#REF!"}}]
[null,null,null,"Level  5","RP-BC - Ручные приводы"]
["Modeion","Modeion BC","LM1","OEZ:20560","RP-BC-CK10","Блок ручного привода","для BC160","1 / -",7.9000000000000001E-2,0.34100000000000003,14.08,{"$f":"VLOOKUP(B1441,#REF!,3,FALSE)","v":{"$error":"#REF!"}}]
["Modeion","Modeion BC","LM1","OEZ:20593","RP-BC-CK20","Блок ручного привода","с блокированием, для BC160","1 / -",7.9000000000000001E-2,0.34100000000000003,22.03,{"$f":"VLOOKUP(B1442,#REF!,3,FALSE)","v":{"$error":"#REF!"}}]
["Modeion","Modeion BC","LM1","OEZ:20594","RP-BC-CK21","Блок ручного привода","с блокированием, щиток - желтый цвет, для BC160","1 / -",7.9000000000000001E-2,0.34100000000000003,32.519999999999996,{"$f":"VLOOKUP(B1443,#REF!,3,FALSE)","v":{"$error":"#REF!"}}]
["Modeion","Modeion BC","LM1","OEZ:20595","RP-BC-CK30","Блок ручного привода","боковое управление вправо, для BC160","1 / -",0.13700000000000001,0.61899999999999999,49.44,{"$f":"VLOOKUP(B1444,#REF!,3,FALSE)","v":{"$error":"#REF!"}}]
["Modeion","Modeion BC","LM1","OEZ:20596","RP-BC-CK31","Блок ручного привода","боковое управление влево, для BC160","1 / -",0.13700000000000001,0.57599999999999996,53.419999999999995,{"$f":"VLOOKUP(B1445,#REF!,3,FALSE)","v":{"$error":"#REF!"}}]
["Modeion","Modeion BC","LM1","OEZ:20561","RP-BC-CP10","Рычаг ручного привода","черный цвет, для BC160","1 / -",1.9E-2,0.192,6.02,{"$f":"VLOOKUP(B1446,#REF!,3,FALSE)","v":{"$error":"#REF!"}}]
["Modeion","Modeion BC","LM1","OEZ:20562","RP-BC-CP20","Рычаг ручного привода","черный цвет, с блокированием, для BC160","1 / -",1.9E-2,0.192,7.89,{"$f":"VLOOKUP(B1447,#REF!,3,FALSE)","v":{"$error":"#REF!"}}]
["Modeion","Modeion BC","LM1","OEZ:20597","RP-BC-CP21","Рычаг ручного привода","красный цвет, с блокированием, для BC160","1 / -",1.9E-2,0.192,8.5399999999999991,{"$f":"VLOOKUP(B1448,#REF!,3,FALSE)","v":{"$error":"#REF!"}}]
["Modeion","Modeion BC","LM1","OEZ:20564","RP-BC-CN10","Подшипник ручного привода ","IP40, щиток - черный цвет, для BC160","1 / -",4.2000000000000003E-2,0.24399999999999999,33.619999999999997,{"$f":"VLOOKUP(B1449,#REF!,3,FALSE)","v":{"$error":"#REF!"}}]
["Modeion","Modeion BC","LM1","OEZ:20565","RP-BC-CN20","Подшипник ручного привода ","IP66, щиток - черный цвет, для BC160","1 / -",4.2000000000000003E-2,0.24399999999999999,45.5,{"$f":"VLOOKUP(B1450,#REF!,3,FALSE)","v":{"$error":"#REF!"}}]
["Modeion","Modeion BC","LM1","OEZ:20598","RP-BC-CN11","Подшипник ручного привода ","IP40, щиток - желтый цвет, для BC160","1 / -",4.2000000000000003E-2,0.24399999999999999,34.419999999999995,{"$f":"VLOOKUP(B1451,#REF!,3,FALSE)","v":{"$error":"#REF!"}}]
["Modeion","Modeion BC","LM1","OEZ:20599","RP-BC-CN21","Подшипник ручного привода ","IP66, щиток - желтый цвет, для BC160","1 / -",4.2000000000000003E-2,0.24399999999999999,45.5,{"$f":"VLOOKUP(B1452,#REF!,3,FALSE)","v":{"$error":"#REF!"}}]
["Modeion","Modeion BC","LM1","OEZ:20563","RP-BC-CH10","Удлинительный вал","для BC160","1 / -",0.113,0.222,13.58,{"$f":"VLOOKUP(B1453,#REF!,3,FALSE)","v":{"$error":"#REF!"}}]
["Modeion","Modeion BC","LM1","OEZ:20600","RP-BC-CH20","Удлинительный вал","телескопическое исполнение, для BC160","1 / -",9.1999999999999998E-2,0.13200000000000001,15,{"$f":"VLOOKUP(B1454,#REF!,3,FALSE)","v":{"$error":"#REF!"}}]
[null,null,null,"Level  5","RP-BC-C - Механические блокировки и параллельная коммутация"]
["Modeion","Modeion BC","LM1","OEZ:20601","RP-BC-CB10","Механическая блокировка","для переднего ручного привода, для BC160","1 / -",8.8999999999999996E-2,0.372,42.269999999999996,{"$f":"VLOOKUP(B1456,#REF!,3,FALSE)","v":{"$error":"#REF!"}}]
["Modeion","Modeion BC","LM1","OEZ:20602","RP-BC-CD10","Механическая параллельная коммутация ","для переднего ручного привода, для BC160","1 / -",0.109,0.28100000000000003,45.12,{"$f":"VLOOKUP(B1457,#REF!,3,FALSE)","v":{"$error":"#REF!"}}]
[null,null,null,"Level  5","MP-BC - Моторные приводы"]
["Modeion","Modeion BC","LM1","OEZ:34450","MP-BC-X024-B","Моторный привод","боковое управление, AC/DC 24 V, для BC160","1 / -",0.9,2.7549999999999999,261.19,{"$f":"VLOOKUP(B1459,#REF!,3,FALSE)","v":{"$error":"#REF!"}}]
["Modeion","Modeion BC","LM1","OEZ:34451","MP-BC-X048-B","Моторный привод","боковое управление, AC/DC 48 V, для BC160","1 / -",0.9,2.7549999999999999,262.28999999999996,{"$f":"VLOOKUP(B1460,#REF!,3,FALSE)","v":{"$error":"#REF!"}}]
["Modeion","Modeion BC","LM1","OEZ:34452","MP-BC-X110-B","Моторный привод","боковое управление, AC/DC 110 V, для BC160","1 / -",0.9,2.7549999999999999,246.57999999999998,{"$f":"VLOOKUP(B1461,#REF!,3,FALSE)","v":{"$error":"#REF!"}}]
["Modeion","Modeion BC","LM1","OEZ:34453","MP-BC-X230-B","Моторный привод","боковое управление, AC 230 V / DC 220 V, для BC160","1 / -",0.9,2.7549999999999999,255.41,{"$f":"VLOOKUP(B1462,#REF!,3,FALSE)","v":{"$error":"#REF!"}}]
[null,null,null,"Level  5","OD-BC - Принадлежности"]
["Modeion","Modeion BC","LM1","OEZ:20224","OD-BC-KS02","Изоляционные перегородки","2 шт., для BC160","1 / -",0.03,0.16500000000000001,2.5799999999999996,{"$f":"VLOOKUP(B1464,#REF!,3,FALSE)","v":{"$error":"#REF!"}}]
["Modeion","Modeion BC","LM1","OEZ:20240","OD-BC-KS03","Крышка зажимов ","IP20, 3-полюс, для BC160","1 / -",0.05,0.373,6.79,{"$f":"VLOOKUP(B1465,#REF!,3,FALSE)","v":{"$error":"#REF!"}}]
["Modeion","Modeion BC","LM1","OEZ:20241","OD-BC-UP01","Запираемый рычаг","для BC160","1 / -",5.0000000000000001E-3,9.6000000000000002E-2,6.35,{"$f":"VLOOKUP(B1466,#REF!,3,FALSE)","v":{"$error":"#REF!"}}]
["Modeion","Modeion BC","LM1","OEZ:34454","OD-BC-KA02-A","Удлинительный кабель","0,6 m для моторного привода, для BC160","1 / -",0.1,1.1879999999999999,19.630000000000003,{"$f":"VLOOKUP(B1467,#REF!,3,FALSE)","v":{"$error":"#REF!"}}]
["Modeion","Modeion BC","LM1","OEZ:33660","OD-BC-KS42","Изоляционные перегородки","1 шт., для BC160","1 / -",0.02,0.15,2.44,{"$f":"VLOOKUP(B1468,#REF!,3,FALSE)","v":{"$error":"#REF!"}}]
["Modeion","Modeion BC","LM1","OEZ:33661","OD-BC-KS43","Крышка зажимов ","IP20, 4-полюс, для BC160","1 / -",0.08,0.54800000000000004,5.13,{"$f":"VLOOKUP(B1469,#REF!,3,FALSE)","v":{"$error":"#REF!"}}]
["Modeion","Modeion BC","LM1","OEZ:37510","OD-BC-KA02-B","Удлинительный кабель","3 m для моторного привода, для BC160","1 / -",0.4,1.375,20.190000000000001,{"$f":"VLOOKUP(B1470,#REF!,3,FALSE)","v":{"$error":"#REF!"}}]
[null,null,null,"Level  4","ND-BC - Запасные части"]
["Modeion","Modeion BC","LM1","OEZ:34456","OD-BC-SP01","Запасная часть","рычаг управления, для BC160","1 / -",2E-3,9.6000000000000002E-2,2.4699999999999998,{"$f":"VLOOKUP(B1472,#REF!,3,FALSE)","v":{"$error":"#REF!"}}]
["Modeion","Modeion BC","LM1","OEZ:20606","OD-BC-DV01","Запасная часть","фиксатор проводников, для BC160","1 / -",1E-3,9.6000000000000002E-2,3.1199999999999997,{"$f":"VLOOKUP(B1473,#REF!,3,FALSE)","v":{"$error":"#REF!"}}]
["Modeion","Modeion BC","LM1","OEZ:20607","OD-BC-MS01","Запасная часть","монтажный комплект, комплект винтов M3x30, 2 шт., для BC160","1 / -",5.0000000000000001E-3,9.6000000000000002E-2,2.88,{"$f":"VLOOKUP(B1474,#REF!,3,FALSE)","v":{"$error":"#REF!"}}]
["Modeion","Modeion BC","LM1","OEZ:33656","CS-BC-T411","Запасная часть","хомутные зажимы, Cu/Al кабели 2,5-95 mm2, до 125 A, 1 шт., для BC160","1 / -",0.03,0.40799999999999997,6.47,{"$f":"VLOOKUP(B1475,#REF!,3,FALSE)","v":{"$error":"#REF!"}}]
["Modeion","Modeion BC","LM1","OEZ:33657","CS-BC-T412","Запасная часть","хомутные зажимы, Cu/Al кабели 2,5-95 mm2, до 160 A, 1 шт., для BC160","1 / -",0.03,0.40799999999999997,8.93,{"$f":"VLOOKUP(B1476,#REF!,3,FALSE)","v":{"$error":"#REF!"}}]
["Modeion","Modeion BC","LM1","OEZ:20624","OD-BC-KS01","Запасная часть","крышка зажимов, верхние или нижние зажимы, 3-полюс, 1 шт., для BC160","1 / -",0.01,0.51,4.87,{"$f":"VLOOKUP(B1477,#REF!,3,FALSE)","v":{"$error":"#REF!"}}]
["Modeion","Modeion BC","LM1","OEZ:33659","OD-BC-KS41","Запасная часть","крышка зажимов, верхние или нижние зажимы, 4-полюс, 1 шт., для BC160","1 / -",1.4999999999999999E-2,0.51,4.3899999999999997,{"$f":"VLOOKUP(B1478,#REF!,3,FALSE)","v":{"$error":"#REF!"}}]
["Modeion","Modeion BC","LM1","OEZ:37798","OD-BC-KON2","Запасная часть","разъём и гильзы, для MP-BC-X...-B","1 / -",0.1,0.74099999999999999,12.78,{"$f":"VLOOKUP(B1479,#REF!,3,FALSE)","v":{"$error":"#REF!"}}]
[null,null,null,"Level  3","BD250 - Компактные автоматические выключатели до 250 A"]
[null,null,null,"Level  4","BD250_305, _405, _406 - Коммутационные блоки"]
[null,null,null,"Level  5","BD250_305 - Коммутационные блоки (3P)"]
["Modeion","Modeion BD, BH","LM2","OEZ:14414","BD250NE305","Коммутационный блок","3-полюс, Iu 250 A, Icu 36 kA, для BD250","1 / -",3.33,5.8940000000000001,220.73,{"$f":"VLOOKUP(B1483,#REF!,3,FALSE)","v":{"$error":"#REF!"}}]
["Modeion","Modeion BD, BH","LM2","OEZ:14415","BD250SE305","Коммутационный блок","3-полюс, Iu 250 A, Icu 65 kA, для BD250","1 / -",3.33,5.8940000000000001,329.31,{"$f":"VLOOKUP(B1484,#REF!,3,FALSE)","v":{"$error":"#REF!"}}]
[null,null,null,"Level  5","BD250_405 - Коммутационные блоки (3+N)"]
["Modeion","Modeion BD, BH","LM2","OEZ:19571","BD250NE405","Коммутационный блок","3+N-полюс, Iu 250 A, Icu 36 kA, для BD250","1 / -",4.0999999999999996,7.4009999999999998,284.55,{"$f":"VLOOKUP(B1486,#REF!,3,FALSE)","v":{"$error":"#REF!"}}]
["Modeion","Modeion BD, BH","LM2","OEZ:19573","BD250SE405","Коммутационный блок","3+N-полюс, Iu 250 A, Icu 65 kA, для BD250","1 / -",4.0999999999999996,7.4009999999999998,418.26,{"$f":"VLOOKUP(B1487,#REF!,3,FALSE)","v":{"$error":"#REF!"}}]
[null,null,null,"Level  5","BD250_406 - Коммутационные блоки (4P)"]
["Modeion","Modeion BD, BH","LM2","OEZ:19572","BD250NE406","Коммутационный блок","4-полюс, Iu 250 A, Icu 36 kA, для BD250","1 / -",4.0999999999999996,7.4009999999999998,300.02,{"$f":"VLOOKUP(B1489,#REF!,3,FALSE)","v":{"$error":"#REF!"}}]
["Modeion","Modeion BD, BH","LM2","OEZ:19574","BD250SE406","Коммутационный блок","4-полюс, Iu 250 A, Icu 65 kA, для BD250","1 / -",4.0999999999999996,7.4009999999999998,463.78,{"$f":"VLOOKUP(B1490,#REF!,3,FALSE)","v":{"$error":"#REF!"}}]
[null,null,null,"Level  4","SE-BD - Расцепители максимального тока"]
["Modeion","Modeion BD, BH","LM2","OEZ:20612","SE-BD-0160-L001","Расцепитель максимального тока","характеристика проводки L, In 160 A, без настройки IR, для BD250","1 / -",0.28299999999999997,0.79200000000000004,64.740000000000009,{"$f":"VLOOKUP(B1492,#REF!,3,FALSE)","v":{"$error":"#REF!"}}]
["Modeion","Modeion BD, BH","LM2","OEZ:20666","SE-BD-0200-L001","Расцепитель максимального тока","характеристика проводки L, In 200 A, без настройки IR, для BD250","1 / -",0.28299999999999997,0.79200000000000004,67.550000000000011,{"$f":"VLOOKUP(B1493,#REF!,3,FALSE)","v":{"$error":"#REF!"}}]
["Modeion","Modeion BD, BH","LM2","OEZ:20613","SE-BD-0250-L001","Расцепитель максимального тока","характеристика проводки L, In 250 A, без настройки IR, для BD250","1 / -",0.28299999999999997,0.79200000000000004,72.800000000000011,{"$f":"VLOOKUP(B1494,#REF!,3,FALSE)","v":{"$error":"#REF!"}}]
["Modeion","Modeion BD, BH","LM2","OEZ:24300","SE-BD-0100-DTV3","Расцепитель максимального тока","характеристика распределительная D, In 100 A, настройка IR 40 - 100 A, для BD250","1 / -",0.28299999999999997,0.90800000000000003,80.48,{"$f":"VLOOKUP(B1495,#REF!,3,FALSE)","v":{"$error":"#REF!"}}]
["Modeion","Modeion BD, BH","LM2","OEZ:24200","SE-BD-0160-DTV3","Расцепитель максимального тока","характеристика распределительная D, In 160 A, настройка IR 63 - 160 A, для BD250","1 / -",0.28399999999999997,0.90800000000000003,84.86,{"$f":"VLOOKUP(B1496,#REF!,3,FALSE)","v":{"$error":"#REF!"}}]
["Modeion","Modeion BD, BH","LM2","OEZ:24100","SE-BD-0250-DTV3","Расцепитель максимального тока","характеристика распределительная D, In 250 A, настройка IR 100 - 250 A, для BD250","1 / -",0.28299999999999997,0.90800000000000003,105.4,{"$f":"VLOOKUP(B1497,#REF!,3,FALSE)","v":{"$error":"#REF!"}}]
["Modeion","Modeion BD, BH","LM2","OEZ:24310","SE-BD-0100-MTV8","Расцепитель максимального тока","характеристика моторная M, In 100 A, настройка IR 40 - 100 A, для BD250","1 / -",0.28499999999999998,0.90700000000000003,93.550000000000011,{"$f":"VLOOKUP(B1498,#REF!,3,FALSE)","v":{"$error":"#REF!"}}]
["Modeion","Modeion BD, BH","LM2","OEZ:24210","SE-BD-0160-MTV8","Расцепитель максимального тока","характеристика моторная M, In 160 A, настройка IR 63 - 160 A, для BD250","1 / -",0.28399999999999997,0.90800000000000003,106.65,{"$f":"VLOOKUP(B1499,#REF!,3,FALSE)","v":{"$error":"#REF!"}}]
["Modeion","Modeion BD, BH","LM2","OEZ:24110","SE-BD-0250-MTV8","Расцепитель максимального тока","характеристика моторная M, In 250 A, настройка IR 100 - 250 A, для BD250","1 / -",0.28499999999999998,0.90800000000000003,138.16,{"$f":"VLOOKUP(B1500,#REF!,3,FALSE)","v":{"$error":"#REF!"}}]
["Modeion","Modeion BD, BH","LM2","OEZ:17304","SE-BD-0100-MTV9","Расцепитель максимального тока","характеристика моторная M, селективность времени, In 100 A, настройка IR 40 - 100 A, для BD250","1 / -",0.23,0.79200000000000004,276.77999999999997,{"$f":"VLOOKUP(B1501,#REF!,3,FALSE)","v":{"$error":"#REF!"}}]
["Modeion","Modeion BD, BH","LM2","OEZ:19569","SE-BD-0160-MTV9","Расцепитель максимального тока","характеристика моторная M, селективность времени, In 160 A, настройка IR 63 - 160 A, для BD250","1 / -",0.23,0.79200000000000004,287.65999999999997,{"$f":"VLOOKUP(B1502,#REF!,3,FALSE)","v":{"$error":"#REF!"}}]
["Modeion","Modeion BD, BH","LM2","OEZ:19570","SE-BD-0250-MTV9","Расцепитель максимального тока","характеристика моторная M, селективность времени, In 250 A, настройка IR 100 - 250 A, для BD250","1 / -",0.23,0.79200000000000004,320.38,{"$f":"VLOOKUP(B1503,#REF!,3,FALSE)","v":{"$error":"#REF!"}}]
["Modeion","Modeion BD, BH","LM2","OEZ:33423","SE-BD-0100-4D01","Расцепитель максимального тока","характеристика распределительная D, In 100 A, настройка IR 40 - 100 A, для BD250","1 / -",0.32700000000000001,0.79200000000000004,189.26,{"$f":"VLOOKUP(B1504,#REF!,3,FALSE)","v":{"$error":"#REF!"}}]
["Modeion","Modeion BD, BH","LM2","OEZ:33424","SE-BD-0160-4D01","Расцепитель максимального тока","характеристика распределительная D, In 160 A, настройка IR 63 - 160 A, для BD250","1 / -",0.32700000000000001,0.79200000000000004,197.88,{"$f":"VLOOKUP(B1505,#REF!,3,FALSE)","v":{"$error":"#REF!"}}]
["Modeion","Modeion BD, BH","LM2","OEZ:33425","SE-BD-0250-4D01","Расцепитель максимального тока","характеристика распределительная D, In 250 A, настройка IR 100 - 250 A, для BD250","1 / -",0.32700000000000001,0.79200000000000004,207.81,{"$f":"VLOOKUP(B1506,#REF!,3,FALSE)","v":{"$error":"#REF!"}}]
["Modeion","Modeion BD, BH","LM2","OEZ:24120","SE-BD-0250-V001","Блок разъединителя нагрузки","для BD250","1 / -",0.219,0.90800000000000003,21.82,{"$f":"VLOOKUP(B1507,#REF!,3,FALSE)","v":{"$error":"#REF!"}}]
[null,null,null,"Level  4","OD-BD - Принадлежности"]
[null,null,null,"Level  5","ZO-BD-0250 - Съемная оборудования"]
["Modeion","Modeion BD, BH","LM2","OEZ:14558","ZO-BD-0250-300","Съемное оборудование","3-полюс, для BD250","1 / -",1.766,4.1779999999999999,129.82999999999998,{"$f":"VLOOKUP(B1510,#REF!,3,FALSE)","v":{"$error":"#REF!"}}]
["Modeion","Modeion BD, BH","LM2","OEZ:20651","ZO-BD-0250-400","Съемное оборудование","3+N-полюс, 4-полюс, для BD250","1 / -",2.11,4.6900000000000004,171.38,{"$f":"VLOOKUP(B1511,#REF!,3,FALSE)","v":{"$error":"#REF!"}}]
[null,null,null,"Level  5","ZV-BD-0250 - выдвижные оборудования"]
["Modeion","Modeion BD, BH","LM2","OEZ:14557","ZV-BD-0250-300","Выдвижное оборудование","3-полюс, для BD250","1 / -",3.5,8.3030000000000008,213.20999999999998,{"$f":"VLOOKUP(B1513,#REF!,3,FALSE)","v":{"$error":"#REF!"}}]
["Modeion","Modeion BD, BH","LM2","OEZ:20652","ZV-BD-0250-400","Выдвижное оборудование","3+N-полюс, 4-полюс, для BD250","1 / -",3.83,10.337,292.28999999999996,{"$f":"VLOOKUP(B1514,#REF!,3,FALSE)","v":{"$error":"#REF!"}}]
[null,null,null,"Level  5","CS-BD - Присоединительные комплекты"]
["Modeion","Modeion BD, BH","LM2","OEZ:24810","CS-BD-T011","Присоединительный комплект","хомутные зажимы, Cu кабели / гибкие шины 16 - 150 mm2, 3 шт., для BD250","1 / -",0.24,0.02,17.05,{"$f":"VLOOKUP(B1516,#REF!,3,FALSE)","v":{"$error":"#REF!"}}]
["Modeion","Modeion BD, BH","LM2","OEZ:24751","CS-BD-B011","Присоединительный комплект","зажимы для присоединения проводников без кабельных наконечников, Cu/Al кабели 25 - 150 mm2, 3 шт., для BD250","1 / -",0.2,0.02,30.59,{"$f":"VLOOKUP(B1517,#REF!,3,FALSE)","v":{"$error":"#REF!"}}]
["Modeion","Modeion BD, BH","LM2","OEZ:17534","CS-BD-B012","Присоединительный комплект","зажимы для присоединения проводников без кабельных наконечников, Cu/Al кабели 150 - 240 mm2, 3 шт., для BD250","1 / -",0.33900000000000002,1.1519999999999999,57.419999999999995,{"$f":"VLOOKUP(B1518,#REF!,3,FALSE)","v":{"$error":"#REF!"}}]
["Modeion","Modeion BD, BH","LM2","OEZ:24752","CS-BD-B021","Присоединительный комплект","зажимы для присоединения проводников без кабельных наконечников, Cu/Al кабели 2x (16 - 150) mm2, 3 шт., для BD250","1 / -",0.52,0.49,58.75,{"$f":"VLOOKUP(B1519,#REF!,3,FALSE)","v":{"$error":"#REF!"}}]
["Modeion","Modeion BD, BH","LM2","OEZ:13808","CS-BD-B022","Присоединительный комплект","зажимы для присоединения проводников без кабельных наконечников, Cu/Al кабели 2x (150 - 240) mm2, 3 шт., для BD250","1 / -",0.63,1.0629999999999999,82.29,{"$f":"VLOOKUP(B1520,#REF!,3,FALSE)","v":{"$error":"#REF!"}}]
["Modeion","Modeion BD, BH","LM2","OEZ:20119","CS-BD-B014","Присоединительный комплект","зажимы для присоединения проводников без кабельных наконечников, Cu/Al кабели 6x (6 - 35) mm2, 3 шт., для BD250","1 / -",0.3,1.254,118.71000000000001,{"$f":"VLOOKUP(B1521,#REF!,3,FALSE)","v":{"$error":"#REF!"}}]
["Modeion","Modeion BD, BH","LM2","OEZ:24770","CS-BD-A021","Присоединительный комплект","задний подвод, Cu/Al шины / кабельные наконечники, 3 шт., для BD250","1 / -",0.23699999999999999,0.02,21.880000000000003,{"$f":"VLOOKUP(B1522,#REF!,3,FALSE)","v":{"$error":"#REF!"}}]
["Modeion","Modeion BD, BH","LM2","OEZ:13682","CS-BD-PS01","Присоединительный комплект","зажим для присоединения вспомогательных цепей и цепей управления, Cu провода 1,5 - 2,5/ 4-6 mm2, 3 шт., для BD250","1 / -",1.7000000000000001E-2,9.6000000000000002E-2,7.18,{"$f":"VLOOKUP(B1523,#REF!,3,FALSE)","v":{"$error":"#REF!"}}]
["Modeion","Modeion BD, BH","LM2","OEZ:24750","CS-BD-A011","Присоединительный комплект","передний подвод, Cu/Al шины / кабельные наконечники / гибкие шины, 3 шт., для BD250","1 / -",0.12,0.02,4.18,{"$f":"VLOOKUP(B1524,#REF!,3,FALSE)","v":{"$error":"#REF!"}}]
["Modeion","Modeion BD, BH","LM2","OEZ:19578","CS-BD-T411","Присоединительный комплект","хомутные зажимы, Cu кабели / гибкие шины 16 - 150 mm2, 1 шт., для BD250","1 / -",0.32,0.52500000000000002,6.7299999999999995,{"$f":"VLOOKUP(B1525,#REF!,3,FALSE)","v":{"$error":"#REF!"}}]
["Modeion","Modeion BD, BH","LM2","OEZ:19582","CS-BD-B411","Присоединительный комплект","зажимы для присоединения проводников без кабельных наконечников, Cu/Al кабели 25 - 150 mm2, 1 шт., для BD250","1 / -",0.28000000000000003,0.48799999999999999,13.31,{"$f":"VLOOKUP(B1526,#REF!,3,FALSE)","v":{"$error":"#REF!"}}]
["Modeion","Modeion BD, BH","LM2","OEZ:19577","CS-BD-B412","Присоединительный комплект","зажимы для присоединения проводников без кабельных наконечников, Cu/Al кабели 150 - 240 mm2, 1 шт., для BD250","1 / -",0.43,1.254,24.900000000000002,{"$f":"VLOOKUP(B1527,#REF!,3,FALSE)","v":{"$error":"#REF!"}}]
["Modeion","Modeion BD, BH","LM2","OEZ:19579","CS-BD-B421","Присоединительный комплект","зажимы для присоединения проводников без кабельных наконечников, Cu/Al кабели 2x (16 - 150) mm2, 1 шт., для BD250","1 / -",0.68,1.254,20.28,{"$f":"VLOOKUP(B1528,#REF!,3,FALSE)","v":{"$error":"#REF!"}}]
["Modeion","Modeion BD, BH","LM2","OEZ:19580","CS-BD-B422","Присоединительный комплект","зажимы для присоединения проводников без кабельных наконечников, Cu/Al кабели 2x (150 - 240) mm2, 1 шт., для BD250","1 / -",0.83,1.1879999999999999,29.5,{"$f":"VLOOKUP(B1529,#REF!,3,FALSE)","v":{"$error":"#REF!"}}]
["Modeion","Modeion BD, BH","LM2","OEZ:21170","CS-BD-B414","Присоединительный комплект","зажимы для присоединения проводников без кабельных наконечников, Cu/Al кабели 6x (6 - 35) mm2, 1 шт., для BD250","1 / -",0.1,0.74099999999999999,40.64,{"$f":"VLOOKUP(B1530,#REF!,3,FALSE)","v":{"$error":"#REF!"}}]
["Modeion","Modeion BD, BH","LM2","OEZ:19581","CS-BD-A421","Присоединительный комплект","задний подвод, Cu/Al шины / кабельные наконечники, 1 шт., для BD250","1 / -",0.32,0.62,8.0399999999999991,{"$f":"VLOOKUP(B1531,#REF!,3,FALSE)","v":{"$error":"#REF!"}}]
["Modeion","Modeion BD, BH","LM2","OEZ:24772","CS-BD-A037","Присоединительный комплект","замена BA*37-50, передний подвод, Cu/Al шины / кабельные наконечники, 3 шт., для BD250","1 / -",0.3,0.03,28.990000000000002,{"$f":"VLOOKUP(B1532,#REF!,3,FALSE)","v":{"$error":"#REF!"}}]
["Modeion","Modeion BD, BH","LM2","OEZ:24771","CS-BD-A039","Присоединительный комплект","замена BA*39-50/ J2UX, передний подвод, Cu/Al шины / кабельные наконечники, 3 шт., для BD250","1 / -",0.44700000000000001,0.03,45.059999999999995,{"$f":"VLOOKUP(B1533,#REF!,3,FALSE)","v":{"$error":"#REF!"}}]
["Modeion","Modeion BD, BH","LM2","OEZ:18201","CS-BD-Z039","Присоединительный комплект","замена BA*39/ J2UX, задний подвод Cu/Al шины / кабельные наконечники, 3 шт., для BD250","1 / -",0.73899999999999999,0.03,76.12,{"$f":"VLOOKUP(B1534,#REF!,3,FALSE)","v":{"$error":"#REF!"}}]
["Modeion","Modeion BD, BH","LM2","OEZ:18023","CS-BD-JX75","Присоединительный комплект","замена J2UX75/ BA...*39, передний подвод выдвижного исполнения, Cu/Al шины / кабельные наконечники, 3 шт., для BD250","1 / -",0.55800000000000005,1.1120000000000001,80.150000000000006,{"$f":"VLOOKUP(B1535,#REF!,3,FALSE)","v":{"$error":"#REF!"}}]
["Modeion","Modeion BD, BH","LM2","OEZ:18024","CS-BD-JT75","Присоединительный комплект","замена J2UX75T, передний подвод выдвижного исполнения, Cu/Al шины / кабельные наконечники, 3 шт., для BD250","1 / -",0.71099999999999997,1.1120000000000001,85.690000000000012,{"$f":"VLOOKUP(B1536,#REF!,3,FALSE)","v":{"$error":"#REF!"}}]
["Modeion","Modeion BD, BH","LM2","OEZ:36031","CS-BD-PS41","Присоединительный комплект","зажим для присоединения вспомогательных цепей и цепей управления, Cu провода 1,5-2,5/ 4-6 mm2, 1 шт., для BD250","1 / -",1.7000000000000001E-2,9.6000000000000002E-2,4.1499999999999995,{"$f":"VLOOKUP(B1537,#REF!,3,FALSE)","v":{"$error":"#REF!"}}]
[null,null,null,"Level  5","OD-BD-M - Монтажные комплекты"]
["Modeion","Modeion BD, BH","LM2","OEZ:18203","OD-BD-MZ39","Монтажный комплект","замена J2UX / BA...39, задний подвод, для BD250","1 / -",1.2549999999999999,0.03,32.79,{"$f":"VLOOKUP(B1539,#REF!,3,FALSE)","v":{"$error":"#REF!"}}]
["Modeion","Modeion BD, BH","LM2","OEZ:33330","OD-BD-MT75","Монтажный комплект","замена J2UX75T, передний подвод, выдвижное исполнение, для BD250","1 / -",0.5,0.30399999999999999,23.270000000000003,{"$f":"VLOOKUP(B1540,#REF!,3,FALSE)","v":{"$error":"#REF!"}}]
[null,null,null,"Level  5","PS-BHD - Вспомогательные выключатели"]
["Modeion","Modeion BD, BH","LM2","OEZ:24700","PS-BHD-1000","Выключатель","1x NO, AC/DC 60 - 500 V, для BH630/BD250","1 / -",0.02,0.01,12.22,{"$f":"VLOOKUP(B1542,#REF!,3,FALSE)","v":{"$error":"#REF!"}}]
["Modeion","Modeion BD, BH","LM2","OEZ:24702","PS-BHD-1000-Au","Выключатель","1x NO, AC/DC 5 - 60 V, для BH630/BD250","1 / -",0.12,0.01,17.170000000000002,{"$f":"VLOOKUP(B1543,#REF!,3,FALSE)","v":{"$error":"#REF!"}}]
["Modeion","Modeion BD, BH","LM2","OEZ:24701","PS-BHD-0100","Выключатель","1x NC, AC/DC 60 - 500 V, для BH630/BD250","1 / -",0.13,0.01,12.25,{"$f":"VLOOKUP(B1544,#REF!,3,FALSE)","v":{"$error":"#REF!"}}]
["Modeion","Modeion BD, BH","LM2","OEZ:24703","PS-BHD-0100-Au","Выключатель","1x NC, AC/DC 5 - 60 V, для BH630/BD250","1 / -",0.13,0.01,17.260000000000002,{"$f":"VLOOKUP(B1545,#REF!,3,FALSE)","v":{"$error":"#REF!"}}]
["Modeion","Modeion BD, BH","LM2","OEZ:13690","PS-BHD-0200","Выключатель","2x NC, AC/DC 60 - 500 V, для BH630/BD250","1 / -",3.5999999999999997E-2,4.4999999999999998E-2,19.180000000000003,{"$f":"VLOOKUP(B1546,#REF!,3,FALSE)","v":{"$error":"#REF!"}}]
["Modeion","Modeion BD, BH","LM2","OEZ:13693","PS-BHD-0200-Au","Выключатель","2x NC, AC/DC 5 - 60 V, для BH630/BD250","1 / -",3.5999999999999997E-2,4.4999999999999998E-2,28.610000000000003,{"$f":"VLOOKUP(B1547,#REF!,3,FALSE)","v":{"$error":"#REF!"}}]
["Modeion","Modeion BD, BH","LM2","OEZ:13691","PS-BHD-1100","Выключатель","1x NO + 1x NC, AC/DC 60 - 500 V, для BH630/BD250","1 / -",3.5999999999999997E-2,4.4999999999999998E-2,18.71,{"$f":"VLOOKUP(B1548,#REF!,3,FALSE)","v":{"$error":"#REF!"}}]
["Modeion","Modeion BD, BH","LM2","OEZ:13694","PS-BHD-1100-Au","Выключатель","1x NO + 1x NC, AC/DC 5 - 60 V, для BH630/BD250","1 / -",3.5999999999999997E-2,4.4999999999999998E-2,23.720000000000002,{"$f":"VLOOKUP(B1549,#REF!,3,FALSE)","v":{"$error":"#REF!"}}]
["Modeion","Modeion BD, BH","LM2","OEZ:13689","PS-BHD-2000","Выключатель","2x NO, AC/DC 60 - 500 V, для BH630/BD250","1 / -",3.5999999999999997E-2,4.4999999999999998E-2,18.71,{"$f":"VLOOKUP(B1550,#REF!,3,FALSE)","v":{"$error":"#REF!"}}]
["Modeion","Modeion BD, BH","LM2","OEZ:13692","PS-BHD-2000-Au","Выключатель","2x NO, AC/DC 5 - 60 V, для BH630/BD250","1 / -",3.5999999999999997E-2,4.4999999999999998E-2,24.1,{"$f":"VLOOKUP(B1551,#REF!,3,FALSE)","v":{"$error":"#REF!"}}]
["Modeion","Modeion BD, BH","LM2","OEZ:18021","PS-BHD-0010","Выключатель","1x CO, AC/DC 60 - 500 V, для BH630/BD250","1 / -",1.2999999999999999E-2,6.5000000000000002E-2,12.22,{"$f":"VLOOKUP(B1552,#REF!,3,FALSE)","v":{"$error":"#REF!"}}]
["Modeion","Modeion BD, BH","LM2","OEZ:18022","PS-BHD-0010-Au","Выключатель","1x CO, AC/DC 5 - 60 V, для BH630/BD250","1 / -",1.2999999999999999E-2,6.5000000000000002E-2,17.170000000000002,{"$f":"VLOOKUP(B1553,#REF!,3,FALSE)","v":{"$error":"#REF!"}}]
["Modeion","Modeion BD, BH","LM2","OEZ:16169","SP-BHD-0002","Выключатель","2x NO или 2x NC или 1x NO + 1x NC, опережающий контакт, для BH630/BD250","1 / -",0.04,0.26800000000000002,29.5,{"$f":"VLOOKUP(B1554,#REF!,3,FALSE)","v":{"$error":"#REF!"}}]
["Modeion","Modeion BD, BH","LM2","OEZ:35893","PS-BHD-0020","Выключатель","2x CO, AC/DC 60 - 500 V, для BH630/BD250","1 / -",2.5999999999999999E-2,4.3999999999999997E-2,23.12,{"$f":"VLOOKUP(B1555,#REF!,3,FALSE)","v":{"$error":"#REF!"}}]
["Modeion","Modeion BD, BH","LM2","OEZ:37467","PS-BHD-0020-Au","Выключатель","2x CO, AC/DC 5 - 60 V, для BH630/BD250","1 / -",2.5999999999999999E-2,0.17799999999999999,69.010000000000005,{"$f":"VLOOKUP(B1556,#REF!,3,FALSE)","v":{"$error":"#REF!"}}]
[null,null,null,"Level  5","SV-BHD - независимые расцепители"]
["Modeion","Modeion BD, BH","LM2","OEZ:24650","SV-BHD-X024","Независимый расцепитель","AC/DC 24, 40, 48 V, для BH630/BD250","1 / -",0.14000000000000001,0.26800000000000002,42.089999999999996,{"$f":"VLOOKUP(B1558,#REF!,3,FALSE)","v":{"$error":"#REF!"}}]
["Modeion","Modeion BD, BH","LM2","OEZ:24630","SV-BHD-X110","Независимый расцепитель","AC/DC 110 V, для BH630/BD250","1 / -",0.14000000000000001,0.26800000000000002,42.919999999999995,{"$f":"VLOOKUP(B1559,#REF!,3,FALSE)","v":{"$error":"#REF!"}}]
["Modeion","Modeion BD, BH","LM2","OEZ:24620","SV-BHD-X230","Независимый расцепитель","AC 230, 400, 500 V / DC 220 V, для BH630/BD250","1 / -",0.14000000000000001,0.26800000000000002,34.589999999999996,{"$f":"VLOOKUP(B1560,#REF!,3,FALSE)","v":{"$error":"#REF!"}}]
[null,null,null,"Level  5","SP-BHD - Расцепители минимального напряжения"]
["Modeion","Modeion BD, BH","LM2","OEZ:24450","SP-BHD-X024","Расцепитель минимального напряжения","AC/DC 24, 40, 48 V для BH630/BD250","1 / -",0.14000000000000001,0.26800000000000002,46.78,{"$f":"VLOOKUP(B1562,#REF!,3,FALSE)","v":{"$error":"#REF!"}}]
["Modeion","Modeion BD, BH","LM2","OEZ:24430","SP-BHD-X110","Расцепитель минимального напряжения","AC/DC 110 V для BH630/BD250","1 / -",0.14000000000000001,0.26800000000000002,47.669999999999995,{"$f":"VLOOKUP(B1563,#REF!,3,FALSE)","v":{"$error":"#REF!"}}]
["Modeion","Modeion BD, BH","LM2","OEZ:24420","SP-BHD-X230","Расцепитель минимального напряжения","AC 230, 400, 500 V / DC 220 V для BH630/BD250","1 / -",0.14000000000000001,0.26800000000000002,43.43,{"$f":"VLOOKUP(B1564,#REF!,3,FALSE)","v":{"$error":"#REF!"}}]
["Modeion","Modeion BD, BH","LM2","OEZ:24550","SP-BHD-X024-0001","Расцепитель минимального напряжения","AC/DC 24, 40, 48 V опережающий контакт, для BH630/BD250","1 / -",0.14000000000000001,0.26800000000000002,74.490000000000009,{"$f":"VLOOKUP(B1565,#REF!,3,FALSE)","v":{"$error":"#REF!"}}]
["Modeion","Modeion BD, BH","LM2","OEZ:24530","SP-BHD-X110-0001","Расцепитель минимального напряжения","AC/DC 110 V опережающий контакт, для BH630/BD250","1 / -",0.14000000000000001,0.26800000000000002,58.57,{"$f":"VLOOKUP(B1566,#REF!,3,FALSE)","v":{"$error":"#REF!"}}]
["Modeion","Modeion BD, BH","LM2","OEZ:24520","SP-BHD-X230-0001","Расцепитель минимального напряжения","AC 230, 400, 500 V / DC 220 V опережающий контакт, для BH630/BD250","1 / -",0.14000000000000001,0.26800000000000002,54.51,{"$f":"VLOOKUP(B1567,#REF!,3,FALSE)","v":{"$error":"#REF!"}}]
[null,null,null,"Level  5","BZ-BX - Блоки задержки"]
["Modeion","Modeion BL","LM3","OEZ:36696","BZ-BX-X230-A","Блок задержки","для расцепителей минимального напряжения, AC 230 V / DC 220 V, для SP-BC-..., SP-BD-..., SP-BH-..., SP-BL-...","1 / -",0.12,0.40600000000000003,22.23,{"$f":"VLOOKUP(B1569,#REF!,3,FALSE)","v":{"$error":"#REF!"}}]
[null,null,null,"Level  5","RP-BD - Ручные приводы"]
["Modeion","Modeion BD, BH","LM2","OEZ:13651","RP-BD-CK10","Блок ручного привода","для BD250","1 / -",0.249,0.70099999999999996,25.020000000000003,{"$f":"VLOOKUP(B1571,#REF!,3,FALSE)","v":{"$error":"#REF!"}}]
["Modeion","Modeion BD, BH","LM2","OEZ:13652","RP-BD-CK20","Блок ручного привода","с блокированием, для BD250","1 / -",0.223,0.70099999999999996,45,{"$f":"VLOOKUP(B1572,#REF!,3,FALSE)","v":{"$error":"#REF!"}}]
["Modeion","Modeion BD, BH","LM2","OEZ:13684","RP-BD-CK21","Блок ручного привода","с блокированием, щиток - желтый цвет, для BD250","1 / -",0.223,0.70099999999999996,48.23,{"$f":"VLOOKUP(B1573,#REF!,3,FALSE)","v":{"$error":"#REF!"}}]
["Modeion","Modeion BD, BH","LM2","OEZ:37250","RP-BD-CK30","Блок ручного привода","боковое управление вправо, для BD250","1 / -",0.48299999999999998,1.1479999999999999,62.9,{"$f":"VLOOKUP(B1574,#REF!,3,FALSE)","v":{"$error":"#REF!"}}]
["Modeion","Modeion BD, BH","LM2","OEZ:37251","RP-BD-CK31","Блок ручного привода","боковое управление влево, для BD250","1 / -",0.48299999999999998,1.1479999999999999,62.9,{"$f":"VLOOKUP(B1575,#REF!,3,FALSE)","v":{"$error":"#REF!"}}]
["Modeion","Modeion BD, BH","LM2","OEZ:13655","RP-BHD-CP10","Рычаг ручного привода","черный цвет, для BH630/BD250","1 / -",7.4999999999999997E-2,0.81,8.81,{"$f":"VLOOKUP(B1576,#REF!,3,FALSE)","v":{"$error":"#REF!"}}]
["Modeion","Modeion BD, BH","LM2","OEZ:13656","RP-BHD-CP20","Рычаг ручного привода","черный цвет, с блокированием, для BH630/BD250","1 / -",7.4999999999999997E-2,0.81,14.91,{"$f":"VLOOKUP(B1577,#REF!,3,FALSE)","v":{"$error":"#REF!"}}]
["Modeion","Modeion BD, BH","LM2","OEZ:13657","RP-BHD-CP21","Рычаг ручного привода","красный цвет, с блокированием, для BH630/BD250","1 / -",7.4999999999999997E-2,0.81,15.65,{"$f":"VLOOKUP(B1578,#REF!,3,FALSE)","v":{"$error":"#REF!"}}]
["Modeion","Modeion BD, BH","LM2","OEZ:13658","RP-BHD-CH10","Удлинительный вал","для BH630/BD250","1 / -",0.20499999999999999,0.54,9.93,{"$f":"VLOOKUP(B1579,#REF!,3,FALSE)","v":{"$error":"#REF!"}}]
["Modeion","Modeion BD, BH","LM2","OEZ:13659","RP-BHD-CH20","Удлинительный вал","телескопическое исполнение, для BH630/BD250","1 / -",0.255,0.54,17.200000000000003,{"$f":"VLOOKUP(B1580,#REF!,3,FALSE)","v":{"$error":"#REF!"}}]
["Modeion","Modeion BD, BH","LM2","OEZ:37246","RP-BHD-CN40","Подшипник ручного привода ","IP40, щиток - черный цвет, для BH630/BD250","1 / -",0.2,0.40600000000000003,18.940000000000001,{"$f":"VLOOKUP(B1581,#REF!,3,FALSE)","v":{"$error":"#REF!"}}]
["Modeion","Modeion BD, BH","LM2","OEZ:37247","RP-BHD-CN41","Подшипник ручного привода ","IP40, щиток - желтый цвет, для BH630/BD250","1 / -",0.2,0.40600000000000003,26.740000000000002,{"$f":"VLOOKUP(B1582,#REF!,3,FALSE)","v":{"$error":"#REF!"}}]
["Modeion","Modeion BD, BH","LM2","OEZ:37248","RP-BHD-CN60","Подшипник ручного привода ","IP66, щиток - черный цвет, для BH630/BD250","1 / -",0.2,0.40600000000000003,19.600000000000001,{"$f":"VLOOKUP(B1583,#REF!,3,FALSE)","v":{"$error":"#REF!"}}]
["Modeion","Modeion BD, BH","LM2","OEZ:37249","RP-BHD-CN61","Подшипник ручного привода ","IP66, щиток - желтый цвет, для BH630/BD250","1 / -",0.2,0.40600000000000003,31.57,{"$f":"VLOOKUP(B1584,#REF!,3,FALSE)","v":{"$error":"#REF!"}}]
[null,null,null,"Level  5","MB-BD - Механические блокировки и параллельная коммутация"]
["Modeion","Modeion BD, BH","LM2","OEZ:18290","RP-BHD-CB10","Механическая блокировка","для ручного привода, для BH630/BD250","1 / -",0.13600000000000001,1.4,49.89,{"$f":"VLOOKUP(B1586,#REF!,3,FALSE)","v":{"$error":"#REF!"}}]
["Modeion","Modeion BD, BH","LM2","OEZ:19612","MB-BD-PV05","Механическая блокировка","трос Боудена, для двух автоматических выключателей BD250","1 / -",0.39300000000000002,4.7130000000000001,99.740000000000009,{"$f":"VLOOKUP(B1587,#REF!,3,FALSE)","v":{"$error":"#REF!"}}]
["Modeion","Modeion BD, BH","LM2","OEZ:19613","MB-BHD-PV03","Механическая блокировка","трос Боудена, для одного автоматического выключателя BD250 и для одного автоматического выключателя BH630","1 / -",0.39300000000000002,4.7130000000000001,103.48,{"$f":"VLOOKUP(B1588,#REF!,3,FALSE)","v":{"$error":"#REF!"}}]
["Modeion","Modeion BD, BH","LM2","OEZ:18289","RP-BHD-CD10","Механическая параллельная коммутация ","для ручного привода, для BH630/BD250","1 / -",0.16200000000000001,1.4,58.43,{"$f":"VLOOKUP(B1589,#REF!,3,FALSE)","v":{"$error":"#REF!"}}]
[null,null,null,"Level  5","MP-BD - Моторные приводы"]
["Modeion","Modeion BD, BH","LM2","OEZ:36884","MP-BD-X024","Моторный привод","AC/DC 24 V, для BD250","1 / -",1.5289999999999999,2.23,338.46,{"$f":"VLOOKUP(B1591,#REF!,3,FALSE)","v":{"$error":"#REF!"}}]
["Modeion","Modeion BD, BH","LM2","OEZ:19790","MP-BD-X048","Моторный привод","AC/DC 48 V, для BD250","1 / -",1.5289999999999999,2.23,338.46,{"$f":"VLOOKUP(B1592,#REF!,3,FALSE)","v":{"$error":"#REF!"}}]
["Modeion","Modeion BD, BH","LM2","OEZ:13537","MP-BD-X110","Моторный привод","AC/DC 110 V, для BD250","1 / -",1.5289999999999999,2.23,331.53,{"$f":"VLOOKUP(B1593,#REF!,3,FALSE)","v":{"$error":"#REF!"}}]
["Modeion","Modeion BD, BH","LM2","OEZ:13535","MP-BD-X230","Моторный привод","AC 230 V / DC 220 V, для BD250","1 / -",1.5640000000000001,2.23,325.15999999999997,{"$f":"VLOOKUP(B1594,#REF!,3,FALSE)","v":{"$error":"#REF!"}}]
["Modeion","Modeion BD, BH","LM2","OEZ:19791","MP-BD-X048-P","Моторный привод","AC/DC 48 V, счётчик циклов, для BD250","1 / -",1.546,2.23,423.12,{"$f":"VLOOKUP(B1595,#REF!,3,FALSE)","v":{"$error":"#REF!"}}]
["Modeion","Modeion BD, BH","LM2","OEZ:13686","MP-BD-X110-P","Моторный привод","AC/DC 110 V, счётчик циклов, для BD250","1 / -",1.546,2.23,423.12,{"$f":"VLOOKUP(B1596,#REF!,3,FALSE)","v":{"$error":"#REF!"}}]
["Modeion","Modeion BD, BH","LM2","OEZ:13538","MP-BD-X230-P","Моторный привод","AC 230 V / DC 220 V, счётчик циклов, для BD250","1 / -",1.546,2.23,423.12,{"$f":"VLOOKUP(B1597,#REF!,3,FALSE)","v":{"$error":"#REF!"}}]
[null,null,null,"Level  5","OD-BD - Принадлежности"]
["Modeion","Modeion BD, BH","LM2","OEZ:13534","OD-BD-KS03","Крышка зажимов ","IP20, 3-полюс, для BD250","1 / -",9.8000000000000004E-2,0.70099999999999996,11.27,{"$f":"VLOOKUP(B1599,#REF!,3,FALSE)","v":{"$error":"#REF!"}}]
["Modeion","Modeion BD, BH","LM2","OEZ:19576","OD-BD-KS43","Крышка зажимов ","IP20, 4-полюс, для BD250","1 / -",8.1000000000000003E-2,1.3089999999999999,6.91,{"$f":"VLOOKUP(B1600,#REF!,3,FALSE)","v":{"$error":"#REF!"}}]
["Modeion","Modeion BD, BH","LM2","OEZ:13533","OD-BD-UP01","Запираемый рычаг","для BD250","1 / -",1.2999999999999999E-2,5.6000000000000001E-2,17.46,{"$f":"VLOOKUP(B1601,#REF!,3,FALSE)","v":{"$error":"#REF!"}}]
["Modeion","Modeion BD, BH","LM2","OEZ:15328","OD-BD-VP01","Пломбируемый вкладыш винта","для BD250","1 / -",1E-3,9.6000000000000002E-2,2.2899999999999996,{"$f":"VLOOKUP(B1602,#REF!,3,FALSE)","v":{"$error":"#REF!"}}]
["Modeion","Modeion BD, BH","LM2","OEZ:18215","OD-BD-VP02","Дополнительная крышка расцепителя максимального тока","возможность пломбирования, для BD250","1 / -",0.08,0.33600000000000002,3.3,{"$f":"VLOOKUP(B1603,#REF!,3,FALSE)","v":{"$error":"#REF!"}}]
["Modeion","Modeion BD, BH","LM2","OEZ:14559","OD-BD-KK01","Кодирующий комплект","для съемного исполнения/выдвижного исполнения, для BD250","1 / -",2E-3,5.1999999999999998E-2,8.48,{"$f":"VLOOKUP(B1604,#REF!,3,FALSE)","v":{"$error":"#REF!"}}]
["Modeion","Modeion BD, BH","LM2","OEZ:13688","OD-BHD-PP01","Счётчик циклов","для моторного привода, для BH630/BD250","1 / -",3.0000000000000001E-3,0.77,107.15,{"$f":"VLOOKUP(B1605,#REF!,3,FALSE)","v":{"$error":"#REF!"}}]
["Modeion","Modeion BD, BH","LM2","OEZ:13809","OD-BHD-KA02","Удлинительный кабель","для моторного привода, для BH630/BD250","1 / -",0.06,0.14299999999999999,20.580000000000002,{"$f":"VLOOKUP(B1606,#REF!,3,FALSE)","v":{"$error":"#REF!"}}]
["Modeion","Modeion BD, BH","LM2","OEZ:24740","OD-BHD-KS02","Изоляционные перегородки","2 шт., для BH630/BD250","1 / -",7.6999999999999999E-2,0.03,4.2699999999999996,{"$f":"VLOOKUP(B1607,#REF!,3,FALSE)","v":{"$error":"#REF!"}}]
["Modeion","Modeion BD, BH","LM2","OEZ:19575","OD-BHD-KS42","Изоляционные перегородки","1 шт., для BH630/BD250","1 / -",0.04,0.28999999999999998,4.72,{"$f":"VLOOKUP(B1608,#REF!,3,FALSE)","v":{"$error":"#REF!"}}]
["Modeion","Modeion BD, BH","LM2","OEZ:14555","OD-BHD-KA01","Соединительный кабель","для автоматического выключателя в съемном исполнении / в выдвижном исполнении, для BH630/BD250","1 / -",0.26700000000000002,1.8720000000000001,65.95,{"$f":"VLOOKUP(B1609,#REF!,3,FALSE)","v":{"$error":"#REF!"}}]
["Modeion","Modeion BD, BH","LM2","OEZ:14642","OD-BHD-KT01","Крышка включающей кнопки","для моторного привода, для BH630/BD250","1 / -",5.3999999999999999E-2,0.29799999999999999,2.8499999999999996,{"$f":"VLOOKUP(B1610,#REF!,3,FALSE)","v":{"$error":"#REF!"}}]
["Modeion","Modeion BD, BH","LM2","OEZ:37425","OD-BHD-RX01","Реле управления","AC/DC 24 V для BH630/BD250","1 / -",0.08,0.28100000000000003,80.210000000000008,{"$f":"VLOOKUP(B1611,#REF!,3,FALSE)","v":{"$error":"#REF!"}}]
["Modeion","Modeion BD, BH","LM2","OEZ:37426","OD-BHD-RX02","Реле управления","AC/DC 48 V для BH630/BD250","1 / -",0.08,0.28100000000000003,80.210000000000008,{"$f":"VLOOKUP(B1612,#REF!,3,FALSE)","v":{"$error":"#REF!"}}]
["Modeion","Modeion BD, BH","LM2","OEZ:37427","OD-BHD-RA03","Реле управления","AC 110-230 V для BH630/BD250","1 / -",0.08,0.28100000000000003,80.210000000000008,{"$f":"VLOOKUP(B1613,#REF!,3,FALSE)","v":{"$error":"#REF!"}}]
["Modeion","Modeion BD, BH","LM2","OEZ:37428","OD-BHD-RD04","Реле управления","DC 110 V, для BH630/BD250","1 / -",0.08,0.28100000000000003,80.210000000000008,{"$f":"VLOOKUP(B1614,#REF!,3,FALSE)","v":{"$error":"#REF!"}}]
["Modeion","Modeion BD, BH","LM2","OEZ:14560","SO-BHD-0010","Сигнализация положения","для автоматического выключателя в съемном исполнении / в выдвижном исполнении, для BH630/BD250","1 / -",0.02,0.13,25.610000000000003,{"$f":"VLOOKUP(B1615,#REF!,3,FALSE)","v":{"$error":"#REF!"}}]
[null,null,null,"Level  5","ZES - Тестеры расцепителей максимального тока автоматических выключателей"]
["Modeion","Modeion BL","LM3","OEZ:17273","ZES4","Тестер расцепителей максимального тока автоматических выключателей","для BD250, BH630, BL1000, BL1600","1 / -",3.74,12.891999999999999,806.54,{"$f":"VLOOKUP(B1617,#REF!,3,FALSE)","v":{"$error":"#REF!"}}]
[null,null,null,"Level  5","ND-BD - Запасные части"]
["Modeion","Modeion BD, BH","LM2","OEZ:34457","OD-BD-SP01","Запасная часть","рычаг управления, для BD250","1 / -",8.0000000000000002E-3,0.13400000000000001,11.18,{"$f":"VLOOKUP(B1619,#REF!,3,FALSE)","v":{"$error":"#REF!"}}]
["Modeion","Modeion BD, BH","LM2","OEZ:15329","OD-BD-DV01","Запасная часть","фиксатор проводников, для BD250","1 / -",5.0000000000000001E-3,0.10100000000000001,3.09,{"$f":"VLOOKUP(B1620,#REF!,3,FALSE)","v":{"$error":"#REF!"}}]
["Modeion","Modeion BD, BH","LM2","OEZ:14419","OD-BD-MS01","Запасная часть","монтажный комплект, комплект винтов M4x35, 4 шт., для BD250","1 / -",1.7000000000000001E-2,6.7000000000000004E-2,6.2299999999999995,{"$f":"VLOOKUP(B1621,#REF!,3,FALSE)","v":{"$error":"#REF!"}}]
["Modeion","Modeion BD, BH","LM2","OEZ:24720","OD-BD-KS01","Запасная часть","крышка зажимов, верхние или нижние зажимы, 3-полюс, 1 шт., для BD250","1 / -",8.1000000000000003E-2,0.03,9.93,{"$f":"VLOOKUP(B1622,#REF!,3,FALSE)","v":{"$error":"#REF!"}}]
["Modeion","Modeion BD, BH","LM2","OEZ:35896","OD-BD-KS44","Запасная часть","крышка зажимов, нижние зажимы, 4-полюс, 1 шт., для BD250","1 / -",0.1,0.04,5.55,{"$f":"VLOOKUP(B1623,#REF!,3,FALSE)","v":{"$error":"#REF!"}}]
["Modeion","Modeion BD, BH","LM2","OEZ:35897","OD-BD-KS45","Запасная часть","крышка зажимов, верхние зажимы, 4-полюс, 1 шт., для BD250","1 / -",0.1,0.04,5.55,{"$f":"VLOOKUP(B1624,#REF!,3,FALSE)","v":{"$error":"#REF!"}}]
[null,null,null,"Level  5","BD_NE305 - Компактные автоматические выключатели"]
[null,null,null,"Level  5","BD250NE_-250-V - Разъединители нагрузки"]
[null,null,null,"Level  3","BH630 - Компактные автоматические выключатели до 630 A"]
[null,null,null,"Level  4","BH630_305, _405, _406 - Коммутационные блоки"]
[null,null,null,"Level  5","BH630_305 - Коммутационные блоки (3P)"]
["Modeion","Modeion BD, BH","LM2","OEZ:14412","BH630NE305","Коммутационный блок","3-полюс, Iu 630 A, Icu 36 kA, для BH630","1 / -",5.97,8.0229999999999997,348.03999999999996,{"$f":"VLOOKUP(B1630,#REF!,3,FALSE)","v":{"$error":"#REF!"}}]
["Modeion","Modeion BD, BH","LM2","OEZ:14413","BH630SE305","Коммутационный блок","3-полюс, Iu 630 A, Icu 65 kA, для BH630","1 / -",5.97,8.0229999999999997,547.13,{"$f":"VLOOKUP(B1631,#REF!,3,FALSE)","v":{"$error":"#REF!"}}]
[null,null,null,"Level  5","BH630_405 - Коммутационные блоки (3+N)"]
["Modeion","Modeion BD, BH","LM2","OEZ:19583","BH630NE405","Коммутационный блок","3+N-полюс, Iu 630 A, Icu 36 kA, для BH630","1 / -",7.4,10.861000000000001,460.96999999999997,{"$f":"VLOOKUP(B1633,#REF!,3,FALSE)","v":{"$error":"#REF!"}}]
["Modeion","Modeion BD, BH","LM2","OEZ:19585","BH630SE405","Коммутационный блок","3+N-полюс, Iu 630 A, Icu 65 kA, для BH630","1 / -",7.4,10.861000000000001,710.68,{"$f":"VLOOKUP(B1634,#REF!,3,FALSE)","v":{"$error":"#REF!"}}]
[null,null,null,"Level  5","BH630_406 - Коммутационные блоки (4P)"]
["Modeion","Modeion BD, BH","LM2","OEZ:19584","BH630NE406","Коммутационный блок","4-полюс, Iu 630 A, Icu 36 kA, для BH630","1 / -",7.4,10.861000000000001,473.12,{"$f":"VLOOKUP(B1636,#REF!,3,FALSE)","v":{"$error":"#REF!"}}]
["Modeion","Modeion BD, BH","LM2","OEZ:19586","BH630SE406","Коммутационный блок","4-полюс, Iu 630 A, Icu 65 kA, для BH630","1 / -",7.4,10.861000000000001,750.79,{"$f":"VLOOKUP(B1637,#REF!,3,FALSE)","v":{"$error":"#REF!"}}]
[null,null,null,"Level  4","SE-BH - Расцепители максимального тока"]
["Modeion","Modeion BD, BH","LM2","OEZ:20614","SE-BH-0250-L001","Расцепитель максимального тока","характеристика проводки L, In 250 A, без настройки IR, для BH630","1 / -",0.34499999999999997,0.94099999999999995,64.650000000000006,{"$f":"VLOOKUP(B1639,#REF!,3,FALSE)","v":{"$error":"#REF!"}}]
["Modeion","Modeion BD, BH","LM2","OEZ:20615","SE-BH-0315-L001","Расцепитель максимального тока","характеристика проводки L, In 315 A, без настройки IR, для BH630","1 / -",0.34499999999999997,0.94099999999999995,65.39,{"$f":"VLOOKUP(B1640,#REF!,3,FALSE)","v":{"$error":"#REF!"}}]
["Modeion","Modeion BD, BH","LM2","OEZ:20616","SE-BH-0400-L001","Расцепитель максимального тока","характеристика проводки L, In 400 A, без настройки IR, для BH630","1 / -",0.34499999999999997,0.94099999999999995,67.350000000000009,{"$f":"VLOOKUP(B1641,#REF!,3,FALSE)","v":{"$error":"#REF!"}}]
["Modeion","Modeion BD, BH","LM2","OEZ:20617","SE-BH-0500-L001","Расцепитель максимального тока","характеристика проводки L, In 500 A, без настройки IR, для BH630","1 / -",0.34499999999999997,0.94099999999999995,105.46000000000001,{"$f":"VLOOKUP(B1642,#REF!,3,FALSE)","v":{"$error":"#REF!"}}]
["Modeion","Modeion BD, BH","LM2","OEZ:20618","SE-BH-0630-L001","Расцепитель максимального тока","характеристика проводки L, In 630 A, без настройки IR, для BH630","1 / -",0.34499999999999997,0.94099999999999995,158.31,{"$f":"VLOOKUP(B1643,#REF!,3,FALSE)","v":{"$error":"#REF!"}}]
["Modeion","Modeion BD, BH","LM2","OEZ:25300","SE-BH-0250-DTV3","Расцепитель максимального тока","характеристика распределительная D, In 250 A, настройка IR 100 - 250 A, для BH630","1 / -",0.26100000000000001,0.94099999999999995,76.42,{"$f":"VLOOKUP(B1644,#REF!,3,FALSE)","v":{"$error":"#REF!"}}]
["Modeion","Modeion BD, BH","LM2","OEZ:25200","SE-BH-0400-DTV3","Расцепитель максимального тока","характеристика распределительная D, In 400 A, настройка IR 160 - 400 A, для BH630","1 / -",0.318,0.94099999999999995,97.43,{"$f":"VLOOKUP(B1645,#REF!,3,FALSE)","v":{"$error":"#REF!"}}]
["Modeion","Modeion BD, BH","LM2","OEZ:25100","SE-BH-0630-DTV3","Расцепитель максимального тока","характеристика распределительная D, In 630 A, настройка IR 250 - 630 A, для BH630","1 / -",0.32,0.94099999999999995,215.81,{"$f":"VLOOKUP(B1646,#REF!,3,FALSE)","v":{"$error":"#REF!"}}]
["Modeion","Modeion BD, BH","LM2","OEZ:25310","SE-BH-0250-MTV8","Расцепитель максимального тока","характеристика моторная M, In 250 A, настройка IR 100 - 250 A, для BH630","1 / -",0.26100000000000001,0.94099999999999995,105.61,{"$f":"VLOOKUP(B1647,#REF!,3,FALSE)","v":{"$error":"#REF!"}}]
["Modeion","Modeion BD, BH","LM2","OEZ:25210","SE-BH-0400-MTV8","Расцепитель максимального тока","характеристика моторная M, In 400 A, настройка IR 160 - 400 A, для BH630","1 / -",0.32100000000000001,0.94099999999999995,129.47,{"$f":"VLOOKUP(B1648,#REF!,3,FALSE)","v":{"$error":"#REF!"}}]
["Modeion","Modeion BD, BH","LM2","OEZ:25110","SE-BH-0630-MTV8","Расцепитель максимального тока","характеристика моторная M, In 630 A, настройка IR 250 - 630 A, для BH630","1 / -",0.32300000000000001,0.94099999999999995,256.59999999999997,{"$f":"VLOOKUP(B1649,#REF!,3,FALSE)","v":{"$error":"#REF!"}}]
["Modeion","Modeion BD, BH","LM2","OEZ:19566","SE-BH-0250-MTV9","Расцепитель максимального тока","характеристика моторная селективная M, In 250 A, настройка IR 100 - 250 A, для BH630","1 / -",0.26,0.94099999999999995,250.14,{"$f":"VLOOKUP(B1650,#REF!,3,FALSE)","v":{"$error":"#REF!"}}]
["Modeion","Modeion BD, BH","LM2","OEZ:19567","SE-BH-0400-MTV9","Расцепитель максимального тока","характеристика моторная селективная M, селективность времени, In 400 A, настройка IR 160- 400 A, для BH630","1 / -",0.26,0.94099999999999995,273.11,{"$f":"VLOOKUP(B1651,#REF!,3,FALSE)","v":{"$error":"#REF!"}}]
["Modeion","Modeion BD, BH","LM2","OEZ:19568","SE-BH-0630-MTV9","Расцепитель максимального тока","характеристика моторная селективная M, селективность времени, In 630 A, настройка IR 250 - 630 A, для BH630","1 / -",0.32300000000000001,0.94099999999999995,439.83,{"$f":"VLOOKUP(B1652,#REF!,3,FALSE)","v":{"$error":"#REF!"}}]
["Modeion","Modeion BD, BH","LM2","OEZ:33426","SE-BH-0250-4D01","Расцепитель максимального тока","характеристика распределительная D, In 250 A, настройка IR 100 - 250 A, для BH630","1 / -",0.35499999999999998,0.94099999999999995,197.97,{"$f":"VLOOKUP(B1653,#REF!,3,FALSE)","v":{"$error":"#REF!"}}]
["Modeion","Modeion BD, BH","LM2","OEZ:33427","SE-BH-0400-4D01","Расцепитель максимального тока","характеристика распределительная D, In 400 A, настройка IR 160 - 400 A, для BH630","1 / -",0.35499999999999998,0.94099999999999995,223.73,{"$f":"VLOOKUP(B1654,#REF!,3,FALSE)","v":{"$error":"#REF!"}}]
["Modeion","Modeion BD, BH","LM2","OEZ:33428","SE-BH-0630-4D01","Расцепитель максимального тока","характеристика распределительная D, In 630 A, настройка IR 250 - 630 A, для BH630","1 / -",0.35499999999999998,0.94099999999999995,328.3,{"$f":"VLOOKUP(B1655,#REF!,3,FALSE)","v":{"$error":"#REF!"}}]
["Modeion","Modeion BD, BH","LM2","OEZ:25120","SE-BH-0630-V001","Блок разъединителя нагрузки","для BH630","1 / -",0.252,0.94099999999999995,22.380000000000003,{"$f":"VLOOKUP(B1656,#REF!,3,FALSE)","v":{"$error":"#REF!"}}]
[null,null,null,"Level  4","OD-BH - Принадлежности"]
[null,null,null,"Level  5","ZO-BH-0630 - Съемная оборудования"]
["Modeion","Modeion BD, BH","LM2","OEZ:14556","ZO-BH-0630-300","Съемное оборудование","3-полюс, для BH630","1 / -",3.29,5.8789999999999996,259.12,{"$f":"VLOOKUP(B1659,#REF!,3,FALSE)","v":{"$error":"#REF!"}}]
["Modeion","Modeion BD, BH","LM2","OEZ:20649","ZO-BH-0630-400","Съемное оборудование","3+N-полюс, 4-полюс, для BH630","1 / -",3.99,8.0719999999999992,405.21,{"$f":"VLOOKUP(B1660,#REF!,3,FALSE)","v":{"$error":"#REF!"}}]
[null,null,null,"Level  5","ZV-BH-0630 - выдвижные оборудования"]
["Modeion","Modeion BD, BH","LM2","OEZ:14553","ZV-BH-0630-300","Выдвижное оборудование","3-полюс, для BH630","1 / -",5,14.003,316.83,{"$f":"VLOOKUP(B1662,#REF!,3,FALSE)","v":{"$error":"#REF!"}}]
["Modeion","Modeion BD, BH","LM2","OEZ:20650","ZV-BH-0630-400","Выдвижное оборудование","3+N-полюс, 4-полюс, для BH630","1 / -",5.7,16.231000000000002,591.59,{"$f":"VLOOKUP(B1663,#REF!,3,FALSE)","v":{"$error":"#REF!"}}]
[null,null,null,"Level  5","CS-BH - Присоединительные комплекты"]
["Modeion","Modeion BD, BH","LM2","OEZ:24820","CS-BH-T011","Присоединительный комплект","хомутные зажимы, Cu кабели / гибкие шины 35-240 mm2, 3 шт., для BH630","1 / -",0.433,0.03,20.810000000000002,{"$f":"VLOOKUP(B1665,#REF!,3,FALSE)","v":{"$error":"#REF!"}}]
["Modeion","Modeion BD, BH","LM2","OEZ:24761","CS-BH-B011","Присоединительный комплект","зажимы для присоединения проводников без кабельных наконечников, Cu/Al кабели 150-240 mm2, 3 шт., для BH630","1 / -",0.27900000000000003,0.03,36.11,{"$f":"VLOOKUP(B1666,#REF!,3,FALSE)","v":{"$error":"#REF!"}}]
["Modeion","Modeion BD, BH","LM2","OEZ:24762","CS-BH-B012","Присоединительный комплект","зажимы для присоединения проводников без кабельных наконечников, Cu/Al кабели 25-150 mm2, 3 шт., для BH630","1 / -",0.30199999999999999,0.03,33.85,{"$f":"VLOOKUP(B1667,#REF!,3,FALSE)","v":{"$error":"#REF!"}}]
["Modeion","Modeion BD, BH","LM2","OEZ:24781","CS-BH-B021","Присоединительный комплект","зажимы для присоединения проводников без кабельных наконечников, Cu/Al кабели 2x (150 - 240) mm2, 3 шт., для BH630","1 / -",0.72099999999999997,0.996,83.56,{"$f":"VLOOKUP(B1668,#REF!,3,FALSE)","v":{"$error":"#REF!"}}]
["Modeion","Modeion BD, BH","LM2","OEZ:15816","CS-BH-B022","Присоединительный комплект","зажимы для присоединения проводников без кабельных наконечников, Cu/Al кабели 2x (25 - 150) mm2, 3 шт., для BH630","1 / -",0.8,0.996,82.29,{"$f":"VLOOKUP(B1669,#REF!,3,FALSE)","v":{"$error":"#REF!"}}]
["Modeion","Modeion BD, BH","LM2","OEZ:36604","CS-BH-B031","Присоединительный комплект","зажимы для присоединения проводников без кабельных наконечников, Cu/Al кабели 3x (150 - 240) mm2, 3 шт., для BH630","1 / -",1.173,1.371,156.53,{"$f":"VLOOKUP(B1670,#REF!,3,FALSE)","v":{"$error":"#REF!"}}]
["Modeion","Modeion BD, BH","LM2","OEZ:42691","CS-BH-B032","Присоединительный комплект","зажимы для присоединения проводников без кабельных наконечников, Cu/Al кабели 3x (25 - 150) mm2, 3 шт., для BH630","1 / -",1.335,1.4,155.38,{"$f":"VLOOKUP(B1671,#REF!,3,FALSE)","v":{"$error":"#REF!"}}]
["Modeion","Modeion BD, BH","LM2","OEZ:24780","CS-BH-A021","Присоединительный комплект","задний подвод, Cu/Al шины / кабельные наконечники, 3 шт., для BH630","1 / -",0.56699999999999995,0.03,46.809999999999995,{"$f":"VLOOKUP(B1672,#REF!,3,FALSE)","v":{"$error":"#REF!"}}]
["Modeion","Modeion BD, BH","LM2","OEZ:20121","CS-BH-B014","Присоединительный комплект","зажимы для присоединения проводников без кабельных наконечников, Cu/Al кабели 6x (6 - 35) mm2, 3 шт., для BH630","1 / -",0.3,1.254,118.95,{"$f":"VLOOKUP(B1673,#REF!,3,FALSE)","v":{"$error":"#REF!"}}]
["Modeion","Modeion BD, BH","LM2","OEZ:24760","CS-BH-A011","Присоединительный комплект","передний подвод, Cu/Al шины / кабельные наконечники / гибкие шины, 3 шт., для BH630","1 / -",0.186,0.03,5.3999999999999995,{"$f":"VLOOKUP(B1674,#REF!,3,FALSE)","v":{"$error":"#REF!"}}]
["Modeion","Modeion BD, BH","LM2","OEZ:13683","CS-BH-PS01","Присоединительный комплект","зажим для присоединения вспомогательных цепей и цепей управления, Cu провода 1,5 - 2,5/4 - 6 mm2, 3 шт., для BH630","1 / -",2.1000000000000001E-2,9.6000000000000002E-2,7.21,{"$f":"VLOOKUP(B1675,#REF!,3,FALSE)","v":{"$error":"#REF!"}}]
["Modeion","Modeion BD, BH","LM2","OEZ:19589","CS-BH-T411","Присоединительный комплект","хомутные зажимы, Cu кабели / гибкие шины 35 - 240 mm2, 1 шт., для BH630","1 / -",0.57999999999999996,0.52500000000000002,10.82,{"$f":"VLOOKUP(B1676,#REF!,3,FALSE)","v":{"$error":"#REF!"}}]
["Modeion","Modeion BD, BH","LM2","OEZ:19593","CS-BH-B411","Присоединительный комплект","зажимы для присоединения проводников без кабельных наконечников, Cu/Al кабели 150 - 240 mm2, 1 шт., для BH630","1 / -",0.37,0.52500000000000002,13.97,{"$f":"VLOOKUP(B1677,#REF!,3,FALSE)","v":{"$error":"#REF!"}}]
["Modeion","Modeion BD, BH","LM2","OEZ:19588","CS-BH-B412","Присоединительный комплект","зажимы для присоединения проводников без кабельных наконечников, Cu/Al кабели 25 - 150 mm2, 1 шт., для BH630","1 / -",0.4,0.52500000000000002,11.86,{"$f":"VLOOKUP(B1678,#REF!,3,FALSE)","v":{"$error":"#REF!"}}]
["Modeion","Modeion BD, BH","LM2","OEZ:19590","CS-BH-B421","Присоединительный комплект","зажимы для присоединения проводников без кабельных наконечников, Cu/Al кабели 2x (150 - 240) mm2, 1 шт., для BH630","1 / -",0.96,0.93100000000000005,29.470000000000002,{"$f":"VLOOKUP(B1679,#REF!,3,FALSE)","v":{"$error":"#REF!"}}]
["Modeion","Modeion BD, BH","LM2","OEZ:19591","CS-BH-B422","Присоединительный комплект","зажимы для присоединения проводников без кабельных наконечников, Cu/Al кабели 2x (25 - 150) mm2, 1 шт., для BH630","1 / -",1,0.93100000000000005,29.14,{"$f":"VLOOKUP(B1680,#REF!,3,FALSE)","v":{"$error":"#REF!"}}]
["Modeion","Modeion BD, BH","LM2","OEZ:36605","CS-BH-B431","Присоединительный комплект","зажимы для присоединения проводников без кабельных наконечников, Cu/Al кабели 3x (150 - 240) mm2, 1 шт., для BH630","1 / -",0.39100000000000001,1.026,52.44,{"$f":"VLOOKUP(B1681,#REF!,3,FALSE)","v":{"$error":"#REF!"}}]
["Modeion","Modeion BD, BH","LM2","OEZ:42692","CS-BH-B432","Присоединительный комплект","зажимы для присоединения проводников без кабельных наконечников, Cu/Al кабели 3x (25 - 150) mm2, 1 шт., для BH630","1 / -",0.44500000000000001,1.1000000000000001,52.169999999999995,{"$f":"VLOOKUP(B1682,#REF!,3,FALSE)","v":{"$error":"#REF!"}}]
["Modeion","Modeion BD, BH","LM2","OEZ:21169","CS-BH-B414","Присоединительный комплект","зажимы для присоединения проводников без кабельных наконечников, Cu/Al кабели 6x (6 - 35) mm2, 1 шт., для BH630","1 / -",0.1,0.74099999999999999,40.729999999999997,{"$f":"VLOOKUP(B1683,#REF!,3,FALSE)","v":{"$error":"#REF!"}}]
["Modeion","Modeion BD, BH","LM2","OEZ:19592","CS-BH-A421","Присоединительный комплект","задний подвод, Cu/Al шины / кабельные наконечники, 1 шт., для BH630","1 / -",0.76,0.62,16.220000000000002,{"$f":"VLOOKUP(B1684,#REF!,3,FALSE)","v":{"$error":"#REF!"}}]
["Modeion","Modeion BD, BH","LM2","OEZ:24783","CS-BH-A037","Присоединительный комплект","замена BA*37-50, передний подвод, Cu/Al шины / кабельные наконечники, 3 шт., для BH630","1 / -",0.48899999999999999,0.39600000000000002,33.53,{"$f":"VLOOKUP(B1685,#REF!,3,FALSE)","v":{"$error":"#REF!"}}]
["Modeion","Modeion BD, BH","LM2","OEZ:24782","CS-BH-A039","Присоединительный комплект","замена BA*39-50/ J2UX, передний подвод, Cu/Al шины / кабельные наконечники, 3 шт., для BH630","1 / -",0.628,0.03,51.489999999999995,{"$f":"VLOOKUP(B1686,#REF!,3,FALSE)","v":{"$error":"#REF!"}}]
["Modeion","Modeion BD, BH","LM2","OEZ:18202","CS-BH-Z039","Присоединительный комплект","замена BA*39/ J2UX, задний подвод, Cu/Al шины / кабельные наконечники, 3 шт., для BH630","1 / -",0.95399999999999996,0.03,80.180000000000007,{"$f":"VLOOKUP(B1687,#REF!,3,FALSE)","v":{"$error":"#REF!"}}]
["Modeion","Modeion BD, BH","LM2","OEZ:14562","CS-BH-JX75","Присоединительный комплект","замена J2UX75/ BA...*39, передний подвод выдвижного исполнения, Cu/Al шины / кабельные наконечники, 3 шт., для BH630","1 / -",1.9239999999999999,1.3089999999999999,287.63,{"$f":"VLOOKUP(B1688,#REF!,3,FALSE)","v":{"$error":"#REF!"}}]
["Modeion","Modeion BD, BH","LM2","OEZ:14561","CS-BH-JT75","Присоединительный комплект","замена J2UX75T, передний подвод выдвижного исполнения, Cu/Al шины / кабельные наконечники, 3 шт., для BH630","1 / -",2.64,2.04,338.96999999999997,{"$f":"VLOOKUP(B1689,#REF!,3,FALSE)","v":{"$error":"#REF!"}}]
["Modeion","Modeion BD, BH","LM2","OEZ:36032","CS-BH-PS41","Присоединительный комплект","зажим для присоединения вспомогательных цепей и цепей управления, Cu провода 1,5 - 2,5/4 - 6 mm2, 1 шт., для BH630","1 / -",5.0000000000000001E-3,6.5000000000000002E-2,4.18,{"$f":"VLOOKUP(B1690,#REF!,3,FALSE)","v":{"$error":"#REF!"}}]
[null,null,null,"Level  5","OD-BH-M - Монтажные комплекты"]
["Modeion","Modeion BD, BH","LM2","OEZ:18204","OD-BH-MZ39","Монтажный комплект","замена J2UX/ BA...39, задний подвод, для BH630","1 / -",1.1950000000000001,0.03,29.380000000000003,{"$f":"VLOOKUP(B1692,#REF!,3,FALSE)","v":{"$error":"#REF!"}}]
["Modeion","Modeion BD, BH","LM2","OEZ:33331","OD-BH-MT75","Монтажный комплект","замена J2UX75T, передний подвод, выдвижное исполнение, для BH630","1 / -",0.5,0.28499999999999998,24.16,{"$f":"VLOOKUP(B1693,#REF!,3,FALSE)","v":{"$error":"#REF!"}}]
["Modeion","Modeion BD, BH","LM2","OEZ:24741","OD-BHD-MS39","Монтажный комплект","замена J2UX/BA...39, передний подвод, для BH630/BD250","1 / -",0.7,0.03,20.310000000000002,{"$f":"VLOOKUP(B1694,#REF!,3,FALSE)","v":{"$error":"#REF!"}}]
["Modeion","Modeion BD, BH","LM2","OEZ:14563","OD-BHD-MS75","Монтажный комплект","замена J2UX75/BA...*39-75, передний подвод, выдвижное исполнение, для BH630/BD250","1 / -",0.44600000000000001,0.30399999999999999,18.41,{"$f":"VLOOKUP(B1695,#REF!,3,FALSE)","v":{"$error":"#REF!"}}]
[null,null,null,"Level  5","PS-BHD - Вспомогательные выключатели"]
["Modeion","Modeion BD, BH","LM2","OEZ:24700","PS-BHD-1000","Выключатель","1x NO, AC/DC 60 - 500 V, для BH630/BD250","1 / -",0.02,0.01,12.22,{"$f":"VLOOKUP(B1697,#REF!,3,FALSE)","v":{"$error":"#REF!"}}]
["Modeion","Modeion BD, BH","LM2","OEZ:24702","PS-BHD-1000-Au","Выключатель","1x NO, AC/DC 5 - 60 V, для BH630/BD250","1 / -",0.12,0.01,17.170000000000002,{"$f":"VLOOKUP(B1698,#REF!,3,FALSE)","v":{"$error":"#REF!"}}]
["Modeion","Modeion BD, BH","LM2","OEZ:24701","PS-BHD-0100","Выключатель","1x NC, AC/DC 60 - 500 V, для BH630/BD250","1 / -",0.13,0.01,12.25,{"$f":"VLOOKUP(B1699,#REF!,3,FALSE)","v":{"$error":"#REF!"}}]
["Modeion","Modeion BD, BH","LM2","OEZ:24703","PS-BHD-0100-Au","Выключатель","1x NC, AC/DC 5 - 60 V, для BH630/BD250","1 / -",0.13,0.01,17.260000000000002,{"$f":"VLOOKUP(B1700,#REF!,3,FALSE)","v":{"$error":"#REF!"}}]
["Modeion","Modeion BD, BH","LM2","OEZ:13690","PS-BHD-0200","Выключатель","2x NC, AC/DC 60 - 500 V, для BH630/BD250","1 / -",3.5999999999999997E-2,4.4999999999999998E-2,19.180000000000003,{"$f":"VLOOKUP(B1701,#REF!,3,FALSE)","v":{"$error":"#REF!"}}]
["Modeion","Modeion BD, BH","LM2","OEZ:13693","PS-BHD-0200-Au","Выключатель","2x NC, AC/DC 5 - 60 V, для BH630/BD250","1 / -",3.5999999999999997E-2,4.4999999999999998E-2,28.610000000000003,{"$f":"VLOOKUP(B1702,#REF!,3,FALSE)","v":{"$error":"#REF!"}}]
["Modeion","Modeion BD, BH","LM2","OEZ:13691","PS-BHD-1100","Выключатель","1x NO + 1x NC, AC/DC 60 - 500 V, для BH630/BD250","1 / -",3.5999999999999997E-2,4.4999999999999998E-2,18.71,{"$f":"VLOOKUP(B1703,#REF!,3,FALSE)","v":{"$error":"#REF!"}}]
["Modeion","Modeion BD, BH","LM2","OEZ:13694","PS-BHD-1100-Au","Выключатель","1x NO + 1x NC, AC/DC 5 - 60 V, для BH630/BD250","1 / -",3.5999999999999997E-2,4.4999999999999998E-2,23.720000000000002,{"$f":"VLOOKUP(B1704,#REF!,3,FALSE)","v":{"$error":"#REF!"}}]
["Modeion","Modeion BD, BH","LM2","OEZ:13689","PS-BHD-2000","Выключатель","2x NO, AC/DC 60 - 500 V, для BH630/BD250","1 / -",3.5999999999999997E-2,4.4999999999999998E-2,18.71,{"$f":"VLOOKUP(B1705,#REF!,3,FALSE)","v":{"$error":"#REF!"}}]
["Modeion","Modeion BD, BH","LM2","OEZ:13692","PS-BHD-2000-Au","Выключатель","2x NO, AC/DC 5 - 60 V, для BH630/BD250","1 / -",3.5999999999999997E-2,4.4999999999999998E-2,24.1,{"$f":"VLOOKUP(B1706,#REF!,3,FALSE)","v":{"$error":"#REF!"}}]
["Modeion","Modeion BD, BH","LM2","OEZ:18021","PS-BHD-0010","Выключатель","1x CO, AC/DC 60 - 500 V, для BH630/BD250","1 / -",1.2999999999999999E-2,6.5000000000000002E-2,12.22,{"$f":"VLOOKUP(B1707,#REF!,3,FALSE)","v":{"$error":"#REF!"}}]
["Modeion","Modeion BD, BH","LM2","OEZ:18022","PS-BHD-0010-Au","Выключатель","1x CO, AC/DC 5 - 60 V, для BH630/BD250","1 / -",1.2999999999999999E-2,6.5000000000000002E-2,17.170000000000002,{"$f":"VLOOKUP(B1708,#REF!,3,FALSE)","v":{"$error":"#REF!"}}]
["Modeion","Modeion BD, BH","LM2","OEZ:16169","SP-BHD-0002","Выключатель","2x NO или 2x NC или 1x NO + 1x NC, опережающий контакт, для BH630/BD250","1 / -",0.04,0.26800000000000002,29.5,{"$f":"VLOOKUP(B1709,#REF!,3,FALSE)","v":{"$error":"#REF!"}}]
["Modeion","Modeion BD, BH","LM2","OEZ:35893","PS-BHD-0020","Выключатель","2x CO, AC/DC 60 - 500 V, для BH630/BD250","1 / -",2.5999999999999999E-2,4.3999999999999997E-2,23.12,{"$f":"VLOOKUP(B1710,#REF!,3,FALSE)","v":{"$error":"#REF!"}}]
["Modeion","Modeion BD, BH","LM2","OEZ:37467","PS-BHD-0020-Au","Выключатель","2x CO, AC/DC 5 - 60 V, для BH630/BD250","1 / -",2.5999999999999999E-2,0.17799999999999999,69.010000000000005,{"$f":"VLOOKUP(B1711,#REF!,3,FALSE)","v":{"$error":"#REF!"}}]
[null,null,null,"Level  5","SV-BHD - независимые расцепители"]
["Modeion","Modeion BD, BH","LM2","OEZ:24650","SV-BHD-X024","Независимый расцепитель","AC/DC 24, 40, 48 V, для BH630/BD250","1 / -",0.14000000000000001,0.26800000000000002,42.089999999999996,{"$f":"VLOOKUP(B1713,#REF!,3,FALSE)","v":{"$error":"#REF!"}}]
["Modeion","Modeion BD, BH","LM2","OEZ:24630","SV-BHD-X110","Независимый расцепитель","AC/DC 110 V, для BH630/BD250","1 / -",0.14000000000000001,0.26800000000000002,42.919999999999995,{"$f":"VLOOKUP(B1714,#REF!,3,FALSE)","v":{"$error":"#REF!"}}]
["Modeion","Modeion BD, BH","LM2","OEZ:24620","SV-BHD-X230","Независимый расцепитель","AC 230, 400, 500 V / DC 220 V, для BH630/BD250","1 / -",0.14000000000000001,0.26800000000000002,34.589999999999996,{"$f":"VLOOKUP(B1715,#REF!,3,FALSE)","v":{"$error":"#REF!"}}]
[null,null,null,"Level  5","SP-BHD - Расцепители минимального напряжения"]
["Modeion","Modeion BD, BH","LM2","OEZ:24450","SP-BHD-X024","Расцепитель минимального напряжения","AC/DC 24, 40, 48 V для BH630/BD250","1 / -",0.14000000000000001,0.26800000000000002,46.78,{"$f":"VLOOKUP(B1717,#REF!,3,FALSE)","v":{"$error":"#REF!"}}]
["Modeion","Modeion BD, BH","LM2","OEZ:24430","SP-BHD-X110","Расцепитель минимального напряжения","AC/DC 110 V для BH630/BD250","1 / -",0.14000000000000001,0.26800000000000002,47.669999999999995,{"$f":"VLOOKUP(B1718,#REF!,3,FALSE)","v":{"$error":"#REF!"}}]
["Modeion","Modeion BD, BH","LM2","OEZ:24420","SP-BHD-X230","Расцепитель минимального напряжения","AC 230, 400, 500 V / DC 220 V для BH630/BD250","1 / -",0.14000000000000001,0.26800000000000002,43.43,{"$f":"VLOOKUP(B1719,#REF!,3,FALSE)","v":{"$error":"#REF!"}}]
["Modeion","Modeion BD, BH","LM2","OEZ:24550","SP-BHD-X024-0001","Расцепитель минимального напряжения","AC/DC 24, 40, 48 V опережающий контакт, для BH630/BD250","1 / -",0.14000000000000001,0.26800000000000002,74.490000000000009,{"$f":"VLOOKUP(B1720,#REF!,3,FALSE)","v":{"$error":"#REF!"}}]
["Modeion","Modeion BD, BH","LM2","OEZ:24530","SP-BHD-X110-0001","Расцепитель минимального напряжения","AC/DC 110 V опережающий контакт, для BH630/BD250","1 / -",0.14000000000000001,0.26800000000000002,58.57,{"$f":"VLOOKUP(B1721,#REF!,3,FALSE)","v":{"$error":"#REF!"}}]
["Modeion","Modeion BD, BH","LM2","OEZ:24520","SP-BHD-X230-0001","Расцепитель минимального напряжения","AC 230, 400, 500 V / DC 220 V опережающий контакт, для BH630/BD250","1 / -",0.14000000000000001,0.26800000000000002,54.51,{"$f":"VLOOKUP(B1722,#REF!,3,FALSE)","v":{"$error":"#REF!"}}]
[null,null,null,"Level  5","BZ-BX - Блоки задержки"]
["Modeion","Modeion BL","LM3","OEZ:36696","BZ-BX-X230-A","Блок задержки","для расцепителей минимального напряжения, AC 230 V / DC 220 V, для SP-BC-..., SP-BD-..., SP-BH-..., SP-BL-...","1 / -",0.12,0.40600000000000003,22.23,{"$f":"VLOOKUP(B1724,#REF!,3,FALSE)","v":{"$error":"#REF!"}}]
[null,null,null,"Level  5","RP-BH - Ручные приводы"]
["Modeion","Modeion BD, BH","LM2","OEZ:13653","RP-BH-CK10","Блок ручного привода","для BH630","1 / -",0.24299999999999999,0.99199999999999999,46.809999999999995,{"$f":"VLOOKUP(B1726,#REF!,3,FALSE)","v":{"$error":"#REF!"}}]
["Modeion","Modeion BD, BH","LM2","OEZ:13654","RP-BH-CK20","Блок ручного привода","с блокированием, для BH630","1 / -",0.24299999999999999,0.99199999999999999,62.839999999999996,{"$f":"VLOOKUP(B1727,#REF!,3,FALSE)","v":{"$error":"#REF!"}}]
["Modeion","Modeion BD, BH","LM2","OEZ:13685","RP-BH-CK21","Блок ручного привода","с блокированием, щиток - желтый цвет, для BH630","1 / -",0.24299999999999999,0.99199999999999999,65.81,{"$f":"VLOOKUP(B1728,#REF!,3,FALSE)","v":{"$error":"#REF!"}}]
["Modeion","Modeion BD, BH","LM2","OEZ:37252","RP-BH-CK30","Блок ручного привода","боковое управление вправо, для BH630","1 / -",0.51200000000000001,1.244,91.740000000000009,{"$f":"VLOOKUP(B1729,#REF!,3,FALSE)","v":{"$error":"#REF!"}}]
["Modeion","Modeion BD, BH","LM2","OEZ:37253","RP-BH-CK31","Блок ручного привода","боковое управление влево, для BH630","1 / -",0.51200000000000001,1.244,91.740000000000009,{"$f":"VLOOKUP(B1730,#REF!,3,FALSE)","v":{"$error":"#REF!"}}]
["Modeion","Modeion BD, BH","LM2","OEZ:13655","RP-BHD-CP10","Рычаг ручного привода","черный цвет, для BH630/BD250","1 / -",7.4999999999999997E-2,0.81,8.81,{"$f":"VLOOKUP(B1731,#REF!,3,FALSE)","v":{"$error":"#REF!"}}]
["Modeion","Modeion BD, BH","LM2","OEZ:13656","RP-BHD-CP20","Рычаг ручного привода","черный цвет, с блокированием, для BH630/BD250","1 / -",7.4999999999999997E-2,0.81,14.91,{"$f":"VLOOKUP(B1732,#REF!,3,FALSE)","v":{"$error":"#REF!"}}]
["Modeion","Modeion BD, BH","LM2","OEZ:13657","RP-BHD-CP21","Рычаг ручного привода","красный цвет, с блокированием, для BH630/BD250","1 / -",7.4999999999999997E-2,0.81,15.65,{"$f":"VLOOKUP(B1733,#REF!,3,FALSE)","v":{"$error":"#REF!"}}]
["Modeion","Modeion BD, BH","LM2","OEZ:13658","RP-BHD-CH10","Удлинительный вал","для BH630/BD250","1 / -",0.20499999999999999,0.54,9.93,{"$f":"VLOOKUP(B1734,#REF!,3,FALSE)","v":{"$error":"#REF!"}}]
["Modeion","Modeion BD, BH","LM2","OEZ:13659","RP-BHD-CH20","Удлинительный вал","телескопическое исполнение, для BH630/BD250","1 / -",0.255,0.54,17.200000000000003,{"$f":"VLOOKUP(B1735,#REF!,3,FALSE)","v":{"$error":"#REF!"}}]
["Modeion","Modeion BD, BH","LM2","OEZ:37246","RP-BHD-CN40","Подшипник ручного привода ","IP40, щиток - черный цвет, для BH630/BD250","1 / -",0.2,0.40600000000000003,18.940000000000001,{"$f":"VLOOKUP(B1736,#REF!,3,FALSE)","v":{"$error":"#REF!"}}]
["Modeion","Modeion BD, BH","LM2","OEZ:37247","RP-BHD-CN41","Подшипник ручного привода ","IP40, щиток - желтый цвет, для BH630/BD250","1 / -",0.2,0.40600000000000003,26.740000000000002,{"$f":"VLOOKUP(B1737,#REF!,3,FALSE)","v":{"$error":"#REF!"}}]
["Modeion","Modeion BD, BH","LM2","OEZ:37248","RP-BHD-CN60","Подшипник ручного привода ","IP66, щиток - черный цвет, для BH630/BD250","1 / -",0.2,0.40600000000000003,19.600000000000001,{"$f":"VLOOKUP(B1738,#REF!,3,FALSE)","v":{"$error":"#REF!"}}]
["Modeion","Modeion BD, BH","LM2","OEZ:37249","RP-BHD-CN61","Подшипник ручного привода ","IP66, щиток - желтый цвет, для BH630/BD250","1 / -",0.2,0.40600000000000003,31.57,{"$f":"VLOOKUP(B1739,#REF!,3,FALSE)","v":{"$error":"#REF!"}}]
[null,null,null,"Level  5","MB-BH - Механические блокировки и параллельная коммутация"]
["Modeion","Modeion BD, BH","LM2","OEZ:18290","RP-BHD-CB10","Механическая блокировка","для ручного привода, для BH630/BD250","1 / -",0.13600000000000001,1.4,49.89,{"$f":"VLOOKUP(B1741,#REF!,3,FALSE)","v":{"$error":"#REF!"}}]
["Modeion","Modeion BD, BH","LM2","OEZ:19611","MB-BH-PV04","Механическая блокировка","трос Боудена, для двух автоматических выключателей BH630","1 / -",0.39300000000000002,4.7130000000000001,106.86,{"$f":"VLOOKUP(B1742,#REF!,3,FALSE)","v":{"$error":"#REF!"}}]
["Modeion","Modeion BD, BH","LM2","OEZ:19613","MB-BHD-PV03","Механическая блокировка","трос Боудена, для одного автоматического выключателя BD250 и для одного автоматического выключателя BH630","1 / -",0.39300000000000002,4.7130000000000001,103.48,{"$f":"VLOOKUP(B1743,#REF!,3,FALSE)","v":{"$error":"#REF!"}}]
["Modeion","Modeion BD, BH","LM2","OEZ:18289","RP-BHD-CD10","Механическая параллельная коммутация ","для ручного привода, для BH630/BD250","1 / -",0.16200000000000001,1.4,58.43,{"$f":"VLOOKUP(B1744,#REF!,3,FALSE)","v":{"$error":"#REF!"}}]
[null,null,null,"Level  5","MP-BH - Моторные приводы"]
["Modeion","Modeion BD, BH","LM2","OEZ:20590","MP-BH-X024","Моторный привод","AC/DC 24 V, для BH630","1 / -",1.6910000000000001,3.044,541.88,{"$f":"VLOOKUP(B1746,#REF!,3,FALSE)","v":{"$error":"#REF!"}}]
["Modeion","Modeion BD, BH","LM2","OEZ:19792","MP-BH-X048","Моторный привод","AC/DC 48 V, для BH630","1 / -",1.6910000000000001,3.044,552.52,{"$f":"VLOOKUP(B1747,#REF!,3,FALSE)","v":{"$error":"#REF!"}}]
["Modeion","Modeion BD, BH","LM2","OEZ:13539","MP-BH-X110","Моторный привод","AC/DC 110 V, для BH630","1 / -",1.752,3.044,523.41999999999996,{"$f":"VLOOKUP(B1748,#REF!,3,FALSE)","v":{"$error":"#REF!"}}]
["Modeion","Modeion BD, BH","LM2","OEZ:13536","MP-BH-X230","Моторный привод","AC 230 V / DC 220 V, для BH630","1 / -",1.746,3.044,513.34,{"$f":"VLOOKUP(B1749,#REF!,3,FALSE)","v":{"$error":"#REF!"}}]
["Modeion","Modeion BD, BH","LM2","OEZ:20591","MP-BH-X024-P","Моторный привод","AC/DC 24 V, счётчик циклов, для BH630","1 / -",1.708,3.044,644.59,{"$f":"VLOOKUP(B1750,#REF!,3,FALSE)","v":{"$error":"#REF!"}}]
["Modeion","Modeion BD, BH","LM2","OEZ:19793","MP-BH-X048-P","Моторный привод","AC/DC 48 V, счётчик циклов, для BH630","1 / -",1.708,3.044,644.59,{"$f":"VLOOKUP(B1751,#REF!,3,FALSE)","v":{"$error":"#REF!"}}]
["Modeion","Modeion BD, BH","LM2","OEZ:13687","MP-BH-X110-P","Моторный привод","AC/DC 110 V, счётчик циклов, для BH630","1 / -",1.708,3.044,644.59,{"$f":"VLOOKUP(B1752,#REF!,3,FALSE)","v":{"$error":"#REF!"}}]
["Modeion","Modeion BD, BH","LM2","OEZ:13540","MP-BH-X230-P","Моторный привод","AC 230 V / DC 220 V, счётчик циклов, для BH630","1 / -",1.754,3.044,644.59,{"$f":"VLOOKUP(B1753,#REF!,3,FALSE)","v":{"$error":"#REF!"}}]
[null,null,null,"Level  5","OD-BH - Принадлежности"]
["Modeion","Modeion BD, BH","LM2","OEZ:13531","OD-BH-KS03","Крышка зажимов ","IP20, 3-полюс, для BH630","1 / -",0.14399999999999999,1.597,17.64,{"$f":"VLOOKUP(B1755,#REF!,3,FALSE)","v":{"$error":"#REF!"}}]
["Modeion","Modeion BD, BH","LM2","OEZ:19587","OD-BH-KS43","Крышка зажимов ","IP20, 4-полюс, для BH630","1 / -",0.20899999999999999,2.5680000000000001,18.770000000000003,{"$f":"VLOOKUP(B1756,#REF!,3,FALSE)","v":{"$error":"#REF!"}}]
["Modeion","Modeion BD, BH","LM2","OEZ:13532","OD-BH-UP01","Запираемый рычаг","для BH630","1 / -",1.2999999999999999E-2,0.01,22.650000000000002,{"$f":"VLOOKUP(B1757,#REF!,3,FALSE)","v":{"$error":"#REF!"}}]
["Modeion","Modeion BD, BH","LM2","OEZ:15330","OD-BH-VP01","Пломбируемый вкладыш винта","для BH630","2 / -",4.0000000000000001E-3,3.5999999999999997E-2,1.9,{"$f":"VLOOKUP(B1758,#REF!,3,FALSE)","v":{"$error":"#REF!"}}]
["Modeion","Modeion BD, BH","LM2","OEZ:18216","OD-BH-VP02","Дополнительная крышка расцепителя максимального тока","возможность пломбирования, для BH630","1 / -",0.1,0.33600000000000002,7.09,{"$f":"VLOOKUP(B1759,#REF!,3,FALSE)","v":{"$error":"#REF!"}}]
["Modeion","Modeion BD, BH","LM2","OEZ:14554","OD-BH-KK01","Кодирующий комплект","для съемного исполнения/выдвижного исполнения, для BH630","1 / -",5.0000000000000001E-3,0.06,8.7799999999999994,{"$f":"VLOOKUP(B1760,#REF!,3,FALSE)","v":{"$error":"#REF!"}}]
["Modeion","Modeion BD, BH","LM2","OEZ:13688","OD-BHD-PP01","Счётчик циклов","для моторного привода, для BH630/BD250","1 / -",3.0000000000000001E-3,0.77,107.15,{"$f":"VLOOKUP(B1761,#REF!,3,FALSE)","v":{"$error":"#REF!"}}]
["Modeion","Modeion BD, BH","LM2","OEZ:13809","OD-BHD-KA02","Удлинительный кабель","для моторного привода, для BH630/BD250","1 / -",0.06,0.14299999999999999,20.580000000000002,{"$f":"VLOOKUP(B1762,#REF!,3,FALSE)","v":{"$error":"#REF!"}}]
["Modeion","Modeion BD, BH","LM2","OEZ:24740","OD-BHD-KS02","Изоляционные перегородки","2 шт., для BH630/BD250","1 / -",7.6999999999999999E-2,0.03,4.2699999999999996,{"$f":"VLOOKUP(B1763,#REF!,3,FALSE)","v":{"$error":"#REF!"}}]
["Modeion","Modeion BD, BH","LM2","OEZ:19575","OD-BHD-KS42","Изоляционные перегородки","1 шт., для BH630/BD250","1 / -",0.04,0.28999999999999998,4.72,{"$f":"VLOOKUP(B1764,#REF!,3,FALSE)","v":{"$error":"#REF!"}}]
["Modeion","Modeion BD, BH","LM2","OEZ:14555","OD-BHD-KA01","Соединительный кабель","для автоматического выключателя в съемном исполнении / в выдвижном исполнении, для BH630/BD250","1 / -",0.26700000000000002,1.8720000000000001,65.95,{"$f":"VLOOKUP(B1765,#REF!,3,FALSE)","v":{"$error":"#REF!"}}]
["Modeion","Modeion BD, BH","LM2","OEZ:14642","OD-BHD-KT01","Крышка включающей кнопки","для моторного привода, для BH630/BD250","1 / -",5.3999999999999999E-2,0.29799999999999999,2.8499999999999996,{"$f":"VLOOKUP(B1766,#REF!,3,FALSE)","v":{"$error":"#REF!"}}]
["Modeion","Modeion BD, BH","LM2","OEZ:37425","OD-BHD-RX01","Реле управления","AC/DC 24 V для BH630/BD250","1 / -",0.08,0.28100000000000003,80.210000000000008,{"$f":"VLOOKUP(B1767,#REF!,3,FALSE)","v":{"$error":"#REF!"}}]
["Modeion","Modeion BD, BH","LM2","OEZ:37426","OD-BHD-RX02","Реле управления","AC/DC 48 V для BH630/BD250","1 / -",0.08,0.28100000000000003,80.210000000000008,{"$f":"VLOOKUP(B1768,#REF!,3,FALSE)","v":{"$error":"#REF!"}}]
["Modeion","Modeion BD, BH","LM2","OEZ:37427","OD-BHD-RA03","Реле управления","AC 110-230 V для BH630/BD250","1 / -",0.08,0.28100000000000003,80.210000000000008,{"$f":"VLOOKUP(B1769,#REF!,3,FALSE)","v":{"$error":"#REF!"}}]
["Modeion","Modeion BD, BH","LM2","OEZ:37428","OD-BHD-RD04","Реле управления","DC 110 V, для BH630/BD250","1 / -",0.08,0.28100000000000003,80.210000000000008,{"$f":"VLOOKUP(B1770,#REF!,3,FALSE)","v":{"$error":"#REF!"}}]
["Modeion","Modeion BD, BH","LM2","OEZ:14560","SO-BHD-0010","Сигнализация положения","для автоматического выключателя в съемном исполнении / в выдвижном исполнении, для BH630/BD250","1 / -",0.02,0.13,25.610000000000003,{"$f":"VLOOKUP(B1771,#REF!,3,FALSE)","v":{"$error":"#REF!"}}]
["Modeion","Modeion BD, BH","LM2","OEZ:45619","OD-BH-IT","Изоляционная пленка","","- / -",0,0,24.310000000000002,{"$f":"VLOOKUP(B1772,#REF!,3,FALSE)","v":{"$error":"#REF!"}}]
[null,null,null,"Level  5","ZES - Тестеры расцепителей максимального тока автоматических выключателей"]
["Modeion","Modeion BL","LM3","OEZ:17273","ZES4","Тестер расцепителей максимального тока автоматических выключателей","для BD250, BH630, BL1000, BL1600","1 / -",3.74,12.891999999999999,806.54,{"$f":"VLOOKUP(B1774,#REF!,3,FALSE)","v":{"$error":"#REF!"}}]
[null,null,null,"Level  5","ND-BH - Запасные части"]
["Modeion","Modeion BD, BH","LM2","OEZ:34458","OD-BH-SP01","Запасная часть","рычаг управления","1 / -",1.2E-2,0.13400000000000001,1.96,{"$f":"VLOOKUP(B1776,#REF!,3,FALSE)","v":{"$error":"#REF!"}}]
["Modeion","Modeion BD, BH","LM2","OEZ:15331","OD-BH-DV01","Запасная часть","фиксатор проводников","1 / -",5.0000000000000001E-3,0.10100000000000001,3.53,{"$f":"VLOOKUP(B1777,#REF!,3,FALSE)","v":{"$error":"#REF!"}}]
["Modeion","Modeion BD, BH","LM2","OEZ:14420","OD-BH-MS01","Запасная часть","монтажный комплект, комплект винтов M5x25, 4 шт., для BH630","1 / -",2.7E-2,7.8E-2,3.8,{"$f":"VLOOKUP(B1778,#REF!,3,FALSE)","v":{"$error":"#REF!"}}]
["Modeion","Modeion BD, BH","LM2","OEZ:24730","OD-BH-KS01","Запасная часть","крышка зажимов, верхние или нижние зажимы, 3-полюс, 1 шт., для BH630","1 / -",0.124,0.03,16.25,{"$f":"VLOOKUP(B1779,#REF!,3,FALSE)","v":{"$error":"#REF!"}}]
["Modeion","Modeion BD, BH","LM2","OEZ:35894","OD-BH-KS44","Запасная часть","крышка зажимов, нижние зажимы, 4-полюс, 1 шт., для BH630","1 / -",0.2,0.04,8.36,{"$f":"VLOOKUP(B1780,#REF!,3,FALSE)","v":{"$error":"#REF!"}}]
["Modeion","Modeion BD, BH","LM2","OEZ:35895","OD-BH-KS45","Запасная часть","крышка зажимов, верхние зажимы, 4-полюс, 1 шт., для BH630","1 / -",0.2,0.04,8.33,{"$f":"VLOOKUP(B1781,#REF!,3,FALSE)","v":{"$error":"#REF!"}}]
["Modeion","Modeion BD, BH","LM2","OEZ:34460","OD-BHD-JUMP","Запасная часть","соединитель (jumper) для вспомогательных расцепителей, для BH630/BD250","1 / -",1E-3,6.5000000000000002E-2,1.1599999999999999,{"$f":"VLOOKUP(B1782,#REF!,3,FALSE)","v":{"$error":"#REF!"}}]
["Modeion","Modeion BD, BH","LM2","OEZ:34461","OD-BHD-KON2","Запасная часть","разъём и гильзы, для MP-BD/MP-BH","1 / -",4.0000000000000001E-3,0.252,5.34,{"$f":"VLOOKUP(B1783,#REF!,3,FALSE)","v":{"$error":"#REF!"}}]
[null,null,null,"Level  5","BH_NE305 - Компактные автоматические выключатели"]
[null,null,null,"Level  5","BH630NE_-630-V - Разъединители нагрузки"]
[null,null,null,"Level  3","BL1000S - Компактные автоматические выключатели до 1 000 A"]
[null,null,null,"Level  4","BL1000SE - Коммутационные блоки"]
["Modeion","Modeion BL","LM3","OEZ:19381","BL1000SE305","Коммутационный блок","3-полюс, Iu 1000 A, Icu 65 kA, для BL1000","1 / -",19.946000000000002,22.96,1099.6500000000001,{"$f":"VLOOKUP(B1788,#REF!,3,FALSE)","v":{"$error":"#REF!"}}]
["Modeion","Modeion BL","LM3","OEZ:19382","BL1000SE320","Коммутационный блок","3-полюс, Iu 1000 A, Icu 65 kA, для BL1000","1 / -",23,22.167999999999999,1311.19,{"$f":"VLOOKUP(B1789,#REF!,3,FALSE)","v":{"$error":"#REF!"}}]
[null,null,null,"Level  4","SE-BL-J - Расцепители максимального тока"]
["Modeion","Modeion BL","LM3","OEZ:22111","SE-BL-J315-DTV3","Расцепитель максимального тока","характеристика распределительная D, In 315 A, настройка IR 125 - 315 A, для BL1000","1 / -",0.46400000000000002,1.585,313.36,{"$f":"VLOOKUP(B1791,#REF!,3,FALSE)","v":{"$error":"#REF!"}}]
["Modeion","Modeion BL","LM3","OEZ:22211","SE-BL-J630-DTV3","Расцепитель максимального тока","характеристика распределительная D, In 630 A, настройка IR 250 - 630 A, для BL1000","1 / -",0.46400000000000002,1.585,357.94,{"$f":"VLOOKUP(B1792,#REF!,3,FALSE)","v":{"$error":"#REF!"}}]
["Modeion","Modeion BL","LM3","OEZ:22311","SE-BL-J800-DTV3","Расцепитель максимального тока","характеристика распределительная D, In 800 A, настройка IR 315 - 800 A, для BL1000","1 / -",0.46400000000000002,1.585,391.28,{"$f":"VLOOKUP(B1793,#REF!,3,FALSE)","v":{"$error":"#REF!"}}]
["Modeion","Modeion BL","LM3","OEZ:19383","SE-BL-J1000-DTV3","Расцепитель максимального тока","характеристика распределительная D, In 1000 A, настройка IR 400 - 1000 A, для BL1000","1 / -",0.46400000000000002,1.6339999999999999,429.25,{"$f":"VLOOKUP(B1794,#REF!,3,FALSE)","v":{"$error":"#REF!"}}]
["Modeion","Modeion BL","LM3","OEZ:22101","SE-BL-J315-MTV8","Расцепитель максимального тока","характеристика моторная M, In 315 A, настройка IR 125 - 315 A, для BL1000","1 / -",0.5,1.585,365.05,{"$f":"VLOOKUP(B1795,#REF!,3,FALSE)","v":{"$error":"#REF!"}}]
["Modeion","Modeion BL","LM3","OEZ:22201","SE-BL-J630-MTV8","Расцепитель максимального тока","характеристика моторная M, In 630 A, настройка IR 250 - 630 A, для BL1000","1 / -",0.5,1.585,422.11,{"$f":"VLOOKUP(B1796,#REF!,3,FALSE)","v":{"$error":"#REF!"}}]
["Modeion","Modeion BL","LM3","OEZ:22301","SE-BL-J800-MTV8","Расцепитель максимального тока","характеристика моторная M, In 800 A, настройка IR 315 - 800 A, для BL1000","1 / -",0.5,1.585,476.11,{"$f":"VLOOKUP(B1797,#REF!,3,FALSE)","v":{"$error":"#REF!"}}]
["Modeion","Modeion BL","LM3","OEZ:19384","SE-BL-J1000-MTV8","Расцепитель максимального тока","характеристика моторная M, In 1000 A, настройка IR 400 - 1000 A, для BL1000","1 / -",0.59,1.6339999999999999,536.18999999999994,{"$f":"VLOOKUP(B1798,#REF!,3,FALSE)","v":{"$error":"#REF!"}}]
["Modeion","Modeion BL","LM3","OEZ:20527","SE-BL-J315-U001","Расцепитель максимального тока","характеристика универсальная U, In 315 A, настройка IR 125 - 315 A, для BL1000","1 / -",0.5,1.585,453.67,{"$f":"VLOOKUP(B1799,#REF!,3,FALSE)","v":{"$error":"#REF!"}}]
["Modeion","Modeion BL","LM3","OEZ:20526","SE-BL-J630-U001","Расцепитель максимального тока","характеристика универсальная U, In 630 A, настройка IR 250 - 630 A, для BL1000","1 / -",0.5,1.585,523.36,{"$f":"VLOOKUP(B1800,#REF!,3,FALSE)","v":{"$error":"#REF!"}}]
["Modeion","Modeion BL","LM3","OEZ:20525","SE-BL-J800-U001","Расцепитель максимального тока","характеристика универсальная U, In 800 A, настройка IR 315 - 800 A, для BL1000","1 / -",0.5,1.585,627.87,{"$f":"VLOOKUP(B1801,#REF!,3,FALSE)","v":{"$error":"#REF!"}}]
["Modeion","Modeion BL","LM3","OEZ:20524","SE-BL-J1000-U001","Расцепитель максимального тока","характеристика универсальная U, In 1000 A, настройка IR 400 - 1000 A, для BL1000","1 / -",0.5,1.585,662.73,{"$f":"VLOOKUP(B1802,#REF!,3,FALSE)","v":{"$error":"#REF!"}}]
["Modeion","Modeion BL","LM3","OEZ:19385","SE-BL-J1000-V001","Блок разъединителя нагрузки","для BL1000","1 / -",0.45200000000000001,1.6339999999999999,45.89,{"$f":"VLOOKUP(B1803,#REF!,3,FALSE)","v":{"$error":"#REF!"}}]
[null,null,null,"Level  4","OD-BL - Принадлежности"]
[null,null,null,"Level  5","ZV-BL - выдвижные оборудования"]
["Modeion","Modeion BL","LM3","OEZ:21010","ZV-BL-1600-300","Выдвижное оборудование","3-полюс, для BL1600/BL1000","1 / -",13.888,31.789000000000001,1001.84,{"$f":"VLOOKUP(B1806,#REF!,3,FALSE)","v":{"$error":"#REF!"}}]
[null,null,null,"Level  5","SB-BL-0002 - Сигнализационные блоки"]
["Modeion","Modeion BL","LM3","OEZ:13765","SB-BL-0002","Сигнализационный блок","для расцепителей SE-BL-...-DTV3/MTV8/U001, для BL1600/BL1000","1 / -",0.67,1.585,717.2,{"$f":"VLOOKUP(B1808,#REF!,3,FALSE)","v":{"$error":"#REF!"}}]
[null,null,null,"Level  5","CS-BL - Присоединительные комплекты"]
["Modeion","Modeion BL","LM3","OEZ:20710","CS-BL-W010","Присоединительный комплект","хомутные зажимы, 2x(70 - 240) mm2, 3 шт., для BL1600/BL1000","1 / -",1.4750000000000001,1.371,111.78,{"$f":"VLOOKUP(B1810,#REF!,3,FALSE)","v":{"$error":"#REF!"}}]
["Modeion","Modeion BL","LM3","OEZ:20930","CS-BL-W011","Присоединительный комплект","хомутные зажимы, 70 - 240 mm2, 3 шт., для BL1600/BL1000","1 / -",0.66300000000000003,0.996,61.21,{"$f":"VLOOKUP(B1811,#REF!,3,FALSE)","v":{"$error":"#REF!"}}]
["Modeion","Modeion BL","LM3","OEZ:20611","CS-BL-A022","Присоединительный комплект","задний подвод, до 1000 A, Cu/Al шины, 3 шт., для BL1600/BL1000","1 / -",1.43,0.82599999999999996,67.47,{"$f":"VLOOKUP(B1812,#REF!,3,FALSE)","v":{"$error":"#REF!"}}]
["Modeion","Modeion BL","LM3","OEZ:20610","CS-BL-A021","Присоединительный комплект","задний подвод, до 1600 A, Cu/Al шины, 3 шт., для BL1600/BL1000","1 / -",2.6779999999999999,1.048,126.48,{"$f":"VLOOKUP(B1813,#REF!,3,FALSE)","v":{"$error":"#REF!"}}]
["Modeion","Modeion BL","LM3","OEZ:21050","CS-BL-A010","Присоединительный комплект","передний подвод, выдвижное исполнение, Cu/Al шины, 3 шт., для BL1600/BL1000","1 / -",2.73,0.80800000000000005,112.16000000000001,{"$f":"VLOOKUP(B1814,#REF!,3,FALSE)","v":{"$error":"#REF!"}}]
["Modeion","Modeion BL","LM3","OEZ:21070","CS-BL-A020","Присоединительный комплект","задний подвод, выдвижное исполнение, Cu/Al шины, 3 шт., для BL1600/BL1000","1 / -",3.42,0.82599999999999996,137.88999999999999,{"$f":"VLOOKUP(B1815,#REF!,3,FALSE)","v":{"$error":"#REF!"}}]
["Modeion","Modeion BL","LM3","OEZ:20116","CS-BL-B002","Присоединительный комплект","зажимы для присоединения проводников без кабельных наконечников, 2x(150 - 300) mm2, 3 шт., для BL1600/BL1000","1 / -",1,0.79200000000000004,208.85,{"$f":"VLOOKUP(B1816,#REF!,3,FALSE)","v":{"$error":"#REF!"}}]
["Modeion","Modeion BL","LM3","OEZ:20117","CS-BL-B003","Присоединительный комплект","зажимы для присоединения проводников без кабельных наконечников, 3x(150 - 300) mm2, 3 шт., для BL1600/BL1000","1 / -",1.948,2.6419999999999999,315.78999999999996,{"$f":"VLOOKUP(B1817,#REF!,3,FALSE)","v":{"$error":"#REF!"}}]
["Modeion","Modeion BL","LM3","OEZ:20118","CS-BL-B004","Присоединительный комплект","зажимы для присоединения проводников без кабельных наконечников, 4x(150 - 300) mm2, 3 шт., для BL1600/BL1000","1 / -",1.8280000000000001,3.3149999999999999,325.75,{"$f":"VLOOKUP(B1818,#REF!,3,FALSE)","v":{"$error":"#REF!"}}]
["Modeion","Modeion BL","LM3","OEZ:41469","CS-BL-A015","Присоединительный комплект","передний подвод, для стационарного исполнения, Cu/Al шины, 3 шт., для BL1600","1 / -",4.5,1.47,299.71999999999997,{"$f":"VLOOKUP(B1819,#REF!,3,FALSE)","v":{"$error":"#REF!"}}]
["Modeion","Modeion BL","LM3","OEZ:41470","CS-BL-A016","Присоединительный комплект","передний подвод, для стационарного исполнения, Cu/Al шины, 3 шт., для BL1000","1 / -",3,1.1599999999999999,158.95999999999998,{"$f":"VLOOKUP(B1820,#REF!,3,FALSE)","v":{"$error":"#REF!"}}]
[null,null,null,"Level  5","PS-BL - Вспомогательные выключатели"]
["Modeion","Modeion BL","LM3","OEZ:20510","PS-BL-2200","Выключатель","2x NO + 2x NC, AC/DC 60 - 240 V, для BL1600/BL1000","1 / -",4.1000000000000002E-2,8.2000000000000003E-2,51.46,{"$f":"VLOOKUP(B1822,#REF!,3,FALSE)","v":{"$error":"#REF!"}}]
["Modeion","Modeion BL","LM3","OEZ:12808","PS-BL-2200-Au","Выключатель","2x NO + 2x NC, AC/DC 5 - 60 V, для BL1600/BL1000","1 / -",4.1000000000000002E-2,8.2000000000000003E-2,62.309999999999995,{"$f":"VLOOKUP(B1823,#REF!,3,FALSE)","v":{"$error":"#REF!"}}]
[null,null,null,"Level  5","SV-BL - независимые расцепители"]
["Modeion","Modeion BL","LM3","OEZ:16162","SV-BL-X024","Независимый расцепитель","Ue AC/DC 24 V, для BL1600/BL1000","1 / -",0.19900000000000001,0.373,63.64,{"$f":"VLOOKUP(B1825,#REF!,3,FALSE)","v":{"$error":"#REF!"}}]
["Modeion","Modeion BL","LM3","OEZ:16161","SV-BL-X048","Независимый расцепитель","Ue AC/DC 48 V, для BL1600/BL1000","1 / -",0.22,0.34100000000000003,63.64,{"$f":"VLOOKUP(B1826,#REF!,3,FALSE)","v":{"$error":"#REF!"}}]
["Modeion","Modeion BL","LM3","OEZ:16160","SV-BL-X110","Независимый расцепитель","Ue AC/DC 110 V, для BL1600/BL1000","1 / -",0.22,0.34100000000000003,63.64,{"$f":"VLOOKUP(B1827,#REF!,3,FALSE)","v":{"$error":"#REF!"}}]
["Modeion","Modeion BL","LM3","OEZ:16159","SV-BL-X230","Независимый расцепитель","Ue AC 230 V / DC 220 V, для BL1600/BL1000","1 / -",0.20100000000000001,0.374,63.64,{"$f":"VLOOKUP(B1828,#REF!,3,FALSE)","v":{"$error":"#REF!"}}]
["Modeion","Modeion BL","LM3","OEZ:16158","SV-BL-X400","Независимый расцепитель","Ue AC 400 V, для BL1600/BL1000","1 / -",0.22,0.34100000000000003,62.43,{"$f":"VLOOKUP(B1829,#REF!,3,FALSE)","v":{"$error":"#REF!"}}]
["Modeion","Modeion BL","LM3","OEZ:16157","SV-BL-X500","Независимый расцепитель","Ue AC/DC 500 V, для BL1600/BL1000","1 / -",0.22,0.34100000000000003,63.64,{"$f":"VLOOKUP(B1830,#REF!,3,FALSE)","v":{"$error":"#REF!"}}]
[null,null,null,"Level  5","SP-BL - Расцепители минимального напряжения"]
["Modeion","Modeion BL","LM3","OEZ:16168","SP-BL-X024","Расцепитель минимального напряжения","Ue AC/DC 24 V, для BL1600/BL1000","1 / -",0.22,0.34100000000000003,68.53,{"$f":"VLOOKUP(B1832,#REF!,3,FALSE)","v":{"$error":"#REF!"}}]
["Modeion","Modeion BL","LM3","OEZ:16167","SP-BL-X048","Расцепитель минимального напряжения","Ue AC/DC 48 V, для BL1600/BL1000","1 / -",0.22,0.34100000000000003,68.53,{"$f":"VLOOKUP(B1833,#REF!,3,FALSE)","v":{"$error":"#REF!"}}]
["Modeion","Modeion BL","LM3","OEZ:16166","SP-BL-X110","Расцепитель минимального напряжения","Ue AC/DC 110 V, для BL1600/BL1000","1 / -",0.22,0.34100000000000003,70.22,{"$f":"VLOOKUP(B1834,#REF!,3,FALSE)","v":{"$error":"#REF!"}}]
["Modeion","Modeion BL","LM3","OEZ:16165","SP-BL-X230","Расцепитель минимального напряжения","Ue AC 230 V / DC 220 V, для BL1600/BL1000","1 / -",0.22,0.34100000000000003,67.2,{"$f":"VLOOKUP(B1835,#REF!,3,FALSE)","v":{"$error":"#REF!"}}]
["Modeion","Modeion BL","LM3","OEZ:16164","SP-BL-X400","Расцепитель минимального напряжения","Ue AC 400 V, для BL1600/BL1000","1 / -",0.22,0.34100000000000003,68.53,{"$f":"VLOOKUP(B1836,#REF!,3,FALSE)","v":{"$error":"#REF!"}}]
["Modeion","Modeion BL","LM3","OEZ:16163","SP-BL-X500","Расцепитель минимального напряжения","Ue AC 500 V, для BL1600/BL1000","1 / -",0.22,0.34100000000000003,68.53,{"$f":"VLOOKUP(B1837,#REF!,3,FALSE)","v":{"$error":"#REF!"}}]
[null,null,null,"Level  5","BZ-BX - Блоки задержки"]
["Modeion","Modeion BL","LM3","OEZ:36696","BZ-BX-X230-A","Блок задержки","для расцепителей минимального напряжения, AC 230 V / DC 220 V, для SP-BC-..., SP-BD-..., SP-BH-..., SP-BL-...","1 / -",0.12,0.40600000000000003,22.23,{"$f":"VLOOKUP(B1839,#REF!,3,FALSE)","v":{"$error":"#REF!"}}]
[null,null,null,"Level  5","RP-BL - Ручные приводы"]
["Modeion","Modeion BL","LM3","OEZ:20850","RP-BL-CK10","Блок ручного привода","для BL1600/BL1000","1 / -",1.1000000000000001,2.6419999999999999,127.87,{"$f":"VLOOKUP(B1841,#REF!,3,FALSE)","v":{"$error":"#REF!"}}]
["Modeion","Modeion BL","LM3","OEZ:20865","RP-BL-CP10","Рычаг ручного привода","черный цвет, с блокированием, для BL1600/BL1000","1 / -",0.26100000000000001,0.81499999999999995,24.310000000000002,{"$f":"VLOOKUP(B1842,#REF!,3,FALSE)","v":{"$error":"#REF!"}}]
["Modeion","Modeion BL","LM3","OEZ:20867","RP-BL-CP11","Рычаг ручного привода","красный цвет, с блокированием, для BL1600/BL1000","1 / -",0.26100000000000001,0.81499999999999995,26.09,{"$f":"VLOOKUP(B1843,#REF!,3,FALSE)","v":{"$error":"#REF!"}}]
["Modeion","Modeion BL","LM3","OEZ:20870","RP-BL-CN10","Подшипник ручного привода ","IP40, щиток - черный цвет, для BL1600/BL1000","1 / -",0.26500000000000001,0.88100000000000001,87.440000000000012,{"$f":"VLOOKUP(B1844,#REF!,3,FALSE)","v":{"$error":"#REF!"}}]
["Modeion","Modeion BL","LM3","OEZ:19103","RP-BL-CN20","Подшипник ручного привода ","IP66, щиток - черный цвет, для BL1600/BL1000","1 / -",0.28499999999999998,0.79200000000000004,86.97,{"$f":"VLOOKUP(B1845,#REF!,3,FALSE)","v":{"$error":"#REF!"}}]
["Modeion","Modeion BL","LM3","OEZ:20875","RP-BL-CH10","Удлинительный вал","для BL1600/BL1000","1 / -",0.35199999999999998,0.03,11.709999999999999,{"$f":"VLOOKUP(B1846,#REF!,3,FALSE)","v":{"$error":"#REF!"}}]
["Modeion","Modeion BL","LM3","OEZ:20678","RP-BL-CK52","Блок ручного привода","2 шт., с одинаковым замком и ключом, для BL1600/BL1000","1 / -",0.23,8.8460000000000001,188.48999999999998,{"$f":"VLOOKUP(B1847,#REF!,3,FALSE)","v":{"$error":"#REF!"}}]
["Modeion","Modeion BL","LM3","OEZ:20679","RP-BL-CK53","Блок ручного привода","3 шт., с одинаковым замком и ключом, для BL1600/BL1000","1 / -",0.23,11.862,284.39999999999998,{"$f":"VLOOKUP(B1848,#REF!,3,FALSE)","v":{"$error":"#REF!"}}]
["Modeion","Modeion BL","LM3","OEZ:20680","RP-BL-CK54","Блок ручного привода","4 шт., с одинаковым замком и ключом, для BL1600/BL1000","1 / -",0.23,12.951000000000001,570.16,{"$f":"VLOOKUP(B1849,#REF!,3,FALSE)","v":{"$error":"#REF!"}}]
["Modeion","Modeion BL","LM3","OEZ:20681","RP-BL-CK55","Блок ручного привода","5 шт., с одинаковым замком и ключом, для BL1600/BL1000","1 / -",0.23,16.242999999999999,480.53,{"$f":"VLOOKUP(B1850,#REF!,3,FALSE)","v":{"$error":"#REF!"}}]
[null,null,null,"Level  5","MB-BL - Механические блокировки"]
["Modeion","Modeion BL","LM3","OEZ:20880","RP-BL-CB10","Механическая блокировка","для ручного привода, для BL1600/BL1000","1 / -",0.12,0.85199999999999998,108.52000000000001,{"$f":"VLOOKUP(B1852,#REF!,3,FALSE)","v":{"$error":"#REF!"}}]
["Modeion","Modeion BL","LM3","OEZ:19807","MB-BL-PP07","Механическая блокировка","трос Боудена, между двумя автоматическими выключателями, в стационарном исполнении, для BL1600/BL1000","1 / -",0.4,12.3,424.57,{"$f":"VLOOKUP(B1853,#REF!,3,FALSE)","v":{"$error":"#REF!"}}]
["Modeion","Modeion BL","LM3","OEZ:20529","MB-BL-PV08","Механическая блокировка","трос Боудена, между двумя автоматическими выключателями, 1. в стационарном исполнении, 2. в выдвижном исполнении, для BL1600/BL1000","1 / -",0.4,12.3,429.46,{"$f":"VLOOKUP(B1854,#REF!,3,FALSE)","v":{"$error":"#REF!"}}]
["Modeion","Modeion BL","LM3","OEZ:20528","MB-BL-VV06","Механическая блокировка","трос Боудена, между двумя автоматическими выключателями, в выдвижном исполнении, для BL1600/BL1000","1 / -",0.4,12.3,429.46,{"$f":"VLOOKUP(B1855,#REF!,3,FALSE)","v":{"$error":"#REF!"}}]
[null,null,null,"Level  5","MP-BL - Моторные приводы"]
["Modeion","Modeion BL","LM3","OEZ:11601","MP-BL-X110","Моторный привод","AC/DC 110 V, для BL1600/BL1000","1 / -",4.3499999999999996,7.8869999999999996,683.12,{"$f":"VLOOKUP(B1857,#REF!,3,FALSE)","v":{"$error":"#REF!"}}]
["Modeion","Modeion BL","LM3","OEZ:11600","MP-BL-X230","Моторный привод","AC 230 V / DC 220 V, для BL1600/BL1000","1 / -",4.4539999999999997,7.8869999999999996,669.99,{"$f":"VLOOKUP(B1858,#REF!,3,FALSE)","v":{"$error":"#REF!"}}]
["Modeion","Modeion BL","LM3","OEZ:11604","MP-BL-X110-P","Моторный привод","AC/DC 110 V, счётчик циклов, для BL1600/BL1000","1 / -",4.4000000000000004,7.8869999999999996,742.55,{"$f":"VLOOKUP(B1859,#REF!,3,FALSE)","v":{"$error":"#REF!"}}]
["Modeion","Modeion BL","LM3","OEZ:11605","MP-BL-X230-P","Моторный привод","AC 230 V / DC 220 V, счётчик циклов, для BL1600/BL1000","1 / -",4.4000000000000004,7.8869999999999996,728.29,{"$f":"VLOOKUP(B1860,#REF!,3,FALSE)","v":{"$error":"#REF!"}}]
[null,null,null,"Level  5","OD-BL - Принадлежности"]
["Modeion","Modeion BL","LM3","OEZ:20910","OD-BL-KS02","Изоляционные перегородки","для стационарного исполнения, 2 шт., для BL1600/BL1000","1 / -",0.26400000000000001,0.06,20.55,{"$f":"VLOOKUP(B1862,#REF!,3,FALSE)","v":{"$error":"#REF!"}}]
["Modeion","Modeion BL","LM3","OEZ:20569","OD-BL-KS08","Изоляционные перегородки","для выдвижного оборудования, 2 шт., для BL1000/BL1600","1 / -",0.14199999999999999,1.008,24.700000000000003,{"$f":"VLOOKUP(B1863,#REF!,3,FALSE)","v":{"$error":"#REF!"}}]
["Modeion","Modeion BL","LM3","OEZ:39893","OD-BL-KS09","Крышка зажимов ","для стационарного исполнения, IP20, для BL1600/BL1000","1 / -",0.7,7.52,62.339999999999996,{"$f":"VLOOKUP(B1864,#REF!,3,FALSE)","v":{"$error":"#REF!"}}]
["Modeion","Modeion BL","LM3","OEZ:20810","OD-BL-KS01","Крышка зажимов ","для BL1600/BL1000","1 / -",0.28699999999999998,3.847,24.84,{"$f":"VLOOKUP(B1865,#REF!,3,FALSE)","v":{"$error":"#REF!"}}]
["Modeion","Modeion BL","LM3","OEZ:20940","OD-BL-KS04","Крышка зажимов ","для выдвижного оборудования, передний подвод, для BL1000/BL1600","1 / -",0.16800000000000001,1.6839999999999999,33.14,{"$f":"VLOOKUP(B1866,#REF!,3,FALSE)","v":{"$error":"#REF!"}}]
["Modeion","Modeion BL","LM3","OEZ:20920","OD-BL-KS03","Проходные изоляторы ","задний подвод, для BL1600/BL1000","1 / -",0.1,0.81499999999999995,16.48,{"$f":"VLOOKUP(B1867,#REF!,3,FALSE)","v":{"$error":"#REF!"}}]
["Modeion","Modeion BL","LM3","OEZ:13621","OD-BL-UP01","Запираемый рычаг","для BL1600/BL1000","1 / -",4.1000000000000002E-2,0.01,27.330000000000002,{"$f":"VLOOKUP(B1868,#REF!,3,FALSE)","v":{"$error":"#REF!"}}]
["Modeion","Modeion BL","LM3","OEZ:13924","OD-BL-VP01","Пломбируемый вкладыш винта","для BL1000,BL1600","2 / -",2E-3,3.3000000000000002E-2,3.2399999999999998,{"$f":"VLOOKUP(B1869,#REF!,3,FALSE)","v":{"$error":"#REF!"}}]
["Modeion","Modeion BL","LM3","OEZ:21030","OD-BL-KA01","Соединительный кабель","для автоматического выключателя в выдвижном исполнении, для BL1000/BL1600","1 / -",0.12,0.06,62.519999999999996,{"$f":"VLOOKUP(B1870,#REF!,3,FALSE)","v":{"$error":"#REF!"}}]
["Modeion","Modeion BL","LM3","OEZ:14643","OD-BL-KT01","Крышка включающей кнопки","для моторного привода, для BL1000/BL1600","1 / -",1.9E-2,0.432,3.8899999999999997,{"$f":"VLOOKUP(B1871,#REF!,3,FALSE)","v":{"$error":"#REF!"}}]
["Modeion","Modeion BL","LM3","OEZ:21020","SO-BL-0010","Сигнализация положения","для автоматического выключателя в выдвижном исполнении, для BL1600/BL1000","1 / -",0.02,0.01,34.239999999999995,{"$f":"VLOOKUP(B1872,#REF!,3,FALSE)","v":{"$error":"#REF!"}}]
["Modeion","Modeion BL","LM3","OEZ:45620","OD-BL-IT","Изоляционная пленка","","- / -",0,0,34.15,{"$f":"VLOOKUP(B1873,#REF!,3,FALSE)","v":{"$error":"#REF!"}}]
[null,null,null,"Level  5","ZES - Тестеры расцепителей максимального тока автоматических выключателей"]
["Modeion","Modeion BL","LM3","OEZ:17273","ZES4","Тестер расцепителей максимального тока автоматических выключателей","для BD250, BH630, BL1000, BL1600","1 / -",3.74,12.891999999999999,806.54,{"$f":"VLOOKUP(B1875,#REF!,3,FALSE)","v":{"$error":"#REF!"}}]
[null,null,null,"Level  5","ND-BL - Запасные части"]
["Modeion","Modeion BL","LM3","OEZ:14855","OD-BL-MS02","Монтажный комплект","комплект винтов M8x60, 4 шт., для выдвижного оборудования, для BL1600/BL1000","1 / -",0.14399999999999999,0.02,4.75,{"$f":"VLOOKUP(B1877,#REF!,3,FALSE)","v":{"$error":"#REF!"}}]
["Modeion","Modeion BL","LM3","OEZ:34459","OD-BL-SP01","Запасная часть","рычаг управления","1 / -",0.03,0.09,3.3,{"$f":"VLOOKUP(B1878,#REF!,3,FALSE)","v":{"$error":"#REF!"}}]
["Modeion","Modeion BL","LM3","OEZ:14854","OD-BL-MS01","Запасная часть","комплект винтов M8x80, 4 шт., для стационарного исполнения, для BL1600/BL1000","1 / -",0.14299999999999999,0.13400000000000001,5.34,{"$f":"VLOOKUP(B1879,#REF!,3,FALSE)","v":{"$error":"#REF!"}}]
["Modeion","Modeion BL","LM3","OEZ:34463","OD-BL-KON2","Запасная часть","разъём и гильзы, для MP-BL","1 / -",4.0000000000000001E-3,0.252,3.1799999999999997,{"$f":"VLOOKUP(B1880,#REF!,3,FALSE)","v":{"$error":"#REF!"}}]
["Modeion","Modeion BL","LM3","OEZ:34462","OD-BX-KON1","Запасная часть","разъём и гильзы, для OD-BHD-KA01, OD-BL-KA01","1 / -",1.7000000000000001E-2,0.29799999999999999,6.02,{"$f":"VLOOKUP(B1881,#REF!,3,FALSE)","v":{"$error":"#REF!"}}]
[null,null,null,"Level  5","BL1000SE_-1000-V - Разъединители нагрузки"]
[null,null,null,"Level  3","BL1600S - Компактные автоматические выключатели до 1 600 A"]
[null,null,null,"Level  4","BL1600SE - Коммутационные блоки"]
["Modeion","Modeion BL","LM3","OEZ:14410","BL1600SE305","Коммутационный блок","3-полюс, Iu 1600 A, Icu 65 kA, для BL1600","1 / -",23.042000000000002,22.96,1490.78,{"$f":"VLOOKUP(B1885,#REF!,3,FALSE)","v":{"$error":"#REF!"}}]
["Modeion","Modeion BL","LM3","OEZ:21000","BL1600SE320","Коммутационный блок","3-полюс, Iu 1600 A, Icu 65 kA, для BL1600","1 / -",22.74,27.007999999999999,1582.57,{"$f":"VLOOKUP(B1886,#REF!,3,FALSE)","v":{"$error":"#REF!"}}]
[null,null,null,"Level  4","SE-BL - Расцепители максимального тока"]
["Modeion","Modeion BL","LM3","OEZ:20070","SE-BL-0630-DTV3","Расцепитель максимального тока","характеристика распределительная D, In 630 A, настройка IR 250 - 630 A, для BL1600","1 / -",0.5,1.585,223.95999999999998,{"$f":"VLOOKUP(B1888,#REF!,3,FALSE)","v":{"$error":"#REF!"}}]
["Modeion","Modeion BL","LM3","OEZ:20080","SE-BL-1000-DTV3","Расцепитель максимального тока","характеристика распределительная D, In 1000 A, настройка IR 400 - 1000 A, для BL1600","1 / -",0.5,1.585,357.11,{"$f":"VLOOKUP(B1889,#REF!,3,FALSE)","v":{"$error":"#REF!"}}]
["Modeion","Modeion BL","LM3","OEZ:19388","SE-BL-1250-DTV3","Расцепитель максимального тока","характеристика распределительная D, In 1250 A, настройка IR 500 - 1250 A, для BL1600","1 / -",0.5,1.585,406.34,{"$f":"VLOOKUP(B1890,#REF!,3,FALSE)","v":{"$error":"#REF!"}}]
["Modeion","Modeion BL","LM3","OEZ:20090","SE-BL-1600-DTV3","Расцепитель максимального тока","характеристика распределительная D, In 1600 A, настройка IR 630 - 1600 A, для BL1600","1 / -",0.59,1.677,546.03,{"$f":"VLOOKUP(B1891,#REF!,3,FALSE)","v":{"$error":"#REF!"}}]
["Modeion","Modeion BL","LM3","OEZ:20071","SE-BL-0630-MTV8","Расцепитель максимального тока","характеристика моторная M, In 630 A, настройка IR 250 - 630 A, для BL1600","1 / -",0.5,1.585,395.14,{"$f":"VLOOKUP(B1892,#REF!,3,FALSE)","v":{"$error":"#REF!"}}]
["Modeion","Modeion BL","LM3","OEZ:20081","SE-BL-1000-MTV8","Расцепитель максимального тока","характеристика моторная M, In 1000 A, настройка IR 400 - 1000 A, для BL1600","1 / -",0.59299999999999997,1.677,490.19,{"$f":"VLOOKUP(B1893,#REF!,3,FALSE)","v":{"$error":"#REF!"}}]
["Modeion","Modeion BL","LM3","OEZ:19389","SE-BL-1250-MTV8","Расцепитель максимального тока","характеристика моторная M, In 1250 A, настройка IR 500 - 1250 A, для BL1600","1 / -",0.5,1.585,566.28,{"$f":"VLOOKUP(B1894,#REF!,3,FALSE)","v":{"$error":"#REF!"}}]
["Modeion","Modeion BL","LM3","OEZ:20091","SE-BL-1600-MTV8","Расцепитель максимального тока","характеристика моторная M, In 1600 A, настройка IR 630 - 1600 A, для BL1600","1 / -",0.5,1.585,756.36,{"$f":"VLOOKUP(B1895,#REF!,3,FALSE)","v":{"$error":"#REF!"}}]
["Modeion","Modeion BL","LM3","OEZ:20523","SE-BL-0630-U001","Расцепитель максимального тока","характеристика универсальная U, In 630 A, настройка IR 250 - 630 A, для BL1600","1 / -",0.59,1.585,599.59,{"$f":"VLOOKUP(B1896,#REF!,3,FALSE)","v":{"$error":"#REF!"}}]
["Modeion","Modeion BL","LM3","OEZ:20364","SE-BL-1000-U001","Расцепитель максимального тока","характеристика универсальная U, In 1000 A, настройка IR 400 - 1000 A, для BL1600","1 / -",0.59,1.585,663.67,{"$f":"VLOOKUP(B1897,#REF!,3,FALSE)","v":{"$error":"#REF!"}}]
["Modeion","Modeion BL","LM3","OEZ:20521","SE-BL-1250-U001","Расцепитель максимального тока","характеристика универсальная U, In 1250 A, настройка IR 500 - 1250 A, для BL1600","1 / -",0.59,1.585,813.42,{"$f":"VLOOKUP(B1898,#REF!,3,FALSE)","v":{"$error":"#REF!"}}]
["Modeion","Modeion BL","LM3","OEZ:20363","SE-BL-1600-U001","Расцепитель максимального тока","характеристика универсальная U, In 1600 A, настройка IR 630 - 1600 A, для BL1600","1 / -",0.59,1.585,1027.33,{"$f":"VLOOKUP(B1899,#REF!,3,FALSE)","v":{"$error":"#REF!"}}]
["Modeion","Modeion BL","LM3","OEZ:20400","SE-BL-1600-V001","Блок разъединителя нагрузки","для BL1600","1 / -",0.45200000000000001,1.585,48.47,{"$f":"VLOOKUP(B1900,#REF!,3,FALSE)","v":{"$error":"#REF!"}}]
[null,null,null,"Level  4","OD-BL - Принадлежности"]
[null,null,null,"Level  5","ZV-BL - выдвижные оборудования"]
["Modeion","Modeion BL","LM3","OEZ:21010","ZV-BL-1600-300","Выдвижное оборудование","3-полюс, для BL1600/BL1000","1 / -",13.888,31.789000000000001,1016.18,{"$f":"VLOOKUP(B1903,#REF!,3,FALSE)","v":{"$error":"#REF!"}}]
[null,null,null,"Level  5","SB-BL-0002 - Сигнализационные блоки"]
["Modeion","Modeion BL","LM3","OEZ:13765","SB-BL-0002","Сигнализационный блок","для расцепителей SE-BL-...-DTV3/MTV8/U001, для BL1600/BL1000","1 / -",0.67,1.585,717.2,{"$f":"VLOOKUP(B1905,#REF!,3,FALSE)","v":{"$error":"#REF!"}}]
[null,null,null,"Level  5","CS-BL - Присоединительные комплекты"]
["Modeion","Modeion BL","LM3","OEZ:20710","CS-BL-W010","Присоединительный комплект","хомутные зажимы, 2x(70 - 240) mm2, 3 шт., для BL1600/BL1000","1 / -",1.4750000000000001,1.371,111.78,{"$f":"VLOOKUP(B1907,#REF!,3,FALSE)","v":{"$error":"#REF!"}}]
["Modeion","Modeion BL","LM3","OEZ:20930","CS-BL-W011","Присоединительный комплект","хомутные зажимы, 70 - 240 mm2, 3 шт., для BL1600/BL1000","1 / -",0.66300000000000003,0.996,61.21,{"$f":"VLOOKUP(B1908,#REF!,3,FALSE)","v":{"$error":"#REF!"}}]
["Modeion","Modeion BL","LM3","OEZ:20611","CS-BL-A022","Присоединительный комплект","задний подвод, до 1000 A, Cu/Al шины, 3 шт., для BL1600/BL1000","1 / -",1.43,0.82599999999999996,67.47,{"$f":"VLOOKUP(B1909,#REF!,3,FALSE)","v":{"$error":"#REF!"}}]
["Modeion","Modeion BL","LM3","OEZ:20610","CS-BL-A021","Присоединительный комплект","задний подвод, до 1600 A, Cu/Al шины, 3 шт., для BL1600/BL1000","1 / -",2.6779999999999999,1.048,126.48,{"$f":"VLOOKUP(B1910,#REF!,3,FALSE)","v":{"$error":"#REF!"}}]
["Modeion","Modeion BL","LM3","OEZ:21050","CS-BL-A010","Присоединительный комплект","передний подвод, выдвижное исполнение, Cu/Al шины, 3 шт., для BL1600/BL1000","1 / -",2.73,0.80800000000000005,112.16000000000001,{"$f":"VLOOKUP(B1911,#REF!,3,FALSE)","v":{"$error":"#REF!"}}]
["Modeion","Modeion BL","LM3","OEZ:21070","CS-BL-A020","Присоединительный комплект","задний подвод, выдвижное исполнение, Cu/Al шины, 3 шт., для BL1600/BL1000","1 / -",3.42,0.82599999999999996,137.88999999999999,{"$f":"VLOOKUP(B1912,#REF!,3,FALSE)","v":{"$error":"#REF!"}}]
["Modeion","Modeion BL","LM3","OEZ:20116","CS-BL-B002","Присоединительный комплект","зажимы для присоединения проводников без кабельных наконечников, 2x(150 - 300) mm2, 3 шт., для BL1600/BL1000","1 / -",1,0.79200000000000004,208.85,{"$f":"VLOOKUP(B1913,#REF!,3,FALSE)","v":{"$error":"#REF!"}}]
["Modeion","Modeion BL","LM3","OEZ:20117","CS-BL-B003","Присоединительный комплект","зажимы для присоединения проводников без кабельных наконечников, 3x(150 - 300) mm2, 3 шт., для BL1600/BL1000","1 / -",1.948,2.6419999999999999,315.78999999999996,{"$f":"VLOOKUP(B1914,#REF!,3,FALSE)","v":{"$error":"#REF!"}}]
["Modeion","Modeion BL","LM3","OEZ:20118","CS-BL-B004","Присоединительный комплект","зажимы для присоединения проводников без кабельных наконечников, 4x(150 - 300) mm2, 3 шт., для BL1600/BL1000","1 / -",1.8280000000000001,3.3149999999999999,325.75,{"$f":"VLOOKUP(B1915,#REF!,3,FALSE)","v":{"$error":"#REF!"}}]
["Modeion","Modeion BL","LM3","OEZ:41469","CS-BL-A015","Присоединительный комплект","передний подвод, для стационарного исполнения, Cu/Al шины, 3 шт., для BL1600","1 / -",4.5,1.47,299.71999999999997,{"$f":"VLOOKUP(B1916,#REF!,3,FALSE)","v":{"$error":"#REF!"}}]
["Modeion","Modeion BL","LM3","OEZ:41470","CS-BL-A016","Присоединительный комплект","передний подвод, для стационарного исполнения, Cu/Al шины, 3 шт., для BL1000","1 / -",3,1.1599999999999999,158.95999999999998,{"$f":"VLOOKUP(B1917,#REF!,3,FALSE)","v":{"$error":"#REF!"}}]
[null,null,null,"Level  5","PS-BL - Вспомогательные выключатели"]
["Modeion","Modeion BL","LM3","OEZ:20510","PS-BL-2200","Выключатель","2x NO + 2x NC, AC/DC 60 - 240 V, для BL1600/BL1000","1 / -",4.1000000000000002E-2,8.2000000000000003E-2,51.46,{"$f":"VLOOKUP(B1919,#REF!,3,FALSE)","v":{"$error":"#REF!"}}]
["Modeion","Modeion BL","LM3","OEZ:12808","PS-BL-2200-Au","Выключатель","2x NO + 2x NC, AC/DC 5 - 60 V, для BL1600/BL1000","1 / -",4.1000000000000002E-2,8.2000000000000003E-2,62.309999999999995,{"$f":"VLOOKUP(B1920,#REF!,3,FALSE)","v":{"$error":"#REF!"}}]
[null,null,null,"Level  5","SV-BL - независимые расцепители"]
["Modeion","Modeion BL","LM3","OEZ:16162","SV-BL-X024","Независимый расцепитель","Ue AC/DC 24 V, для BL1600/BL1000","1 / -",0.19900000000000001,0.373,63.64,{"$f":"VLOOKUP(B1922,#REF!,3,FALSE)","v":{"$error":"#REF!"}}]
["Modeion","Modeion BL","LM3","OEZ:16161","SV-BL-X048","Независимый расцепитель","Ue AC/DC 48 V, для BL1600/BL1000","1 / -",0.22,0.34100000000000003,63.64,{"$f":"VLOOKUP(B1923,#REF!,3,FALSE)","v":{"$error":"#REF!"}}]
["Modeion","Modeion BL","LM3","OEZ:16160","SV-BL-X110","Независимый расцепитель","Ue AC/DC 110 V, для BL1600/BL1000","1 / -",0.22,0.34100000000000003,63.64,{"$f":"VLOOKUP(B1924,#REF!,3,FALSE)","v":{"$error":"#REF!"}}]
["Modeion","Modeion BL","LM3","OEZ:16159","SV-BL-X230","Независимый расцепитель","Ue AC 230 V / DC 220 V, для BL1600/BL1000","1 / -",0.20100000000000001,0.374,63.64,{"$f":"VLOOKUP(B1925,#REF!,3,FALSE)","v":{"$error":"#REF!"}}]
["Modeion","Modeion BL","LM3","OEZ:16158","SV-BL-X400","Независимый расцепитель","Ue AC 400 V, для BL1600/BL1000","1 / -",0.22,0.34100000000000003,62.43,{"$f":"VLOOKUP(B1926,#REF!,3,FALSE)","v":{"$error":"#REF!"}}]
["Modeion","Modeion BL","LM3","OEZ:16157","SV-BL-X500","Независимый расцепитель","Ue AC/DC 500 V, для BL1600/BL1000","1 / -",0.22,0.34100000000000003,63.64,{"$f":"VLOOKUP(B1927,#REF!,3,FALSE)","v":{"$error":"#REF!"}}]
[null,null,null,"Level  5","SP-BL - Расцепители минимального напряжения"]
["Modeion","Modeion BL","LM3","OEZ:16168","SP-BL-X024","Расцепитель минимального напряжения","Ue AC/DC 24 V, для BL1600/BL1000","1 / -",0.22,0.34100000000000003,68.53,{"$f":"VLOOKUP(B1929,#REF!,3,FALSE)","v":{"$error":"#REF!"}}]
["Modeion","Modeion BL","LM3","OEZ:16167","SP-BL-X048","Расцепитель минимального напряжения","Ue AC/DC 48 V, для BL1600/BL1000","1 / -",0.22,0.34100000000000003,68.53,{"$f":"VLOOKUP(B1930,#REF!,3,FALSE)","v":{"$error":"#REF!"}}]
["Modeion","Modeion BL","LM3","OEZ:16166","SP-BL-X110","Расцепитель минимального напряжения","Ue AC/DC 110 V, для BL1600/BL1000","1 / -",0.22,0.34100000000000003,70.22,{"$f":"VLOOKUP(B1931,#REF!,3,FALSE)","v":{"$error":"#REF!"}}]
["Modeion","Modeion BL","LM3","OEZ:16165","SP-BL-X230","Расцепитель минимального напряжения","Ue AC 230 V / DC 220 V, для BL1600/BL1000","1 / -",0.22,0.34100000000000003,67.2,{"$f":"VLOOKUP(B1932,#REF!,3,FALSE)","v":{"$error":"#REF!"}}]
["Modeion","Modeion BL","LM3","OEZ:16164","SP-BL-X400","Расцепитель минимального напряжения","Ue AC 400 V, для BL1600/BL1000","1 / -",0.22,0.34100000000000003,68.53,{"$f":"VLOOKUP(B1933,#REF!,3,FALSE)","v":{"$error":"#REF!"}}]
["Modeion","Modeion BL","LM3","OEZ:16163","SP-BL-X500","Расцепитель минимального напряжения","Ue AC 500 V, для BL1600/BL1000","1 / -",0.22,0.34100000000000003,68.53,{"$f":"VLOOKUP(B1934,#REF!,3,FALSE)","v":{"$error":"#REF!"}}]
[null,null,null,"Level  5","BZ-BX - Блоки задержки"]
["Modeion","Modeion BL","LM3","OEZ:36696","BZ-BX-X230-A","Блок задержки","для расцепителей минимального напряжения, AC 230 V / DC 220 V, для SP-BC-..., SP-BD-..., SP-BH-..., SP-BL-...","1 / -",0.12,0.40600000000000003,22.23,{"$f":"VLOOKUP(B1936,#REF!,3,FALSE)","v":{"$error":"#REF!"}}]
[null,null,null,"Level  5","RP-BL - Ручные приводы"]
["Modeion","Modeion BL","LM3","OEZ:20850","RP-BL-CK10","Блок ручного привода","для BL1600/BL1000","1 / -",1.1000000000000001,2.6419999999999999,127.87,{"$f":"VLOOKUP(B1938,#REF!,3,FALSE)","v":{"$error":"#REF!"}}]
["Modeion","Modeion BL","LM3","OEZ:20865","RP-BL-CP10","Рычаг ручного привода","черный цвет, с блокированием, для BL1600/BL1000","1 / -",0.26100000000000001,0.81499999999999995,24.310000000000002,{"$f":"VLOOKUP(B1939,#REF!,3,FALSE)","v":{"$error":"#REF!"}}]
["Modeion","Modeion BL","LM3","OEZ:20867","RP-BL-CP11","Рычаг ручного привода","красный цвет, с блокированием, для BL1600/BL1000","1 / -",0.26100000000000001,0.81499999999999995,26.09,{"$f":"VLOOKUP(B1940,#REF!,3,FALSE)","v":{"$error":"#REF!"}}]
["Modeion","Modeion BL","LM3","OEZ:20870","RP-BL-CN10","Подшипник ручного привода ","IP40, щиток - черный цвет, для BL1600/BL1000","1 / -",0.26500000000000001,0.88100000000000001,87.440000000000012,{"$f":"VLOOKUP(B1941,#REF!,3,FALSE)","v":{"$error":"#REF!"}}]
["Modeion","Modeion BL","LM3","OEZ:19103","RP-BL-CN20","Подшипник ручного привода ","IP66, щиток - черный цвет, для BL1600/BL1000","1 / -",0.28499999999999998,0.79200000000000004,86.97,{"$f":"VLOOKUP(B1942,#REF!,3,FALSE)","v":{"$error":"#REF!"}}]
["Modeion","Modeion BL","LM3","OEZ:20875","RP-BL-CH10","Удлинительный вал","для BL1600/BL1000","1 / -",0.35199999999999998,0.03,11.709999999999999,{"$f":"VLOOKUP(B1943,#REF!,3,FALSE)","v":{"$error":"#REF!"}}]
["Modeion","Modeion BL","LM3","OEZ:20678","RP-BL-CK52","Блок ручного привода","2 шт., с одинаковым замком и ключом, для BL1600/BL1000","1 / -",0.23,8.8460000000000001,188.48999999999998,{"$f":"VLOOKUP(B1944,#REF!,3,FALSE)","v":{"$error":"#REF!"}}]
["Modeion","Modeion BL","LM3","OEZ:20679","RP-BL-CK53","Блок ручного привода","3 шт., с одинаковым замком и ключом, для BL1600/BL1000","1 / -",0.23,11.862,284.39999999999998,{"$f":"VLOOKUP(B1945,#REF!,3,FALSE)","v":{"$error":"#REF!"}}]
["Modeion","Modeion BL","LM3","OEZ:20680","RP-BL-CK54","Блок ручного привода","4 шт., с одинаковым замком и ключом, для BL1600/BL1000","1 / -",0.23,12.951000000000001,570.16,{"$f":"VLOOKUP(B1946,#REF!,3,FALSE)","v":{"$error":"#REF!"}}]
["Modeion","Modeion BL","LM3","OEZ:20681","RP-BL-CK55","Блок ручного привода","5 шт., с одинаковым замком и ключом, для BL1600/BL1000","1 / -",0.23,16.242999999999999,480.53,{"$f":"VLOOKUP(B1947,#REF!,3,FALSE)","v":{"$error":"#REF!"}}]
[null,null,null,"Level  5","MB-BL - Механические блокировки"]
["Modeion","Modeion BL","LM3","OEZ:20880","RP-BL-CB10","Механическая блокировка","для ручного привода, для BL1600/BL1000","1 / -",0.12,0.85199999999999998,108.52000000000001,{"$f":"VLOOKUP(B1949,#REF!,3,FALSE)","v":{"$error":"#REF!"}}]
["Modeion","Modeion BL","LM3","OEZ:19807","MB-BL-PP07","Механическая блокировка","трос Боудена, между двумя автоматическими выключателями, в стационарном исполнении, для BL1600/BL1000","1 / -",0.4,12.3,424.57,{"$f":"VLOOKUP(B1950,#REF!,3,FALSE)","v":{"$error":"#REF!"}}]
["Modeion","Modeion BL","LM3","OEZ:20529","MB-BL-PV08","Механическая блокировка","трос Боудена, между двумя автоматическими выключателями, 1. в стационарном исполнении, 2. в выдвижном исполнении, для BL1600/BL1000","1 / -",0.4,12.3,429.46,{"$f":"VLOOKUP(B1951,#REF!,3,FALSE)","v":{"$error":"#REF!"}}]
["Modeion","Modeion BL","LM3","OEZ:20528","MB-BL-VV06","Механическая блокировка","трос Боудена, между двумя автоматическими выключателями, в выдвижном исполнении, для BL1600/BL1000","1 / -",0.4,12.3,429.46,{"$f":"VLOOKUP(B1952,#REF!,3,FALSE)","v":{"$error":"#REF!"}}]
[null,null,null,"Level  5","MP-BL - Моторные приводы"]
["Modeion","Modeion BL","LM3","OEZ:11601","MP-BL-X110","Моторный привод","AC/DC 110 V, для BL1600/BL1000","1 / -",4.3499999999999996,7.8869999999999996,683.12,{"$f":"VLOOKUP(B1954,#REF!,3,FALSE)","v":{"$error":"#REF!"}}]
["Modeion","Modeion BL","LM3","OEZ:11600","MP-BL-X230","Моторный привод","AC 230 V / DC 220 V, для BL1600/BL1000","1 / -",4.4539999999999997,7.8869999999999996,669.99,{"$f":"VLOOKUP(B1955,#REF!,3,FALSE)","v":{"$error":"#REF!"}}]
["Modeion","Modeion BL","LM3","OEZ:11604","MP-BL-X110-P","Моторный привод","AC/DC 110 V, счётчик циклов, для BL1600/BL1000","1 / -",4.4000000000000004,7.8869999999999996,742.55,{"$f":"VLOOKUP(B1956,#REF!,3,FALSE)","v":{"$error":"#REF!"}}]
["Modeion","Modeion BL","LM3","OEZ:11605","MP-BL-X230-P","Моторный привод","AC 230 V / DC 220 V, счётчик циклов, для BL1600/BL1000","1 / -",4.4000000000000004,7.8869999999999996,728.29,{"$f":"VLOOKUP(B1957,#REF!,3,FALSE)","v":{"$error":"#REF!"}}]
[null,null,null,"Level  5","OD-BL - Принадлежности"]
["Modeion","Modeion BL","LM3","OEZ:20910","OD-BL-KS02","Изоляционные перегородки","для стационарного исполнения, 2 шт., для BL1600/BL1000","1 / -",0.26400000000000001,0.06,20.55,{"$f":"VLOOKUP(B1959,#REF!,3,FALSE)","v":{"$error":"#REF!"}}]
["Modeion","Modeion BL","LM3","OEZ:20569","OD-BL-KS08","Изоляционные перегородки","для выдвижного оборудования, 2 шт., для BL1000/BL1600","1 / -",0.14199999999999999,1.008,24.700000000000003,{"$f":"VLOOKUP(B1960,#REF!,3,FALSE)","v":{"$error":"#REF!"}}]
["Modeion","Modeion BL","LM3","OEZ:39893","OD-BL-KS09","Крышка зажимов ","для стационарного исполнения, IP20, для BL1600/BL1000","1 / -",0.7,7.52,62.339999999999996,{"$f":"VLOOKUP(B1961,#REF!,3,FALSE)","v":{"$error":"#REF!"}}]
["Modeion","Modeion BL","LM3","OEZ:20810","OD-BL-KS01","Крышка зажимов ","для BL1600/BL1000","1 / -",0.28699999999999998,3.847,24.84,{"$f":"VLOOKUP(B1962,#REF!,3,FALSE)","v":{"$error":"#REF!"}}]
["Modeion","Modeion BL","LM3","OEZ:20940","OD-BL-KS04","Крышка зажимов ","для выдвижного оборудования, передний подвод, для BL1000/BL1600","1 / -",0.16800000000000001,1.6839999999999999,33.14,{"$f":"VLOOKUP(B1963,#REF!,3,FALSE)","v":{"$error":"#REF!"}}]
["Modeion","Modeion BL","LM3","OEZ:20920","OD-BL-KS03","Проходные изоляторы ","задний подвод, для BL1600/BL1000","1 / -",0.1,0.81499999999999995,16.48,{"$f":"VLOOKUP(B1964,#REF!,3,FALSE)","v":{"$error":"#REF!"}}]
["Modeion","Modeion BL","LM3","OEZ:13621","OD-BL-UP01","Запираемый рычаг","для BL1600/BL1000","1 / -",4.1000000000000002E-2,0.01,27.330000000000002,{"$f":"VLOOKUP(B1965,#REF!,3,FALSE)","v":{"$error":"#REF!"}}]
["Modeion","Modeion BL","LM3","OEZ:13924","OD-BL-VP01","Пломбируемый вкладыш винта","для BL1000,BL1600","2 / -",2E-3,3.3000000000000002E-2,3.2399999999999998,{"$f":"VLOOKUP(B1966,#REF!,3,FALSE)","v":{"$error":"#REF!"}}]
["Modeion","Modeion BL","LM3","OEZ:21030","OD-BL-KA01","Соединительный кабель","для автоматического выключателя в выдвижном исполнении, для BL1000/BL1600","1 / -",0.12,0.06,62.519999999999996,{"$f":"VLOOKUP(B1967,#REF!,3,FALSE)","v":{"$error":"#REF!"}}]
["Modeion","Modeion BL","LM3","OEZ:14643","OD-BL-KT01","Крышка включающей кнопки","для моторного привода, для BL1000/BL1600","1 / -",1.9E-2,0.432,3.8899999999999997,{"$f":"VLOOKUP(B1968,#REF!,3,FALSE)","v":{"$error":"#REF!"}}]
["Modeion","Modeion BL","LM3","OEZ:21020","SO-BL-0010","Сигнализация положения","для автоматического выключателя в выдвижном исполнении, для BL1600/BL1000","1 / -",0.02,0.01,34.239999999999995,{"$f":"VLOOKUP(B1969,#REF!,3,FALSE)","v":{"$error":"#REF!"}}]
["Modeion","Modeion BL","LM3","OEZ:45620","OD-BL-IT","Изоляционная пленка","","- / -",0,0,34.15,{"$f":"VLOOKUP(B1970,#REF!,3,FALSE)","v":{"$error":"#REF!"}}]
[null,null,null,"Level  5","ZES - Тестеры расцепителей максимального тока автоматических выключателей"]
["Modeion","Modeion BL","LM3","OEZ:17273","ZES4","Тестер расцепителей максимального тока автоматических выключателей","для BD250, BH630, BL1000, BL1600","1 / -",3.74,12.891999999999999,806.54,{"$f":"VLOOKUP(B1972,#REF!,3,FALSE)","v":{"$error":"#REF!"}}]
[null,null,null,"Level  5","ND-BL - Запасные части"]
["Modeion","Modeion BL","LM3","OEZ:14855","OD-BL-MS02","Монтажный комплект","комплект винтов M8x60, 4 шт., для выдвижного оборудования, для BL1600/BL1000","1 / -",0.14399999999999999,0.02,4.75,{"$f":"VLOOKUP(B1974,#REF!,3,FALSE)","v":{"$error":"#REF!"}}]
["Modeion","Modeion BL","LM3","OEZ:34459","OD-BL-SP01","Запасная часть","рычаг управления","1 / -",0.03,0.09,3.3,{"$f":"VLOOKUP(B1975,#REF!,3,FALSE)","v":{"$error":"#REF!"}}]
["Modeion","Modeion BL","LM3","OEZ:14854","OD-BL-MS01","Запасная часть","комплект винтов M8x80, 4 шт., для стационарного исполнения, для BL1600/BL1000","1 / -",0.14299999999999999,0.13400000000000001,5.34,{"$f":"VLOOKUP(B1976,#REF!,3,FALSE)","v":{"$error":"#REF!"}}]
["Modeion","Modeion BL","LM3","OEZ:34463","OD-BL-KON2","Запасная часть","разъём и гильзы, для MP-BL","1 / -",4.0000000000000001E-3,0.252,3.1799999999999997,{"$f":"VLOOKUP(B1977,#REF!,3,FALSE)","v":{"$error":"#REF!"}}]
["Modeion","Modeion BL","LM3","OEZ:34462","OD-BX-KON1","Запасная часть","разъём и гильзы, для OD-BHD-KA01, OD-BL-KA01","1 / -",1.7000000000000001E-2,0.29799999999999999,6.02,{"$f":"VLOOKUP(B1978,#REF!,3,FALSE)","v":{"$error":"#REF!"}}]
[null,null,null,"Level  5","BL1600SE_-1600-V - Разъединители нагрузки"]
[null,null,null,"Level  3","DTVE - Компактные автоматические выключатели до 1600 A для энергетики"]
[null,null,null,"Level  4","BC160NT305-E - Компактные автоматические выключатели до 160 A"]
[null,null,null,"Level  4","SE-BD-_-DTVE - Расцепители максимального тока"]
[null,null,null,"Level  4","SE-BH-_-DTVE - Расцепители максимального тока"]
[null,null,null,"Level  4","SE-BL-J_-DTVE - Расцепители максимального тока"]
[null,null,null,"Level  4","SE-BL-1_-DTVE - Расцепители максимального тока"]
[null,null,null,"Level  1","Воздушные автоматические выключатели Arion "]
[null,null,null,"Level  2","Воздушные автоматические выключатели и разъединители нагрузки Arion WL"]
[null,null,null,"Level  3","ARION WL - Воздушные автоматические выключатели и разъединители нагрузки"]
[null,null,null,"Level  4","ARION WL1xxx-x**xx-**** - Коммутационные блоки, AC исполнения"]
[null,null,null,"Level  5","ARION WL1xxx-x**3x-**** - 3-полюс, стационарное исполнение"]
[null,null,null,"Level  6","ARION WL1xxx-x**32-**** - Задние горизонтальные подводы"]
[null,null,null,"Level  7","ARION WL11xx-x**32-**** - Размер I, 630 ÷ 2 000 A"]
["Arion","Arion","LA1","CPOF353","ARION WL1106-2**32-****","Коммутационный блок","Iu 630 A, AC, 3-полюс, стационарное исполнение, Icu 55 kA, задний горизонтальный подвод, размер 1","- / -",0,0,1202.17,{"$f":"VLOOKUP(B1993,#REF!,3,FALSE)","v":{"$error":"#REF!"}}]
["Arion","Arion","LA1","CPOF354","ARION WL1108-2**32-****","Коммутационный блок","Iu 800 A, AC, 3-полюс, стационарное исполнение, Icu 55 kA, задний горизонтальный подвод, размер 1","- / -",0,0,1251.25,{"$f":"VLOOKUP(B1994,#REF!,3,FALSE)","v":{"$error":"#REF!"}}]
["Arion","Arion","LA1","CPOF355","ARION WL1110-2**32-****","Коммутационный блок","Iu 1000 A, AC, 3-полюс, стационарное исполнение, Icu 55 kA, задний горизонтальный подвод, размер 1","- / -",0,0,1349.39,{"$f":"VLOOKUP(B1995,#REF!,3,FALSE)","v":{"$error":"#REF!"}}]
["Arion","Arion","LA1","CPOF356","ARION WL1112-2**32-****","Коммутационный блок","Iu 1250 A, AC, 3-полюс, стационарное исполнение, Icu 55 kA, задний горизонтальный подвод, размер 1","- / -",0,0,1754.19,{"$f":"VLOOKUP(B1996,#REF!,3,FALSE)","v":{"$error":"#REF!"}}]
["Arion","Arion","LA1","CPOF357","ARION WL1116-2**32-****","Коммутационный блок","Iu 1600 A, AC, 3-полюс, стационарное исполнение, Icu 55 kA, задний горизонтальный подвод, размер 1","- / -",0,0,3003.05,{"$f":"VLOOKUP(B1997,#REF!,3,FALSE)","v":{"$error":"#REF!"}}]
["Arion","Arion","LA1","CPOF286","ARION WL1120-2**32-****","Коммутационный блок","Iu 2000 A, AC, 3-полюс, стационарное исполнение, Icu 55 kA, задний горизонтальный подвод, размер 1","- / -",0,0,3624.94,{"$f":"VLOOKUP(B1998,#REF!,3,FALSE)","v":{"$error":"#REF!"}}]
["Arion","Arion","LA1","CPOF381","ARION WL1106-3**32-****","Коммутационный блок","Iu 630 A, AC, 3-полюс, стационарное исполнение, Icu 66 kA, задний горизонтальный подвод, размер 1","- / -",0,0,1570.15,{"$f":"VLOOKUP(B1999,#REF!,3,FALSE)","v":{"$error":"#REF!"}}]
["Arion","Arion","LA1","CPOF382","ARION WL1108-3**32-****","Коммутационный блок","Iu 800 A, AC, 3-полюс, стационарное исполнение, Icu 66 kA, задний горизонтальный подвод, размер 1","- / -",0,0,1582.45,{"$f":"VLOOKUP(B2000,#REF!,3,FALSE)","v":{"$error":"#REF!"}}]
["Arion","Arion","LA1","CPOF383","ARION WL1110-3**32-****","Коммутационный блок","Iu 1000 A, AC, 3-полюс, стационарное исполнение, Icu 66 kA, задний горизонтальный подвод, размер 1","- / -",0,0,1674.44,{"$f":"VLOOKUP(B2001,#REF!,3,FALSE)","v":{"$error":"#REF!"}}]
["Arion","Arion","LA1","CPOF384","ARION WL1112-3**32-****","Коммутационный блок","Iu 1250 A, AC, 3-полюс, стационарное исполнение, Icu 66 kA, задний горизонтальный подвод, размер 1","- / -",0,0,2091.5200000000004,{"$f":"VLOOKUP(B2002,#REF!,3,FALSE)","v":{"$error":"#REF!"}}]
["Arion","Arion","LA1","CPOF385","ARION WL1116-3**32-****","Коммутационный блок","Iu 1600 A, AC, 3-полюс, стационарное исполнение, Icu 66 kA, задний горизонтальный подвод, размер 1","- / -",0,0,3272.9500000000003,{"$f":"VLOOKUP(B2003,#REF!,3,FALSE)","v":{"$error":"#REF!"}}]
["Arion","Arion","LA1","CPOF287","ARION WL1120-3**32-****","Коммутационный блок","Iu 2000 A, AC, 3-полюс, стационарное исполнение, Icu 66 kA, задний горизонтальный подвод, размер 1","- / -",0,0,3949.96,{"$f":"VLOOKUP(B2004,#REF!,3,FALSE)","v":{"$error":"#REF!"}}]
["Arion","Arion","LA1","CPOF002","ARION WL1106-4**32-****","Коммутационный блок","Iu 630 A, AC, 3-полюс, стационарное исполнение, Icu 85 kA, задний горизонтальный подвод, размер 1","- / -",0,0,1680.59,{"$f":"VLOOKUP(B2005,#REF!,3,FALSE)","v":{"$error":"#REF!"}}]
["Arion","Arion","LA1","CPOF124","ARION WL1108-4**32-****","Коммутационный блок","Iu 800 A, AC, 3-полюс, стационарное исполнение, Icu 85 kA, задний горизонтальный подвод, размер 1","- / -",0,0,1692.86,{"$f":"VLOOKUP(B2006,#REF!,3,FALSE)","v":{"$error":"#REF!"}}]
["Arion","Arion","LA1","CPOF669","ARION WL1110-4**32-****","Коммутационный блок","Iu 1000 A, AC, 3-полюс, стационарное исполнение, Icu 85 kA, задний горизонтальный подвод, размер 1","- / -",0,0,1790.98,{"$f":"VLOOKUP(B2007,#REF!,3,FALSE)","v":{"$error":"#REF!"}}]
["Arion","Arion","LA1","CPOFC68","ARION WL1112-4**32-****","Коммутационный блок","Iu 1250 A, AC, 3-полюс, стационарное исполнение, Icu 85 kA, задний горизонтальный подвод, размер 1","- / -",0,0,2057.5700000000002,{"$f":"VLOOKUP(B2008,#REF!,3,FALSE)","v":{"$error":"#REF!"}}]
["Arion","Arion","LA1","CPOFC48","ARION WL1116-4**32-****","Коммутационный блок","Iu 1600 A, AC, 3-полюс, стационарное исполнение, Icu 85 kA, задний горизонтальный подвод, размер 1","- / -",0,0,3508.38,{"$f":"VLOOKUP(B2009,#REF!,3,FALSE)","v":{"$error":"#REF!"}}]
["Arion","Arion","LA1","CPOF288","ARION WL1120-4**32-****","Коммутационный блок","Iu 2000 A, AC, 3-полюс, стационарное исполнение, Icu 85 kA, задний горизонтальный подвод, размер 1","- / -",0,0,4195.3500000000004,{"$f":"VLOOKUP(B2010,#REF!,3,FALSE)","v":{"$error":"#REF!"}}]
[null,null,null,"Level  7","ARION WL12xx-x**32-**** - Размер II, 800 ÷ 4 000 A"]
["Arion","Arion","LA1","CPOF358","ARION WL1220-2**32-****","Коммутационный блок","Iu 2000 A, AC, 3-полюс, стационарное исполнение, Icu 66 kA, задний горизонтальный подвод, размер 2","- / -",0,0,3974.5,{"$f":"VLOOKUP(B2012,#REF!,3,FALSE)","v":{"$error":"#REF!"}}]
["Arion","Arion","LA1","CPOF359","ARION WL1225-2**32-****","Коммутационный блок","Iu 2500 A, AC, 3-полюс, стационарное исполнение, Icu 66 kA, задний горизонтальный подвод, размер 2","- / -",0,0,5498.77,{"$f":"VLOOKUP(B2013,#REF!,3,FALSE)","v":{"$error":"#REF!"}}]
["Arion","Arion","LA1","CPOF090","ARION WL1232-2**32-****","Коммутационный блок","Iu 3200 A, AC, 3-полюс, стационарное исполнение, Icu 66 kA, задний горизонтальный подвод, размер 2","- / -",0,0,6746.87,{"$f":"VLOOKUP(B2014,#REF!,3,FALSE)","v":{"$error":"#REF!"}}]
["Arion","Arion","LA1","CPOF386","ARION WL1208-3**32-****","Коммутационный блок","Iu 800 A, AC, 3-полюс, стационарное исполнение, Icu 80 kA, задний горизонтальный подвод, размер 2","- / -",0,0,1809.4,{"$f":"VLOOKUP(B2015,#REF!,3,FALSE)","v":{"$error":"#REF!"}}]
["Arion","Arion","LA1","CPOF387","ARION WL1210-3**32-****","Коммутационный блок","Iu 1000 A, AC, 3-полюс, стационарное исполнение, Icu 80 kA, задний горизонтальный подвод, размер 2","- / -",0,0,1962.74,{"$f":"VLOOKUP(B2016,#REF!,3,FALSE)","v":{"$error":"#REF!"}}]
["Arion","Arion","LA1","CPOF388","ARION WL1212-3**32-****","Коммутационный блок","Iu 1250 A, AC, 3-полюс, стационарное исполнение, Icu 80 kA, задний горизонтальный подвод, размер 2","- / -",0,0,2306.19,{"$f":"VLOOKUP(B2017,#REF!,3,FALSE)","v":{"$error":"#REF!"}}]
["Arion","Arion","LA1","CPOF389","ARION WL1216-3**32-****","Коммутационный блок","Iu 1600 A, AC, 3-полюс, стационарное исполнение, Icu 80 kA, задний горизонтальный подвод, размер 2","- / -",0,0,3698.51,{"$f":"VLOOKUP(B2018,#REF!,3,FALSE)","v":{"$error":"#REF!"}}]
["Arion","Arion","LA1","CPOF390","ARION WL1220-3**32-****","Коммутационный блок","Iu 2000 A, AC, 3-полюс, стационарное исполнение, Icu 80 kA, задний горизонтальный подвод, размер 2","- / -",0,0,4459.08,{"$f":"VLOOKUP(B2019,#REF!,3,FALSE)","v":{"$error":"#REF!"}}]
["Arion","Arion","LA1","CPOF391","ARION WL1225-3**32-****","Коммутационный блок","Iu 2500 A, AC, 3-полюс, стационарное исполнение, Icu 80 kA, задний горизонтальный подвод, размер 2","- / -",0,0,6123.05,{"$f":"VLOOKUP(B2020,#REF!,3,FALSE)","v":{"$error":"#REF!"}}]
["Arion","Arion","LA1","CPOF392","ARION WL1232-3**32-****","Коммутационный блок","Iu 3200 A, AC, 3-полюс, стационарное исполнение, Icu 80 kA, задний горизонтальный подвод, размер 2","- / -",0,0,6943.1500000000005,{"$f":"VLOOKUP(B2021,#REF!,3,FALSE)","v":{"$error":"#REF!"}}]
["Arion","Arion","LA1","CPOF429","ARION WL1208-4**32-****","Коммутационный блок","Iu 800 A, AC, 3-полюс, стационарное исполнение, Icu 100 kA, задний горизонтальный подвод, размер 2","- / -",0,0,1950.44,{"$f":"VLOOKUP(B2022,#REF!,3,FALSE)","v":{"$error":"#REF!"}}]
["Arion","Arion","LA1","CPOF430","ARION WL1210-4**32-****","Коммутационный блок","Iu 1000 A, AC, 3-полюс, стационарное исполнение, Icu 100 kA, задний горизонтальный подвод, размер 2","- / -",0,0,2146.7200000000003,{"$f":"VLOOKUP(B2023,#REF!,3,FALSE)","v":{"$error":"#REF!"}}]
["Arion","Arion","LA1","CPOF431","ARION WL1212-4**32-****","Коммутационный блок","Iu 1250 A, AC, 3-полюс, стационарное исполнение, Icu 100 kA, задний горизонтальный подвод, размер 2","- / -",0,0,2484.0700000000002,{"$f":"VLOOKUP(B2024,#REF!,3,FALSE)","v":{"$error":"#REF!"}}]
["Arion","Arion","LA1","CPOF432","ARION WL1216-4**32-****","Коммутационный блок","Iu 1600 A, AC, 3-полюс, стационарное исполнение, Icu 100 kA, задний горизонтальный подвод, размер 2","- / -",0,0,3943.9,{"$f":"VLOOKUP(B2025,#REF!,3,FALSE)","v":{"$error":"#REF!"}}]
["Arion","Arion","LA1","CPOF433","ARION WL1220-4**32-****","Коммутационный блок","Iu 2000 A, AC, 3-полюс, стационарное исполнение, Icu 100 kA, задний горизонтальный подвод, размер 2","- / -",0,0,4673.75,{"$f":"VLOOKUP(B2026,#REF!,3,FALSE)","v":{"$error":"#REF!"}}]
["Arion","Arion","LA1","CPOF434","ARION WL1225-4**32-****","Коммутационный блок","Iu 2500 A, AC, 3-полюс, стационарное исполнение, Icu 100 kA, задний горизонтальный подвод, размер 2","- / -",0,0,6459.25,{"$f":"VLOOKUP(B2027,#REF!,3,FALSE)","v":{"$error":"#REF!"}}]
["Arion","Arion","LA1","CPOF435","ARION WL1232-4**32-****","Коммутационный блок","Iu 3200 A, AC, 3-полюс, стационарное исполнение, Icu 100 kA, задний горизонтальный подвод, размер 2","- / -",0,0,7654.6100000000006,{"$f":"VLOOKUP(B2028,#REF!,3,FALSE)","v":{"$error":"#REF!"}}]
["Arion","Arion","LA1","CPOFF23","ARION WL1216-5**32-****","Коммутационный блок","Iu 1600 A, AC, 3-полюс, стационарное исполнение, Icu 130 kA, задний горизонтальный подвод, размер 2","- / -",0,0,4564.13,{"$f":"VLOOKUP(B2029,#REF!,3,FALSE)","v":{"$error":"#REF!"}}]
["Arion","Arion","LA1","CPOFF24","ARION WL1220-5**32-****","Коммутационный блок","Iu 2000 A, AC, 3-полюс, стационарное исполнение, Icu 130 kA, задний горизонтальный подвод, размер 2","- / -",0,0,5671.18,{"$f":"VLOOKUP(B2030,#REF!,3,FALSE)","v":{"$error":"#REF!"}}]
["Arion","Arion","LA1","CPOFF25","ARION WL1225-5**32-****","Коммутационный блок","Iu 2500 A, AC, 3-полюс, стационарное исполнение, Icu 130 kA, задний горизонтальный подвод, размер 2","- / -",0,0,8124.9000000000005,{"$f":"VLOOKUP(B2031,#REF!,3,FALSE)","v":{"$error":"#REF!"}}]
["Arion","Arion","LA1","CPOFF26","ARION WL1232-5**32-****","Коммутационный блок","Iu 3200 A, AC, 3-полюс, стационарное исполнение, Icu 130 kA, задний горизонтальный подвод, размер 2","- / -",0,0,9542.85,{"$f":"VLOOKUP(B2032,#REF!,3,FALSE)","v":{"$error":"#REF!"}}]
[null,null,null,"Level  7","ARION WL13xx-x**32-**** - Размер III, 4 000 ÷ 6 300 A"]
["Arion","Arion","LA1","CPOF436","ARION WL1340-4**32-****","Коммутационный блок","Iu 4000 A, AC, 3-полюс, стационарное исполнение, Icu 100 kA, задний горизонтальный подвод, размер 3","- / -",0,0,10105.94,{"$f":"VLOOKUP(B2034,#REF!,3,FALSE)","v":{"$error":"#REF!"}}]
["Arion","Arion","LA1","CPOF437","ARION WL1350-4**32-****","Коммутационный блок","Iu 5000 A, AC, 3-полюс, стационарное исполнение, Icu 100 kA, задний горизонтальный подвод, размер 3","- / -",0,0,18302.41,{"$f":"VLOOKUP(B2035,#REF!,3,FALSE)","v":{"$error":"#REF!"}}]
["Arion","Arion","LA1","CPOF114","ARION WL1340-5**32-****","Коммутационный блок","Iu 4000 A, AC, 3-полюс, стационарное исполнение, Icu 150 kA, задний горизонтальный подвод, размер 3","- / -",0,0,12908.04,{"$f":"VLOOKUP(B2036,#REF!,3,FALSE)","v":{"$error":"#REF!"}}]
["Arion","Arion","LA1","CPOF115","ARION WL1350-5**32-****","Коммутационный блок","Iu 5000 A, AC, 3-полюс, стационарное исполнение, Icu 150 kA, задний горизонтальный подвод, размер 3","- / -",0,0,18891.219999999998,{"$f":"VLOOKUP(B2037,#REF!,3,FALSE)","v":{"$error":"#REF!"}}]
[null,null,null,"Level  6","ARION WL1xxx-x**31-**** - Задние вертикальные подводы"]
[null,null,null,"Level  7","ARION WL11xx-x**31-**** - Размер I, 630 ÷ 2 000 A"]
["Arion","Arion","LA1","CPOF360","ARION WL1106-2**31-****","Коммутационный блок","Iu 630 A, AC, 3-полюс, стационарное исполнение, Icu 55 kA, задний вертикальный подвод, размер 1","- / -",0,0,1383.11,{"$f":"VLOOKUP(B2040,#REF!,3,FALSE)","v":{"$error":"#REF!"}}]
["Arion","Arion","LA1","CPOF361","ARION WL1108-2**31-****","Коммутационный блок","Iu 800 A, AC, 3-полюс, стационарное исполнение, Icu 55 kA, задний вертикальный подвод, размер 1","- / -",0,0,1432.17,{"$f":"VLOOKUP(B2041,#REF!,3,FALSE)","v":{"$error":"#REF!"}}]
["Arion","Arion","LA1","CPOF362","ARION WL1110-2**31-****","Коммутационный блок","Iu 1000 A, AC, 3-полюс, стационарное исполнение, Icu 55 kA, задний вертикальный подвод, размер 1","- / -",0,0,1530.31,{"$f":"VLOOKUP(B2042,#REF!,3,FALSE)","v":{"$error":"#REF!"}}]
["Arion","Arion","LA1","CPOF363","ARION WL1112-2**31-****","Коммутационный блок","Iu 1250 A, AC, 3-полюс, стационарное исполнение, Icu 55 kA, задний вертикальный подвод, размер 1","- / -",0,0,1935.11,{"$f":"VLOOKUP(B2043,#REF!,3,FALSE)","v":{"$error":"#REF!"}}]
["Arion","Arion","LA1","CPOF364","ARION WL1116-2**31-****","Коммутационный блок","Iu 1600 A, AC, 3-полюс, стационарное исполнение, Icu 55 kA, задний вертикальный подвод, размер 1","- / -",0,0,3172.48,{"$f":"VLOOKUP(B2044,#REF!,3,FALSE)","v":{"$error":"#REF!"}}]
["Arion","Arion","LA1","CPOF320","ARION WL1120-2**31-****","Коммутационный блок","Iu 2000 A, AC, 3-полюс, стационарное исполнение, Icu 55 kA, задний вертикальный подвод, размер 1","- / -",0,0,3818.13,{"$f":"VLOOKUP(B2045,#REF!,3,FALSE)","v":{"$error":"#REF!"}}]
["Arion","Arion","LA1","CPOF393","ARION WL1106-3**31-****","Коммутационный блок","Iu 630 A, AC, 3-полюс, стационарное исполнение, Icu 66 kA, задний вертикальный подвод, размер 1","- / -",0,0,1751.1299999999999,{"$f":"VLOOKUP(B2046,#REF!,3,FALSE)","v":{"$error":"#REF!"}}]
["Arion","Arion","LA1","CPOF394","ARION WL1108-3**31-****","Коммутационный блок","Iu 800 A, AC, 3-полюс, стационарное исполнение, Icu 66 kA, задний вертикальный подвод, размер 1","- / -",0,0,1763.4,{"$f":"VLOOKUP(B2047,#REF!,3,FALSE)","v":{"$error":"#REF!"}}]
["Arion","Arion","LA1","CPOF395","ARION WL1110-3**31-****","Коммутационный блок","Iu 1000 A, AC, 3-полюс, стационарное исполнение, Icu 66 kA, задний вертикальный подвод, размер 1","- / -",0,0,1855.36,{"$f":"VLOOKUP(B2048,#REF!,3,FALSE)","v":{"$error":"#REF!"}}]
["Arion","Arion","LA1","CPOF396","ARION WL1112-3**31-****","Коммутационный блок","Iu 1250 A, AC, 3-полюс, стационарное исполнение, Icu 66 kA, задний вертикальный подвод, размер 1","- / -",0,0,2272.46,{"$f":"VLOOKUP(B2049,#REF!,3,FALSE)","v":{"$error":"#REF!"}}]
["Arion","Arion","LA1","CPOF397","ARION WL1116-3**31-****","Коммутационный блок","Iu 1600 A, AC, 3-полюс, стационарное исполнение, Icu 66 kA, задний вертикальный подвод, размер 1","- / -",0,0,3442.36,{"$f":"VLOOKUP(B2050,#REF!,3,FALSE)","v":{"$error":"#REF!"}}]
["Arion","Arion","LA1","CPOF321","ARION WL1120-3**31-****","Коммутационный блок","Iu 2000 A, AC, 3-полюс, стационарное исполнение, Icu 66 kA, задний вертикальный подвод, размер 1","- / -",0,0,4143.18,{"$f":"VLOOKUP(B2051,#REF!,3,FALSE)","v":{"$error":"#REF!"}}]
["Arion","Arion","LA1","CPOF001","ARION WL1106-4**31-****","Коммутационный блок","Iu 630 A, AC, 3-полюс, стационарное исполнение, Icu 85 kA, задний вертикальный подвод, размер 1","- / -",0,0,1873.78,{"$f":"VLOOKUP(B2052,#REF!,3,FALSE)","v":{"$error":"#REF!"}}]
["Arion","Arion","LA1","CPOF016","ARION WL1108-4**31-****","Коммутационный блок","Iu 800 A, AC, 3-полюс, стационарное исполнение, Icu 85 kA, задний вертикальный подвод, размер 1","- / -",0,0,1886.05,{"$f":"VLOOKUP(B2053,#REF!,3,FALSE)","v":{"$error":"#REF!"}}]
["Arion","Arion","LA1","CPOF668","ARION WL1110-4**31-****","Коммутационный блок","Iu 1000 A, AC, 3-полюс, стационарное исполнение, Icu 85 kA, задний вертикальный подвод, размер 1","- / -",0,0,1984.19,{"$f":"VLOOKUP(B2054,#REF!,3,FALSE)","v":{"$error":"#REF!"}}]
["Arion","Arion","LA1","CPOFC47","ARION WL1116-4**31-****","Коммутационный блок","Iu 1600 A, AC, 3-полюс, стационарное исполнение, Icu 85 kA, задний вертикальный подвод, размер 1","- / -",0,0,3689.2700000000004,{"$f":"VLOOKUP(B2055,#REF!,3,FALSE)","v":{"$error":"#REF!"}}]
["Arion","Arion","LA1","CPOF327","ARION WL1120-4**31-****","Коммутационный блок","Iu 2000 A, AC, 3-полюс, стационарное исполнение, Icu 85 kA, задний вертикальный подвод, размер 1","- / -",0,0,4411.8200000000006,{"$f":"VLOOKUP(B2056,#REF!,3,FALSE)","v":{"$error":"#REF!"}}]
[null,null,null,"Level  7","ARION WL12xx-x**31-**** - Размер II, 800 ÷ 4 000 A"]
["Arion","Arion","LA1","CPOF365","ARION WL1220-2**31-****","Коммутационный блок","Iu 2000 A, AC, 3-полюс, стационарное исполнение, Icu 66 kA, задний вертикальный подвод, размер 2","- / -",0,0,4197.1500000000005,{"$f":"VLOOKUP(B2058,#REF!,3,FALSE)","v":{"$error":"#REF!"}}]
["Arion","Arion","LA1","CPOF366","ARION WL1225-2**31-****","Коммутационный блок","Iu 2500 A, AC, 3-полюс, стационарное исполнение, Icu 66 kA, задний вертикальный подвод, размер 2","- / -",0,0,5758.68,{"$f":"VLOOKUP(B2059,#REF!,3,FALSE)","v":{"$error":"#REF!"}}]
["Arion","Arion","LA1","CPOF091","ARION WL1232-2**31-****","Коммутационный блок","Iu 3200 A, AC, 3-полюс, стационарное исполнение, Icu 66 kA, задний вертикальный подвод, размер 2","- / -",0,0,7153.5300000000007,{"$f":"VLOOKUP(B2060,#REF!,3,FALSE)","v":{"$error":"#REF!"}}]
["Arion","Arion","LA1","CPOF182","ARION WL1240-2**31-****","Коммутационный блок","Iu 4000 A, AC, 3-полюс, стационарное исполнение, Icu 66 kA, задний вертикальный подвод, размер 2","- / -",0,0,8002.38,{"$f":"VLOOKUP(B2061,#REF!,3,FALSE)","v":{"$error":"#REF!"}}]
["Arion","Arion","LA1","CPOF398","ARION WL1208-3**31-****","Коммутационный блок","Iu 800 A, AC, 3-полюс, стационарное исполнение, Icu 80 kA, задний вертикальный подвод, размер 2","- / -",0,0,1990.34,{"$f":"VLOOKUP(B2062,#REF!,3,FALSE)","v":{"$error":"#REF!"}}]
["Arion","Arion","LA1","CPOF399","ARION WL1210-3**31-****","Коммутационный блок","Iu 1000 A, AC, 3-полюс, стационарное исполнение, Icu 80 kA, задний вертикальный подвод, размер 2","- / -",0,0,2143.6600000000003,{"$f":"VLOOKUP(B2063,#REF!,3,FALSE)","v":{"$error":"#REF!"}}]
["Arion","Arion","LA1","CPOF400","ARION WL1212-3**31-****","Коммутационный блок","Iu 1250 A, AC, 3-полюс, стационарное исполнение, Icu 80 kA, задний вертикальный подвод, размер 2","- / -",0,0,2487.1600000000003,{"$f":"VLOOKUP(B2064,#REF!,3,FALSE)","v":{"$error":"#REF!"}}]
["Arion","Arion","LA1","CPOF401","ARION WL1216-3**31-****","Коммутационный блок","Iu 1600 A, AC, 3-полюс, стационарное исполнение, Icu 80 kA, задний вертикальный подвод, размер 2","- / -",0,0,3879.4500000000003,{"$f":"VLOOKUP(B2065,#REF!,3,FALSE)","v":{"$error":"#REF!"}}]
["Arion","Arion","LA1","CPOF402","ARION WL1220-3**31-****","Коммутационный блок","Iu 2000 A, AC, 3-полюс, стационарное исполнение, Icu 80 kA, задний вертикальный подвод, размер 2","- / -",0,0,4681.7300000000005,{"$f":"VLOOKUP(B2066,#REF!,3,FALSE)","v":{"$error":"#REF!"}}]
["Arion","Arion","LA1","CPOF403","ARION WL1225-3**31-****","Коммутационный блок","Iu 2500 A, AC, 3-полюс, стационарное исполнение, Icu 80 kA, задний вертикальный подвод, размер 2","- / -",0,0,6382.9800000000005,{"$f":"VLOOKUP(B2067,#REF!,3,FALSE)","v":{"$error":"#REF!"}}]
["Arion","Arion","LA1","CPOF404","ARION WL1232-3**31-****","Коммутационный блок","Iu 3200 A, AC, 3-полюс, стационарное исполнение, Icu 80 kA, задний вертикальный подвод, размер 2","- / -",0,0,7294.5700000000006,{"$f":"VLOOKUP(B2068,#REF!,3,FALSE)","v":{"$error":"#REF!"}}]
["Arion","Arion","LA1","CPOF113","ARION WL1240-3**31-****","Коммутационный блок","Iu 4000 A, AC, 3-полюс, стационарное исполнение, Icu 80 kA, задний вертикальный подвод, размер 2","- / -",0,0,8799.74,{"$f":"VLOOKUP(B2069,#REF!,3,FALSE)","v":{"$error":"#REF!"}}]
["Arion","Arion","LA1","CPOF438","ARION WL1208-4**31-****","Коммутационный блок","Iu 800 A, AC, 3-полюс, стационарное исполнение, Icu 100 kA, задний вертикальный подвод, размер 2","- / -",0,0,2131.3900000000003,{"$f":"VLOOKUP(B2070,#REF!,3,FALSE)","v":{"$error":"#REF!"}}]
["Arion","Arion","LA1","CPOF439","ARION WL1210-4**31-****","Коммутационный блок","Iu 1000 A, AC, 3-полюс, стационарное исполнение, Icu 100 kA, задний вертикальный подвод, размер 2","- / -",0,0,2327.67,{"$f":"VLOOKUP(B2071,#REF!,3,FALSE)","v":{"$error":"#REF!"}}]
["Arion","Arion","LA1","CPOF440","ARION WL1212-4**31-****","Коммутационный блок","Iu 1250 A, AC, 3-полюс, стационарное исполнение, Icu 100 kA, задний вертикальный подвод, размер 2","- / -",0,0,2665.0200000000004,{"$f":"VLOOKUP(B2072,#REF!,3,FALSE)","v":{"$error":"#REF!"}}]
["Arion","Arion","LA1","CPOF441","ARION WL1216-4**31-****","Коммутационный блок","Iu 1600 A, AC, 3-полюс, стационарное исполнение, Icu 100 kA, задний вертикальный подвод, размер 2","- / -",0,0,4124.79,{"$f":"VLOOKUP(B2073,#REF!,3,FALSE)","v":{"$error":"#REF!"}}]
["Arion","Arion","LA1","CPOF442","ARION WL1220-4**31-****","Коммутационный блок","Iu 2000 A, AC, 3-полюс, стационарное исполнение, Icu 100 kA, задний вертикальный подвод, размер 2","- / -",0,0,4896.4000000000005,{"$f":"VLOOKUP(B2074,#REF!,3,FALSE)","v":{"$error":"#REF!"}}]
["Arion","Arion","LA1","CPOF443","ARION WL1225-4**31-****","Коммутационный блок","Iu 2500 A, AC, 3-полюс, стационарное исполнение, Icu 100 kA, задний вертикальный подвод, размер 2","- / -",0,0,6719.16,{"$f":"VLOOKUP(B2075,#REF!,3,FALSE)","v":{"$error":"#REF!"}}]
["Arion","Arion","LA1","CPOF444","ARION WL1232-4**31-****","Коммутационный блок","Iu 3200 A, AC, 3-полюс, стационарное исполнение, Icu 100 kA, задний вертикальный подвод, размер 2","- / -",0,0,8006.09,{"$f":"VLOOKUP(B2076,#REF!,3,FALSE)","v":{"$error":"#REF!"}}]
["Arion","Arion","LA1","CPOF112","ARION WL1240-4**31-****","Коммутационный блок","Iu 4000 A, AC, 3-полюс, стационарное исполнение, Icu 100 kA, задний вертикальный подвод, размер 2","- / -",0,0,9615.4699999999993,{"$f":"VLOOKUP(B2077,#REF!,3,FALSE)","v":{"$error":"#REF!"}}]
["Arion","Arion","LA1","CPOFF27","ARION WL1216-5**31-****","Коммутационный блок","Iu 1600 A, AC, 3-полюс, стационарное исполнение, Icu 130 kA, задний вертикальный подвод, размер 2","- / -",0,0,4771.4400000000005,{"$f":"VLOOKUP(B2078,#REF!,3,FALSE)","v":{"$error":"#REF!"}}]
["Arion","Arion","LA1","CPOFF28","ARION WL1220-5**31-****","Коммутационный блок","Iu 2000 A, AC, 3-полюс, стационарное исполнение, Icu 130 kA, задний вертикальный подвод, размер 2","- / -",0,0,5889.25,{"$f":"VLOOKUP(B2079,#REF!,3,FALSE)","v":{"$error":"#REF!"}}]
["Arion","Arion","LA1","CPOFF29","ARION WL1225-5**31-****","Коммутационный блок","Iu 2500 A, AC, 3-полюс, стационарное исполнение, Icu 130 kA, задний вертикальный подвод, размер 2","- / -",0,0,8233.9600000000009,{"$f":"VLOOKUP(B2080,#REF!,3,FALSE)","v":{"$error":"#REF!"}}]
["Arion","Arion","LA1","CPOFF30","ARION WL1232-5**31-****","Коммутационный блок","Iu 3200 A, AC, 3-полюс, стационарное исполнение, Icu 130 kA, задний вертикальный подвод, размер 2","- / -",0,0,9597.27,{"$f":"VLOOKUP(B2081,#REF!,3,FALSE)","v":{"$error":"#REF!"}}]
[null,null,null,"Level  7","ARION WL13xx-x**31-**** - Размер III, 4 000 ÷ 6 300 A"]
["Arion","Arion","LA1","CPOF445","ARION WL1340-4**31-****","Коммутационный блок","Iu 4000 A, AC, 3-полюс, стационарное исполнение, Icu 100 kA, задний вертикальный подвод, размер 3","- / -",0,0,10731.82,{"$f":"VLOOKUP(B2083,#REF!,3,FALSE)","v":{"$error":"#REF!"}}]
["Arion","Arion","LA1","CPOF446","ARION WL1350-4**31-****","Коммутационный блок","Iu 5000 A, AC, 3-полюс, стационарное исполнение, Icu 100 kA, задний вертикальный подвод, размер 3","- / -",0,0,19008.989999999998,{"$f":"VLOOKUP(B2084,#REF!,3,FALSE)","v":{"$error":"#REF!"}}]
["Arion","Arion","LA1","CPOF447","ARION WL1363-4**31-****","Коммутационный блок","Iu 6300 A, AC, 3-полюс, стационарное исполнение, Icu 100 kA, задний вертикальный подвод, размер 3","- / -",0,0,24276.429999999997,{"$f":"VLOOKUP(B2085,#REF!,3,FALSE)","v":{"$error":"#REF!"}}]
["Arion","Arion","LA1","CPOF116","ARION WL1340-5**31-****","Коммутационный блок","Iu 4000 A, AC, 3-полюс, стационарное исполнение, Icu 150 kA, задний вертикальный подвод, размер 3","- / -",0,0,13533.92,{"$f":"VLOOKUP(B2086,#REF!,3,FALSE)","v":{"$error":"#REF!"}}]
["Arion","Arion","LA1","CPOF117","ARION WL1350-5**31-****","Коммутационный блок","Iu 5000 A, AC, 3-полюс, стационарное исполнение, Icu 150 kA, задний вертикальный подвод, размер 3","- / -",0,0,19597.8,{"$f":"VLOOKUP(B2087,#REF!,3,FALSE)","v":{"$error":"#REF!"}}]
["Arion","Arion","LA1","CPOF118","ARION WL1363-5**31-****","Коммутационный блок","Iu 6300 A, AC, 3-полюс, стационарное исполнение, Icu 150 kA, задний вертикальный подвод, размер 3","- / -",0,0,26913.87,{"$f":"VLOOKUP(B2088,#REF!,3,FALSE)","v":{"$error":"#REF!"}}]
[null,null,null,"Level  6","ARION WL1xxx-x**33-**** - Передние подводы один ряд отверстий"]
[null,null,null,"Level  7","ARION WL11xx-x**33-**** - Размер I, 630 ÷ 2 000 A"]
["Arion","Arion","LA1","CPOF367","ARION WL1106-2**33-****","Коммутационный блок","Iu 630 A, AC, 3-полюс, стационарное исполнение, Icu 55 kA, Передний подвод один ряд отверстий, размер 1","- / -",0,0,1383.11,{"$f":"VLOOKUP(B2091,#REF!,3,FALSE)","v":{"$error":"#REF!"}}]
["Arion","Arion","LA1","CPOF368","ARION WL1108-2**33-****","Коммутационный блок","Iu 800 A, AC, 3-полюс, стационарное исполнение, Icu 55 kA, Передний подвод один ряд отверстий, размер 1","- / -",0,0,1432.17,{"$f":"VLOOKUP(B2092,#REF!,3,FALSE)","v":{"$error":"#REF!"}}]
["Arion","Arion","LA1","CPOF369","ARION WL1110-2**33-****","Коммутационный блок","Iu 1000 A, AC, 3-полюс, стационарное исполнение, Icu 55 kA, Передний подвод один ряд отверстий, размер 1","- / -",0,0,1530.31,{"$f":"VLOOKUP(B2093,#REF!,3,FALSE)","v":{"$error":"#REF!"}}]
["Arion","Arion","LA1","CPOF370","ARION WL1112-2**33-****","Коммутационный блок","Iu 1250 A, AC, 3-полюс, стационарное исполнение, Icu 55 kA, Передний подвод один ряд отверстий, размер 1","- / -",0,0,1935.11,{"$f":"VLOOKUP(B2094,#REF!,3,FALSE)","v":{"$error":"#REF!"}}]
["Arion","Arion","LA1","CPOF371","ARION WL1116-2**33-****","Коммутационный блок","Iu 1600 A, AC, 3-полюс, стационарное исполнение, Icu 55 kA, Передний подвод один ряд отверстий, размер 1","- / -",0,0,3172.48,{"$f":"VLOOKUP(B2095,#REF!,3,FALSE)","v":{"$error":"#REF!"}}]
["Arion","Arion","LA1","CPOF405","ARION WL1106-3**33-****","Коммутационный блок","Iu 630 A, AC, 3-полюс, стационарное исполнение, Icu 66 kA, Передний подвод один ряд отверстий, размер 1","- / -",0,0,1751.1299999999999,{"$f":"VLOOKUP(B2096,#REF!,3,FALSE)","v":{"$error":"#REF!"}}]
["Arion","Arion","LA1","CPOF406","ARION WL1108-3**33-****","Коммутационный блок","Iu 800 A, AC, 3-полюс, стационарное исполнение, Icu 66 kA, Передний подвод один ряд отверстий, размер 1","- / -",0,0,1763.4,{"$f":"VLOOKUP(B2097,#REF!,3,FALSE)","v":{"$error":"#REF!"}}]
["Arion","Arion","LA1","CPOF407","ARION WL1110-3**33-****","Коммутационный блок","Iu 1000 A, AC, 3-полюс, стационарное исполнение, Icu 66 kA, Передний подвод один ряд отверстий, размер 1","- / -",0,0,1855.36,{"$f":"VLOOKUP(B2098,#REF!,3,FALSE)","v":{"$error":"#REF!"}}]
["Arion","Arion","LA1","CPOF408","ARION WL1112-3**33-****","Коммутационный блок","Iu 1250 A, AC, 3-полюс, стационарное исполнение, Icu 66 kA, Передний подвод один ряд отверстий, размер 1","- / -",0,0,2272.46,{"$f":"VLOOKUP(B2099,#REF!,3,FALSE)","v":{"$error":"#REF!"}}]
["Arion","Arion","LA1","CPOF409","ARION WL1116-3**33-****","Коммутационный блок","Iu 1600 A, AC, 3-полюс, стационарное исполнение, Icu 66 kA, Передний подвод один ряд отверстий, размер 1","- / -",0,0,3442.36,{"$f":"VLOOKUP(B2100,#REF!,3,FALSE)","v":{"$error":"#REF!"}}]
[null,null,null,"Level  7","ARION WL12xx-x**33-**** - Размер II, 800 ÷ 4 000 A"]
["Arion","Arion","LA1","CPOF372","ARION WL1220-2**33-****","Коммутационный блок","Iu 2000 A, AC, 3-полюс, стационарное исполнение, Icu 66 kA, Передний подвод один ряд отверстий, размер 2","- / -",0,0,4197.1500000000005,{"$f":"VLOOKUP(B2102,#REF!,3,FALSE)","v":{"$error":"#REF!"}}]
["Arion","Arion","LA1","CPOF373","ARION WL1225-2**33-****","Коммутационный блок","Iu 2500 A, AC, 3-полюс, стационарное исполнение, Icu 66 kA, Передний подвод один ряд отверстий, размер 2","- / -",0,0,5758.68,{"$f":"VLOOKUP(B2103,#REF!,3,FALSE)","v":{"$error":"#REF!"}}]
["Arion","Arion","LA1","CPOF092","ARION WL1232-2**33-****","Коммутационный блок","Iu 3200 A, AC, 3-полюс, стационарное исполнение, Icu 66 kA, Передний подвод один ряд отверстий, размер 2","- / -",0,0,7153.5300000000007,{"$f":"VLOOKUP(B2104,#REF!,3,FALSE)","v":{"$error":"#REF!"}}]
["Arion","Arion","LA1","CPOF410","ARION WL1208-3**33-****","Коммутационный блок","Iu 800 A, AC, 3-полюс, стационарное исполнение, Icu 80 kA, Передний подвод один ряд отверстий, размер 2","- / -",0,0,1990.34,{"$f":"VLOOKUP(B2105,#REF!,3,FALSE)","v":{"$error":"#REF!"}}]
["Arion","Arion","LA1","CPOF411","ARION WL1210-3**33-****","Коммутационный блок","Iu 1000 A, AC, 3-полюс, стационарное исполнение, Icu 80 kA, Передний подвод один ряд отверстий, размер 2","- / -",0,0,2143.6600000000003,{"$f":"VLOOKUP(B2106,#REF!,3,FALSE)","v":{"$error":"#REF!"}}]
["Arion","Arion","LA1","CPOF412","ARION WL1212-3**33-****","Коммутационный блок","Iu 1250 A, AC, 3-полюс, стационарное исполнение, Icu 80 kA, Передний подвод один ряд отверстий, размер 2","- / -",0,0,2487.1600000000003,{"$f":"VLOOKUP(B2107,#REF!,3,FALSE)","v":{"$error":"#REF!"}}]
["Arion","Arion","LA1","CPOF413","ARION WL1216-3**33-****","Коммутационный блок","Iu 1600 A, AC, 3-полюс, стационарное исполнение, Icu 80 kA, Передний подвод один ряд отверстий, размер 2","- / -",0,0,3879.4500000000003,{"$f":"VLOOKUP(B2108,#REF!,3,FALSE)","v":{"$error":"#REF!"}}]
["Arion","Arion","LA1","CPOF414","ARION WL1220-3**33-****","Коммутационный блок","Iu 2000 A, AC, 3-полюс, стационарное исполнение, Icu 80 kA, Передний подвод один ряд отверстий, размер 2","- / -",0,0,4681.7300000000005,{"$f":"VLOOKUP(B2109,#REF!,3,FALSE)","v":{"$error":"#REF!"}}]
["Arion","Arion","LA1","CPOF415","ARION WL1225-3**33-****","Коммутационный блок","Iu 2500 A, AC, 3-полюс, стационарное исполнение, Icu 80 kA, Передний подвод один ряд отверстий, размер 2","- / -",0,0,6382.9800000000005,{"$f":"VLOOKUP(B2110,#REF!,3,FALSE)","v":{"$error":"#REF!"}}]
["Arion","Arion","LA1","CPOF416","ARION WL1232-3**33-****","Коммутационный блок","Iu 3200 A, AC, 3-полюс, стационарное исполнение, Icu 80 kA, Передний подвод один ряд отверстий, размер 2","- / -",0,0,7294.5700000000006,{"$f":"VLOOKUP(B2111,#REF!,3,FALSE)","v":{"$error":"#REF!"}}]
["Arion","Arion","LA1","CPOF448","ARION WL1208-4**33-****","Коммутационный блок","Iu 800 A, AC, 3-полюс, стационарное исполнение, Icu 100 kA, Передний подвод один ряд отверстий, размер 2","- / -",0,0,2131.3900000000003,{"$f":"VLOOKUP(B2112,#REF!,3,FALSE)","v":{"$error":"#REF!"}}]
["Arion","Arion","LA1","CPOF449","ARION WL1210-4**33-****","Коммутационный блок","Iu 1000 A, AC, 3-полюс, стационарное исполнение, Icu 100 kA, Передний подвод один ряд отверстий, размер 2","- / -",0,0,2327.67,{"$f":"VLOOKUP(B2113,#REF!,3,FALSE)","v":{"$error":"#REF!"}}]
["Arion","Arion","LA1","CPOF450","ARION WL1212-4**33-****","Коммутационный блок","Iu 1250 A, AC, 3-полюс, стационарное исполнение, Icu 100 kA, Передний подвод один ряд отверстий, размер 2","- / -",0,0,2665.0200000000004,{"$f":"VLOOKUP(B2114,#REF!,3,FALSE)","v":{"$error":"#REF!"}}]
["Arion","Arion","LA1","CPOF451","ARION WL1216-4**33-****","Коммутационный блок","Iu 1600 A, AC, 3-полюс, стационарное исполнение, Icu 100 kA, Передний подвод один ряд отверстий, размер 2","- / -",0,0,4124.79,{"$f":"VLOOKUP(B2115,#REF!,3,FALSE)","v":{"$error":"#REF!"}}]
["Arion","Arion","LA1","CPOF452","ARION WL1220-4**33-****","Коммутационный блок","Iu 2000 A, AC, 3-полюс, стационарное исполнение, Icu 100 kA, Передний подвод один ряд отверстий, размер 2","- / -",0,0,4896.4000000000005,{"$f":"VLOOKUP(B2116,#REF!,3,FALSE)","v":{"$error":"#REF!"}}]
["Arion","Arion","LA1","CPOF453","ARION WL1225-4**33-****","Коммутационный блок","Iu 2500 A, AC, 3-полюс, стационарное исполнение, Icu 100 kA, Передний подвод один ряд отверстий, размер 2","- / -",0,0,6719.16,{"$f":"VLOOKUP(B2117,#REF!,3,FALSE)","v":{"$error":"#REF!"}}]
["Arion","Arion","LA1","CPOF454","ARION WL1232-4**33-****","Коммутационный блок","Iu 3200 A, AC, 3-полюс, стационарное исполнение, Icu 100 kA, Передний подвод один ряд отверстий, размер 2","- / -",0,0,8006.09,{"$f":"VLOOKUP(B2118,#REF!,3,FALSE)","v":{"$error":"#REF!"}}]
[null,null,null,"Level  7","ARION WL13xx-x**33-**** - Размер III, 4 000 ÷ 6 300 A"]
["Arion","Arion","LA1","CPOF455","ARION WL1340-4**33-****","Коммутационный блок","Iu 4000 A, AC, 3-полюс, стационарное исполнение, Icu 100 kA, Передний подвод один ряд отверстий, размер 3","- / -",0,0,10731.82,{"$f":"VLOOKUP(B2120,#REF!,3,FALSE)","v":{"$error":"#REF!"}}]
[null,null,null,"Level  6","ARION WL1xxx-x**34-**** - Передние подводы два ряда отверстий"]
[null,null,null,"Level  7","ARION WL11xx-x**34-**** - Размер I, 630 ÷ 2 000 A"]
["Arion","Arion","LA1","CPOF374","ARION WL1106-2**34-****","Коммутационный блок","Iu 630 A, 3-полюс, стационарное исполнение, Icu 55 kA, Передний подвод два ряда отверстий, размер 1","- / -",0,0,1383.11,{"$f":"VLOOKUP(B2123,#REF!,3,FALSE)","v":{"$error":"#REF!"}}]
["Arion","Arion","LA1","CPOF375","ARION WL1108-2**34-****","Коммутационный блок","Iu 800 A, 3-полюс, стационарное исполнение, Icu 55 kA, Передний подвод два ряда отверстий, размер 1","- / -",0,0,1432.17,{"$f":"VLOOKUP(B2124,#REF!,3,FALSE)","v":{"$error":"#REF!"}}]
["Arion","Arion","LA1","CPOF376","ARION WL1110-2**34-****","Коммутационный блок","Iu 1000 A, 3-полюс, стационарное исполнение, Icu 55 kA, Передний подвод два ряда отверстий, размер 1","- / -",0,0,1530.31,{"$f":"VLOOKUP(B2125,#REF!,3,FALSE)","v":{"$error":"#REF!"}}]
["Arion","Arion","LA1","CPOF377","ARION WL1112-2**34-****","Коммутационный блок","Iu 1250 A, 3-полюс, стационарное исполнение, Icu 55 kA, Передний подвод два ряда отверстий, размер 1","- / -",0,0,1935.11,{"$f":"VLOOKUP(B2126,#REF!,3,FALSE)","v":{"$error":"#REF!"}}]
["Arion","Arion","LA1","CPOF378","ARION WL1116-2**34-****","Коммутационный блок","Iu 1600 A, 3-полюс, стационарное исполнение, Icu 55 kA, Передний подвод два ряда отверстий, размер 1","- / -",0,0,3172.48,{"$f":"VLOOKUP(B2127,#REF!,3,FALSE)","v":{"$error":"#REF!"}}]
["Arion","Arion","LA1","CPOF331","ARION WL1120-2**34-****","Коммутационный блок","Iu 2000 A, AC, 3-полюс, стационарное исполнение, Icu 55 kA, Передний подвод два ряда отверстий, размер 1","- / -",0,0,3818.13,{"$f":"VLOOKUP(B2128,#REF!,3,FALSE)","v":{"$error":"#REF!"}}]
["Arion","Arion","LA1","CPOF417","ARION WL1106-3**34-****","Коммутационный блок","Iu 630 A, AC, 3-полюс, стационарное исполнение, Icu 66 kA, Передний подвод два ряда отверстий, размер 1","- / -",0,0,1751.1299999999999,{"$f":"VLOOKUP(B2129,#REF!,3,FALSE)","v":{"$error":"#REF!"}}]
["Arion","Arion","LA1","CPOF418","ARION WL1108-3**34-****","Коммутационный блок","Iu 800 A, AC, 3-полюс, стационарное исполнение, Icu 66 kA, Передний подвод два ряда отверстий, размер 1","- / -",0,0,1763.4,{"$f":"VLOOKUP(B2130,#REF!,3,FALSE)","v":{"$error":"#REF!"}}]
["Arion","Arion","LA1","CPOF419","ARION WL1110-3**34-****","Коммутационный блок","Iu 1000 A, AC, 3-полюс, стационарное исполнение, Icu 66 kA, Передний подвод два ряда отверстий, размер 1","- / -",0,0,1855.36,{"$f":"VLOOKUP(B2131,#REF!,3,FALSE)","v":{"$error":"#REF!"}}]
["Arion","Arion","LA1","CPOF420","ARION WL1112-3**34-****","Коммутационный блок","Iu 1250 A, AC, 3-полюс, стационарное исполнение, Icu 66 kA, Передний подвод два ряда отверстий, размер 1","- / -",0,0,2272.46,{"$f":"VLOOKUP(B2132,#REF!,3,FALSE)","v":{"$error":"#REF!"}}]
["Arion","Arion","LA1","CPOF421","ARION WL1116-3**34-****","Коммутационный блок","Iu 1600 A, AC, 3-полюс, стационарное исполнение, Icu 66 kA, Передний подвод два ряда отверстий, размер 1","- / -",0,0,3442.36,{"$f":"VLOOKUP(B2133,#REF!,3,FALSE)","v":{"$error":"#REF!"}}]
["Arion","Arion","LA1","CPOF332","ARION WL1120-3**34-****","Коммутационный блок","Iu 2000 A, AC, 3-полюс, стационарное исполнение, Icu 66 kA, Передний подвод два ряда отверстий, размер 1","- / -",0,0,4143.18,{"$f":"VLOOKUP(B2134,#REF!,3,FALSE)","v":{"$error":"#REF!"}}]
["Arion","Arion","LA1","CPOF003","ARION WL1106-4**34-****","Коммутационный блок","Iu 630 A, AC, 3-полюс, стационарное исполнение, Icu 85 kA, Передний подвод два ряда отверстий, размер 1","- / -",0,0,1873.78,{"$f":"VLOOKUP(B2135,#REF!,3,FALSE)","v":{"$error":"#REF!"}}]
["Arion","Arion","LA1","CPOF126","ARION WL1108-4**34-****","Коммутационный блок","Iu 800 A, AC, 3-полюс, стационарное исполнение, Icu 85 kA, Передний подвод два ряда отверстий, размер 1","- / -",0,0,1886.05,{"$f":"VLOOKUP(B2136,#REF!,3,FALSE)","v":{"$error":"#REF!"}}]
["Arion","Arion","LA1","CPOF640","ARION WL1120-4**34-****","Коммутационный блок","Iu 2000 A, AC, 3-полюс, стационарное исполнение, Icu 85 kA, Передний подвод два ряда отверстий, размер 1","- / -",0,0,4411.8200000000006,{"$f":"VLOOKUP(B2137,#REF!,3,FALSE)","v":{"$error":"#REF!"}}]
["Arion","Arion","LA1","CPOF777","ARION WL1110-4**34-****","Коммутационный блок","Iu 1000 A, AC, 3-полюс, стационарное исполнение, Icu 85 kA, Передний подвод два ряда отверстий, размер 1","- / -",0,0,1984.19,{"$f":"VLOOKUP(B2138,#REF!,3,FALSE)","v":{"$error":"#REF!"}}]
["Arion","Arion","LA1","CPOFC49","ARION WL1116-4**34-****","Коммутационный блок","Iu 1600 A, AC, 3-полюс, стационарное исполнение, Icu 85 kA, Передний подвод два ряда отверстий, размер 1","- / -",0,0,3689.2700000000004,{"$f":"VLOOKUP(B2139,#REF!,3,FALSE)","v":{"$error":"#REF!"}}]
[null,null,null,"Level  7","ARION WL12xx-x**34-**** - Размер II, 800 ÷ 4 000 A"]
["Arion","Arion","LA1","CPOF379","ARION WL1220-2**34-****","Коммутационный блок","Iu 2000 A, 3-полюс, стационарное исполнение, Icu 66 kA, Передний подвод два ряда отверстий, размер 2","- / -",0,0,4197.1500000000005,{"$f":"VLOOKUP(B2141,#REF!,3,FALSE)","v":{"$error":"#REF!"}}]
["Arion","Arion","LA1","CPOF380","ARION WL1225-2**34-****","Коммутационный блок","Iu 2500 A, AC, 3-полюс, стационарное исполнение, Icu 66 kA, Передний подвод два ряда отверстий, размер 2","- / -",0,0,5758.68,{"$f":"VLOOKUP(B2142,#REF!,3,FALSE)","v":{"$error":"#REF!"}}]
["Arion","Arion","LA1","CPOF093","ARION WL1232-2**34-****","Коммутационный блок","Iu 3200 A, AC, 3-полюс, стационарное исполнение, Icu 66 kA, Передний подвод два ряда отверстий, размер 2","- / -",0,0,7153.5300000000007,{"$f":"VLOOKUP(B2143,#REF!,3,FALSE)","v":{"$error":"#REF!"}}]
["Arion","Arion","LA1","CPOF422","ARION WL1208-3**34-****","Коммутационный блок","Iu 800 A, AC, 3-полюс, стационарное исполнение, Icu 80 kA, Передний подвод два ряда отверстий, размер 2","- / -",0,0,1990.34,{"$f":"VLOOKUP(B2144,#REF!,3,FALSE)","v":{"$error":"#REF!"}}]
["Arion","Arion","LA1","CPOF423","ARION WL1210-3**34-****","Коммутационный блок","Iu 1000 A, AC, 3-полюс, стационарное исполнение, Icu 80 kA, Передний подвод два ряда отверстий, размер 2","- / -",0,0,2143.6600000000003,{"$f":"VLOOKUP(B2145,#REF!,3,FALSE)","v":{"$error":"#REF!"}}]
["Arion","Arion","LA1","CPOF424","ARION WL1212-3**34-****","Коммутационный блок","Iu 1250 A, AC, 3-полюс, стационарное исполнение, Icu 80 kA, Передний подвод два ряда отверстий, размер 2","- / -",0,0,2487.1600000000003,{"$f":"VLOOKUP(B2146,#REF!,3,FALSE)","v":{"$error":"#REF!"}}]
["Arion","Arion","LA1","CPOF425","ARION WL1216-3**34-****","Коммутационный блок","Iu 1600 A, AC, 3-полюс, стационарное исполнение, Icu 80 kA, Передний подвод два ряда отверстий, размер 2","- / -",0,0,3879.4500000000003,{"$f":"VLOOKUP(B2147,#REF!,3,FALSE)","v":{"$error":"#REF!"}}]
["Arion","Arion","LA1","CPOF426","ARION WL1220-3**34-****","Коммутационный блок","Iu 2000 A, AC, 3-полюс, стационарное исполнение, Icu 80 kA, Передний подвод два ряда отверстий, размер 2","- / -",0,0,4681.7300000000005,{"$f":"VLOOKUP(B2148,#REF!,3,FALSE)","v":{"$error":"#REF!"}}]
["Arion","Arion","LA1","CPOF427","ARION WL1225-3**34-****","Коммутационный блок","Iu 2500 A, AC, 3-полюс, стационарное исполнение, Icu 80 kA, Передний подвод два ряда отверстий, размер 2","- / -",0,0,6382.9800000000005,{"$f":"VLOOKUP(B2149,#REF!,3,FALSE)","v":{"$error":"#REF!"}}]
["Arion","Arion","LA1","CPOF428","ARION WL1232-3**34-****","Коммутационный блок","Iu 3200 A, AC, 3-полюс, стационарное исполнение, Icu 80 kA, Передний подвод два ряда отверстий, размер 2","- / -",0,0,7294.5700000000006,{"$f":"VLOOKUP(B2150,#REF!,3,FALSE)","v":{"$error":"#REF!"}}]
["Arion","Arion","LA1","CPOF456","ARION WL1208-4**34-****","Коммутационный блок","Iu 800 A, AC, 3-полюс, стационарное исполнение, Icu 100 kA, Передний подвод два ряда отверстий, размер 2","- / -",0,0,2131.3900000000003,{"$f":"VLOOKUP(B2151,#REF!,3,FALSE)","v":{"$error":"#REF!"}}]
["Arion","Arion","LA1","CPOF457","ARION WL1210-4**34-****","Коммутационный блок","Iu 1000 A, AC, 3-полюс, стационарное исполнение, Icu 100 kA, Передний подвод два ряда отверстий, размер 2","- / -",0,0,2327.67,{"$f":"VLOOKUP(B2152,#REF!,3,FALSE)","v":{"$error":"#REF!"}}]
["Arion","Arion","LA1","CPOF458","ARION WL1212-4**34-****","Коммутационный блок","Iu 1250 A, AC, 3-полюс, стационарное исполнение, Icu 100 kA, Передний подвод два ряда отверстий, размер 2","- / -",0,0,2665.0200000000004,{"$f":"VLOOKUP(B2153,#REF!,3,FALSE)","v":{"$error":"#REF!"}}]
["Arion","Arion","LA1","CPOF459","ARION WL1216-4**34-****","Коммутационный блок","Iu 1600 A, AC, 3-полюс, стационарное исполнение, Icu 100 kA, Передний подвод два ряда отверстий, размер 2","- / -",0,0,4124.79,{"$f":"VLOOKUP(B2154,#REF!,3,FALSE)","v":{"$error":"#REF!"}}]
["Arion","Arion","LA1","CPOF460","ARION WL1220-4**34-****","Коммутационный блок","Iu 2000 A, AC, 3-полюс, стационарное исполнение, Icu 100 kA, Передний подвод два ряда отверстий, размер 2","- / -",0,0,4896.4000000000005,{"$f":"VLOOKUP(B2155,#REF!,3,FALSE)","v":{"$error":"#REF!"}}]
["Arion","Arion","LA1","CPOF461","ARION WL1225-4**34-****","Коммутационный блок","Iu 2500 A, AC, 3-полюс, стационарное исполнение, Icu 100 kA, Передний подвод два ряда отверстий, размер 2","- / -",0,0,6719.16,{"$f":"VLOOKUP(B2156,#REF!,3,FALSE)","v":{"$error":"#REF!"}}]
["Arion","Arion","LA1","CPOF462","ARION WL1232-4**34-****","Коммутационный блок","Iu 3200 A, AC, 3-полюс, стационарное исполнение, Icu 100 kA, Передний подвод два ряда отверстий, размер 2","- / -",0,0,8006.09,{"$f":"VLOOKUP(B2157,#REF!,3,FALSE)","v":{"$error":"#REF!"}}]
[null,null,null,"Level  7","ARION WL13xx-x**34-**** - Размер III, 4 000 ÷ 6 300 A"]
["Arion","Arion","LA1","CPOF463","ARION WL1340-4**34-****","Коммутационный блок","Iu 4000 A, AC, 3-полюс, стационарное исполнение, Icu 100 kA, Передний подвод два ряда отверстий, размер 3","- / -",0,0,10731.82,{"$f":"VLOOKUP(B2159,#REF!,3,FALSE)","v":{"$error":"#REF!"}}]
[null,null,null,"Level  5","ARION WL1xxx-x**3y-**** - 3-полюс, выдвижное исполнение"]
[null,null,null,"Level  6","ARION WL1xxx-x**36-**** - Задние горизонтальные подводы"]
[null,null,null,"Level  7","ARION WL11xx-x**36-**** - Размер I, 630 ÷ 2 000 A"]
["Arion","Arion","LA1","CPOF471","ARION WL1106-2**36-****","Коммутационный блок","Iu 630 A, AC, 3-полюс, выдвижное исполнение, Icu 55 kA, задний горизонтальный подвод, размер 1","- / -",0,0,1968.86,{"$f":"VLOOKUP(B2163,#REF!,3,FALSE)","v":{"$error":"#REF!"}}]
["Arion","Arion","LA1","CPOF472","ARION WL1108-2**36-****","Коммутационный блок","Iu 800 A, AC, 3-полюс, выдвижное исполнение, Icu 55 kA, задний горизонтальный подвод, размер 1","- / -",0,0,2011.77,{"$f":"VLOOKUP(B2164,#REF!,3,FALSE)","v":{"$error":"#REF!"}}]
["Arion","Arion","LA1","CPOF473","ARION WL1110-2**36-****","Коммутационный блок","Iu 1000 A, AC, 3-полюс, выдвижное исполнение, Icu 55 kA, задний горизонтальный подвод, размер 1","- / -",0,0,2128.3300000000004,{"$f":"VLOOKUP(B2165,#REF!,3,FALSE)","v":{"$error":"#REF!"}}]
["Arion","Arion","LA1","CPOF474","ARION WL1112-2**36-****","Коммутационный блок","Iu 1250 A, AC, 3-полюс, выдвижное исполнение, Icu 55 kA, задний горизонтальный подвод, размер 1","- / -",0,0,2416.6000000000004,{"$f":"VLOOKUP(B2166,#REF!,3,FALSE)","v":{"$error":"#REF!"}}]
["Arion","Arion","LA1","CPOF475","ARION WL1116-2**36-****","Коммутационный блок","Iu 1600 A, AC, 3-полюс, выдвижное исполнение, Icu 55 kA, задний горизонтальный подвод, размер 1","- / -",0,0,3973.4700000000003,{"$f":"VLOOKUP(B2167,#REF!,3,FALSE)","v":{"$error":"#REF!"}}]
["Arion","Arion","LA1","CPOF650","ARION WL1120-2**36-****","Коммутационный блок","Iu 2000 A, AC, 3-полюс, выдвижное исполнение, Icu 55 kA, задний горизонтальный подвод, размер 1","- / -",0,0,4790.2800000000007,{"$f":"VLOOKUP(B2168,#REF!,3,FALSE)","v":{"$error":"#REF!"}}]
["Arion","Arion","LA1","CPOF504","ARION WL1106-3**36-****","Коммутационный блок","Iu 630 A, AC, 3-полюс, выдвижное исполнение, Icu 66 kA, задний горизонтальный подвод, размер 1","- / -",0,0,2367.5700000000002,{"$f":"VLOOKUP(B2169,#REF!,3,FALSE)","v":{"$error":"#REF!"}}]
["Arion","Arion","LA1","CPOF505","ARION WL1108-3**36-****","Коммутационный блок","Iu 800 A, AC, 3-полюс, выдвижное исполнение, Icu 66 kA, задний горизонтальный подвод, размер 1","- / -",0,0,2379.7800000000002,{"$f":"VLOOKUP(B2170,#REF!,3,FALSE)","v":{"$error":"#REF!"}}]
["Arion","Arion","LA1","CPOF506","ARION WL1110-3**36-****","Коммутационный блок","Iu 1000 A, AC, 3-полюс, выдвижное исполнение, Icu 66 kA, задний горизонтальный подвод, размер 1","- / -",0,0,2471.8300000000004,{"$f":"VLOOKUP(B2171,#REF!,3,FALSE)","v":{"$error":"#REF!"}}]
["Arion","Arion","LA1","CPOF507","ARION WL1112-3**36-****","Коммутационный блок","Iu 1250 A, AC, 3-полюс, выдвижное исполнение, Icu 66 kA, задний горизонтальный подвод, размер 1","- / -",0,0,2821.4,{"$f":"VLOOKUP(B2172,#REF!,3,FALSE)","v":{"$error":"#REF!"}}]
["Arion","Arion","LA1","CPOF508","ARION WL1116-3**36-****","Коммутационный блок","Iu 1600 kA, AC, 3-полюс, выдвижное исполнение, Icu 66 kA, задний горизонтальный подвод, размер 1","- / -",0,0,4191.68,{"$f":"VLOOKUP(B2173,#REF!,3,FALSE)","v":{"$error":"#REF!"}}]
["Arion","Arion","LA1","CPOF651","ARION WL1120-3**36-****","Коммутационный блок","Iu 2000 A, AC, 3-полюс, выдвижное исполнение, Icu 66 kA, задний горизонтальный подвод, размер 1","- / -",0,0,5066.2800000000007,{"$f":"VLOOKUP(B2174,#REF!,3,FALSE)","v":{"$error":"#REF!"}}]
["Arion","Arion","LA1","CPOF005","ARION WL1106-4**36-****","Коммутационный блок","Iu 630 A, AC, 3-полюс, выдвижное исполнение, Icu 85 kA, задний горизонтальный подвод, размер 1","- / -",0,0,2527.0100000000002,{"$f":"VLOOKUP(B2175,#REF!,3,FALSE)","v":{"$error":"#REF!"}}]
["Arion","Arion","LA1","CPOF129","ARION WL1108-4**36-****","Коммутационный блок","Iu 800 A, AC, 3-полюс, выдвижное исполнение, Icu 85 kA, задний горизонтальный подвод, размер 1","- / -",0,0,2545.4,{"$f":"VLOOKUP(B2176,#REF!,3,FALSE)","v":{"$error":"#REF!"}}]
["Arion","Arion","LA1","CPOFB99","ARION WL1110-4**36-****","Коммутационный блок","Iu 1000 A, AC, 3-полюс, выдвижное исполнение, Icu 85 kA, задний горизонтальный подвод, размер 1","- / -",0,0,2643.5400000000004,{"$f":"VLOOKUP(B2177,#REF!,3,FALSE)","v":{"$error":"#REF!"}}]
["Arion","Arion","LA1","CPOFC51","ARION WL1116-4**36-****","Коммутационный блок","Iu 1600 A, AC, 3-полюс, выдвижное исполнение, Icu 85 kA, задний горизонтальный подвод, размер 1","- / -",0,0,4496.0300000000007,{"$f":"VLOOKUP(B2178,#REF!,3,FALSE)","v":{"$error":"#REF!"}}]
["Arion","Arion","LA1","CPOF652","ARION WL1120-4**36-****","Коммутационный блок","Iu 2000 A, AC, 3-полюс, выдвижное исполнение, Icu 85 kA, задний горизонтальный подвод, размер 1","- / -",0,0,5379.09,{"$f":"VLOOKUP(B2179,#REF!,3,FALSE)","v":{"$error":"#REF!"}}]
[null,null,null,"Level  7","ARION WL12xx-x**36-**** - Размер II, 800 ÷ 4 000 A"]
["Arion","Arion","LA1","CPOF476","ARION WL1220-2**36-****","Коммутационный блок","Iu 2000 A, AC, 3-полюс, выдвижное исполнение, Icu 66 kA, задний горизонтальный подвод, размер 2","- / -",0,0,5305.5,{"$f":"VLOOKUP(B2181,#REF!,3,FALSE)","v":{"$error":"#REF!"}}]
["Arion","Arion","LA1","CPOF477","ARION WL1225-2**36-****","Коммутационный блок","Iu 2500 A, AC, 3-полюс, выдвижное исполнение, Icu 66 kA, задний горизонтальный подвод, размер 2","- / -",0,0,6861.4400000000005,{"$f":"VLOOKUP(B2182,#REF!,3,FALSE)","v":{"$error":"#REF!"}}]
["Arion","Arion","LA1","CPOF094","ARION WL1232-2**36-****","Коммутационный блок","Iu 3200 A, AC, 3-полюс, выдвижное исполнение, Icu 66 kA, задний горизонтальный подвод, размер 2","- / -",0,0,8752.51,{"$f":"VLOOKUP(B2183,#REF!,3,FALSE)","v":{"$error":"#REF!"}}]
["Arion","Arion","LA1","CPOF509","ARION WL1208-3**36-****","Коммутационный блок","Iu 800 A, AC, 3-полюс, выдвижное исполнение, Icu 80 kA, задний горизонтальный подвод, размер 2","- / -",0,0,2845.9700000000003,{"$f":"VLOOKUP(B2184,#REF!,3,FALSE)","v":{"$error":"#REF!"}}]
["Arion","Arion","LA1","CPOF510","ARION WL1210-3**36-****","Коммутационный блок","Iu 1000 A, AC, 3-полюс, выдвижное исполнение, Icu 80 kA, задний горизонтальный подвод, размер 2","- / -",0,0,2999.3100000000004,{"$f":"VLOOKUP(B2185,#REF!,3,FALSE)","v":{"$error":"#REF!"}}]
["Arion","Arion","LA1","CPOF511","ARION WL1212-3**36-****","Коммутационный блок","Iu 1250 A, AC, 3-полюс, выдвижное исполнение, Icu 80 kA, задний горизонтальный подвод, размер 2","- / -",0,0,3367.3,{"$f":"VLOOKUP(B2186,#REF!,3,FALSE)","v":{"$error":"#REF!"}}]
["Arion","Arion","LA1","CPOF512","ARION WL1216-3**36-****","Коммутационный блок","Iu 1600 A, AC, 3-полюс, выдвижное исполнение, Icu 80 kA, задний горизонтальный подвод, размер 2","- / -",0,0,4814.8,{"$f":"VLOOKUP(B2187,#REF!,3,FALSE)","v":{"$error":"#REF!"}}]
["Arion","Arion","LA1","CPOF513","ARION WL1220-3**36-****","Коммутационный блок","Iu 2000 A, AC, 3-полюс, выдвижное исполнение, Icu 80 kA, задний горизонтальный подвод, размер 2","- / -",0,0,5814.59,{"$f":"VLOOKUP(B2188,#REF!,3,FALSE)","v":{"$error":"#REF!"}}]
["Arion","Arion","LA1","CPOF514","ARION WL1225-3**36-****","Коммутационный блок","Iu 2500 A, AC, 3-полюс, выдвижное исполнение, Icu 80 kA, задний горизонтальный подвод, размер 2","- / -",0,0,7419.72,{"$f":"VLOOKUP(B2189,#REF!,3,FALSE)","v":{"$error":"#REF!"}}]
["Arion","Arion","LA1","CPOF515","ARION WL1232-3**36-****","Коммутационный блок","Iu 3200 A, AC, 3-полюс, выдвижное исполнение, Icu 80 kA, задний горизонтальный подвод, размер 2","- / -",0,0,9188.01,{"$f":"VLOOKUP(B2190,#REF!,3,FALSE)","v":{"$error":"#REF!"}}]
["Arion","Arion","LA1","CPOF549","ARION WL1208-4**36-****","Коммутационный блок","Iu 800 A, AC, 3-полюс, выдвижное исполнение, Icu 100 kA, задний горизонтальный подвод, размер 2","- / -",0,0,3017.71,{"$f":"VLOOKUP(B2191,#REF!,3,FALSE)","v":{"$error":"#REF!"}}]
["Arion","Arion","LA1","CPOF550","ARION WL1210-4**36-****","Коммутационный блок","Iu 1000 A, AC, 3-полюс, выдвижное исполнение, Icu 100 kA, задний горизонтальный подвод, размер 2","- / -",0,0,3195.59,{"$f":"VLOOKUP(B2192,#REF!,3,FALSE)","v":{"$error":"#REF!"}}]
["Arion","Arion","LA1","CPOF551","ARION WL1212-4**36-****","Коммутационный блок","Iu 1250 A, AC, 3-полюс, выдвижное исполнение, Icu 100 kA, задний горизонтальный подвод, размер 2","- / -",0,0,3532.8900000000003,{"$f":"VLOOKUP(B2193,#REF!,3,FALSE)","v":{"$error":"#REF!"}}]
["Arion","Arion","LA1","CPOF552","ARION WL1216-4**36-****","Коммутационный блок","Iu 1600 A, AC, 3-полюс, выдвижное исполнение, Icu 100 kA, задний горизонтальный подвод, размер 2","- / -",0,0,5066.2800000000007,{"$f":"VLOOKUP(B2194,#REF!,3,FALSE)","v":{"$error":"#REF!"}}]
["Arion","Arion","LA1","CPOF553","ARION WL1220-4**36-****","Коммутационный блок","Iu 2000 A, AC, 3-полюс, выдвижное исполнение, Icu 100 kA, задний горизонтальный подвод, размер 2","- / -",0,0,5986.3,{"$f":"VLOOKUP(B2195,#REF!,3,FALSE)","v":{"$error":"#REF!"}}]
["Arion","Arion","LA1","CPOF554","ARION WL1225-4**36-****","Коммутационный блок","Iu 2500 A, AC, 3-полюс, выдвижное исполнение, Icu 100 kA, задний горизонтальный подвод, размер 2","- / -",0,0,7707.88,{"$f":"VLOOKUP(B2196,#REF!,3,FALSE)","v":{"$error":"#REF!"}}]
["Arion","Arion","LA1","CPOF555","ARION WL1232-4**36-****","Коммутационный блок","Iu 3200 A, AC, 3-полюс, выдвижное исполнение, Icu 100 kA, задний горизонтальный подвод, размер 2","- / -",0,0,9482.4,{"$f":"VLOOKUP(B2197,#REF!,3,FALSE)","v":{"$error":"#REF!"}}]
["Arion","Arion","LA1","CPOFF31","ARION WL1216-5**36-****","Коммутационный блок","Iu 1600 A, AC, 3-полюс, выдвижное исполнение, Icu 130 kA, задний горизонтальный подвод, размер 2","- / -",0,0,5943.67,{"$f":"VLOOKUP(B2198,#REF!,3,FALSE)","v":{"$error":"#REF!"}}]
["Arion","Arion","LA1","CPOFF32","ARION WL1220-5**36-****","Коммутационный блок","Iu 2000 A, AC, 3-полюс, выдвижное исполнение, Icu 130 kA, задний горизонтальный подвод, размер 2","- / -",0,0,7361.63,{"$f":"VLOOKUP(B2199,#REF!,3,FALSE)","v":{"$error":"#REF!"}}]
["Arion","Arion","LA1","CPOFF33","ARION WL1225-5**36-****","Коммутационный блок","Iu 2500 A, AC, 3-полюс, выдвижное исполнение, Icu 130 kA, задний горизонтальный подвод, размер 2","- / -",0,0,9597.27,{"$f":"VLOOKUP(B2200,#REF!,3,FALSE)","v":{"$error":"#REF!"}}]
["Arion","Arion","LA1","CPOFF34","ARION WL1232-5**36-****","Коммутационный блок","Iu 3200 A, AC, 3-полюс, выдвижное исполнение, Icu 130 kA, задний горизонтальный подвод, размер 2","- / -",0,0,11778.53,{"$f":"VLOOKUP(B2201,#REF!,3,FALSE)","v":{"$error":"#REF!"}}]
[null,null,null,"Level  7","ARION WL13xx-x**36-**** - Размер III, 4 000 ÷ 6 300 A"]
["Arion","Arion","LA1","CPOF556","ARION WL1340-4**36-****","Коммутационный блок","Iu 4000 A, AC, 3-полюс, выдвижное исполнение, Icu 100 kA, задний горизонтальный подвод, размер 3","- / -",0,0,13510.92,{"$f":"VLOOKUP(B2203,#REF!,3,FALSE)","v":{"$error":"#REF!"}}]
["Arion","Arion","LA1","CPOF557","ARION WL1350-4**36-****","Коммутационный блок","Iu 5000 A, AC, 3-полюс, выдвижное исполнение, Icu 100 kA, задний горизонтальный подвод, размер 3","- / -",0,0,22019.329999999998,{"$f":"VLOOKUP(B2204,#REF!,3,FALSE)","v":{"$error":"#REF!"}}]
["Arion","Arion","LA1","CPOF122","ARION WL1340-5**36-****","Коммутационный блок","Iu 4000 A, AC, 3-полюс, выдвижное исполнение, Icu 150 kA, задний горизонтальный подвод, размер 3","- / -",0,0,16663.32,{"$f":"VLOOKUP(B2205,#REF!,3,FALSE)","v":{"$error":"#REF!"}}]
["Arion","Arion","LA1","CPOF162","ARION WL1350-5**36-****","Коммутационный блок","Iu 5000 A, AC, 3-полюс, выдвижное исполнение, Icu 150 kA, задний горизонтальный подвод, размер 3","- / -",0,0,22835.079999999998,{"$f":"VLOOKUP(B2206,#REF!,3,FALSE)","v":{"$error":"#REF!"}}]
[null,null,null,"Level  6","ARION WL1xxx-x**35-**** - Без выдвижного оборудования"]
[null,null,null,"Level  7","ARION WL11xx-x**35-**** - Размер I, 630 ÷ 2 000 A"]
["Arion","Arion","LA1","CPOF464","ARION WL1106-2**35-****","Коммутационный блок","Iu 630 A, AC, 3-полюс, выдвижное исполнение, Icu 55 kA, Без выдвижного оборудования, размер 1","- / -",0,0,1459.77,{"$f":"VLOOKUP(B2209,#REF!,3,FALSE)","v":{"$error":"#REF!"}}]
["Arion","Arion","LA1","CPOF465","ARION WL1108-2**35-****","Коммутационный блок","Iu 800 A, AC, 3-полюс, выдвижное исполнение, Icu 55 kA, Без выдвижного оборудования, размер 1","- / -",0,0,1514.98,{"$f":"VLOOKUP(B2210,#REF!,3,FALSE)","v":{"$error":"#REF!"}}]
["Arion","Arion","LA1","CPOF466","ARION WL1110-2**35-****","Коммутационный блок","Iu 1000 A, AC, 3-полюс, выдвижное исполнение, Icu 55 kA, Без выдвижного оборудования, размер 1","- / -",0,0,1637.69,{"$f":"VLOOKUP(B2211,#REF!,3,FALSE)","v":{"$error":"#REF!"}}]
["Arion","Arion","LA1","CPOF467","ARION WL1112-2**35-****","Коммутационный блок","Iu 1250 A, AC, 3-полюс, выдвижное исполнение, Icu 55 kA, Без выдвижного оборудования, размер 1","- / -",0,0,1919.78,{"$f":"VLOOKUP(B2212,#REF!,3,FALSE)","v":{"$error":"#REF!"}}]
["Arion","Arion","LA1","CPOF468","ARION WL1116-2**35-****","Коммутационный блок","Iu 1600 A, AC, 3-полюс, выдвижное исполнение, Icu 55 kA, Без выдвижного оборудования, размер 1","- / -",0,0,3456.71,{"$f":"VLOOKUP(B2213,#REF!,3,FALSE)","v":{"$error":"#REF!"}}]
["Arion","Arion","LA1","CPOF644","ARION WL1120-2**35-****","Коммутационный блок","Iu 2000 A, AC, 3-полюс, выдвижное исполнение, Icu 55 kA, Без выдвижного оборудования, размер 1","- / -",0,0,4170.8100000000004,{"$f":"VLOOKUP(B2214,#REF!,3,FALSE)","v":{"$error":"#REF!"}}]
["Arion","Arion","LA1","CPOF492","ARION WL1106-3**35-****","Коммутационный блок","Iu 630 A, AC, 3-полюс, выдвижное исполнение, Icu 66 kA, Без выдвижного оборудования, размер 1","- / -",0,0,1809.4,{"$f":"VLOOKUP(B2215,#REF!,3,FALSE)","v":{"$error":"#REF!"}}]
["Arion","Arion","LA1","CPOF493","ARION WL1108-3**35-****","Коммутационный блок","Iu 800 A, AC, 3-полюс, выдвижное исполнение, Icu 66 kA, Без выдвижного оборудования, размер 1","- / -",0,0,1833.94,{"$f":"VLOOKUP(B2216,#REF!,3,FALSE)","v":{"$error":"#REF!"}}]
["Arion","Arion","LA1","CPOF494","ARION WL1110-3**35-****","Коммутационный блок","Iu 1000 A, AC, 3-полюс, выдвижное исполнение, Icu 66 kA, Без выдвижного оборудования, размер 1","- / -",0,0,1925.93,{"$f":"VLOOKUP(B2217,#REF!,3,FALSE)","v":{"$error":"#REF!"}}]
["Arion","Arion","LA1","CPOF495","ARION WL1112-3**35-****","Коммутационный блок","Iu 1250 A, AC, 3-полюс, выдвижное исполнение, Icu 66 kA, Без выдвижного оборудования, размер 1","- / -",0,0,2244.86,{"$f":"VLOOKUP(B2218,#REF!,3,FALSE)","v":{"$error":"#REF!"}}]
["Arion","Arion","LA1","CPOF496","ARION WL1116-3**35-****","Коммутационный блок","Iu 1600 A, AC, 3-полюс, выдвижное исполнение, Icu 66 kA, Без выдвижного оборудования, размер 1","- / -",0,0,3686.38,{"$f":"VLOOKUP(B2219,#REF!,3,FALSE)","v":{"$error":"#REF!"}}]
["Arion","Arion","LA1","CPOF645","ARION WL1120-3**35-****","Коммутационный блок","Iu 2000 A, AC, 3-полюс, выдвижное исполнение, Icu 66 kA, Без выдвижного оборудования, размер 1","- / -",0,0,4446.8100000000004,{"$f":"VLOOKUP(B2220,#REF!,3,FALSE)","v":{"$error":"#REF!"}}]
["Arion","Arion","LA1","CPOF004","ARION WL1106-4**35-****","Коммутационный блок","Iu 630 A, AC, 3-полюс, выдвижное исполнение, Icu 85 kA, Без выдвижного оборудования, размер 1","- / -",0,0,1932.05,{"$f":"VLOOKUP(B2221,#REF!,3,FALSE)","v":{"$error":"#REF!"}}]
["Arion","Arion","LA1","CPOF128","ARION WL1108-4**35-****","Коммутационный блок","Iu 800 A, AC, 3-полюс, выдвижное исполнение, Icu 85 kA, Без выдвижного оборудования, размер 1","- / -",0,0,1962.74,{"$f":"VLOOKUP(B2222,#REF!,3,FALSE)","v":{"$error":"#REF!"}}]
["Arion","Arion","LA1","CPOF935","ARION WL1110-4**35-****","Коммутационный блок","Iu 1000 A, AC, 3-полюс, выдвижное исполнение, Icu 85 kA, Без выдвижного оборудования, размер 1","- / -",0,0,2060.8500000000004,{"$f":"VLOOKUP(B2223,#REF!,3,FALSE)","v":{"$error":"#REF!"}}]
["Arion","Arion","LA1","CPOFC50","ARION WL1116-4**35-****","Коммутационный блок","Iu 1600 A, AC, 3-полюс, выдвижное исполнение, Icu 85 kA, Без выдвижного оборудования, размер 1","- / -",0,0,3944.7700000000004,{"$f":"VLOOKUP(B2224,#REF!,3,FALSE)","v":{"$error":"#REF!"}}]
["Arion","Arion","LA1","CPOF646","ARION WL1120-4**35-****","Коммутационный блок","Iu 2000 A, AC, 3-полюс, выдвижное исполнение, Icu 85 kA, Без выдвижного оборудования, размер 1","- / -",0,0,4722.8100000000004,{"$f":"VLOOKUP(B2225,#REF!,3,FALSE)","v":{"$error":"#REF!"}}]
[null,null,null,"Level  7","ARION WL12xx-x**35-**** - Размер II, 800 ÷ 4 000 A"]
["Arion","Arion","LA1","CPOF469","ARION WL1220-2**35-****","Коммутационный блок","Iu 2000 A, AC, 3-полюс, выдвижное исполнение, Icu 66 kA, Без выдвижного оборудования, размер 2","- / -",0,0,4612.43,{"$f":"VLOOKUP(B2227,#REF!,3,FALSE)","v":{"$error":"#REF!"}}]
["Arion","Arion","LA1","CPOF470","ARION WL1225-2**35-****","Коммутационный блок","Iu 2500 A, AC, 3-полюс, выдвижное исполнение, Icu 66 kA, Без выдвижного оборудования, размер 2","- / -",0,0,5997.02,{"$f":"VLOOKUP(B2228,#REF!,3,FALSE)","v":{"$error":"#REF!"}}]
["Arion","Arion","LA1","CPOF095","ARION WL1232-2**35-****","Коммутационный блок","Iu 3200 A, AC, 3-полюс, выдвижное исполнение, Icu 66 kA, Без выдвижного оборудования, размер 2","- / -",0,0,7004.4800000000005,{"$f":"VLOOKUP(B2229,#REF!,3,FALSE)","v":{"$error":"#REF!"}}]
["Arion","Arion","LA1","CPOFF35","ARION WL1240-2**35-****","Коммутационный блок","Iu 4000 A, AC, 3-полюс, выдвижное исполнение, Icu 66 kA, Без выдвижного оборудования, размер 2","- / -",0,0,9215.52,{"$f":"VLOOKUP(B2230,#REF!,3,FALSE)","v":{"$error":"#REF!"}}]
["Arion","Arion","LA1","CPOF497","ARION WL1208-3**35-****","Коммутационный блок","Iu 800 A, AC, 3-полюс, выдвижное исполнение, Icu 80 kA, Без выдвижного оборудования, размер 2","- / -",0,0,2158.9900000000002,{"$f":"VLOOKUP(B2231,#REF!,3,FALSE)","v":{"$error":"#REF!"}}]
["Arion","Arion","LA1","CPOF498","ARION WL1210-3**35-****","Коммутационный блок","Iu 1000 A, AC, 3-полюс, выдвижное исполнение, Icu 80 kA, Без выдвижного оборудования, размер 2","- / -",0,0,2324.61,{"$f":"VLOOKUP(B2232,#REF!,3,FALSE)","v":{"$error":"#REF!"}}]
["Arion","Arion","LA1","CPOF499","ARION WL1212-3**35-****","Коммутационный блок","Iu 1250 A, AC, 3-полюс, выдвижное исполнение, Icu 80 kA, Без выдвижного оборудования, размер 2","- / -",0,0,2680.38,{"$f":"VLOOKUP(B2233,#REF!,3,FALSE)","v":{"$error":"#REF!"}}]
["Arion","Arion","LA1","CPOF500","ARION WL1216-3**35-****","Коммутационный блок","Iu 1600 A, AC, 3-полюс, выдвижное исполнение, Icu 80 kA, Без выдвижного оборудования, размер 2","- / -",0,0,4109.43,{"$f":"VLOOKUP(B2234,#REF!,3,FALSE)","v":{"$error":"#REF!"}}]
["Arion","Arion","LA1","CPOF501","ARION WL1220-3**35-****","Коммутационный блок","Iu 2000 A, AC, 3-полюс, выдвижное исполнение, Icu 80 kA, Без выдвижного оборудования, размер 2","- / -",0,0,5133.76,{"$f":"VLOOKUP(B2235,#REF!,3,FALSE)","v":{"$error":"#REF!"}}]
["Arion","Arion","LA1","CPOF502","ARION WL1225-3**35-****","Коммутационный блок","Iu 2500 A, AC, 3-полюс, выдвижное исполнение, Icu 80 kA, Без выдвижного оборудования, размер 2","- / -",0,0,6513.27,{"$f":"VLOOKUP(B2236,#REF!,3,FALSE)","v":{"$error":"#REF!"}}]
["Arion","Arion","LA1","CPOF503","ARION WL1232-3**35-****","Коммутационный блок","Iu 3200 A, AC, 3-полюс, выдвижное исполнение, Icu 80 kA, Без выдвижного оборудования, размер 2","- / -",0,0,7654.6100000000006,{"$f":"VLOOKUP(B2237,#REF!,3,FALSE)","v":{"$error":"#REF!"}}]
["Arion","Arion","LA1","CPOFF36","ARION WL1240-3**35-****","Коммутационный блок","Iu 4000 A, AC, 3-полюс, выдвижное исполнение, Icu 80 kA, Без выдвижного оборудования, размер 2","- / -",0,0,9760.73,{"$f":"VLOOKUP(B2238,#REF!,3,FALSE)","v":{"$error":"#REF!"}}]
["Arion","Arion","LA1","CPOF540","ARION WL1208-4**35-****","Коммутационный блок","Iu 800 A, AC, 3-полюс, выдвижное исполнение, Icu 100 kA, Без выдвижного оборудования, размер 2","- / -",0,0,2330.73,{"$f":"VLOOKUP(B2239,#REF!,3,FALSE)","v":{"$error":"#REF!"}}]
["Arion","Arion","LA1","CPOF541","ARION WL1210-4**35-****","Коммутационный блок","Iu 1000 A, AC, 3-полюс, выдвижное исполнение, Icu 100 kA, Без выдвижного оборудования, размер 2","- / -",0,0,2496.3500000000004,{"$f":"VLOOKUP(B2240,#REF!,3,FALSE)","v":{"$error":"#REF!"}}]
["Arion","Arion","LA1","CPOF542","ARION WL1212-4**35-****","Коммутационный блок","Iu 1250 A, AC, 3-полюс, выдвижное исполнение, Icu 100 kA, Без выдвижного оборудования, размер 2","- / -",0,0,2858.21,{"$f":"VLOOKUP(B2241,#REF!,3,FALSE)","v":{"$error":"#REF!"}}]
["Arion","Arion","LA1","CPOF543","ARION WL1216-4**35-****","Коммутационный блок","Iu 1600 A, AC, 3-полюс, выдвижное исполнение, Icu 100 kA, Без выдвижного оборудования, размер 2","- / -",0,0,4367.0600000000004,{"$f":"VLOOKUP(B2242,#REF!,3,FALSE)","v":{"$error":"#REF!"}}]
["Arion","Arion","LA1","CPOF544","ARION WL1220-4**35-****","Коммутационный блок","Iu 2000 A, AC, 3-полюс, выдвижное исполнение, Icu 100 kA, Без выдвижного оборудования, размер 2","- / -",0,0,5305.5,{"$f":"VLOOKUP(B2243,#REF!,3,FALSE)","v":{"$error":"#REF!"}}]
["Arion","Arion","LA1","CPOF545","ARION WL1225-4**35-****","Коммутационный блок","Iu 2500 A, AC, 3-полюс, выдвижное исполнение, Icu 100 kA, Без выдвижного оборудования, размер 2","- / -",0,0,6891.43,{"$f":"VLOOKUP(B2244,#REF!,3,FALSE)","v":{"$error":"#REF!"}}]
["Arion","Arion","LA1","CPOF546","ARION WL1232-4**35-****","Коммутационный блок","Iu 3200 A, AC, 3-полюс, выдвижное исполнение, Icu 100 kA, Без выдвижного оборудования, размер 2","- / -",0,0,7875.43,{"$f":"VLOOKUP(B2245,#REF!,3,FALSE)","v":{"$error":"#REF!"}}]
["Arion","Arion","LA1","CPOFF37","ARION WL1240-4**35-****","Коммутационный блок","Iu 4000 A, AC, 3-полюс, выдвижное исполнение, Icu 100 kA, Без выдвижного оборудования, размер 2","- / -",0,0,10524.22,{"$f":"VLOOKUP(B2246,#REF!,3,FALSE)","v":{"$error":"#REF!"}}]
["Arion","Arion","LA1","CPOFF38","ARION WL1216-5**35-****","Коммутационный блок","Iu 1600 A, AC, 3-полюс, выдвижное исполнение, Icu 130 kA, Без выдвижного оборудования, размер 2","- / -",0,0,3604.38,{"$f":"VLOOKUP(B2247,#REF!,3,FALSE)","v":{"$error":"#REF!"}}]
["Arion","Arion","LA1","CPOFF39","ARION WL1220-5**35-****","Коммутационный блок","Iu 2000 A, AC, 3-полюс, выдвижное исполнение, Icu 130 kA, Без выдвижного оборудования, размер 2","- / -",0,0,5011.33,{"$f":"VLOOKUP(B2248,#REF!,3,FALSE)","v":{"$error":"#REF!"}}]
["Arion","Arion","LA1","CPOFF40","ARION WL1225-5**35-****","Коммутационный блок","Iu 2500 A, AC, 3-полюс, выдвижное исполнение, Icu 130 kA, Без выдвижного оборудования, размер 2","- / -",0,0,7470.4400000000005,{"$f":"VLOOKUP(B2249,#REF!,3,FALSE)","v":{"$error":"#REF!"}}]
["Arion","Arion","LA1","CPOFF41","ARION WL1232-5**35-****","Коммутационный блок","Iu 3200 A, AC, 3-полюс, выдвижное исполнение, Icu 130 kA, Без выдвижного оборудования, размер 2","- / -",0,0,9760.73,{"$f":"VLOOKUP(B2250,#REF!,3,FALSE)","v":{"$error":"#REF!"}}]
[null,null,null,"Level  7","ARION WL13xx-x**35-**** - Размер III, 4 000 ÷ 6 300 A"]
["Arion","Arion","LA1","CPOF547","ARION WL1340-4**35-****","Коммутационный блок","Iu 4000 A, AC, 3-полюс, выдвижное исполнение, Icu 100 kA, Без выдвижного оборудования, размер 3","- / -",0,0,11598.84,{"$f":"VLOOKUP(B2252,#REF!,3,FALSE)","v":{"$error":"#REF!"}}]
["Arion","Arion","LA1","CPOF548","ARION WL1350-4**35-****","Коммутационный блок","Iu 5000 A, AC, 3-полюс, выдвижное исполнение, Icu 100 kA, Без выдвижного оборудования, размер 3","- / -",0,0,19093.649999999998,{"$f":"VLOOKUP(B2253,#REF!,3,FALSE)","v":{"$error":"#REF!"}}]
["Arion","Arion","LA1","CPOF075","ARION WL1363-4**35-****","Коммутационный блок","Iu 6300 A, AC, 3-полюс, выдвижное исполнение, Icu 100 kA, Без выдвижного оборудования, размер 3","- / -",0,0,25368.21,{"$f":"VLOOKUP(B2254,#REF!,3,FALSE)","v":{"$error":"#REF!"}}]
["Arion","Arion","LA1","CPOF119","ARION WL1340-5**35-****","Коммутационный блок","Iu 4000 A, AC, 3-полюс, выдвижное исполнение, Icu 150 kA, Без выдвижного оборудования, размер 3","- / -",0,0,14343.550000000001,{"$f":"VLOOKUP(B2255,#REF!,3,FALSE)","v":{"$error":"#REF!"}}]
["Arion","Arion","LA1","CPOF120","ARION WL1350-5**35-****","Коммутационный блок","Iu 5000 A, AC, 3-полюс, выдвижное исполнение, Icu 150 kA, Без выдвижного оборудования, размер 3","- / -",0,0,19406.429999999997,{"$f":"VLOOKUP(B2256,#REF!,3,FALSE)","v":{"$error":"#REF!"}}]
["Arion","Arion","LA1","CPOF121","ARION WL1363-5**35-****","Коммутационный блок","Iu 6300 A, AC, 3-полюс, выдвижное исполнение, Icu 150 kA, Без выдвижного оборудования, размер 3","- / -",0,0,26570.399999999998,{"$f":"VLOOKUP(B2257,#REF!,3,FALSE)","v":{"$error":"#REF!"}}]
[null,null,null,"Level  6","ARION WL1xxx-x**37-**** - Задние вертикальные подводы"]
[null,null,null,"Level  7","ARION WL11xx-x**37-**** - Размер I, 630 ÷ 2 000 A"]
["Arion","Arion","LA1","CPOF478","ARION WL1106-2**37-****","Коммутационный блок","Iu 630 A, AC, 3-полюс, выдвижное исполнение, Icu 55 kA, задний вертикальный подвод, размер 1","- / -",0,0,2149.8100000000004,{"$f":"VLOOKUP(B2260,#REF!,3,FALSE)","v":{"$error":"#REF!"}}]
["Arion","Arion","LA1","CPOF479","ARION WL1108-2**37-****","Коммутационный блок","Iu 800 A, AC, 3-полюс, выдвижное исполнение, Icu 55 kA, задний вертикальный подвод, размер 1","- / -",0,0,2192.7400000000002,{"$f":"VLOOKUP(B2261,#REF!,3,FALSE)","v":{"$error":"#REF!"}}]
["Arion","Arion","LA1","CPOF480","ARION WL1110-2**37-****","Коммутационный блок","Iu 1000 A, AC, 3-полюс, выдвижное исполнение, Icu 55 kA, задний вертикальный подвод, размер 1","- / -",0,0,2309.2800000000002,{"$f":"VLOOKUP(B2262,#REF!,3,FALSE)","v":{"$error":"#REF!"}}]
["Arion","Arion","LA1","CPOF481","ARION WL1112-2**37-****","Коммутационный блок","Iu 1250 A, AC, 3-полюс, выдвижное исполнение, Icu 55 kA, задний вертикальный подвод, размер 1","- / -",0,0,2597.5700000000002,{"$f":"VLOOKUP(B2263,#REF!,3,FALSE)","v":{"$error":"#REF!"}}]
["Arion","Arion","LA1","CPOF482","ARION WL1116-2**37-****","Коммутационный блок","Iu 1600 A, AC, 3-полюс, выдвижное исполнение, Icu 55 kA, задний вертикальный подвод, размер 1","- / -",0,0,4142.87,{"$f":"VLOOKUP(B2264,#REF!,3,FALSE)","v":{"$error":"#REF!"}}]
["Arion","Arion","LA1","CPOF656","ARION WL1120-2**37-****","Коммутационный блок","Iu 2000 A, AC, 3-полюс, выдвижное исполнение, Icu 55 kA, задний вертикальный подвод, размер 1","- / -",0,0,4983.5,{"$f":"VLOOKUP(B2265,#REF!,3,FALSE)","v":{"$error":"#REF!"}}]
["Arion","Arion","LA1","CPOF516","ARION WL1106-3**37-****","Коммутационный блок","Iu 630 A, AC, 3-полюс, выдвижное исполнение, Icu 66 kA, задний вертикальный подвод, размер 1","- / -",0,0,2548.46,{"$f":"VLOOKUP(B2266,#REF!,3,FALSE)","v":{"$error":"#REF!"}}]
["Arion","Arion","LA1","CPOF517","ARION WL1108-3**37-****","Коммутационный блок","Iu 800 A, AC, 3-полюс, выдвижное исполнение, Icu 66 kA, задний вертикальный подвод, размер 1","- / -",0,0,2560.7600000000002,{"$f":"VLOOKUP(B2267,#REF!,3,FALSE)","v":{"$error":"#REF!"}}]
["Arion","Arion","LA1","CPOF518","ARION WL1110-3**37-****","Коммутационный блок","Iu 1000 A, AC, 3-полюс, выдвижное исполнение, Icu 66 kA, задний вертикальный подвод, размер 1","- / -",0,0,2652.7200000000003,{"$f":"VLOOKUP(B2268,#REF!,3,FALSE)","v":{"$error":"#REF!"}}]
["Arion","Arion","LA1","CPOF519","ARION WL1112-3**37-****","Коммутационный блок","Iu 1250 A, AC, 3-полюс, выдвижное исполнение, Icu 66 kA, задний вертикальный подвод, размер 1","- / -",0,0,3002.3700000000003,{"$f":"VLOOKUP(B2269,#REF!,3,FALSE)","v":{"$error":"#REF!"}}]
["Arion","Arion","LA1","CPOF520","ARION WL1116-3**37-****","Коммутационный блок","Iu 1600 A, AC, 3-полюс, выдвижное исполнение, Icu 66 kA, задний вертикальный подвод, размер 1","- / -",0,0,4361.05,{"$f":"VLOOKUP(B2270,#REF!,3,FALSE)","v":{"$error":"#REF!"}}]
["Arion","Arion","LA1","CPOF657","ARION WL1120-3**37-****","Коммутационный блок","Iu 2000 A, AC, 3-полюс, выдвижное исполнение, Icu 66 kA, задний вертикальный подвод, размер 1","- / -",0,0,5259.5,{"$f":"VLOOKUP(B2271,#REF!,3,FALSE)","v":{"$error":"#REF!"}}]
["Arion","Arion","LA1","CPOF007","ARION WL1106-4**37-****","Коммутационный блок","Iu 630 A, AC, 3-полюс, выдвижное исполнение, Icu 85 kA, задний вертикальный подвод, размер 1","- / -",0,0,2720.23,{"$f":"VLOOKUP(B2272,#REF!,3,FALSE)","v":{"$error":"#REF!"}}]
["Arion","Arion","LA1","CPOF130","ARION WL1108-4**37-****","Коммутационный блок","Iu 800 A, AC, 3-полюс, выдвижное исполнение, Icu 85 kA, задний вертикальный подвод, размер 1","- / -",0,0,2738.6200000000003,{"$f":"VLOOKUP(B2273,#REF!,3,FALSE)","v":{"$error":"#REF!"}}]
["Arion","Arion","LA1","CPOFC01","ARION WL1110-4**37-****","Коммутационный блок","Iu 1000 A, AC, 3-полюс, выдвижное исполнение, Icu 85 kA, задний вертикальный подвод, размер 1","- / -",0,0,2836.76,{"$f":"VLOOKUP(B2274,#REF!,3,FALSE)","v":{"$error":"#REF!"}}]
["Arion","Arion","LA1","CPOFC52","ARION WL1116-4**37-****","Коммутационный блок","Iu 1600 A, AC, 3-полюс, выдвижное исполнение, Icu 85 kA, задний вертикальный подвод, размер 1","- / -",0,0,4676.87,{"$f":"VLOOKUP(B2275,#REF!,3,FALSE)","v":{"$error":"#REF!"}}]
["Arion","Arion","LA1","CPOF658","ARION WL1120-4**37-****","Коммутационный блок","Iu 2000 A, AC, 3-полюс, выдвижное исполнение, Icu 85 kA, задний вертикальный подвод, размер 1","- / -",0,0,5595.59,{"$f":"VLOOKUP(B2276,#REF!,3,FALSE)","v":{"$error":"#REF!"}}]
[null,null,null,"Level  7","ARION WL12xx-x**37-**** - Размер II, 800 ÷ 4 000 A"]
["Arion","Arion","LA1","CPOF483","ARION WL1220-2**37-****","Коммутационный блок","Iu 2000 A, AC, 3-полюс, выдвижное исполнение, Icu 66 kA, задний вертикальный подвод, размер 2","- / -",0,0,5528.14,{"$f":"VLOOKUP(B2278,#REF!,3,FALSE)","v":{"$error":"#REF!"}}]
["Arion","Arion","LA1","CPOF484","ARION WL1225-2**37-****","Коммутационный блок","Iu 2500 A, AC, 3-полюс, выдвижное исполнение, Icu 66 kA, задний вертикальный подвод, размер 2","- / -",0,0,7121.37,{"$f":"VLOOKUP(B2279,#REF!,3,FALSE)","v":{"$error":"#REF!"}}]
["Arion","Arion","LA1","CPOF096","ARION WL1232-2**37-****","Коммутационный блок","Iu 3200 A, AC, 3-полюс, выдвижное исполнение, Icu 66 kA, задний вертикальный подвод, размер 2","- / -",0,0,9269.58,{"$f":"VLOOKUP(B2280,#REF!,3,FALSE)","v":{"$error":"#REF!"}}]
["Arion","Arion","LA1","CPOF181","ARION WL1240-2**37-****","Коммутационный блок","Iu 4000 A, AC, 3-полюс, выдвижное исполнение, Icu 66 kA, задний вертикальный подвод, размер 2","- / -",0,0,11633.460000000001,{"$f":"VLOOKUP(B2281,#REF!,3,FALSE)","v":{"$error":"#REF!"}}]
["Arion","Arion","LA1","CPOF521","ARION WL1208-3**37-****","Коммутационный блок","Iu 800 A, AC, 3-полюс, выдвижное исполнение, Icu 80 kA, задний вертикальный подвод, размер 2","- / -",0,0,3026.8900000000003,{"$f":"VLOOKUP(B2282,#REF!,3,FALSE)","v":{"$error":"#REF!"}}]
["Arion","Arion","LA1","CPOF522","ARION WL1210-3**37-****","Коммутационный блок","Iu 1000 A, AC, 3-полюс, выдвижное исполнение, Icu 80 kA, задний вертикальный подвод, размер 2","- / -",0,0,3180.21,{"$f":"VLOOKUP(B2283,#REF!,3,FALSE)","v":{"$error":"#REF!"}}]
["Arion","Arion","LA1","CPOF523","ARION WL1212-3**37-****","Коммутационный блок","Iu 1250 A, AC, 3-полюс, выдвижное исполнение, Icu 80 kA, задний вертикальный подвод, размер 2","- / -",0,0,3548.25,{"$f":"VLOOKUP(B2284,#REF!,3,FALSE)","v":{"$error":"#REF!"}}]
["Arion","Arion","LA1","CPOF524","ARION WL1216-3**37-****","Коммутационный блок","Iu 1600 A, AC, 3-полюс, выдвижное исполнение, Icu 80 kA, задний вертикальный подвод, размер 2","- / -",0,0,4995.75,{"$f":"VLOOKUP(B2285,#REF!,3,FALSE)","v":{"$error":"#REF!"}}]
["Arion","Arion","LA1","CPOF525","ARION WL1220-3**37-****","Коммутационный блок","Iu 2000 A, AC, 3-полюс, выдвижное исполнение, Icu 80 kA, задний вертикальный подвод, размер 2","- / -",0,0,6037.2,{"$f":"VLOOKUP(B2286,#REF!,3,FALSE)","v":{"$error":"#REF!"}}]
["Arion","Arion","LA1","CPOF526","ARION WL1225-3**37-****","Коммутационный блок","Iu 2500 A, AC, 3-полюс, выдвижное исполнение, Icu 80 kA, задний вертикальный подвод, размер 2","- / -",0,0,7679.66,{"$f":"VLOOKUP(B2287,#REF!,3,FALSE)","v":{"$error":"#REF!"}}]
["Arion","Arion","LA1","CPOF527","ARION WL1232-3**37-****","Коммутационный блок","Iu 3200 A, AC, 3-полюс, выдвижное исполнение, Icu 80 kA, задний вертикальный подвод, размер 2","- / -",0,0,9539.48,{"$f":"VLOOKUP(B2288,#REF!,3,FALSE)","v":{"$error":"#REF!"}}]
["Arion","Arion","LA1","CPOF111","ARION WL1240-3**37-****","Коммутационный блок","Iu 4000 A, AC, 3-полюс, выдвижное исполнение, Icu 80 kA, задний вертикальный подвод, размер 2","- / -",0,0,12173.19,{"$f":"VLOOKUP(B2289,#REF!,3,FALSE)","v":{"$error":"#REF!"}}]
["Arion","Arion","LA1","CPOF558","ARION WL1208-4**37-****","Коммутационный блок","Iu 800 A, AC, 3-полюс, выдвижное исполнение, Icu 100 kA, задний вертикальный подвод, размер 2","- / -",0,0,3198.63,{"$f":"VLOOKUP(B2290,#REF!,3,FALSE)","v":{"$error":"#REF!"}}]
["Arion","Arion","LA1","CPOF559","ARION WL1210-4**37-****","Коммутационный блок","Iu 1000 A, AC, 3-полюс, выдвижное исполнение, Icu 100 kA, задний вертикальный подвод, размер 2","- / -",0,0,3376.51,{"$f":"VLOOKUP(B2291,#REF!,3,FALSE)","v":{"$error":"#REF!"}}]
["Arion","Arion","LA1","CPOF560","ARION WL1212-4**37-****","Коммутационный блок","Iu 1250 A, AC, 3-полюс, выдвижное исполнение, Icu 100 kA, задний вертикальный подвод, размер 2","- / -",0,0,3713.84,{"$f":"VLOOKUP(B2292,#REF!,3,FALSE)","v":{"$error":"#REF!"}}]
["Arion","Arion","LA1","CPOF561","ARION WL1216-4**37-****","Коммутационный блок","Iu 1600 A, AC, 3-полюс, выдвижное исполнение, Icu 100 kA, задний вертикальный подвод, размер 2","- / -",0,0,5247.2,{"$f":"VLOOKUP(B2293,#REF!,3,FALSE)","v":{"$error":"#REF!"}}]
["Arion","Arion","LA1","CPOF562","ARION WL1220-4**37-****","Коммутационный блок","Iu 2000 A, AC, 3-полюс, выдвижное исполнение, Icu 100 kA, задний вертикальный подвод, размер 2","- / -",0,0,6209,{"$f":"VLOOKUP(B2294,#REF!,3,FALSE)","v":{"$error":"#REF!"}}]
["Arion","Arion","LA1","CPOFF02","ARION WL1225-4**37-****","Коммутационный блок","Iu 2500 A, AC, 3-полюс, выдвижное исполнение, Icu 100 kA, задний вертикальный подвод, размер 2","- / -",0,0,7967.8200000000006,{"$f":"VLOOKUP(B2295,#REF!,3,FALSE)","v":{"$error":"#REF!"}}]
["Arion","Arion","LA1","CPOF564","ARION WL1232-4**37-****","Коммутационный блок","Iu 3200 A, AC, 3-полюс, выдвижное исполнение, Icu 100 kA, задний вертикальный подвод, размер 2","- / -",0,0,9833.8700000000008,{"$f":"VLOOKUP(B2296,#REF!,3,FALSE)","v":{"$error":"#REF!"}}]
["Arion","Arion","LA1","CPOF110","ARION WL1240-4**37-****","Коммутационный блок","Iu 4000 A, AC, 3-полюс, выдвижное исполнение, Icu 100 kA, задний вертикальный подвод, размер 2","- / -",0,0,12909.2,{"$f":"VLOOKUP(B2297,#REF!,3,FALSE)","v":{"$error":"#REF!"}}]
["Arion","Arion","LA1","CPOFF42","ARION WL1216-5**37-****","Коммутационный блок","Iu 1600 A, AC, 3-полюс, выдвижное исполнение, Icu 130 kA, задний вертикальный подвод, размер 2","- / -",0,0,6107.35,{"$f":"VLOOKUP(B2298,#REF!,3,FALSE)","v":{"$error":"#REF!"}}]
["Arion","Arion","LA1","CPOFF43","ARION WL1220-5**37-****","Коммутационный блок","Iu 2000 A, AC, 3-полюс, выдвижное исполнение, Icu 130 kA, задний вертикальный подвод, размер 2","- / -",0,0,7634.1100000000006,{"$f":"VLOOKUP(B2299,#REF!,3,FALSE)","v":{"$error":"#REF!"}}]
["Arion","Arion","LA1","CPOFF44","ARION WL1225-5**37-****","Коммутационный блок","Iu 2500 A, AC, 3-полюс, выдвижное исполнение, Icu 130 kA, задний вертикальный подвод, размер 2","- / -",0,0,9924.4,{"$f":"VLOOKUP(B2300,#REF!,3,FALSE)","v":{"$error":"#REF!"}}]
["Arion","Arion","LA1","CPOFF45","ARION WL1232-5**37-****","Коммутационный блок","Iu 3200 A, AC, 3-полюс, выдвижное исполнение, Icu 130 kA, задний вертикальный подвод, размер 2","- / -",0,0,12214.66,{"$f":"VLOOKUP(B2301,#REF!,3,FALSE)","v":{"$error":"#REF!"}}]
[null,null,null,"Level  7","ARION WL13xx-x**37-**** - Размер III, 4 000 ÷ 6 300 A"]
["Arion","Arion","LA1","CPOF565","ARION WL1340-4**37-****","Коммутационный блок","Iu 4000 A, AC, 3-полюс, выдвижное исполнение, Icu 100 kA, задний вертикальный подвод, размер 3","- / -",0,0,14136.82,{"$f":"VLOOKUP(B2303,#REF!,3,FALSE)","v":{"$error":"#REF!"}}]
["Arion","Arion","LA1","CPOF076","ARION WL1350-4**37-****","Коммутационный блок","Iu 5000 A, AC, 3-полюс, выдвижное исполнение, Icu 100 kA, задний вертикальный подвод, размер 3","- / -",0,0,22725.879999999997,{"$f":"VLOOKUP(B2304,#REF!,3,FALSE)","v":{"$error":"#REF!"}}]
["Arion","Arion","LA1","CPOF077","ARION WL1363-4**37-****","Коммутационный блок","Iu 6300 A, AC, 3-полюс, выдвижное исполнение, Icu 100 kA, задний вертикальный подвод, размер 3","- / -",0,0,30156.019999999997,{"$f":"VLOOKUP(B2305,#REF!,3,FALSE)","v":{"$error":"#REF!"}}]
["Arion","Arion","LA1","CPOF163","ARION WL1340-5**37-****","Коммутационный блок","Iu 4000 A, AC, 3-полюс, выдвижное исполнение, Icu 150 kA, задний вертикальный подвод, размер 3","- / -",0,0,17289.199999999997,{"$f":"VLOOKUP(B2306,#REF!,3,FALSE)","v":{"$error":"#REF!"}}]
["Arion","Arion","LA1","CPOF164","ARION WL1350-5**37-****","Коммутационный блок","Iu 5000 A, AC, 3-полюс, выдвижное исполнение, Icu 150 kA, задний вертикальный подвод, размер 3","- / -",0,0,23541.66,{"$f":"VLOOKUP(B2307,#REF!,3,FALSE)","v":{"$error":"#REF!"}}]
["Arion","Arion","LA1","CPOF165","ARION WL1363-5**37-****","Коммутационный блок","Iu 6300 A, AC, 3-полюс, выдвижное исполнение, Icu 150 kA, задний вертикальный подвод, размер 3","- / -",0,0,31290.73,{"$f":"VLOOKUP(B2308,#REF!,3,FALSE)","v":{"$error":"#REF!"}}]
[null,null,null,"Level  6","ARION WL1xxx-x**38-**** - Задние фланцевые подводы"]
[null,null,null,"Level  7","ARION WL11xx-x**38-**** - Размер I, 630 ÷ 2 000 A"]
["Arion","Arion","LA1","CPOF485","ARION WL1106-2**38-****","Коммутационный блок","Iu 630 A, AC, 3-полюс, выдвижное исполнение, Icu 55 kA, задний фланцевый подвод, размер 1","- / -",0,0,1968.86,{"$f":"VLOOKUP(B2311,#REF!,3,FALSE)","v":{"$error":"#REF!"}}]
["Arion","Arion","LA1","CPOF486","ARION WL1108-2**38-****","Коммутационный блок","Iu 800 A, AC, 3-полюс, выдвижное исполнение, Icu 55 kA, задний фланцевый подвод, размер 1","- / -",0,0,2011.77,{"$f":"VLOOKUP(B2312,#REF!,3,FALSE)","v":{"$error":"#REF!"}}]
["Arion","Arion","LA1","CPOF487","ARION WL1110-2**38-****","Коммутационный блок","Iu 1000 A, AC, 3-полюс, выдвижное исполнение, Icu 55 kA, задний фланцевый подвод, размер 1","- / -",0,0,2128.3300000000004,{"$f":"VLOOKUP(B2313,#REF!,3,FALSE)","v":{"$error":"#REF!"}}]
["Arion","Arion","LA1","CPOF488","ARION WL1112-2**38-****","Коммутационный блок","Iu 1250 A, AC, 3-полюс, выдвижное исполнение, Icu 55 kA, задний фланцевый подвод, размер 1","- / -",0,0,2416.6000000000004,{"$f":"VLOOKUP(B2314,#REF!,3,FALSE)","v":{"$error":"#REF!"}}]
["Arion","Arion","LA1","CPOF489","ARION WL1116-2**38-****","Коммутационный блок","Iu 1600 A, AC, 3-полюс, выдвижное исполнение, Icu 55 kA, задний фланцевый подвод, размер 1","- / -",0,0,3973.4700000000003,{"$f":"VLOOKUP(B2315,#REF!,3,FALSE)","v":{"$error":"#REF!"}}]
["Arion","Arion","LA1","CPOF662","ARION WL1120-2**38-****","Коммутационный блок","Iu 2000 A, AC, 3-полюс, выдвижное исполнение, Icu 55 kA, задний фланцевый подвод, размер 1","- / -",0,0,4790.2800000000007,{"$f":"VLOOKUP(B2316,#REF!,3,FALSE)","v":{"$error":"#REF!"}}]
["Arion","Arion","LA1","CPOF528","ARION WL1106-3**38-****","Коммутационный блок","Iu 630 A, AC, 3-полюс, выдвижное исполнение, Icu 66 kA, задний фланцевый подвод, размер 1","- / -",0,0,2367.5700000000002,{"$f":"VLOOKUP(B2317,#REF!,3,FALSE)","v":{"$error":"#REF!"}}]
["Arion","Arion","LA1","CPOF529","ARION WL1108-3**38-****","Коммутационный блок","Iu 800 A, AC, 3-полюс, выдвижное исполнение, Icu 66 kA, задний фланцевый подвод, размер 1","- / -",0,0,2379.7800000000002,{"$f":"VLOOKUP(B2318,#REF!,3,FALSE)","v":{"$error":"#REF!"}}]
["Arion","Arion","LA1","CPOF530","ARION WL1110-3**38-****","Коммутационный блок","Iu 1000 A, AC, 3-полюс, выдвижное исполнение, Icu 66 kA, задний фланцевый подвод, размер 1","- / -",0,0,2471.8300000000004,{"$f":"VLOOKUP(B2319,#REF!,3,FALSE)","v":{"$error":"#REF!"}}]
["Arion","Arion","LA1","CPOF531","ARION WL1112-3**38-****","Коммутационный блок","Iu 1250 A, AC, 3-полюс, выдвижное исполнение, Icu 66 kA, задний фланцевый подвод, размер 1","- / -",0,0,2821.4,{"$f":"VLOOKUP(B2320,#REF!,3,FALSE)","v":{"$error":"#REF!"}}]
["Arion","Arion","LA1","CPOF532","ARION WL1116-3**38-****","Коммутационный блок","Iu 1600 A, AC, 3-полюс, выдвижное исполнение, Icu 66 kA, задний фланцевый подвод, размер 1","- / -",0,0,4191.68,{"$f":"VLOOKUP(B2321,#REF!,3,FALSE)","v":{"$error":"#REF!"}}]
["Arion","Arion","LA1","CPOF663","ARION WL1120-3**38-****","Коммутационный блок","Iu 2000 A, AC, 3-полюс, выдвижное исполнение, Icu 66 kA, задний фланцевый подвод, размер 1","- / -",0,0,5066.2800000000007,{"$f":"VLOOKUP(B2322,#REF!,3,FALSE)","v":{"$error":"#REF!"}}]
["Arion","Arion","LA1","CPOF008","ARION WL1106-4**38-****","Коммутационный блок","Iu 630 A, AC, 3-полюс, выдвижное исполнение, Icu 85 kA, задний фланцевый подвод, размер 1","- / -",0,0,2527.0100000000002,{"$f":"VLOOKUP(B2323,#REF!,3,FALSE)","v":{"$error":"#REF!"}}]
["Arion","Arion","LA1","CPOF131","ARION WL1108-4**38-****","Коммутационный блок","Iu 800 A, AC, 3-полюс, выдвижное исполнение, Icu 85 kA, задний фланцевый подвод, размер 1","- / -",0,0,2545.4,{"$f":"VLOOKUP(B2324,#REF!,3,FALSE)","v":{"$error":"#REF!"}}]
["Arion","Arion","LA1","CPOFC02","ARION WL1110-4**38-****","Коммутационный блок","Iu 1000 A, AC, 3-полюс, выдвижное исполнение, Icu 85 kA, задний фланцевый подвод, размер 1","- / -",0,0,2643.5400000000004,{"$f":"VLOOKUP(B2325,#REF!,3,FALSE)","v":{"$error":"#REF!"}}]
["Arion","Arion","LA1","CPOFC53","ARION WL1116-4**38-****","Коммутационный блок","Iu 1600 A, AC, 3-полюс, выдвижное исполнение, Icu 85 kA, задний фланцевый подвод, размер 1","- / -",0,0,4496.0300000000007,{"$f":"VLOOKUP(B2326,#REF!,3,FALSE)","v":{"$error":"#REF!"}}]
["Arion","Arion","LA1","CPOF664","ARION WL1120-4**38-****","Коммутационный блок","Iu 2000 A, AC, 3-полюс, выдвижное исполнение, Icu 85 kA, задний фланцевый подвод, размер 1","- / -",0,0,5379.09,{"$f":"VLOOKUP(B2327,#REF!,3,FALSE)","v":{"$error":"#REF!"}}]
[null,null,null,"Level  7","ARION WL12xx-x**38-**** - Размер II, 800 ÷ 4 000 A"]
["Arion","Arion","LA1","CPOF490","ARION WL1220-2**38-****","Коммутационный блок","Iu 2000 A, AC, 3-полюс, выдвижное исполнение, Icu 66 kA, задний фланцевый подвод, размер 2","- / -",0,0,5305.5,{"$f":"VLOOKUP(B2329,#REF!,3,FALSE)","v":{"$error":"#REF!"}}]
["Arion","Arion","LA1","CPOF491","ARION WL1225-2**38-****","Коммутационный блок","Iu 2500 A, AC, 3-полюс, выдвижное исполнение, Icu 66 kA, задний фланцевый подвод, размер 2","- / -",0,0,6861.4400000000005,{"$f":"VLOOKUP(B2330,#REF!,3,FALSE)","v":{"$error":"#REF!"}}]
["Arion","Arion","LA1","CPOF097","ARION WL1232-2**38-****","Коммутационный блок","Iu 3200 A, AC, 3-полюс, выдвижное исполнение, Icu 66 kA, задний фланцевый подвод, размер 2","- / -",0,0,8752.51,{"$f":"VLOOKUP(B2331,#REF!,3,FALSE)","v":{"$error":"#REF!"}}]
["Arion","Arion","LA1","CPOF533","ARION WL1208-3**38-****","Коммутационный блок","Iu 800 A, AC, 3-полюс, выдвижное исполнение, Icu 80 kA, задний фланцевый подвод, размер 2","- / -",0,0,2845.9700000000003,{"$f":"VLOOKUP(B2332,#REF!,3,FALSE)","v":{"$error":"#REF!"}}]
["Arion","Arion","LA1","CPOF534","ARION WL1210-3**38-****","Коммутационный блок","Iu 1000 A, AC, 3-полюс, выдвижное исполнение, Icu 80 kA, задний фланцевый подвод, размер 2","- / -",0,0,2999.3100000000004,{"$f":"VLOOKUP(B2333,#REF!,3,FALSE)","v":{"$error":"#REF!"}}]
["Arion","Arion","LA1","CPOF535","ARION WL1212-3**38-****","Коммутационный блок","Iu 1250 A, AC, 3-полюс, выдвижное исполнение, Icu 80 kA, задний фланцевый подвод, размер 2","- / -",0,0,3367.3,{"$f":"VLOOKUP(B2334,#REF!,3,FALSE)","v":{"$error":"#REF!"}}]
["Arion","Arion","LA1","CPOF536","ARION WL1216-3**38-****","Коммутационный блок","Iu 1600 A, AC, 3-полюс, выдвижное исполнение, Icu 80 kA, задний фланцевый подвод, размер 2","- / -",0,0,4814.8,{"$f":"VLOOKUP(B2335,#REF!,3,FALSE)","v":{"$error":"#REF!"}}]
["Arion","Arion","LA1","CPOF537","ARION WL1220-3**38-****","Коммутационный блок","Iu 2000 A, AC, 3-полюс, выдвижное исполнение, Icu 80 kA, задний фланцевый подвод, размер 2","- / -",0,0,5814.59,{"$f":"VLOOKUP(B2336,#REF!,3,FALSE)","v":{"$error":"#REF!"}}]
["Arion","Arion","LA1","CPOF538","ARION WL1225-3**38-****","Коммутационный блок","Iu 2500 A, AC, 3-полюс, выдвижное исполнение, Icu 80 kA, задний фланцевый подвод, размер 2","- / -",0,0,7419.72,{"$f":"VLOOKUP(B2337,#REF!,3,FALSE)","v":{"$error":"#REF!"}}]
["Arion","Arion","LA1","CPOF539","ARION WL1232-3**38-****","Коммутационный блок","Iu 3200 A, AC, 3-полюс, выдвижное исполнение, Icu 80 kA, задний фланцевый подвод, размер 2","- / -",0,0,9188.01,{"$f":"VLOOKUP(B2338,#REF!,3,FALSE)","v":{"$error":"#REF!"}}]
["Arion","Arion","LA1","CPOF566","ARION WL1208-4**38-****","Коммутационный блок","Iu 800 A, AC, 3-полюс, выдвижное исполнение, Icu 100 kA, задний фланцевый подвод, размер 2","- / -",0,0,3017.71,{"$f":"VLOOKUP(B2339,#REF!,3,FALSE)","v":{"$error":"#REF!"}}]
["Arion","Arion","LA1","CPOF567","ARION WL1210-4**38-****","Коммутационный блок","Iu 1000 A, AC, 3-полюс, выдвижное исполнение, Icu 100 kA, задний фланцевый подвод, размер 2","- / -",0,0,3195.59,{"$f":"VLOOKUP(B2340,#REF!,3,FALSE)","v":{"$error":"#REF!"}}]
["Arion","Arion","LA1","CPOF568","ARION WL1212-4**38-****","Коммутационный блок","Iu 1250 A, AC, 3-полюс, выдвижное исполнение, Icu 100 kA, задний фланцевый подвод, размер 2","- / -",0,0,3532.8900000000003,{"$f":"VLOOKUP(B2341,#REF!,3,FALSE)","v":{"$error":"#REF!"}}]
["Arion","Arion","LA1","CPOF569","ARION WL1216-4**38-****","Коммутационный блок","Iu 1600 A, AC, 3-полюс, выдвижное исполнение, Icu 100 kA, задний фланцевый подвод, размер 2","- / -",0,0,5066.2800000000007,{"$f":"VLOOKUP(B2342,#REF!,3,FALSE)","v":{"$error":"#REF!"}}]
["Arion","Arion","LA1","CPOF570","ARION WL1220-4**38-****","Коммутационный блок","Iu 2000 A, AC, 3-полюс, выдвижное исполнение, Icu 100 kA, задний фланцевый подвод, размер 2","- / -",0,0,5986.3,{"$f":"VLOOKUP(B2343,#REF!,3,FALSE)","v":{"$error":"#REF!"}}]
["Arion","Arion","LA1","CPOF571","ARION WL1225-4**38-****","Коммутационный блок","Iu 2500 A, AC, 3-полюс, выдвижное исполнение, Icu 100 kA, задний фланцевый подвод, размер 2","- / -",0,0,7707.88,{"$f":"VLOOKUP(B2344,#REF!,3,FALSE)","v":{"$error":"#REF!"}}]
["Arion","Arion","LA1","CPOF572","ARION WL1232-4**38-****","Коммутационный блок","Iu 3200 A, AC, 3-полюс, выдвижное исполнение, Icu 100 kA, задний фланцевый подвод, размер 2","- / -",0,0,9482.4,{"$f":"VLOOKUP(B2345,#REF!,3,FALSE)","v":{"$error":"#REF!"}}]
[null,null,null,"Level  7","ARION WL13xx-x**38-**** - Размер III, 4 000 ÷ 6 300 A"]
["Arion","Arion","LA1","CPOF573","ARION WL1340-4**38-****","Коммутационный блок","Iu 4000 A, AC, 3-полюс, выдвижное исполнение, Icu 100 kA, задний фланцевый подвод, размер 3","- / -",0,0,13510.92,{"$f":"VLOOKUP(B2347,#REF!,3,FALSE)","v":{"$error":"#REF!"}}]
[null,null,null,"Level  5","ARION WL1xxx-x**4x-**** - 4-полюс, стационарное исполнение"]
[null,null,null,"Level  6","ARION WL1xxx-x**42-**** - Задние горизонтальные подводы"]
[null,null,null,"Level  7","ARION WL11xx-x**42-**** - Размер I, 630 ÷ 2 000 A"]
["Arion","Arion","LA1","CPOF574","ARION WL1106-2**42-****","Коммутационный блок","Iu 630 A, AC, 4-полюс, стационарное исполнение, Icu 55 kA, задний горизонтальный подвод, размер 1","- / -",0,0,2060.8500000000004,{"$f":"VLOOKUP(B2351,#REF!,3,FALSE)","v":{"$error":"#REF!"}}]
["Arion","Arion","LA1","CPOF575","ARION WL1108-2**42-****","Коммутационный блок","Iu 800 A, AC, 4-полюс, стационарное исполнение, Icu 55 kA, задний горизонтальный подвод, размер 1","- / -",0,0,2097.67,{"$f":"VLOOKUP(B2352,#REF!,3,FALSE)","v":{"$error":"#REF!"}}]
["Arion","Arion","LA1","CPOF576","ARION WL1110-2**42-****","Коммутационный блок","Iu 1000 A, AC, 4-полюс, стационарное исполнение, Icu 55 kA, задний горизонтальный подвод, размер 1","- / -",0,0,2336.88,{"$f":"VLOOKUP(B2353,#REF!,3,FALSE)","v":{"$error":"#REF!"}}]
["Arion","Arion","LA1","CPOF577","ARION WL1112-2**42-****","Коммутационный блок","Iu 1250 A, AC, 4-полюс, стационарное исполнение, Icu 55 kA, задний горизонтальный подвод, размер 1","- / -",0,0,2717.17,{"$f":"VLOOKUP(B2354,#REF!,3,FALSE)","v":{"$error":"#REF!"}}]
["Arion","Arion","LA1","CPOF578","ARION WL1116-2**42-****","Коммутационный блок","Iu 1600 A, AC, 4-полюс, стационарное исполнение, Icu 55 kA, задний горизонтальный подвод, размер 1","- / -",0,0,4128.5200000000004,{"$f":"VLOOKUP(B2355,#REF!,3,FALSE)","v":{"$error":"#REF!"}}]
["Arion","Arion","LA1","CPOF289","ARION WL1120-2**42-****","Коммутационный блок","Iu 2000 A, AC, 4-полюс, стационарное исполнение, Icu 55 kA, задний горизонтальный подвод, размер 1","- / -",0,0,4986.5600000000004,{"$f":"VLOOKUP(B2356,#REF!,3,FALSE)","v":{"$error":"#REF!"}}]
["Arion","Arion","LA1","CPOF602","ARION WL1106-3**42-****","Коммутационный блок","Iu 630 A, AC, 4-полюс, стационарное исполнение, Icu 66 kA, задний горизонтальный подвод, размер 1","- / -",0,0,2569.94,{"$f":"VLOOKUP(B2357,#REF!,3,FALSE)","v":{"$error":"#REF!"}}]
["Arion","Arion","LA1","CPOF603","ARION WL1108-3**42-****","Коммутационный блок","Iu 800 A, AC, 4-полюс, стационарное исполнение, Icu 66 kA, задний горизонтальный подвод, размер 1","- / -",0,0,2600.61,{"$f":"VLOOKUP(B2358,#REF!,3,FALSE)","v":{"$error":"#REF!"}}]
["Arion","Arion","LA1","CPOF604","ARION WL1110-3**42-****","Коммутационный блок","Iu 1000 A, AC, 4-полюс, стационарное исполнение, Icu 66 kA, задний горизонтальный подвод, размер 1","- / -",0,0,2833.67,{"$f":"VLOOKUP(B2359,#REF!,3,FALSE)","v":{"$error":"#REF!"}}]
["Arion","Arion","LA1","CPOF605","ARION WL1112-3**42-****","Коммутационный блок","Iu 1250 A, AC, 4-полюс, стационарное исполнение, Icu 66 kA, задний горизонтальный подвод, размер 1","- / -",0,0,3029.9500000000003,{"$f":"VLOOKUP(B2360,#REF!,3,FALSE)","v":{"$error":"#REF!"}}]
["Arion","Arion","LA1","CPOF606","ARION WL1116-3**42-****","Коммутационный блок","Iu 1600 A, AC, 4-полюс, стационарное исполнение, Icu 66 kA, задний горизонтальный подвод, размер 1","- / -",0,0,4277.8,{"$f":"VLOOKUP(B2361,#REF!,3,FALSE)","v":{"$error":"#REF!"}}]
["Arion","Arion","LA1","CPOF290","ARION WL1120-3**42-****","Коммутационный блок","Iu 2000 A, AC, 4-полюс, стационарное исполнение, Icu 66 kA, задний горизонтальный подвод, размер 1","- / -",0,0,5170.54,{"$f":"VLOOKUP(B2362,#REF!,3,FALSE)","v":{"$error":"#REF!"}}]
["Arion","Arion","LA1","CPOF010","ARION WL1106-4**42-****","Коммутационный блок","Iu 630 A, AC, 4-полюс, стационарное исполнение, Icu 85 kA, задний горизонтальный подвод, размер 1","- / -",0,0,2747.8,{"$f":"VLOOKUP(B2363,#REF!,3,FALSE)","v":{"$error":"#REF!"}}]
["Arion","Arion","LA1","CPOF217","ARION WL1108-4**42-****","Коммутационный блок","Iu 800 A, AC, 4-полюс, стационарное исполнение, Icu 85 kA, задний горизонтальный подвод, размер 1","- / -",0,0,2784.61,{"$f":"VLOOKUP(B2364,#REF!,3,FALSE)","v":{"$error":"#REF!"}}]
["Arion","Arion","LA1","CPOFC04","ARION WL1110-4**42-****","Коммутационный блок","Iu 1000 A, AC, 4-полюс, стационарное исполнение, Icu 85 kA, задний горизонтальный подвод, размер 1","- / -",0,0,3029.9500000000003,{"$f":"VLOOKUP(B2365,#REF!,3,FALSE)","v":{"$error":"#REF!"}}]
["Arion","Arion","LA1","CPOFC55","ARION WL1116-4**42-****","Коммутационный блок","Iu 1600 A, AC, 4-полюс, стационарное исполнение, Icu 85 kA, задний горизонтальный подвод, размер 1","- / -",0,0,4582.16,{"$f":"VLOOKUP(B2366,#REF!,3,FALSE)","v":{"$error":"#REF!"}}]
["Arion","Arion","LA1","CPOF319","ARION WL1120-4**42-****","Коммутационный блок","Iu 2000 A, AC, 4-полюс, стационарное исполнение, Icu 85 kA, задний горизонтальный подвод, размер 1","- / -",0,0,5483.38,{"$f":"VLOOKUP(B2367,#REF!,3,FALSE)","v":{"$error":"#REF!"}}]
[null,null,null,"Level  7","ARION WL12xx-x**42-**** - Размер II, 800 ÷ 4 000 A"]
["Arion","Arion","LA1","CPOF579","ARION WL1220-2**42-****","Коммутационный блок","Iu 2000 A, AC, 4-полюс, стационарное исполнение, Icu 66 kA, задний горизонтальный подвод, размер 2","- / -",0,0,5231.9000000000005,{"$f":"VLOOKUP(B2369,#REF!,3,FALSE)","v":{"$error":"#REF!"}}]
["Arion","Arion","LA1","CPOF580","ARION WL1225-2**42-****","Коммутационный блок","Iu 2500 A, AC, 4-полюс, стационарное исполнение, Icu 66 kA, задний горизонтальный подвод, размер 2","- / -",0,0,7203.59,{"$f":"VLOOKUP(B2370,#REF!,3,FALSE)","v":{"$error":"#REF!"}}]
["Arion","Arion","LA1","CPOF098","ARION WL1232-2**42-****","Коммутационный блок","Iu 3200 A, AC, 4-полюс, стационарное исполнение, Icu 66 kA, задний горизонтальный подвод, размер 2","- / -",0,0,8973.33,{"$f":"VLOOKUP(B2371,#REF!,3,FALSE)","v":{"$error":"#REF!"}}]
["Arion","Arion","LA1","CPOF607","ARION WL1208-3**42-****","Коммутационный блок","Iu 800 A, AC, 4-полюс, стационарное исполнение, Icu 80 kA, задний горизонтальный подвод, размер 2","- / -",0,0,2839.8500000000004,{"$f":"VLOOKUP(B2372,#REF!,3,FALSE)","v":{"$error":"#REF!"}}]
["Arion","Arion","LA1","CPOF608","ARION WL1210-3**42-****","Коммутационный блок","Iu 1000 A, AC, 4-полюс, стационарное исполнение, Icu 80 kA, задний горизонтальный подвод, размер 2","- / -",0,0,3085.15,{"$f":"VLOOKUP(B2373,#REF!,3,FALSE)","v":{"$error":"#REF!"}}]
["Arion","Arion","LA1","CPOF609","ARION WL1212-3**42-****","Коммутационный блок","Iu 1250 A, AC, 4-полюс, стационарное исполнение, Icu 80 kA, задний горизонтальный подвод, размер 2","- / -",0,0,3299.8300000000004,{"$f":"VLOOKUP(B2374,#REF!,3,FALSE)","v":{"$error":"#REF!"}}]
["Arion","Arion","LA1","CPOF610","ARION WL1216-3**42-****","Коммутационный блок","Iu 1600 A, AC, 4-полюс, стационарное исполнение, Icu 80 kA, задний горизонтальный подвод, размер 2","- / -",0,0,4876.1500000000005,{"$f":"VLOOKUP(B2375,#REF!,3,FALSE)","v":{"$error":"#REF!"}}]
["Arion","Arion","LA1","CPOF611","ARION WL1220-3**42-****","Коммутационный блок","Iu 2000 A, AC, 4-полюс, стационарное исполнение, Icu 80 kA, задний горизонтальный подвод, размер 2","- / -",0,0,5882.06,{"$f":"VLOOKUP(B2376,#REF!,3,FALSE)","v":{"$error":"#REF!"}}]
["Arion","Arion","LA1","CPOF612","ARION WL1225-3**42-****","Коммутационный блок","Iu 2500 A, AC, 4-полюс, стационарное исполнение, Icu 80 kA, задний горизонтальный подвод, размер 2","- / -",0,0,8062.0300000000007,{"$f":"VLOOKUP(B2377,#REF!,3,FALSE)","v":{"$error":"#REF!"}}]
["Arion","Arion","LA1","CPOF613","ARION WL1232-3**42-****","Коммутационный блок","Iu 3200 A, AC, 4-полюс, стационарное исполнение, Icu 80 kA, задний горизонтальный подвод, размер 2","- / -",0,0,9482.4,{"$f":"VLOOKUP(B2378,#REF!,3,FALSE)","v":{"$error":"#REF!"}}]
["Arion","Arion","LA1","CPOF681","ARION WL1208-4**42-****","Коммутационный блок","Iu 800 A, AC, 4-полюс, стационарное исполнение, Icu 100 kA, задний горизонтальный подвод, размер 2","- / -",0,0,2974.7400000000002,{"$f":"VLOOKUP(B2379,#REF!,3,FALSE)","v":{"$error":"#REF!"}}]
["Arion","Arion","LA1","CPOF682","ARION WL1210-4**42-****","Коммутационный блок","Iu 1000 A, AC, 4-полюс, стационарное исполнение, Icu 100 kA, задний горизонтальный подвод, размер 2","- / -",0,0,3238.5,{"$f":"VLOOKUP(B2380,#REF!,3,FALSE)","v":{"$error":"#REF!"}}]
["Arion","Arion","LA1","CPOF683","ARION WL1212-4**42-****","Коммутационный блок","Iu 1250 A, AC, 4-полюс, стационарное исполнение, Icu 100 kA, задний горизонтальный подвод, размер 2","- / -",0,0,3440.9300000000003,{"$f":"VLOOKUP(B2381,#REF!,3,FALSE)","v":{"$error":"#REF!"}}]
["Arion","Arion","LA1","CPOF684","ARION WL1216-4**42-****","Коммутационный блок","Iu 1600 A, AC, 4-полюс, стационарное исполнение, Icu 100 kA, задний горизонтальный подвод, размер 2","- / -",0,0,5066.2800000000007,{"$f":"VLOOKUP(B2382,#REF!,3,FALSE)","v":{"$error":"#REF!"}}]
["Arion","Arion","LA1","CPOF685","ARION WL1220-4**42-****","Коммутационный блок","Iu 2000 A, AC, 4-полюс, стационарное исполнение, Icu 100 kA, задний горизонтальный подвод, размер 2","- / -",0,0,6035.38,{"$f":"VLOOKUP(B2383,#REF!,3,FALSE)","v":{"$error":"#REF!"}}]
["Arion","Arion","LA1","CPOF686","ARION WL1225-4**42-****","Коммутационный блок","Iu 2500 A, AC, 4-полюс, стационарное исполнение, Icu 100 kA, задний горизонтальный подвод, размер 2","- / -",0,0,8206.1,{"$f":"VLOOKUP(B2384,#REF!,3,FALSE)","v":{"$error":"#REF!"}}]
["Arion","Arion","LA1","CPOF687","ARION WL1232-4**42-****","Коммутационный блок","Iu 3200 A, AC, 4-полюс, стационарное исполнение, Icu 100 kA, задний горизонтальный подвод, размер 2","- / -",0,0,10420.86,{"$f":"VLOOKUP(B2385,#REF!,3,FALSE)","v":{"$error":"#REF!"}}]
["Arion","Arion","LA1","CPOFF46","ARION WL1216-5**42-****","Коммутационный блок","Iu 1600 A, AC, 4-полюс, стационарное исполнение, Icu 130 kA, задний горизонтальный подвод, размер 2","- / -",0,0,5889.25,{"$f":"VLOOKUP(B2386,#REF!,3,FALSE)","v":{"$error":"#REF!"}}]
["Arion","Arion","LA1","CPOFF47","ARION WL1220-5**42-****","Коммутационный блок","Iu 2000 A, AC, 4-полюс, стационарное исполнение, Icu 130 kA, задний горизонтальный подвод, размер 2","- / -",0,0,7361.63,{"$f":"VLOOKUP(B2387,#REF!,3,FALSE)","v":{"$error":"#REF!"}}]
["Arion","Arion","LA1","CPOFF48","ARION WL1225-5**42-****","Коммутационный блок","Iu 2500 A, AC, 4-полюс, стационарное исполнение, Icu 130 kA, задний горизонтальный подвод, размер 2","- / -",0,0,10251.73,{"$f":"VLOOKUP(B2388,#REF!,3,FALSE)","v":{"$error":"#REF!"}}]
["Arion","Arion","LA1","CPOFF49","ARION WL1232-5**42-****","Коммутационный блок","Iu 3200 A, AC, 4-полюс, стационарное исполнение, Icu 130 kA, задний горизонтальный подвод, размер 2","- / -",0,0,13032.58,{"$f":"VLOOKUP(B2389,#REF!,3,FALSE)","v":{"$error":"#REF!"}}]
[null,null,null,"Level  7","ARION WL13xx-x**42-**** - Размер III, 4 000 ÷ 6 300 A"]
["Arion","Arion","LA1","CPOF688","ARION WL1340-4**42-****","Коммутационный блок","Iu 4000 A, AC, 4-полюс, стационарное исполнение, Icu 100 kA, задний горизонтальный подвод, размер 3","- / -",0,0,12833.41,{"$f":"VLOOKUP(B2391,#REF!,3,FALSE)","v":{"$error":"#REF!"}}]
["Arion","Arion","LA1","CPOF689","ARION WL1350-4**42-****","Коммутационный блок","Iu 5000 A, AC, 4-полюс, стационарное исполнение, Icu 100 kA, задний горизонтальный подвод, размер 3","- / -",0,0,22884.14,{"$f":"VLOOKUP(B2392,#REF!,3,FALSE)","v":{"$error":"#REF!"}}]
["Arion","Arion","LA1","CPOF166","ARION WL1340-5**42-****","Коммутационный блок","Iu 4000 A, AC, 4-полюс, выдвижное исполнение, Icu 130 kA, задний горизонтальный подвод, размер 3","- / -",0,0,18374.429999999997,{"$f":"VLOOKUP(B2393,#REF!,3,FALSE)","v":{"$error":"#REF!"}}]
["Arion","Arion","LA1","CPOF167","ARION WL1350-5**42-****","Коммутационный блок","Iu 5000 A, AC, 4-полюс, выдвижное исполнение, Icu 130 kA, задний горизонтальный подвод, размер 3","- / -",0,0,25454.079999999998,{"$f":"VLOOKUP(B2394,#REF!,3,FALSE)","v":{"$error":"#REF!"}}]
[null,null,null,"Level  6","ARION WL1xxx-x**41-**** - Задние вертикальные подводы"]
[null,null,null,"Level  7","ARION WL11xx-x**41-**** - Размер I, 630 ÷ 2 000 A"]
["Arion","Arion","LA1","CPOF581","ARION WL1106-2**41-****","Коммутационный блок","Iu 630 A, AC, 4-полюс, стационарное исполнение, Icu 55 kA, задний вертикальный подвод, размер 1","- / -",0,0,2301.92,{"$f":"VLOOKUP(B2397,#REF!,3,FALSE)","v":{"$error":"#REF!"}}]
["Arion","Arion","LA1","CPOF582","ARION WL1108-2**41-****","Коммутационный блок","Iu 800 A, AC, 4-полюс, стационарное исполнение, Icu 55 kA, задний вертикальный подвод, размер 1","- / -",0,0,2338.73,{"$f":"VLOOKUP(B2398,#REF!,3,FALSE)","v":{"$error":"#REF!"}}]
["Arion","Arion","LA1","CPOF583","ARION WL1110-2**41-****","Коммутационный блок","Iu 1000 A, AC, 4-полюс, стационарное исполнение, Icu 55 kA, задний вертикальный подвод, размер 1","- / -",0,0,2577.8900000000003,{"$f":"VLOOKUP(B2399,#REF!,3,FALSE)","v":{"$error":"#REF!"}}]
["Arion","Arion","LA1","CPOF584","ARION WL1112-2**41-****","Коммутационный блок","Iu 1250 A, AC, 4-полюс, стационарное исполнение, Icu 55 kA, задний вертикальный подвод, размер 1","- / -",0,0,2958.2000000000003,{"$f":"VLOOKUP(B2400,#REF!,3,FALSE)","v":{"$error":"#REF!"}}]
["Arion","Arion","LA1","CPOF585","ARION WL1116-2**41-****","Коммутационный блок","Iu 1600 A, AC, 4-полюс, стационарное исполнение, Icu 55 kA, задний вертикальный подвод, размер 1","- / -",0,0,4354.17,{"$f":"VLOOKUP(B2401,#REF!,3,FALSE)","v":{"$error":"#REF!"}}]
["Arion","Arion","LA1","CPOF328","ARION WL1120-2**41-****","Коммутационный блок","Iu 2000 A, AC, 4-полюс, стационарное исполнение, Icu 55 kA, задний вертикальный подвод, размер 1","- / -",0,0,5244.79,{"$f":"VLOOKUP(B2402,#REF!,3,FALSE)","v":{"$error":"#REF!"}}]
["Arion","Arion","LA1","CPOF614","ARION WL1106-3**41-****","Коммутационный блок","Iu 630 A, AC, 4-полюс, стационарное исполнение, Icu 66 kA, задний вертикальный подвод, размер 1","- / -",0,0,2810.98,{"$f":"VLOOKUP(B2403,#REF!,3,FALSE)","v":{"$error":"#REF!"}}]
["Arion","Arion","LA1","CPOF615","ARION WL1108-3**41-****","Коммутационный блок","Iu 800 A, AC, 4-полюс, стационарное исполнение, Icu 66 kA, задний вертикальный подвод, размер 1","- / -",0,0,2841.6400000000003,{"$f":"VLOOKUP(B2404,#REF!,3,FALSE)","v":{"$error":"#REF!"}}]
["Arion","Arion","LA1","CPOF616","ARION WL1110-3**41-****","Коммутационный блок","Iu 1000 A, AC, 4-полюс, стационарное исполнение, Icu 66 kA, задний вертикальный подвод, размер 1","- / -",0,0,3074.71,{"$f":"VLOOKUP(B2405,#REF!,3,FALSE)","v":{"$error":"#REF!"}}]
["Arion","Arion","LA1","CPOF617","ARION WL1112-3**41-****","Коммутационный блок","Iu 1250 A, AC, 4-полюс, стационарное исполнение, Icu 66 kA, задний вертикальный подвод, размер 1","- / -",0,0,3270.9900000000002,{"$f":"VLOOKUP(B2406,#REF!,3,FALSE)","v":{"$error":"#REF!"}}]
["Arion","Arion","LA1","CPOF618","ARION WL1116-3**41-****","Коммутационный блок","Iu 1600 A, AC, 4-полюс, стационарное исполнение, Icu 66 kA, задний вертикальный подвод, размер 1","- / -",0,0,4503.4800000000005,{"$f":"VLOOKUP(B2407,#REF!,3,FALSE)","v":{"$error":"#REF!"}}]
["Arion","Arion","LA1","CPOF329","ARION WL1120-3**41-****","Коммутационный блок","Iu 2000 A, AC, 4-полюс, стационарное исполнение, Icu 66 kA, задний вертикальный подвод, размер 1","- / -",0,0,5428.8,{"$f":"VLOOKUP(B2408,#REF!,3,FALSE)","v":{"$error":"#REF!"}}]
["Arion","Arion","LA1","CPOF009","ARION WL1106-4**41-****","Коммутационный блок","Iu 630 A, AC, 4-полюс, стационарное исполнение, Icu 85 kA, задний вертикальный подвод, размер 1","- / -",0,0,3006.03,{"$f":"VLOOKUP(B2409,#REF!,3,FALSE)","v":{"$error":"#REF!"}}]
["Arion","Arion","LA1","CPOF216","ARION WL1108-4**41-****","Коммутационный блок","Iu 800 A, AC, 4-полюс, стационарное исполнение, Icu 85 kA, задний вертикальный подвод, размер 1","- / -",0,0,3042.84,{"$f":"VLOOKUP(B2410,#REF!,3,FALSE)","v":{"$error":"#REF!"}}]
["Arion","Arion","LA1","CPOFC03","ARION WL1110-4**41-****","Коммутационный блок","Iu 1000 A, AC, 4-полюс, стационарное исполнение, Icu 85 kA, задний вертикальный подвод, размер 1","- / -",0,0,3288.17,{"$f":"VLOOKUP(B2411,#REF!,3,FALSE)","v":{"$error":"#REF!"}}]
["Arion","Arion","LA1","CPOFC54","ARION WL1116-4**41-****","Коммутационный блок","Iu 1600 A, AC, 4-полюс, стационарное исполнение, Icu 85 kA, задний вертикальный подвод, размер 1","- / -",0,0,4823.87,{"$f":"VLOOKUP(B2412,#REF!,3,FALSE)","v":{"$error":"#REF!"}}]
["Arion","Arion","LA1","CPOF330","ARION WL1120-4**41-****","Коммутационный блок","Iu 2000 A, AC, 4-полюс, стационарное исполнение, Icu 85 kA, задний вертикальный подвод, размер 1","- / -",0,0,5772.24,{"$f":"VLOOKUP(B2413,#REF!,3,FALSE)","v":{"$error":"#REF!"}}]
[null,null,null,"Level  7","ARION WL12xx-x**41-**** - Размер II, 800 ÷ 4 000 A"]
["Arion","Arion","LA1","CPOF586","ARION WL1220-2**41-****","Коммутационный блок","Iu 2000 A, AC, 4-полюс, стационарное исполнение, Icu 66 kA, задний вертикальный подвод, размер 2","- / -",0,0,5531.2,{"$f":"VLOOKUP(B2415,#REF!,3,FALSE)","v":{"$error":"#REF!"}}]
["Arion","Arion","LA1","CPOF587","ARION WL1225-2**41-****","Коммутационный блок","Iu 2500 A, AC, 4-полюс, стационарное исполнение, Icu 66 kA, задний вертикальный подвод, размер 2","- / -",0,0,7547.5700000000006,{"$f":"VLOOKUP(B2416,#REF!,3,FALSE)","v":{"$error":"#REF!"}}]
["Arion","Arion","LA1","CPOF099","ARION WL1232-2**41-****","Коммутационный блок","Iu 3200 A, AC, 4-полюс, стационарное исполнение, Icu 66 kA, задний вертикальный подвод, размер 2","- / -",0,0,9506.35,{"$f":"VLOOKUP(B2417,#REF!,3,FALSE)","v":{"$error":"#REF!"}}]
["Arion","Arion","LA1","CPOF180","ARION WL1240-2**41-****","Коммутационный блок","Iu 4000 A, AC, 4-полюс, стационарное исполнение, Icu 66 kA, задний вертикальный подвод, размер 2","- / -",0,0,11205.92,{"$f":"VLOOKUP(B2418,#REF!,3,FALSE)","v":{"$error":"#REF!"}}]
["Arion","Arion","LA1","CPOF620","ARION WL1208-3**41-****","Коммутационный блок","Iu 800 A, AC, 4-полюс, стационарное исполнение, Icu 80 kA, задний вертикальный подвод, размер 2","- / -",0,0,3080.8900000000003,{"$f":"VLOOKUP(B2419,#REF!,3,FALSE)","v":{"$error":"#REF!"}}]
["Arion","Arion","LA1","CPOF621","ARION WL1210-3**41-****","Коммутационный блок","Iu 1000 A, AC, 4-полюс, стационарное исполнение, Icu 80 kA, задний вертикальный подвод, размер 2","- / -",0,0,3326.19,{"$f":"VLOOKUP(B2420,#REF!,3,FALSE)","v":{"$error":"#REF!"}}]
["Arion","Arion","LA1","CPOF622","ARION WL1212-3**41-****","Коммутационный блок","Iu 1250 A, AC, 4-полюс, стационарное исполнение, Icu 80 kA, задний вертикальный подвод, размер 2","- / -",0,0,3540.86,{"$f":"VLOOKUP(B2421,#REF!,3,FALSE)","v":{"$error":"#REF!"}}]
["Arion","Arion","LA1","CPOF623","ARION WL1216-3**41-****","Коммутационный блок","Iu 1600 A, AC, 4-полюс, стационарное исполнение, Icu 80 kA, задний вертикальный подвод, размер 2","- / -",0,0,5117.1900000000005,{"$f":"VLOOKUP(B2422,#REF!,3,FALSE)","v":{"$error":"#REF!"}}]
["Arion","Arion","LA1","CPOF624","ARION WL1220-3**41-****","Коммутационный блок","Iu 2000 A, AC, 4-полюс, стационарное исполнение, Icu 80 kA, задний вертикальный подвод, размер 2","- / -",0,0,6181.34,{"$f":"VLOOKUP(B2423,#REF!,3,FALSE)","v":{"$error":"#REF!"}}]
["Arion","Arion","LA1","CPOF625","ARION WL1225-3**41-****","Коммутационный блок","Iu 2500 A, AC, 4-полюс, стационарное исполнение, Icu 80 kA, задний вертикальный подвод, размер 2","- / -",0,0,8406.01,{"$f":"VLOOKUP(B2424,#REF!,3,FALSE)","v":{"$error":"#REF!"}}]
["Arion","Arion","LA1","CPOF626","ARION WL1232-3**41-****","Коммутационный блок","Iu 3200 A, AC, 4-полюс, стационарное исполнение, Icu 80 kA, задний вертикальный подвод, размер 2","- / -",0,0,9954.08,{"$f":"VLOOKUP(B2425,#REF!,3,FALSE)","v":{"$error":"#REF!"}}]
["Arion","Arion","LA1","CPOF109","ARION WL1240-3**41-****","Коммутационный блок","Iu 4000 A, AC, 4-полюс, стационарное исполнение, Icu 80 kA, задний вертикальный подвод, размер 2","- / -",0,0,11880.6,{"$f":"VLOOKUP(B2426,#REF!,3,FALSE)","v":{"$error":"#REF!"}}]
["Arion","Arion","LA1","CPOF690","ARION WL1208-4**41-****","Коммутационный блок","Iu 800 A, AC, 4-полюс, стационарное исполнение, Icu 100 kA, задний вертикальный подвод, размер 2","- / -",0,0,3215.8100000000004,{"$f":"VLOOKUP(B2427,#REF!,3,FALSE)","v":{"$error":"#REF!"}}]
["Arion","Arion","LA1","CPOF691","ARION WL1210-4**41-****","Коммутационный блок","Iu 1000 A, AC, 4-полюс, стационарное исполнение, Icu 100 kA, задний вертикальный подвод, размер 2","- / -",0,0,3479.5400000000004,{"$f":"VLOOKUP(B2428,#REF!,3,FALSE)","v":{"$error":"#REF!"}}]
["Arion","Arion","LA1","CPOF692","ARION WL1212-4**41-****","Коммутационный блок","Iu 1250 A, AC, 4-полюс, стационарное исполнение, Icu 100 kA, задний вертикальный подвод, размер 2","- / -",0,0,3681.9700000000003,{"$f":"VLOOKUP(B2429,#REF!,3,FALSE)","v":{"$error":"#REF!"}}]
["Arion","Arion","LA1","CPOF693","ARION WL1216-4**41-****","Коммутационный блок","Iu 1600 A, AC, 4-полюс, стационарное исполнение, Icu 100 kA, задний вертикальный подвод, размер 2","- / -",0,0,5307.3200000000006,{"$f":"VLOOKUP(B2430,#REF!,3,FALSE)","v":{"$error":"#REF!"}}]
["Arion","Arion","LA1","CPOF694","ARION WL1220-4**41-****","Коммутационный блок","Iu 2000 A, AC, 4-полюс, стационарное исполнение, Icu 100 kA, задний вертикальный подвод, размер 2","- / -",0,0,6334.68,{"$f":"VLOOKUP(B2431,#REF!,3,FALSE)","v":{"$error":"#REF!"}}]
["Arion","Arion","LA1","CPOF695","ARION WL1225-4**41-****","Коммутационный блок","Iu 2500 A, AC, 4-полюс, стационарное исполнение, Icu 100 kA, задний вертикальный подвод, размер 2","- / -",0,0,8550.08,{"$f":"VLOOKUP(B2432,#REF!,3,FALSE)","v":{"$error":"#REF!"}}]
["Arion","Arion","LA1","CPOF696","ARION WL1232-4**41-****","Коммутационный блок","Iu 3200 A, AC, 4-полюс, стационарное исполнение, Icu 100 kA, задний вертикальный подвод, размер 2","- / -",0,0,10892.52,{"$f":"VLOOKUP(B2433,#REF!,3,FALSE)","v":{"$error":"#REF!"}}]
["Arion","Arion","LA1","CPOF108","ARION WL1240-4**41-****","Коммутационный блок","Iu 4000 A, AC, 4-полюс, стационарное исполнение, Icu 100 kA, задний вертикальный подвод, размер 2","- / -",0,0,12549.18,{"$f":"VLOOKUP(B2434,#REF!,3,FALSE)","v":{"$error":"#REF!"}}]
["Arion","Arion","LA1","CPOFF50","ARION WL1216-5**41-****","Коммутационный блок","Iu 1600 A, AC, 4-полюс, стационарное исполнение, Icu 130 kA, задний вертикальный подвод, размер 2","- / -",0,0,6161.96,{"$f":"VLOOKUP(B2435,#REF!,3,FALSE)","v":{"$error":"#REF!"}}]
["Arion","Arion","LA1","CPOFF51","ARION WL1220-5**41-****","Коммутационный блок","Iu 2000 A, AC, 4-полюс, стационарное исполнение, Icu 130 kA, задний вертикальный подвод, размер 2","- / -",0,0,7634.1100000000006,{"$f":"VLOOKUP(B2436,#REF!,3,FALSE)","v":{"$error":"#REF!"}}]
["Arion","Arion","LA1","CPOFF52","ARION WL1225-5**41-****","Коммутационный блок","Iu 2500 A, AC, 4-полюс, стационарное исполнение, Icu 130 kA, задний вертикальный подвод, размер 2","- / -",0,0,10469.58,{"$f":"VLOOKUP(B2437,#REF!,3,FALSE)","v":{"$error":"#REF!"}}]
["Arion","Arion","LA1","CPOFF53","ARION WL1232-5**41-****","Коммутационный блок","Iu 3200 A, AC, 4-полюс, стационарное исполнение, Icu 130 kA, задний вертикальный подвод, размер 2","- / -",0,0,13141.61,{"$f":"VLOOKUP(B2438,#REF!,3,FALSE)","v":{"$error":"#REF!"}}]
[null,null,null,"Level  7","ARION WL13xx-x**41-**** - Размер III, 4 000 ÷ 6 300 A"]
["Arion","Arion","LA1","CPOF697","ARION WL1340-4**41-****","Коммутационный блок","Iu 4000 A, AC, 4-полюс, стационарное исполнение, Icu 100 kA, задний вертикальный подвод, размер 3","- / -",0,0,13662.53,{"$f":"VLOOKUP(B2440,#REF!,3,FALSE)","v":{"$error":"#REF!"}}]
["Arion","Arion","LA1","CPOF698","ARION WL1350-4**41-****","Коммутационный блок","Iu 5000 A, AC, 4-полюс, стационарное исполнение, Icu 100 kA, задний вертикальный подвод, размер 3","- / -",0,0,23845.26,{"$f":"VLOOKUP(B2441,#REF!,3,FALSE)","v":{"$error":"#REF!"}}]
["Arion","Arion","LA1","CPOF699","ARION WL1363-4**41-****","Коммутационный блок","Iu 6300 A, AC, 4-полюс, стационарное исполнение, Icu 100 kA, задний вертикальный подвод, размер 3","- / -",0,0,30544.899999999998,{"$f":"VLOOKUP(B2442,#REF!,3,FALSE)","v":{"$error":"#REF!"}}]
["Arion","Arion","LA1","CPOF168","ARION WL1340-5**41-****","Коммутационный блок","Iu 4000 A, AC, 4-полюс, выдвижное исполнение, Icu 130 kA, задний вертикальный подвод, размер 3","- / -",0,0,19203.609999999997,{"$f":"VLOOKUP(B2443,#REF!,3,FALSE)","v":{"$error":"#REF!"}}]
["Arion","Arion","LA1","CPOF169","ARION WL1350-5**41-****","Коммутационный блок","Iu 5000 A, AC, 4-полюс, выдвижное исполнение, Icu 130 kA, задний вертикальный подвод, размер 3","- / -",0,0,26415.199999999997,{"$f":"VLOOKUP(B2444,#REF!,3,FALSE)","v":{"$error":"#REF!"}}]
["Arion","Arion","LA1","CPOF170","ARION WL1363-5**41-****","Коммутационный блок","Iu 6300 A, AC, 4-полюс, выдвижное исполнение, Icu 130 kA, задний вертикальный подвод, размер 3","- / -",0,0,33844.720000000001,{"$f":"VLOOKUP(B2445,#REF!,3,FALSE)","v":{"$error":"#REF!"}}]
[null,null,null,"Level  6","ARION WL1xxx-x**43-**** - Передние подводы один ряд отверстий"]
[null,null,null,"Level  7","ARION WL11xx-x**43-**** - Размер I, 630 ÷ 2 000 A"]
["Arion","Arion","LA1","CPOF588","ARION WL1106-2**43-****","Коммутационный блок","Iu 630 A, AC, 4-полюс, стационарное исполнение, Icu 55 kA, Передний подвод один ряд отверстий, размер 1","- / -",0,0,2301.92,{"$f":"VLOOKUP(B2448,#REF!,3,FALSE)","v":{"$error":"#REF!"}}]
["Arion","Arion","LA1","CPOF589","ARION WL1108-2**43-****","Коммутационный блок","Iu 800 A, AC, 4-полюс, стационарное исполнение, Icu 55 kA, Передний подвод один ряд отверстий, размер 1","- / -",0,0,2338.73,{"$f":"VLOOKUP(B2449,#REF!,3,FALSE)","v":{"$error":"#REF!"}}]
["Arion","Arion","LA1","CPOF590","ARION WL1110-2**43-****","Коммутационный блок","Iu 1000 A, AC, 4-полюс, стационарное исполнение, Icu 55 kA, Передний подвод один ряд отверстий, размер 1","- / -",0,0,2577.8900000000003,{"$f":"VLOOKUP(B2450,#REF!,3,FALSE)","v":{"$error":"#REF!"}}]
["Arion","Arion","LA1","CPOF591","ARION WL1112-2**43-****","Коммутационный блок","Iu 1250 A, AC, 4-полюс, стационарное исполнение, Icu 55 kA, Передний подвод один ряд отверстий, размер 1","- / -",0,0,2958.2000000000003,{"$f":"VLOOKUP(B2451,#REF!,3,FALSE)","v":{"$error":"#REF!"}}]
["Arion","Arion","LA1","CPOF592","ARION WL1116-2**43-****","Коммутационный блок","Iu 1600 A, AC, 4-полюс, стационарное исполнение, Icu 55 kA, Передний подвод один ряд отверстий, размер 1","- / -",0,0,4354.17,{"$f":"VLOOKUP(B2452,#REF!,3,FALSE)","v":{"$error":"#REF!"}}]
["Arion","Arion","LA1","CPOF627","ARION WL1106-3**43-****","Коммутационный блок","Iu 630 A, AC, 4-полюс, стационарное исполнение, Icu 66 kA, Передний подвод один ряд отверстий, размер 1","- / -",0,0,2810.98,{"$f":"VLOOKUP(B2453,#REF!,3,FALSE)","v":{"$error":"#REF!"}}]
["Arion","Arion","LA1","CPOF628","ARION WL1108-3**43-****","Коммутационный блок","Iu 800 A, AC, 4-полюс, стационарное исполнение, Icu 66 kA, Передний подвод один ряд отверстий, размер 1","- / -",0,0,2841.6400000000003,{"$f":"VLOOKUP(B2454,#REF!,3,FALSE)","v":{"$error":"#REF!"}}]
["Arion","Arion","LA1","CPOF629","ARION WL1110-3**43-****","Коммутационный блок","Iu 1000 A, AC, 4-полюс, стационарное исполнение, Icu 66 kA, Передний подвод один ряд отверстий, размер 1","- / -",0,0,3074.71,{"$f":"VLOOKUP(B2455,#REF!,3,FALSE)","v":{"$error":"#REF!"}}]
["Arion","Arion","LA1","CPOF630","ARION WL1112-3**43-****","Коммутационный блок","Iu 1250 A, AC, 4-полюс, стационарное исполнение, Icu 66 kA, Передний подвод один ряд отверстий, размер 1","- / -",0,0,3270.9900000000002,{"$f":"VLOOKUP(B2456,#REF!,3,FALSE)","v":{"$error":"#REF!"}}]
["Arion","Arion","LA1","CPOF631","ARION WL1116-3**43-****","Коммутационный блок","Iu 1600 A, AC, 4-полюс, стационарное исполнение, Icu 66 kA, Передний подвод один ряд отверстий, размер 1","- / -",0,0,4503.4800000000005,{"$f":"VLOOKUP(B2457,#REF!,3,FALSE)","v":{"$error":"#REF!"}}]
[null,null,null,"Level  7","ARION WL12xx-x**43-**** - Размер II, 800 ÷ 4 000 A"]
["Arion","Arion","LA1","CPOF593","ARION WL1220-2**43-****","Коммутационный блок","Iu 2000 A, AC, 4-полюс, стационарное исполнение, Icu 66 kA, Передний подвод один ряд отверстий, размер 2","- / -",0,0,5531.2,{"$f":"VLOOKUP(B2459,#REF!,3,FALSE)","v":{"$error":"#REF!"}}]
["Arion","Arion","LA1","CPOF594","ARION WL1225-2**43-****","Коммутационный блок","Iu 2500 A, AC, 4-полюс, стационарное исполнение, Icu 66 kA, Передний подвод один ряд отверстий, размер 2","- / -",0,0,7547.5700000000006,{"$f":"VLOOKUP(B2460,#REF!,3,FALSE)","v":{"$error":"#REF!"}}]
["Arion","Arion","LA1","CPOF100","ARION WL1232-2**43-****","Коммутационный блок","Iu 3200 A, AC, 4-полюс, стационарное исполнение, Icu 66 kA, Передний подвод один ряд отверстий, размер 2","- / -",0,0,9506.35,{"$f":"VLOOKUP(B2461,#REF!,3,FALSE)","v":{"$error":"#REF!"}}]
["Arion","Arion","LA1","CPOF632","ARION WL1208-3**43-****","Коммутационный блок","Iu 800 A, AC, 4-полюс, стационарное исполнение, Icu 80 kA, Передний подвод один ряд отверстий, размер 2","- / -",0,0,3080.8900000000003,{"$f":"VLOOKUP(B2462,#REF!,3,FALSE)","v":{"$error":"#REF!"}}]
["Arion","Arion","LA1","CPOF633","ARION WL1210-3**43-****","Коммутационный блок","Iu 1000 A, AC, 4-полюс, стационарное исполнение, Icu 80 kA, Передний подвод один ряд отверстий, размер 2","- / -",0,0,3326.19,{"$f":"VLOOKUP(B2463,#REF!,3,FALSE)","v":{"$error":"#REF!"}}]
["Arion","Arion","LA1","CPOF634","ARION WL1212-3**43-****","Коммутационный блок","Iu 1250 A, AC, 4-полюс, стационарное исполнение, Icu 80 kA, Передний подвод один ряд отверстий, размер 2","- / -",0,0,3540.86,{"$f":"VLOOKUP(B2464,#REF!,3,FALSE)","v":{"$error":"#REF!"}}]
["Arion","Arion","LA1","CPOF635","ARION WL1216-3**43-****","Коммутационный блок","Iu 1600 A, AC, 4-полюс, стационарное исполнение, Icu 80 kA, Передний подвод один ряд отверстий, размер 2","- / -",0,0,5117.1900000000005,{"$f":"VLOOKUP(B2465,#REF!,3,FALSE)","v":{"$error":"#REF!"}}]
["Arion","Arion","LA1","CPOF636","ARION WL1220-3**43-****","Коммутационный блок","Iu 2000 A, AC, 4-полюс, стационарное исполнение, Icu 80 kA, Передний подвод один ряд отверстий, размер 2","- / -",0,0,6181.34,{"$f":"VLOOKUP(B2466,#REF!,3,FALSE)","v":{"$error":"#REF!"}}]
["Arion","Arion","LA1","CPOF637","ARION WL1225-3**43-****","Коммутационный блок","Iu 2500 A, AC, 4-полюс, стационарное исполнение, Icu 80 kA, Передний подвод один ряд отверстий, размер 2","- / -",0,0,8406.01,{"$f":"VLOOKUP(B2467,#REF!,3,FALSE)","v":{"$error":"#REF!"}}]
["Arion","Arion","LA1","CPOFF01","ARION WL1232-3**43-****","Коммутационный блок","Iu 3200 A, AC, 4-полюс, стационарное исполнение, Icu 80 kA, Передний подвод один ряд отверстий, размер 2","- / -",0,0,9954.08,{"$f":"VLOOKUP(B2468,#REF!,3,FALSE)","v":{"$error":"#REF!"}}]
["Arion","Arion","LA1","CPOF700","ARION WL1208-4**43-****","Коммутационный блок","Iu 800 A, AC, 4-полюс, стационарное исполнение, Icu 100 kA, Передний подвод один ряд отверстий, размер 2","- / -",0,0,3215.8100000000004,{"$f":"VLOOKUP(B2469,#REF!,3,FALSE)","v":{"$error":"#REF!"}}]
["Arion","Arion","LA1","CPOF701","ARION WL1210-4**43-****","Коммутационный блок","Iu 1000 A, AC, 4-полюс, стационарное исполнение, Icu 100 kA, Передний подвод один ряд отверстий, размер 2","- / -",0,0,3479.5400000000004,{"$f":"VLOOKUP(B2470,#REF!,3,FALSE)","v":{"$error":"#REF!"}}]
["Arion","Arion","LA1","CPOF702","ARION WL1212-4**43-****","Коммутационный блок","Iu 1250 A, AC, 4-полюс, стационарное исполнение, Icu 100 kA, Передний подвод один ряд отверстий, размер 2","- / -",0,0,3681.9700000000003,{"$f":"VLOOKUP(B2471,#REF!,3,FALSE)","v":{"$error":"#REF!"}}]
["Arion","Arion","LA1","CPOF703","ARION WL1216-4**43-****","Коммутационный блок","Iu 1600 A, AC, 4-полюс, стационарное исполнение, Icu 100 kA, Передний подвод один ряд отверстий, размер 2","- / -",0,0,5307.3200000000006,{"$f":"VLOOKUP(B2472,#REF!,3,FALSE)","v":{"$error":"#REF!"}}]
["Arion","Arion","LA1","CPOF704","ARION WL1220-4**43-****","Коммутационный блок","Iu 2000 A, AC, 4-полюс, стационарное исполнение, Icu 100 kA, Передний подвод один ряд отверстий, размер 2","- / -",0,0,6334.68,{"$f":"VLOOKUP(B2473,#REF!,3,FALSE)","v":{"$error":"#REF!"}}]
["Arion","Arion","LA1","CPOF705","ARION WL1225-4**43-****","Коммутационный блок","Iu 2500 A, AC, 4-полюс, стационарное исполнение, Icu 100 kA, Передний подвод один ряд отверстий, размер 2","- / -",0,0,8550.08,{"$f":"VLOOKUP(B2474,#REF!,3,FALSE)","v":{"$error":"#REF!"}}]
["Arion","Arion","LA1","CPOF706","ARION WL1232-4**43-****","Коммутационный блок","Iu 3200 A, AC, 4-полюс, стационарное исполнение, Icu 100 kA, Передний подвод один ряд отверстий, размер 2","- / -",0,0,10892.52,{"$f":"VLOOKUP(B2475,#REF!,3,FALSE)","v":{"$error":"#REF!"}}]
[null,null,null,"Level  7","ARION WL13xx-x**43-**** - Размер III, 4 000 ÷ 6 300 A"]
["Arion","Arion","LA1","CPOF707","ARION WL1340-4**43-****","Коммутационный блок","Iu 4000 A, AC, 4-полюс, стационарное исполнение, Icu 100 kA, Передний подвод один ряд отверстий, размер 3","- / -",0,0,13662.53,{"$f":"VLOOKUP(B2477,#REF!,3,FALSE)","v":{"$error":"#REF!"}}]
[null,null,null,"Level  6","ARION WL1xxx-x**44-**** - Передние подводы два ряда отверстий"]
[null,null,null,"Level  7","ARION WL11xx-x**44-**** - Размер I, 630 ÷ 2 000 A"]
["Arion","Arion","LA1","CPOF595","ARION WL1106-2**44-****","Коммутационный блок","Iu 630 A, AC, 4-полюс, стационарное исполнение, Icu 55 kA, Передний подвод два ряда отверстий, размер 1","- / -",0,0,2301.92,{"$f":"VLOOKUP(B2480,#REF!,3,FALSE)","v":{"$error":"#REF!"}}]
["Arion","Arion","LA1","CPOF596","ARION WL1108-2**44-****","Коммутационный блок","Iu 800 A, AC, 4-полюс, стационарное исполнение, Icu 55 kA, Передний подвод два ряда отверстий, размер 1","- / -",0,0,2338.73,{"$f":"VLOOKUP(B2481,#REF!,3,FALSE)","v":{"$error":"#REF!"}}]
["Arion","Arion","LA1","CPOF597","ARION WL1110-2**44-****","Коммутационный блок","Iu 1000 A, AC, 4-полюс, стационарное исполнение, Icu 55 kA, Передний подвод два ряда отверстий, размер 1","- / -",0,0,2577.8900000000003,{"$f":"VLOOKUP(B2482,#REF!,3,FALSE)","v":{"$error":"#REF!"}}]
["Arion","Arion","LA1","CPOF598","ARION WL1112-2**44-****","Коммутационный блок","Iu 1250 A, AC, 4-полюс, стационарное исполнение, Icu 55 kA, Передний подвод два ряда отверстий, размер 1","- / -",0,0,2958.2000000000003,{"$f":"VLOOKUP(B2483,#REF!,3,FALSE)","v":{"$error":"#REF!"}}]
["Arion","Arion","LA1","CPOF599","ARION WL1116-2**44-****","Коммутационный блок","Iu 1600 A, AC, 4-полюс, стационарное исполнение, Icu 55 kA, Передний подвод два ряда отверстий, размер 1","- / -",0,0,4354.17,{"$f":"VLOOKUP(B2484,#REF!,3,FALSE)","v":{"$error":"#REF!"}}]
["Arion","Arion","LA1","CPOF641","ARION WL1120-2**44-****","Коммутационный блок","Iu 2000 A, AC, 4-полюс, стационарное исполнение, Icu 55 kA, Передний подвод два ряда отверстий, размер 1","- / -",0,0,5244.79,{"$f":"VLOOKUP(B2485,#REF!,3,FALSE)","v":{"$error":"#REF!"}}]
["Arion","Arion","LA1","CPOF639","ARION WL1106-3**44-****","Коммутационный блок","Iu 630 A, AC, 4-полюс, стационарное исполнение, Icu 66 kA, Передний подвод два ряда отверстий, размер 1","- / -",0,0,2810.98,{"$f":"VLOOKUP(B2486,#REF!,3,FALSE)","v":{"$error":"#REF!"}}]
["Arion","Arion","LA1","CPOF670","ARION WL1108-3**44-****","Коммутационный блок","Iu 800 A, AC, 4-полюс, стационарное исполнение, Icu 66 kA, Передний подвод два ряда отверстий, размер 1","- / -",0,0,2841.6400000000003,{"$f":"VLOOKUP(B2487,#REF!,3,FALSE)","v":{"$error":"#REF!"}}]
["Arion","Arion","LA1","CPOF671","ARION WL1110-3**44-****","Коммутационный блок","Iu 1000 A, AC, 4-полюс, стационарное исполнение, Icu 66 kA, Передний подвод два ряда отверстий, размер 1","- / -",0,0,3074.71,{"$f":"VLOOKUP(B2488,#REF!,3,FALSE)","v":{"$error":"#REF!"}}]
["Arion","Arion","LA1","CPOF672","ARION WL1112-3**44-****","Коммутационный блок","Iu 1250 A, AC, 4-полюс, стационарное исполнение, Icu 66 kA, Передний подвод два ряда отверстий, размер 1","- / -",0,0,3270.9900000000002,{"$f":"VLOOKUP(B2489,#REF!,3,FALSE)","v":{"$error":"#REF!"}}]
["Arion","Arion","LA1","CPOF673","ARION WL1116-3**44-****","Коммутационный блок","Iu 1600 A, AC, 4-полюс, стационарное исполнение, Icu 66 kA, Передний подвод два ряда отверстий, размер 1","- / -",0,0,4503.4800000000005,{"$f":"VLOOKUP(B2490,#REF!,3,FALSE)","v":{"$error":"#REF!"}}]
["Arion","Arion","LA1","CPOF642","ARION WL1120-3**44-****","Коммутационный блок","Iu 2000 A, AC, 4-полюс, стационарное исполнение, Icu 66 kA, Передний подвод два ряда отверстий, размер 1","- / -",0,0,5428.8,{"$f":"VLOOKUP(B2491,#REF!,3,FALSE)","v":{"$error":"#REF!"}}]
["Arion","Arion","LA1","CPOF011","ARION WL1106-4**44-****","Коммутационный блок","Iu 630 A, AC, 4-полюс, стационарное исполнение, Icu 85 kA, Передний подвод два ряда отверстий, размер 1","- / -",0,0,3006.03,{"$f":"VLOOKUP(B2492,#REF!,3,FALSE)","v":{"$error":"#REF!"}}]
["Arion","Arion","LA1","CPOF253","ARION WL1108-4**44-****","Коммутационный блок","Iu 800 A, AC, 4-полюс, стационарное исполнение, Icu 85 kA, Передний подвод два ряда отверстий, размер 1","- / -",0,0,3042.84,{"$f":"VLOOKUP(B2493,#REF!,3,FALSE)","v":{"$error":"#REF!"}}]
["Arion","Arion","LA1","CPOFC05","ARION WL1110-4**44-****","Коммутационный блок","Iu 1000 A, AC, 4-полюс, стационарное исполнение, Icu 85 kA, Передний подвод два ряда отверстий, размер 1","- / -",0,0,3288.17,{"$f":"VLOOKUP(B2494,#REF!,3,FALSE)","v":{"$error":"#REF!"}}]
["Arion","Arion","LA1","CPOFC56","ARION WL1116-4**44-****","Коммутационный блок","Iu 1600 A, AC, 4-полюс, стационарное исполнение, Icu 85 kA, Передний подвод два ряда отверстий, размер 1","- / -",0,0,4823.87,{"$f":"VLOOKUP(B2495,#REF!,3,FALSE)","v":{"$error":"#REF!"}}]
["Arion","Arion","LA1","CPOF643","ARION WL1120-4**44-****","Коммутационный блок","Iu 2000 A, AC, 4-полюс, стационарное исполнение, Icu 85 kA, Передний подвод два ряда отверстий, размер 1","- / -",0,0,5772.24,{"$f":"VLOOKUP(B2496,#REF!,3,FALSE)","v":{"$error":"#REF!"}}]
[null,null,null,"Level  7","ARION WL12xx-x**44-**** - Размер II, 800 ÷ 4 000 A"]
["Arion","Arion","LA1","CPOF600","ARION WL1220-2**44-****","Коммутационный блок","Iu 2000 A, AC, 4-полюс, стационарное исполнение, Icu 66 kA, Передний подвод два ряда отверстий, размер 2","- / -",0,0,5531.2,{"$f":"VLOOKUP(B2498,#REF!,3,FALSE)","v":{"$error":"#REF!"}}]
["Arion","Arion","LA1","CPOF601","ARION WL1225-2**44-****","Коммутационный блок","Iu 2500 A, AC, 4-полюс, стационарное исполнение, Icu 66 kA, Передний подвод два ряда отверстий, размер 2","- / -",0,0,7547.5700000000006,{"$f":"VLOOKUP(B2499,#REF!,3,FALSE)","v":{"$error":"#REF!"}}]
["Arion","Arion","LA1","CPOF101","ARION WL1232-2**44-****","Коммутационный блок","Iu 3200 A, AC, 4-полюс, стационарное исполнение, Icu 66 kA, Передний подвод два ряда отверстий, размер 2","- / -",0,0,9506.35,{"$f":"VLOOKUP(B2500,#REF!,3,FALSE)","v":{"$error":"#REF!"}}]
["Arion","Arion","LA1","CPOF674","ARION WL1208-3**44-****","Коммутационный блок","Iu 800 A, AC, 4-полюс, стационарное исполнение, Icu 80 kA, Передний подвод два ряда отверстий, размер 2","- / -",0,0,3080.8900000000003,{"$f":"VLOOKUP(B2501,#REF!,3,FALSE)","v":{"$error":"#REF!"}}]
["Arion","Arion","LA1","CPOF675","ARION WL1210-3**44-****","Коммутационный блок","Iu 1000 A, AC, 4-полюс, стационарное исполнение, Icu 80 kA, Передний подвод два ряда отверстий, размер 2","- / -",0,0,3326.19,{"$f":"VLOOKUP(B2502,#REF!,3,FALSE)","v":{"$error":"#REF!"}}]
["Arion","Arion","LA1","CPOF676","ARION WL1212-3**44-****","Коммутационный блок","Iu 1250 A, AC, 4-полюс, стационарное исполнение, Icu 80 kA, Передний подвод два ряда отверстий, размер 2","- / -",0,0,3540.86,{"$f":"VLOOKUP(B2503,#REF!,3,FALSE)","v":{"$error":"#REF!"}}]
["Arion","Arion","LA1","CPOF677","ARION WL1216-3**44-****","Коммутационный блок","Iu 1600 A, AC, 4-полюс, стационарное исполнение, Icu 80 kA, Передний подвод два ряда отверстий, размер 2","- / -",0,0,5117.1900000000005,{"$f":"VLOOKUP(B2504,#REF!,3,FALSE)","v":{"$error":"#REF!"}}]
["Arion","Arion","LA1","CPOF678","ARION WL1220-3**44-****","Коммутационный блок","Iu 2000 A, AC, 4-полюс, стационарное исполнение, Icu 80 kA, Передний подвод два ряда отверстий, размер 2","- / -",0,0,6181.34,{"$f":"VLOOKUP(B2505,#REF!,3,FALSE)","v":{"$error":"#REF!"}}]
["Arion","Arion","LA1","CPOF679","ARION WL1225-3**44-****","Коммутационный блок","Iu 2500 A, AC, 4-полюс, стационарное исполнение, Icu 80 kA, Передний подвод два ряда отверстий, размер 2","- / -",0,0,8406.01,{"$f":"VLOOKUP(B2506,#REF!,3,FALSE)","v":{"$error":"#REF!"}}]
["Arion","Arion","LA1","CPOF680","ARION WL1232-3**44-****","Коммутационный блок","Iu 3200 A, AC, 4-полюс, стационарное исполнение, Icu 80 kA, Передний подвод два ряда отверстий, размер 2","- / -",0,0,9954.08,{"$f":"VLOOKUP(B2507,#REF!,3,FALSE)","v":{"$error":"#REF!"}}]
["Arion","Arion","LA1","CPOF708","ARION WL1208-4**44-****","Коммутационный блок","Iu 800 A, AC, 4-полюс, стационарное исполнение, Icu 100 kA, Передний подвод два ряда отверстий, размер 2","- / -",0,0,3215.8100000000004,{"$f":"VLOOKUP(B2508,#REF!,3,FALSE)","v":{"$error":"#REF!"}}]
["Arion","Arion","LA1","CPOF709","ARION WL1210-4**44-****","Коммутационный блок","Iu 1000 A, AC, 4-полюс, стационарное исполнение, Icu 100 kA, Передний подвод два ряда отверстий, размер 2","- / -",0,0,3479.5400000000004,{"$f":"VLOOKUP(B2509,#REF!,3,FALSE)","v":{"$error":"#REF!"}}]
["Arion","Arion","LA1","CPOF710","ARION WL1212-4**44-****","Коммутационный блок","Iu 1250 A, AC, 4-полюс, стационарное исполнение, Icu 100 kA, Передний подвод два ряда отверстий, размер 2","- / -",0,0,3681.9700000000003,{"$f":"VLOOKUP(B2510,#REF!,3,FALSE)","v":{"$error":"#REF!"}}]
["Arion","Arion","LA1","CPOF711","ARION WL1216-4**44-****","Коммутационный блок","Iu 1600 A, AC, 4-полюс, стационарное исполнение, Icu 100 kA, Передний подвод два ряда отверстий, размер 2","- / -",0,0,5307.3200000000006,{"$f":"VLOOKUP(B2511,#REF!,3,FALSE)","v":{"$error":"#REF!"}}]
["Arion","Arion","LA1","CPOF712","ARION WL1220-4**44-****","Коммутационный блок","Iu 2000 A, AC, 4-полюс, стационарное исполнение, Icu 100 kA, Передний подвод два ряда отверстий, размер 2","- / -",0,0,6334.68,{"$f":"VLOOKUP(B2512,#REF!,3,FALSE)","v":{"$error":"#REF!"}}]
["Arion","Arion","LA1","CPOF713","ARION WL1225-4**44-****","Коммутационный блок","Iu 2500 A, AC, 4-полюс, стационарное исполнение, Icu 100 kA, Передний подвод два ряда отверстий, размер 2","- / -",0,0,8550.08,{"$f":"VLOOKUP(B2513,#REF!,3,FALSE)","v":{"$error":"#REF!"}}]
["Arion","Arion","LA1","CPOF714","ARION WL1232-4**44-****","Коммутационный блок","Iu 3200 A, AC, 4-полюс, стационарное исполнение, Icu 100 kA, Передний подвод два ряда отверстий, размер 2","- / -",0,0,10892.52,{"$f":"VLOOKUP(B2514,#REF!,3,FALSE)","v":{"$error":"#REF!"}}]
[null,null,null,"Level  7","ARION WL13xx-x**44-**** - Размер III, 4 000 ÷ 6 300 A"]
["Arion","Arion","LA1","CPOF715","ARION WL1340-4**44-****","Коммутационный блок","Iu 4000 A, AC, 4-полюс, стационарное исполнение, Icu 100 kA, Передний подвод два ряда отверстий, размер 3","- / -",0,0,13662.53,{"$f":"VLOOKUP(B2516,#REF!,3,FALSE)","v":{"$error":"#REF!"}}]
[null,null,null,"Level  5","ARION WL1xxx-x**4y-**** - 4-полюс, выдвижное исполнение"]
[null,null,null,"Level  6","ARION WL1xxx-x**46-**** - Задние горизонтальные подводы"]
[null,null,null,"Level  7","ARION WL11xx-x**46-**** - Размер I, 630 ÷ 2 000 A"]
["Arion","Arion","LA1","CPOF723","ARION WL1106-2**46-****","Коммутационный блок","Iu 630 A, AC, 4-полюс, выдвижное исполнение, Icu 55 kA, задний горизонтальный подвод, размер 1","- / -",0,0,3152.63,{"$f":"VLOOKUP(B2520,#REF!,3,FALSE)","v":{"$error":"#REF!"}}]
["Arion","Arion","LA1","CPOF724","ARION WL1108-2**46-****","Коммутационный блок","Iu 800 A, AC, 4-полюс, выдвижное исполнение, Icu 55 kA, задний горизонтальный подвод, размер 1","- / -",0,0,3158.78,{"$f":"VLOOKUP(B2521,#REF!,3,FALSE)","v":{"$error":"#REF!"}}]
["Arion","Arion","LA1","CPOF725","ARION WL1110-2**46-****","Коммутационный блок","Iu 1000 A, AC, 4-полюс, выдвижное исполнение, Icu 55 kA, задний горизонтальный подвод, размер 1","- / -",0,0,3385.69,{"$f":"VLOOKUP(B2522,#REF!,3,FALSE)","v":{"$error":"#REF!"}}]
["Arion","Arion","LA1","CPOF726","ARION WL1112-2**46-****","Коммутационный блок","Iu 1250 A, AC, 4-полюс, выдвижное исполнение, Icu 55 kA, задний горизонтальный подвод, размер 1","- / -",0,0,3655.6000000000004,{"$f":"VLOOKUP(B2523,#REF!,3,FALSE)","v":{"$error":"#REF!"}}]
["Arion","Arion","LA1","CPOF727","ARION WL1116-2**46-****","Коммутационный блок","Iu 1600 A, AC, 4-полюс, выдвижное исполнение, Icu 55 kA, задний горизонтальный подвод, размер 1","- / -",0,0,5363.0300000000007,{"$f":"VLOOKUP(B2524,#REF!,3,FALSE)","v":{"$error":"#REF!"}}]
["Arion","Arion","LA1","CPOF653","ARION WL1120-2**46-****","Коммутационный блок","Iu 2000 A, AC, 4-полюс, выдвижное исполнение, Icu 55 kA, задний горизонтальный подвод, размер 1","- / -",0,0,6464.72,{"$f":"VLOOKUP(B2525,#REF!,3,FALSE)","v":{"$error":"#REF!"}}]
["Arion","Arion","LA1","CPOF756","ARION WL1106-3**46-****","Коммутационный блок","Iu 630 A, AC, 4-полюс, выдвижное исполнение, Icu 66 kA, задний горизонтальный подвод, размер 1","- / -",0,0,3949.96,{"$f":"VLOOKUP(B2526,#REF!,3,FALSE)","v":{"$error":"#REF!"}}]
["Arion","Arion","LA1","CPOF757","ARION WL1108-3**46-****","Коммутационный блок","Iu 800 A, AC, 4-полюс, выдвижное исполнение, Icu 66 kA, задний горизонтальный подвод, размер 1","- / -",0,0,3956.11,{"$f":"VLOOKUP(B2527,#REF!,3,FALSE)","v":{"$error":"#REF!"}}]
["Arion","Arion","LA1","CPOF758","ARION WL1110-3**46-****","Коммутационный блок","Iu 1000 A, AC, 4-полюс, выдвижное исполнение, Icu 66 kA, задний горизонтальный подвод, размер 1","- / -",0,0,4170.8100000000004,{"$f":"VLOOKUP(B2528,#REF!,3,FALSE)","v":{"$error":"#REF!"}}]
["Arion","Arion","LA1","CPOF759","ARION WL1112-3**46-****","Коммутационный блок","Iu 1250 A, AC, 4-полюс, выдвижное исполнение, Icu 66 kA, задний горизонтальный подвод, размер 1","- / -",0,0,4336.4000000000005,{"$f":"VLOOKUP(B2529,#REF!,3,FALSE)","v":{"$error":"#REF!"}}]
["Arion","Arion","LA1","CPOF760","ARION WL1116-3**46-****","Коммутационный блок","Iu 1600 A, AC, 4-полюс, выдвижное исполнение, Icu 66 kA, задний горизонтальный подвод, размер 1","- / -",0,0,5426.21,{"$f":"VLOOKUP(B2530,#REF!,3,FALSE)","v":{"$error":"#REF!"}}]
["Arion","Arion","LA1","CPOF654","ARION WL1120-3**46-****","Коммутационный блок","Iu 2000 A, AC, 4-полюс, выдвижное исполнение, Icu 66 kA, задний горизонтальный подвод, размер 1","- / -",0,0,6550.59,{"$f":"VLOOKUP(B2531,#REF!,3,FALSE)","v":{"$error":"#REF!"}}]
["Arion","Arion","LA1","CPOF013","ARION WL1106-4**46-****","Коммутационный блок","Iu 630 A, AC, 4-полюс, выдвижное исполнение, Icu 85 kA, задний горизонтальный подвод, размер 1","- / -",0,0,4225.99,{"$f":"VLOOKUP(B2532,#REF!,3,FALSE)","v":{"$error":"#REF!"}}]
["Arion","Arion","LA1","CPOF315","ARION WL1108-4**46-****","Коммутационный блок","Iu 800 A, AC, 4-полюс, выдвижное исполнение, Icu 85 kA, задний горизонтальный подвод, размер 1","- / -",0,0,4232.1400000000003,{"$f":"VLOOKUP(B2533,#REF!,3,FALSE)","v":{"$error":"#REF!"}}]
["Arion","Arion","LA1","CPOFC07","ARION WL1110-4**46-****","Коммутационный блок","Iu 1000 A, AC, 4-полюс, выдвижное исполнение, Icu 85 kA, задний горизонтальный подвод, размер 1","- / -",0,0,4465.17,{"$f":"VLOOKUP(B2534,#REF!,3,FALSE)","v":{"$error":"#REF!"}}]
["Arion","Arion","LA1","CPOFC58","ARION WL1116-4**46-****","Коммутационный блок","Iu 1600 A, AC, 4-полюс, выдвижное исполнение, Icu 85 kA, задний горизонтальный подвод, размер 1","- / -",0,0,5805.1500000000005,{"$f":"VLOOKUP(B2535,#REF!,3,FALSE)","v":{"$error":"#REF!"}}]
["Arion","Arion","LA1","CPOF655","ARION WL1120-4**46-****","Коммутационный блок","Iu 2000 A, AC, 4-полюс, выдвижное исполнение, Icu 85 kA, задний горизонтальный подвод, размер 1","- / -",0,0,6955.42,{"$f":"VLOOKUP(B2536,#REF!,3,FALSE)","v":{"$error":"#REF!"}}]
[null,null,null,"Level  7","ARION WL12xx-x**46-**** - Размер II, 800 ÷ 4 000 A"]
["Arion","Arion","LA1","CPOF728","ARION WL1220-2**46-****","Коммутационный блок","Iu 2000 A, AC, 4-полюс, выдвижное исполнение, Icu 66 kA, задний горизонтальный подвод, размер 2","- / -",0,0,6992.21,{"$f":"VLOOKUP(B2538,#REF!,3,FALSE)","v":{"$error":"#REF!"}}]
["Arion","Arion","LA1","CPOF729","ARION WL1225-2**46-****","Коммутационный блок","Iu 2500 A, AC, 4-полюс, выдвижное исполнение, Icu 66 kA, задний горизонтальный подвод, размер 2","- / -",0,0,8848.43,{"$f":"VLOOKUP(B2539,#REF!,3,FALSE)","v":{"$error":"#REF!"}}]
["Arion","Arion","LA1","CPOF102","ARION WL1232-2**46-****","Коммутационный блок","Iu 3200 A, AC, 4-полюс, выдвижное исполнение, Icu 66 kA, задний горизонтальный подвод, размер 2","- / -",0,0,11586.210000000001,{"$f":"VLOOKUP(B2540,#REF!,3,FALSE)","v":{"$error":"#REF!"}}]
["Arion","Arion","LA1","CPOF761","ARION WL1208-3**46-****","Коммутационный блок","Iu 800 A, AC, 4-полюс, выдвижное исполнение, Icu 80 kA, задний горизонтальный подвод, размер 2","- / -",0,0,4201.47,{"$f":"VLOOKUP(B2541,#REF!,3,FALSE)","v":{"$error":"#REF!"}}]
["Arion","Arion","LA1","CPOF762","ARION WL1210-3**46-****","Коммутационный блок","Iu 1000 A, AC, 4-полюс, выдвижное исполнение, Icu 80 kA, задний горизонтальный подвод, размер 2","- / -",0,0,4459.08,{"$f":"VLOOKUP(B2542,#REF!,3,FALSE)","v":{"$error":"#REF!"}}]
["Arion","Arion","LA1","CPOF763","ARION WL1212-3**46-****","Коммутационный блок","Iu 1250 A, AC, 4-полюс, выдвижное исполнение, Icu 80 kA, задний горизонтальный подвод, размер 2","- / -",0,0,4618.55,{"$f":"VLOOKUP(B2543,#REF!,3,FALSE)","v":{"$error":"#REF!"}}]
["Arion","Arion","LA1","CPOF764","ARION WL1216-3**46-****","Коммутационный блок","Iu 1600 A, AC, 4-полюс, выдвижное исполнение, Icu 80 kA, задний горизонтальный подвод, размер 2","- / -",0,0,6256.17,{"$f":"VLOOKUP(B2544,#REF!,3,FALSE)","v":{"$error":"#REF!"}}]
["Arion","Arion","LA1","CPOF765","ARION WL1220-3**46-****","Коммутационный блок","Iu 2000 A, AC, 4-полюс, выдвижное исполнение, Icu 80 kA, задний горизонтальный подвод, размер 2","- / -",0,0,7581.02,{"$f":"VLOOKUP(B2545,#REF!,3,FALSE)","v":{"$error":"#REF!"}}]
["Arion","Arion","LA1","CPOF766","ARION WL1225-3**46-****","Коммутационный блок","Iu 2500 A, AC, 4-полюс, выдвижное исполнение, Icu 80 kA, задний горизонтальный подвод, размер 2","- / -",0,0,9778.89,{"$f":"VLOOKUP(B2546,#REF!,3,FALSE)","v":{"$error":"#REF!"}}]
["Arion","Arion","LA1","CPOF767","ARION WL1232-3**46-****","Коммутационный блок","Iu 3200 A, AC, 4-полюс, выдвижное исполнение, Icu 80 kA, задний горизонтальный подвод, размер 2","- / -",0,0,12242.49,{"$f":"VLOOKUP(B2547,#REF!,3,FALSE)","v":{"$error":"#REF!"}}]
["Arion","Arion","LA1","CPOF800","ARION WL1208-4**46-****","Коммутационный блок","Iu 800 A, AC, 4-полюс, выдвижное исполнение, Icu 100 kA, задний горизонтальный подвод, размер 2","- / -",0,0,4330.2800000000007,{"$f":"VLOOKUP(B2548,#REF!,3,FALSE)","v":{"$error":"#REF!"}}]
["Arion","Arion","LA1","CPOF801","ARION WL1210-4**46-****","Коммутационный блок","Iu 1000 A, AC, 4-полюс, выдвижное исполнение, Icu 100 kA, задний горизонтальный подвод, размер 2","- / -",0,0,4581.7300000000005,{"$f":"VLOOKUP(B2549,#REF!,3,FALSE)","v":{"$error":"#REF!"}}]
["Arion","Arion","LA1","CPOF802","ARION WL1212-4**46-****","Коммутационный блок","Iu 1250 A, AC, 4-полюс, выдвижное исполнение, Icu 100 kA, задний горизонтальный подвод, размер 2","- / -",0,0,4808.68,{"$f":"VLOOKUP(B2550,#REF!,3,FALSE)","v":{"$error":"#REF!"}}]
["Arion","Arion","LA1","CPOF803","ARION WL1216-4**46-****","Коммутационный блок","Iu 1600 A, AC, 4-полюс, выдвижное исполнение, Icu 100 kA, задний горизонтальный подвод, размер 2","- / -",0,0,6434.0300000000007,{"$f":"VLOOKUP(B2551,#REF!,3,FALSE)","v":{"$error":"#REF!"}}]
["Arion","Arion","LA1","CPOF804","ARION WL1220-4**46-****","Коммутационный блок","Iu 2000 A, AC, 4-полюс, выдвижное исполнение, Icu 100 kA, задний горизонтальный подвод, размер 2","- / -",0,0,7734.3600000000006,{"$f":"VLOOKUP(B2552,#REF!,3,FALSE)","v":{"$error":"#REF!"}}]
["Arion","Arion","LA1","CPOF805","ARION WL1225-4**46-****","Коммутационный блок","Iu 2500 A, AC, 4-полюс, выдвижное исполнение, Icu 100 kA, задний горизонтальный подвод, размер 2","- / -",0,0,9989.02,{"$f":"VLOOKUP(B2553,#REF!,3,FALSE)","v":{"$error":"#REF!"}}]
["Arion","Arion","LA1","CPOF806","ARION WL1232-4**46-****","Коммутационный блок","Iu 3200 A, AC, 4-полюс, выдвижное исполнение, Icu 100 kA, задний горизонтальный подвод, размер 2","- / -",0,0,12677.98,{"$f":"VLOOKUP(B2554,#REF!,3,FALSE)","v":{"$error":"#REF!"}}]
["Arion","Arion","LA1","CPOFF54","ARION WL1216-5**46-****","Коммутационный блок","Iu 1600 A, AC, 4-полюс, выдвижное исполнение, Icu 130 kA, задний горизонтальный подвод, размер 2","- / -",0,0,7525.08,{"$f":"VLOOKUP(B2555,#REF!,3,FALSE)","v":{"$error":"#REF!"}}]
["Arion","Arion","LA1","CPOFF55","ARION WL1220-5**46-****","Коммутационный блок","Iu 2000 A, AC, 4-полюс, выдвижное исполнение, Icu 130 kA, задний горизонтальный подвод, размер 2","- / -",0,0,9542.85,{"$f":"VLOOKUP(B2556,#REF!,3,FALSE)","v":{"$error":"#REF!"}}]
["Arion","Arion","LA1","CPOFF56","ARION WL1225-5**46-****","Коммутационный блок","Iu 2500 A, AC, 4-полюс, выдвижное исполнение, Icu 130 kA, задний горизонтальный подвод, размер 2","- / -",0,0,12487.380000000001,{"$f":"VLOOKUP(B2557,#REF!,3,FALSE)","v":{"$error":"#REF!"}}]
["Arion","Arion","LA1","CPOFF57","ARION WL1232-5**46-****","Коммутационный блок","Iu 3200 A, AC, 4-полюс, выдвижное исполнение, Icu 130 kA, задний горизонтальный подвод, размер 2","- / -",0,0,15813.4,{"$f":"VLOOKUP(B2558,#REF!,3,FALSE)","v":{"$error":"#REF!"}}]
[null,null,null,"Level  7","ARION WL13xx-x**46-**** - Размер III, 4 000 ÷ 6 300 A"]
["Arion","Arion","LA1","CPOF807","ARION WL1340-4**46-****","Коммутационный блок","Iu 4000 A, AC, 4-полюс, выдвижное исполнение, Icu 100 kA, задний горизонтальный подвод, размер 3","- / -",0,0,19310.37,{"$f":"VLOOKUP(B2560,#REF!,3,FALSE)","v":{"$error":"#REF!"}}]
["Arion","Arion","LA1","CPOF808","ARION WL1350-4**46-****","Коммутационный блок","Iu 5000 A, AC, 4-полюс, выдвижное исполнение, Icu 100 kA, задний горизонтальный подвод, размер 3","- / -",0,0,27919.75,{"$f":"VLOOKUP(B2561,#REF!,3,FALSE)","v":{"$error":"#REF!"}}]
["Arion","Arion","LA1","CPOF174","ARION WL1340-5**46-****","Коммутационный блок","Iu 4000 A, AC, 4-полюс, выдвижное исполнение, Icu 130 kA, задний горизонтальный подвод, размер 3","- / -",0,0,22807.25,{"$f":"VLOOKUP(B2562,#REF!,3,FALSE)","v":{"$error":"#REF!"}}]
["Arion","Arion","LA1","CPOF175","ARION WL1350-5**46-****","Коммутационный блок","Iu 5000 A, AC, 4-полюс, выдвижное исполнение, Icu 130 kA, задний горизонтальный подвод, размер 3","- / -",0,0,30189.149999999998,{"$f":"VLOOKUP(B2563,#REF!,3,FALSE)","v":{"$error":"#REF!"}}]
[null,null,null,"Level  6","ARION WL1xxx-x**45-**** - Без выдвижного оборудования"]
[null,null,null,"Level  7","ARION WL11xx-x**45-**** - Размер I, 630 ÷ 2 000 A"]
["Arion","Arion","LA1","CPOF716","ARION WL1106-2**45-****","Коммутационный блок","Iu 630 A, AC, 4-полюс, выдвижное исполнение, Icu 55 kA, Без выдвижного оборудования, размер 1","- / -",0,0,2484.0700000000002,{"$f":"VLOOKUP(B2566,#REF!,3,FALSE)","v":{"$error":"#REF!"}}]
["Arion","Arion","LA1","CPOF717","ARION WL1108-2**45-****","Коммутационный блок","Iu 800 A, AC, 4-полюс, выдвижное исполнение, Icu 55 kA, Без выдвижного оборудования, размер 1","- / -",0,0,2490.2200000000003,{"$f":"VLOOKUP(B2567,#REF!,3,FALSE)","v":{"$error":"#REF!"}}]
["Arion","Arion","LA1","CPOF718","ARION WL1110-2**45-****","Коммутационный блок","Iu 1000 A, AC, 4-полюс, выдвижное исполнение, Icu 55 kA, Без выдвижного оборудования, размер 1","- / -",0,0,2698.7700000000004,{"$f":"VLOOKUP(B2568,#REF!,3,FALSE)","v":{"$error":"#REF!"}}]
["Arion","Arion","LA1","CPOF719","ARION WL1112-2**45-****","Коммутационный блок","Iu 1250 A, AC, 4-полюс, выдвижное исполнение, Icu 55 kA, Без выдвижного оборудования, размер 1","- / -",0,0,2980.8900000000003,{"$f":"VLOOKUP(B2569,#REF!,3,FALSE)","v":{"$error":"#REF!"}}]
["Arion","Arion","LA1","CPOF720","ARION WL1116-2**45-****","Коммутационный блок","Iu 1600 A, AC, 4-полюс, выдвижное исполнение, Icu 55 kA, Без выдвижного оборудования, размер 1","- / -",0,0,4691.22,{"$f":"VLOOKUP(B2570,#REF!,3,FALSE)","v":{"$error":"#REF!"}}]
["Arion","Arion","LA1","CPOF647","ARION WL1120-2**45-****","Коммутационный блок","Iu 2000 A, AC, 4-полюс, выдвижное исполнение, Icu 55 kA, Без выдвижного оборудования, размер 1","- / -",0,0,5661.24,{"$f":"VLOOKUP(B2571,#REF!,3,FALSE)","v":{"$error":"#REF!"}}]
["Arion","Arion","LA1","CPOF744","ARION WL1106-3**45-****","Коммутационный блок","Iu 630 A, AC, 4-полюс, выдвижное исполнение, Icu 66 kA, Без выдвижного оборудования, размер 1","- / -",0,0,3213.9900000000002,{"$f":"VLOOKUP(B2572,#REF!,3,FALSE)","v":{"$error":"#REF!"}}]
["Arion","Arion","LA1","CPOF745","ARION WL1108-3**45-****","Коммутационный блок","Iu 800 A, AC, 4-полюс, выдвижное исполнение, Icu 66 kA, Без выдвижного оборудования, размер 1","- / -",0,0,3220.11,{"$f":"VLOOKUP(B2573,#REF!,3,FALSE)","v":{"$error":"#REF!"}}]
["Arion","Arion","LA1","CPOF746","ARION WL1110-3**45-****","Коммутационный блок","Iu 1000 A, AC, 4-полюс, выдвижное исполнение, Icu 66 kA, Без выдвижного оборудования, размер 1","- / -",0,0,3447.05,{"$f":"VLOOKUP(B2574,#REF!,3,FALSE)","v":{"$error":"#REF!"}}]
["Arion","Arion","LA1","CPOF747","ARION WL1112-3**45-****","Коммутационный блок","Iu 1250 A, AC, 4-полюс, выдвижное исполнение, Icu 66 kA, Без выдвижного оборудования, размер 1","- / -",0,0,3618.76,{"$f":"VLOOKUP(B2575,#REF!,3,FALSE)","v":{"$error":"#REF!"}}]
["Arion","Arion","LA1","CPOF748","ARION WL1116-3**45-****","Коммутационный блок","Iu 1600 A, AC, 4-полюс, выдвижное исполнение, Icu 66 kA, Без выдвижного оборудования, размер 1","- / -",0,0,4754.37,{"$f":"VLOOKUP(B2576,#REF!,3,FALSE)","v":{"$error":"#REF!"}}]
["Arion","Arion","LA1","CPOF648","ARION WL1120-3**45-****","Коммутационный блок","Iu 2000 A, AC, 4-полюс, выдвижное исполнение, Icu 66 kA, Без выдвижного оборудования, размер 1","- / -",0,0,5740.99,{"$f":"VLOOKUP(B2577,#REF!,3,FALSE)","v":{"$error":"#REF!"}}]
["Arion","Arion","LA1","CPOF012","ARION WL1106-4**45-****","Коммутационный блок","Iu 630 A, AC, 4-полюс, выдвижное исполнение, Icu 85 kA, Без выдвижного оборудования, размер 1","- / -",0,0,3440.9300000000003,{"$f":"VLOOKUP(B2578,#REF!,3,FALSE)","v":{"$error":"#REF!"}}]
["Arion","Arion","LA1","CPOF314","ARION WL1108-4**45-****","Коммутационный блок","Iu 800 A, AC, 4-полюс, выдвижное исполнение, Icu 85 kA, Без выдвижного оборудования, размер 1","- / -",0,0,3447.05,{"$f":"VLOOKUP(B2579,#REF!,3,FALSE)","v":{"$error":"#REF!"}}]
["Arion","Arion","LA1","CPOFC06","ARION WL1110-4**45-****","Коммутационный блок","Iu 1000 A, AC, 4-полюс, выдвижное исполнение, Icu 85 kA, Без выдвижного оборудования, размер 1","- / -",0,0,3686.2400000000002,{"$f":"VLOOKUP(B2580,#REF!,3,FALSE)","v":{"$error":"#REF!"}}]
["Arion","Arion","LA1","CPOFC57","ARION WL1116-4**45-****","Коммутационный блок","Iu 1600 A, AC, 4-полюс, выдвижное исполнение, Icu 85 kA, Без выдвижного оборудования, размер 1","- / -",0,0,5093.16,{"$f":"VLOOKUP(B2581,#REF!,3,FALSE)","v":{"$error":"#REF!"}}]
["Arion","Arion","LA1","CPOF649","ARION WL1120-4**45-****","Коммутационный блок","Iu 2000 A, AC, 4-полюс, выдвижное исполнение, Icu 85 kA, Без выдвижного оборудования, размер 1","- / -",0,0,6096.71,{"$f":"VLOOKUP(B2582,#REF!,3,FALSE)","v":{"$error":"#REF!"}}]
[null,null,null,"Level  7","ARION WL12xx-x**45-**** - Размер II, 800 ÷ 4 000 A"]
["Arion","Arion","LA1","CPOF721","ARION WL1220-2**45-****","Коммутационный блок","Iu 2000 A, AC, 4-полюс, выдвижное исполнение, Icu 66 kA, Без выдвижного оборудования, размер 2","- / -",0,0,5992.45,{"$f":"VLOOKUP(B2584,#REF!,3,FALSE)","v":{"$error":"#REF!"}}]
["Arion","Arion","LA1","CPOF722","ARION WL1225-2**45-****","Коммутационный блок","Iu 2500 A, AC, 4-полюс, выдвижное исполнение, Icu 66 kA, Без выдвижного оборудования, размер 2","- / -",0,0,7707.88,{"$f":"VLOOKUP(B2585,#REF!,3,FALSE)","v":{"$error":"#REF!"}}]
["Arion","Arion","LA1","CPOF103","ARION WL1232-2**45-****","Коммутационный блок","Iu 3200 A, AC, 4-полюс, выдвижное исполнение, Icu 66 kA, Без выдвижного оборудования, размер 2","- / -",0,0,9838.17,{"$f":"VLOOKUP(B2586,#REF!,3,FALSE)","v":{"$error":"#REF!"}}]
["Arion","Arion","LA1","CPOFF58","ARION WL1240-2**45-****","Коммутационный блок","Iu 4000 A, AC, AC, 4-полюс, выдвижное исполнение, Icu 66 kA, Без выдвижного оборудования, размер 2","- / -",0,0,12814.28,{"$f":"VLOOKUP(B2587,#REF!,3,FALSE)","v":{"$error":"#REF!"}}]
["Arion","Arion","LA1","CPOF749","ARION WL1208-3**45-****","Коммутационный блок","Iu 800 A, AC, 4-полюс, выдвижное исполнение, Icu 80 kA, Без выдвижного оборудования, размер 2","- / -",0,0,3220.11,{"$f":"VLOOKUP(B2588,#REF!,3,FALSE)","v":{"$error":"#REF!"}}]
["Arion","Arion","LA1","CPOF750","ARION WL1210-3**45-****","Коммутационный блок","Iu 1000 A, AC, 4-полюс, выдвижное исполнение, Icu 80 kA, Без выдвижного оборудования, размер 2","- / -",0,0,3477.6800000000003,{"$f":"VLOOKUP(B2589,#REF!,3,FALSE)","v":{"$error":"#REF!"}}]
["Arion","Arion","LA1","CPOF751","ARION WL1212-3**45-****","Коммутационный блок","Iu 1250 A, AC, 4-полюс, выдвижное исполнение, Icu 80 kA, Без выдвижного оборудования, размер 2","- / -",0,0,3655.6000000000004,{"$f":"VLOOKUP(B2590,#REF!,3,FALSE)","v":{"$error":"#REF!"}}]
["Arion","Arion","LA1","CPOF752","ARION WL1216-3**45-****","Коммутационный блок","Iu 1600 A, AC, 4-полюс, выдвижное исполнение, Icu 80 kA, Без выдвижного оборудования, размер 2","- / -",0,0,5268.71,{"$f":"VLOOKUP(B2591,#REF!,3,FALSE)","v":{"$error":"#REF!"}}]
["Arion","Arion","LA1","CPOF753","ARION WL1220-3**45-****","Коммутационный блок","Iu 2000 A, AC, 4-полюс, выдвижное исполнение, Icu 80 kA, Без выдвижного оборудования, размер 2","- / -",0,0,6550.59,{"$f":"VLOOKUP(B2592,#REF!,3,FALSE)","v":{"$error":"#REF!"}}]
["Arion","Arion","LA1","CPOF754","ARION WL1225-3**45-****","Коммутационный блок","Iu 2500 A, AC, 4-полюс, выдвижное исполнение, Icu 80 kA, Без выдвижного оборудования, размер 2","- / -",0,0,8494.26,{"$f":"VLOOKUP(B2593,#REF!,3,FALSE)","v":{"$error":"#REF!"}}]
["Arion","Arion","LA1","CPOF755","ARION WL1232-3**45-****","Коммутационный блок","Iu 3200 A, AC, 4-полюс, выдвижное исполнение, Icu 80 kA, Без выдвижного оборудования, размер 2","- / -",0,0,10206.16,{"$f":"VLOOKUP(B2594,#REF!,3,FALSE)","v":{"$error":"#REF!"}}]
["Arion","Arion","LA1","CPOFF59","ARION WL1240-3**45-****","Коммутационный блок","Iu 4000 A, AC, 4-полюс, выдвижное исполнение, Icu 80 kA, Без выдвижного оборудования, размер 2","- / -",0,0,13523.14,{"$f":"VLOOKUP(B2595,#REF!,3,FALSE)","v":{"$error":"#REF!"}}]
["Arion","Arion","LA1","CPOF791","ARION WL1208-4**45-****","Коммутационный блок","Iu 800 A, AC, 4-полюс, выдвижное исполнение, Icu 100 kA, Без выдвижного оборудования, размер 2","- / -",0,0,3330.4900000000002,{"$f":"VLOOKUP(B2596,#REF!,3,FALSE)","v":{"$error":"#REF!"}}]
["Arion","Arion","LA1","CPOF792","ARION WL1210-4**45-****","Коммутационный блок","Iu 1000 A, AC, 4-полюс, выдвижное исполнение, Icu 100 kA, Без выдвижного оборудования, размер 2","- / -",0,0,3594.24,{"$f":"VLOOKUP(B2597,#REF!,3,FALSE)","v":{"$error":"#REF!"}}]
["Arion","Arion","LA1","CPOF793","ARION WL1212-4**45-****","Коммутационный блок","Iu 1250 A, AC, 4-полюс, выдвижное исполнение, Icu 100 kA, Без выдвижного оборудования, размер 2","- / -",0,0,3802.8,{"$f":"VLOOKUP(B2598,#REF!,3,FALSE)","v":{"$error":"#REF!"}}]
["Arion","Arion","LA1","CPOF794","ARION WL1216-4**45-****","Коммутационный блок","Iu 1600 A, AC, 4-полюс, выдвижное исполнение, Icu 100 kA, Без выдвижного оборудования, размер 2","- / -",0,0,5446.54,{"$f":"VLOOKUP(B2599,#REF!,3,FALSE)","v":{"$error":"#REF!"}}]
["Arion","Arion","LA1","CPOF795","ARION WL1220-4**45-****","Коммутационный блок","Iu 2000 A, AC, 4-полюс, выдвижное исполнение, Icu 100 kA, Без выдвижного оборудования, размер 2","- / -",0,0,6771.38,{"$f":"VLOOKUP(B2600,#REF!,3,FALSE)","v":{"$error":"#REF!"}}]
["Arion","Arion","LA1","CPOF796","ARION WL1225-4**45-****","Коммутационный блок","Iu 2500 A, AC, 4-полюс, выдвижное исполнение, Icu 100 kA, Без выдвижного оборудования, размер 2","- / -",0,0,8632.33,{"$f":"VLOOKUP(B2601,#REF!,3,FALSE)","v":{"$error":"#REF!"}}]
["Arion","Arion","LA1","CPOF797","ARION WL1232-4**45-****","Коммутационный блок","Iu 3200 A, AC, 4-полюс, выдвижное исполнение, Icu 100 kA, Без выдвижного оборудования, размер 2","- / -",0,0,10568.050000000001,{"$f":"VLOOKUP(B2602,#REF!,3,FALSE)","v":{"$error":"#REF!"}}]
["Arion","Arion","LA1","CPOFF60","ARION WL1240-4**45-****","Коммутационный блок","Iu 4000 A, AC, 4-полюс, выдвижное исполнение, Icu 100 kA, Без выдвижного оборудования, размер 2","- / -",0,0,14723.02,{"$f":"VLOOKUP(B2603,#REF!,3,FALSE)","v":{"$error":"#REF!"}}]
["Arion","Arion","LA1","CPOFF61","ARION WL1216-5**45-****","Коммутационный блок","Iu 1600 A, AC, 4-полюс, выдвижное исполнение, Icu 130 kA, Без выдвижного оборудования, размер 2","- / -",0,0,4722.42,{"$f":"VLOOKUP(B2604,#REF!,3,FALSE)","v":{"$error":"#REF!"}}]
["Arion","Arion","LA1","CPOFF62","ARION WL1220-5**45-****","Коммутационный блок","Iu 2000 A, AC, 4-полюс, выдвижное исполнение, Icu 130 kA, Без выдвижного оборудования, размер 2","- / -",0,0,6652.55,{"$f":"VLOOKUP(B2605,#REF!,3,FALSE)","v":{"$error":"#REF!"}}]
["Arion","Arion","LA1","CPOFF63","ARION WL1225-5**45-****","Коммутационный блок","Iu 2500 A, AC, 4-полюс, выдвижное исполнение, Icu 130 kA, Без выдвижного оборудования, размер 2","- / -",0,0,9706.08,{"$f":"VLOOKUP(B2606,#REF!,3,FALSE)","v":{"$error":"#REF!"}}]
["Arion","Arion","LA1","CPOFF64","ARION WL1232-5**45-****","Коммутационный блок","Iu 3200 A, AC, 4-полюс, выдвижное исполнение, Icu 130 kA, Без выдвижного оборудования, размер 2","- / -",0,0,13141.61,{"$f":"VLOOKUP(B2607,#REF!,3,FALSE)","v":{"$error":"#REF!"}}]
[null,null,null,"Level  7","ARION WL13xx-x**45-**** - Размер III, 4 000 ÷ 6 300 A"]
["Arion","Arion","LA1","CPOF798","ARION WL1340-4**45-****","Коммутационный блок","Iu 4000 A, AC, 4-полюс, выдвижное исполнение, Icu 100 kA, Без выдвижного оборудования, размер 3","- / -",0,0,16858.559999999998,{"$f":"VLOOKUP(B2609,#REF!,3,FALSE)","v":{"$error":"#REF!"}}]
["Arion","Arion","LA1","CPOF799","ARION WL1350-4**45-****","Коммутационный блок","Iu 5000 A, AC, 4-полюс, выдвижное исполнение, Icu 100 kA, Без выдвижного оборудования, размер 3","- / -",0,0,24202.829999999998,{"$f":"VLOOKUP(B2610,#REF!,3,FALSE)","v":{"$error":"#REF!"}}]
["Arion","Arion","LA1","CPOF078","ARION WL1363-4**45-****","Коммутационный блок","Iu 6300 A, AC, 4-полюс, выдвижное исполнение, Icu 100 kA, Без выдвижного оборудования, размер 3","- / -",0,0,30912.879999999997,{"$f":"VLOOKUP(B2611,#REF!,3,FALSE)","v":{"$error":"#REF!"}}]
["Arion","Arion","LA1","CPOF171","ARION WL1340-5**45-****","Коммутационный блок","Iu 4000 A, AC, 4-полюс, выдвижное исполнение, Icu 130 kA, Без выдвижного оборудования, размер 3","- / -",0,0,19867.359999999997,{"$f":"VLOOKUP(B2612,#REF!,3,FALSE)","v":{"$error":"#REF!"}}]
["Arion","Arion","LA1","CPOF172","ARION WL1350-5**45-****","Коммутационный блок","Iu 5000 A, AC, 4-полюс, выдвижное исполнение, Icu 130 kA, Без выдвижного оборудования, размер 3","- / -",0,0,25822.09,{"$f":"VLOOKUP(B2613,#REF!,3,FALSE)","v":{"$error":"#REF!"}}]
["Arion","Arion","LA1","CPOF173","ARION WL1363-5**45-****","Коммутационный блок","Iu 6300 A, AC, 4-полюс, выдвижное исполнение, Icu 130 kA, Без выдвижного оборудования, размер 3","- / -",0,0,33513.51,{"$f":"VLOOKUP(B2614,#REF!,3,FALSE)","v":{"$error":"#REF!"}}]
[null,null,null,"Level  6","ARION WL1xxx-x**47-**** - Задние вертикальные подводы"]
[null,null,null,"Level  7","ARION WL11xx-x**47-**** - Размер I, 630 ÷ 2 000 A"]
["Arion","Arion","LA1","CPOF730","ARION WL1106-2**47-****","Коммутационный блок","Iu 630 A, AC, 4-полюс, выдвижное исполнение, Icu 55 kA, задний вертикальный подвод, размер 1","- / -",0,0,3399.7900000000004,{"$f":"VLOOKUP(B2617,#REF!,3,FALSE)","v":{"$error":"#REF!"}}]
["Arion","Arion","LA1","CPOF731","ARION WL1108-2**47-****","Коммутационный блок","Iu 800 A, AC, 4-полюс, выдвижное исполнение, Icu 55 kA, задний вертикальный подвод, размер 1","- / -",0,0,3399.7900000000004,{"$f":"VLOOKUP(B2618,#REF!,3,FALSE)","v":{"$error":"#REF!"}}]
["Arion","Arion","LA1","CPOF732","ARION WL1110-2**47-****","Коммутационный блок","Iu 1000 A, AC, 4-полюс, выдвижное исполнение, Icu 55 kA, задний вертикальный подвод, размер 1","- / -",0,0,3626.73,{"$f":"VLOOKUP(B2619,#REF!,3,FALSE)","v":{"$error":"#REF!"}}]
["Arion","Arion","LA1","CPOF733","ARION WL1112-2**47-****","Коммутационный блок","Iu 1250 A, AC, 4-полюс, выдвижное исполнение, Icu 55 kA, задний вертикальный подвод, размер 1","- / -",0,0,3896.61,{"$f":"VLOOKUP(B2620,#REF!,3,FALSE)","v":{"$error":"#REF!"}}]
["Arion","Arion","LA1","CPOF734","ARION WL1116-2**47-****","Коммутационный блок","Iu 1600 A, AC, 4-полюс, выдвижное исполнение, Icu 55 kA, задний вертикальный подвод, размер 1","- / -",0,0,5588.71,{"$f":"VLOOKUP(B2621,#REF!,3,FALSE)","v":{"$error":"#REF!"}}]
["Arion","Arion","LA1","CPOF659","ARION WL1120-2**47-****","Коммутационный блок","Iu 2000 A, AC, 4-полюс, выдвижное исполнение, Icu 55 kA, задний вертикальный подвод, размер 1","- / -",0,0,6722.95,{"$f":"VLOOKUP(B2622,#REF!,3,FALSE)","v":{"$error":"#REF!"}}]
["Arion","Arion","LA1","CPOFF14","ARION WL1106-3**47-****","Коммутационный блок","Iu 630 A, AC, 4-полюс, выдвижное исполнение, Icu 66 kA, задний вертикальный подвод, размер 1","- / -",0,0,4197.1500000000005,{"$f":"VLOOKUP(B2623,#REF!,3,FALSE)","v":{"$error":"#REF!"}}]
["Arion","Arion","LA1","CPOF768","ARION WL1108-3**47-****","Коммутационный блок","Iu 800 A, AC, 4-полюс, выдвижное исполнение, Icu 66 kA, задний вертикальный подвод, размер 1","- / -",0,0,4197.1500000000005,{"$f":"VLOOKUP(B2624,#REF!,3,FALSE)","v":{"$error":"#REF!"}}]
["Arion","Arion","LA1","CPOF769","ARION WL1110-3**47-****","Коммутационный блок","Iu 1000 A, AC, 4-полюс, выдвижное исполнение, Icu 66 kA, задний вертикальный подвод, размер 1","- / -",0,0,4411.8200000000006,{"$f":"VLOOKUP(B2625,#REF!,3,FALSE)","v":{"$error":"#REF!"}}]
["Arion","Arion","LA1","CPOF770","ARION WL1112-3**47-****","Коммутационный блок","Iu 1250 A, AC, 4-полюс, выдвижное исполнение, Icu 66 kA, задний вертикальный подвод, размер 1","- / -",0,0,4577.4400000000005,{"$f":"VLOOKUP(B2626,#REF!,3,FALSE)","v":{"$error":"#REF!"}}]
["Arion","Arion","LA1","CPOF771","ARION WL1116-3**47-****","Коммутационный блок","Iu 1600 A, AC, 4-полюс, выдвижное исполнение, Icu 66 kA, задний вертикальный подвод, размер 1","- / -",0,0,5651.8600000000006,{"$f":"VLOOKUP(B2627,#REF!,3,FALSE)","v":{"$error":"#REF!"}}]
["Arion","Arion","LA1","CPOF660","ARION WL1120-3**47-****","Коммутационный блок","Iu 2000 A, AC, 4-полюс, выдвижное исполнение, Icu 66 kA, задний вертикальный подвод, размер 1","- / -",0,0,6808.79,{"$f":"VLOOKUP(B2628,#REF!,3,FALSE)","v":{"$error":"#REF!"}}]
["Arion","Arion","LA1","CPOF014","ARION WL1106-4**47-****","Коммутационный блок","Iu 630 A, AC, 4-полюс, выдвижное исполнение, Icu 85 kA, задний вертикальный подвод, размер 1","- / -",0,0,4484.18,{"$f":"VLOOKUP(B2629,#REF!,3,FALSE)","v":{"$error":"#REF!"}}]
["Arion","Arion","LA1","CPOF344","ARION WL1108-4**47-****","Коммутационный блок","Iu 800 A, AC, 4-полюс, выдвижное исполнение, Icu 85 kA, задний вертикальный подвод, размер 1","- / -",0,0,4490.3600000000006,{"$f":"VLOOKUP(B2630,#REF!,3,FALSE)","v":{"$error":"#REF!"}}]
["Arion","Arion","LA1","CPOFC08","ARION WL1110-4**47-****","Коммутационный блок","Iu 1000 A, AC, 4-полюс, выдвижное исполнение, Icu 85 kA, задний вертикальный подвод, размер 1","- / -",0,0,4723.43,{"$f":"VLOOKUP(B2631,#REF!,3,FALSE)","v":{"$error":"#REF!"}}]
["Arion","Arion","LA1","CPOFC59","ARION WL1116-4**47-****","Коммутационный блок","Iu 1600 A, AC, 4-полюс, выдвижное исполнение, Icu 85 kA, задний вертикальный подвод, размер 1","- / -",0,0,6046.89,{"$f":"VLOOKUP(B2632,#REF!,3,FALSE)","v":{"$error":"#REF!"}}]
["Arion","Arion","LA1","CPOF661","ARION WL1120-4**47-****","Коммутационный блок","Iu 2000 A, AC, 4-полюс, выдвижное исполнение, Icu 85 kA, задний вертикальный подвод, размер 1","- / -",0,0,7244.31,{"$f":"VLOOKUP(B2633,#REF!,3,FALSE)","v":{"$error":"#REF!"}}]
[null,null,null,"Level  7","ARION WL12xx-x**47-**** - Размер II, 800 ÷ 4 000 A"]
["Arion","Arion","LA1","CPOF735","ARION WL1220-2**47-****","Коммутационный блок","Iu 2000 A, AC, 4-полюс, выдвижное исполнение, Icu 66 kA, задний вертикальный подвод, размер 2","- / -",0,0,7291.54,{"$f":"VLOOKUP(B2635,#REF!,3,FALSE)","v":{"$error":"#REF!"}}]
["Arion","Arion","LA1","CPOF736","ARION WL1225-2**47-****","Коммутационный блок","Iu 2500 A, AC, 4-полюс, выдвижное исполнение, Icu 66 kA, задний вертикальный подвод, размер 2","- / -",0,0,9192.41,{"$f":"VLOOKUP(B2636,#REF!,3,FALSE)","v":{"$error":"#REF!"}}]
["Arion","Arion","LA1","CPOF104","ARION WL1232-2**47-****","Коммутационный блок","Iu 3200 A, AC, 4-полюс, выдвижное исполнение, Icu 66 kA, задний вертикальный подвод, размер 2","- / -",0,0,12241.87,{"$f":"VLOOKUP(B2637,#REF!,3,FALSE)","v":{"$error":"#REF!"}}]
["Arion","Arion","LA1","CPOF179","ARION WL1240-2**47-****","Коммутационный блок","Iu 4000 A, AC, 4-полюс, выдвижное исполнение, Icu 66 kA, задний вертикальный подвод, размер 2","- / -",0,0,15916.45,{"$f":"VLOOKUP(B2638,#REF!,3,FALSE)","v":{"$error":"#REF!"}}]
["Arion","Arion","LA1","CPOF772","ARION WL1208-3**47-****","Коммутационный блок","Iu 800 A, AC, 4-полюс, выдвижное исполнение, Icu 80 kA, задний вертикальный подвод, размер 2","- / -",0,0,4442.51,{"$f":"VLOOKUP(B2639,#REF!,3,FALSE)","v":{"$error":"#REF!"}}]
["Arion","Arion","LA1","CPOF773","ARION WL1210-3**47-****","Коммутационный блок","Iu 1000 A, AC, 4-полюс, выдвижное исполнение, Icu 80 kA, задний вертикальный подвод, размер 2","- / -",0,0,4700.12,{"$f":"VLOOKUP(B2640,#REF!,3,FALSE)","v":{"$error":"#REF!"}}]
["Arion","Arion","LA1","CPOF774","ARION WL1212-3**47-****","Коммутационный блок","Iu 1250 A, AC, 4-полюс, выдвижное исполнение, Icu 80 kA, задний вертикальный подвод, размер 2","- / -",0,0,4859.59,{"$f":"VLOOKUP(B2641,#REF!,3,FALSE)","v":{"$error":"#REF!"}}]
["Arion","Arion","LA1","CPOF775","ARION WL1216-3**47-****","Коммутационный блок","Iu 1600 A, AC, 4-полюс, выдвижное исполнение, Icu 80 kA, задний вертикальный подвод, размер 2","- / -",0,0,6497.24,{"$f":"VLOOKUP(B2642,#REF!,3,FALSE)","v":{"$error":"#REF!"}}]
["Arion","Arion","LA1","CPOF776","ARION WL1220-3**47-****","Коммутационный блок","Iu 2000 A, AC, 4-полюс, выдвижное исполнение, Icu 80 kA, задний вертикальный подвод, размер 2","- / -",0,0,7880.35,{"$f":"VLOOKUP(B2643,#REF!,3,FALSE)","v":{"$error":"#REF!"}}]
["Arion","Arion","LA1","CPOF778","ARION WL1225-3**47-****","Коммутационный блок","Iu 2500 A, AC, 4-полюс, выдвижное исполнение, Icu 80 kA, задний вертикальный подвод, размер 2","- / -",0,0,10122.9,{"$f":"VLOOKUP(B2644,#REF!,3,FALSE)","v":{"$error":"#REF!"}}]
["Arion","Arion","LA1","CPOFF04","ARION WL1232-3**47-****","Коммутационный блок","Iu 3200 A, AC, 4-полюс, выдвижное исполнение, Icu 80 kA, задний вертикальный подвод, размер 2","- / -",0,0,12714.15,{"$f":"VLOOKUP(B2645,#REF!,3,FALSE)","v":{"$error":"#REF!"}}]
["Arion","Arion","LA1","CPOF107","ARION WL1240-3**47-****","Коммутационный блок","Iu 4000 A, AC, 4-полюс, выдвижное исполнение, Icu 80 kA, задний вертикальный подвод, размер 2","- / -",0,0,16658.629999999997,{"$f":"VLOOKUP(B2646,#REF!,3,FALSE)","v":{"$error":"#REF!"}}]
["Arion","Arion","LA1","CPOF809","ARION WL1208-4**47-****","Коммутационный блок","Iu 800 A, AC, 4-полюс, выдвижное исполнение, Icu 100 kA, задний вертикальный подвод, размер 2","- / -",0,0,4571.29,{"$f":"VLOOKUP(B2647,#REF!,3,FALSE)","v":{"$error":"#REF!"}}]
["Arion","Arion","LA1","CPOF810","ARION WL1210-4**47-****","Коммутационный блок","Iu 1000 A, AC, 4-полюс, выдвижное исполнение, Icu 100 kA, задний вертикальный подвод, размер 2","- / -",0,0,4822.7700000000004,{"$f":"VLOOKUP(B2648,#REF!,3,FALSE)","v":{"$error":"#REF!"}}]
["Arion","Arion","LA1","CPOF811","ARION WL1212-4**47-****","Коммутационный блок","Iu 1250 A, AC, 4-полюс, выдвижное исполнение, Icu 100 kA, задний вертикальный подвод, размер 2","- / -",0,0,5049.74,{"$f":"VLOOKUP(B2649,#REF!,3,FALSE)","v":{"$error":"#REF!"}}]
["Arion","Arion","LA1","CPOF812","ARION WL1216-4**47-****","Коммутационный блок","Iu 1600 A, AC, 4-полюс, выдвижное исполнение, Icu 100 kA, задний вертикальный подвод, размер 2","- / -",0,0,6675.13,{"$f":"VLOOKUP(B2650,#REF!,3,FALSE)","v":{"$error":"#REF!"}}]
["Arion","Arion","LA1","CPOF813","ARION WL1220-4**47-****","Коммутационный блок","Iu 2000 A, AC, 4-полюс, выдвижное исполнение, Icu 100 kA, задний вертикальный подвод, размер 2","- / -",0,0,8033.6900000000005,{"$f":"VLOOKUP(B2651,#REF!,3,FALSE)","v":{"$error":"#REF!"}}]
["Arion","Arion","LA1","CPOF814","ARION WL1225-4**47-****","Коммутационный блок","Iu 2500 A, AC, 4-полюс, выдвижное исполнение, Icu 100 kA, задний вертикальный подвод, размер 2","- / -",0,0,10333,{"$f":"VLOOKUP(B2652,#REF!,3,FALSE)","v":{"$error":"#REF!"}}]
["Arion","Arion","LA1","CPOF815","ARION WL1232-4**47-****","Коммутационный блок","Iu 3200 A, AC, 4-полюс, выдвижное исполнение, Icu 100 kA, задний вертикальный подвод, размер 2","- / -",0,0,13149.62,{"$f":"VLOOKUP(B2653,#REF!,3,FALSE)","v":{"$error":"#REF!"}}]
["Arion","Arion","LA1","CPOF106","ARION WL1240-4**47-****","Коммутационный блок","Iu 4000 A, AC, 4-полюс, выдвижное исполнение, Icu 100 kA, задний вертикальный подвод, размер 2","- / -",0,0,17793.32,{"$f":"VLOOKUP(B2654,#REF!,3,FALSE)","v":{"$error":"#REF!"}}]
["Arion","Arion","LA1","CPOFF65","ARION WL1216-5**47-****","Коммутационный блок","Iu 1600 A, AC, 4-полюс, выдвижное исполнение, Icu 130 kA, задний вертикальный подвод, размер 2","- / -",0,0,7852.41,{"$f":"VLOOKUP(B2655,#REF!,3,FALSE)","v":{"$error":"#REF!"}}]
["Arion","Arion","LA1","CPOFF66","ARION WL1220-5**47-****","Коммутационный блок","Iu 2000 A, AC, 4-полюс, выдвижное исполнение, Icu 130 kA, задний вертикальный подвод, размер 2","- / -",0,0,9760.73,{"$f":"VLOOKUP(B2656,#REF!,3,FALSE)","v":{"$error":"#REF!"}}]
["Arion","Arion","LA1","CPOFF67","ARION WL1225-5**47-****","Коммутационный блок","Iu 2500 A, AC, 4-полюс, выдвижное исполнение, Icu 130 kA, задний вертикальный подвод, размер 2","- / -",0,0,12868.9,{"$f":"VLOOKUP(B2657,#REF!,3,FALSE)","v":{"$error":"#REF!"}}]
["Arion","Arion","LA1","CPOFF68","ARION WL1232-5**47-****","Коммутационный блок","Iu 3200 A, AC, 4-полюс, выдвижное исполнение, Icu 130 kA, задний вертикальный подвод, размер 2","- / -",0,0,16304.210000000001,{"$f":"VLOOKUP(B2658,#REF!,3,FALSE)","v":{"$error":"#REF!"}}]
[null,null,null,"Level  7","ARION WL13xx-x**47-**** - Размер III, 4 000 ÷ 6 300 A"]
["Arion","Arion","LA1","CPOF816","ARION WL1340-4**47-****","Коммутационный блок","Iu 4000 A, AC, 4-полюс, выдвижное исполнение, Icu 100 kA, задний вертикальный подвод, размер 3","- / -",0,0,20139.539999999997,{"$f":"VLOOKUP(B2660,#REF!,3,FALSE)","v":{"$error":"#REF!"}}]
["Arion","Arion","LA1","CPOF079","ARION WL1350-4**47-****","Коммутационный блок","Iu 5000 A, AC, 4-полюс, выдвижное исполнение, Icu 100 kA, задний вертикальный подвод, размер 3","- / -",0,0,28880.87,{"$f":"VLOOKUP(B2661,#REF!,3,FALSE)","v":{"$error":"#REF!"}}]
["Arion","Arion","LA1","CPOF080","ARION WL1363-4**47-****","Коммутационный блок","Iu 6300 A, AC, 4-полюс, выдвижное исполнение, Icu 100 kA, задний вертикальный подвод, размер 3","- / -",0,0,36688.240000000005,{"$f":"VLOOKUP(B2662,#REF!,3,FALSE)","v":{"$error":"#REF!"}}]
["Arion","Arion","LA1","CPOF176","ARION WL1340-5**47-****","Коммутационный блок","Iu 4000 A, AC, 4-полюс, выдвижное исполнение, Icu 130 kA, задний вертикальный подвод, размер 3","- / -",0,0,23636.399999999998,{"$f":"VLOOKUP(B2663,#REF!,3,FALSE)","v":{"$error":"#REF!"}}]
["Arion","Arion","LA1","CPOF177","ARION WL1350-5**47-****","Коммутационный блок","Iu 5000 A, AC, 4-полюс, выдвижное исполнение, Icu 130 kA, задний вертикальный подвод, размер 3","- / -",0,0,31150.269999999997,{"$f":"VLOOKUP(B2664,#REF!,3,FALSE)","v":{"$error":"#REF!"}}]
["Arion","Arion","LA1","CPOF178","ARION WL1363-5**47-****","Коммутационный блок","Iu 6300 A, AC, 4-полюс, выдвижное исполнение, Icu 130 kA, задний вертикальный подвод, размер 3","- / -",0,0,39307.230000000003,{"$f":"VLOOKUP(B2665,#REF!,3,FALSE)","v":{"$error":"#REF!"}}]
[null,null,null,"Level  6","ARION WL1xxx-x**48-**** - Задние фланцевые подводы"]
[null,null,null,"Level  7","ARION WL11xx-x**48-**** - Размер I, 630 ÷ 2 000 A"]
["Arion","Arion","LA1","CPOF737","ARION WL1106-2**48-****","Коммутационный блок","Iu 630 A, AC, 4-полюс, выдвижное исполнение, Icu 55 kA, задний фланцевый подвод, размер 1","- / -",0,0,3152.63,{"$f":"VLOOKUP(B2668,#REF!,3,FALSE)","v":{"$error":"#REF!"}}]
["Arion","Arion","LA1","CPOF738","ARION WL1108-2**48-****","Коммутационный блок","Iu 800 A, AC, 4-полюс, выдвижное исполнение, Icu 55 kA, задний фланцевый подвод, размер 1","- / -",0,0,3158.78,{"$f":"VLOOKUP(B2669,#REF!,3,FALSE)","v":{"$error":"#REF!"}}]
["Arion","Arion","LA1","CPOF739","ARION WL1110-2**48-****","Коммутационный блок","Iu 1000 A, AC, 4-полюс, выдвижное исполнение, Icu 55 kA, задний фланцевый подвод, размер 1","- / -",0,0,3385.69,{"$f":"VLOOKUP(B2670,#REF!,3,FALSE)","v":{"$error":"#REF!"}}]
["Arion","Arion","LA1","CPOF740","ARION WL1112-2**48-****","Коммутационный блок","Iu 1250 A, AC, 4-полюс, выдвижное исполнение, Icu 55 kA, задний фланцевый подвод, размер 1","- / -",0,0,3655.6000000000004,{"$f":"VLOOKUP(B2671,#REF!,3,FALSE)","v":{"$error":"#REF!"}}]
["Arion","Arion","LA1","CPOF741","ARION WL1116-2**48-****","Коммутационный блок","Iu 1600 A, AC, 4-полюс, выдвижное исполнение, Icu 55 kA, задний фланцевый подвод, размер 1","- / -",0,0,5363.0300000000007,{"$f":"VLOOKUP(B2672,#REF!,3,FALSE)","v":{"$error":"#REF!"}}]
["Arion","Arion","LA1","CPOF665","ARION WL1120-2**48-****","Коммутационный блок","Iu 2000 A, AC, 4-полюс, выдвижное исполнение, Icu 55 kA, задний фланцевый подвод, размер 1","- / -",0,0,6464.72,{"$f":"VLOOKUP(B2673,#REF!,3,FALSE)","v":{"$error":"#REF!"}}]
["Arion","Arion","LA1","CPOF779","ARION WL1106-3**48-****","Коммутационный блок","Iu 630 A, AC, 4-полюс, выдвижное исполнение, Icu 66 kA, задний фланцевый подвод, размер 1","- / -",0,0,3949.96,{"$f":"VLOOKUP(B2674,#REF!,3,FALSE)","v":{"$error":"#REF!"}}]
["Arion","Arion","LA1","CPOF780","ARION WL1108-3**48-****","Коммутационный блок","Iu 800 A, AC, 4-полюс, выдвижное исполнение, Icu 66 kA, задний фланцевый подвод, размер 1","- / -",0,0,3956.11,{"$f":"VLOOKUP(B2675,#REF!,3,FALSE)","v":{"$error":"#REF!"}}]
["Arion","Arion","LA1","CPOF781","ARION WL1110-3**48-****","Коммутационный блок","Iu 1000 A, AC, 4-полюс, выдвижное исполнение, Icu 66 kA, задний фланцевый подвод, размер 1","- / -",0,0,4170.8100000000004,{"$f":"VLOOKUP(B2676,#REF!,3,FALSE)","v":{"$error":"#REF!"}}]
["Arion","Arion","LA1","CPOF782","ARION WL1112-3**48-****","Коммутационный блок","Iu 1250 A, AC, 4-полюс, выдвижное исполнение, Icu 66 kA, задний фланцевый подвод, размер 1","- / -",0,0,4336.4000000000005,{"$f":"VLOOKUP(B2677,#REF!,3,FALSE)","v":{"$error":"#REF!"}}]
["Arion","Arion","LA1","CPOF783","ARION WL1116-3**48-****","Коммутационный блок","Iu 1600 A, AC, 4-полюс, выдвижное исполнение, Icu 66 kA, задний фланцевый подвод, размер 1","- / -",0,0,5426.21,{"$f":"VLOOKUP(B2678,#REF!,3,FALSE)","v":{"$error":"#REF!"}}]
["Arion","Arion","LA1","CPOF666","ARION WL1120-3**48-****","Коммутационный блок","Iu 2000 A, AC, 4-полюс, выдвижное исполнение, Icu 66 kA, задний фланцевый подвод, размер 1","- / -",0,0,6550.59,{"$f":"VLOOKUP(B2679,#REF!,3,FALSE)","v":{"$error":"#REF!"}}]
["Arion","Arion","LA1","CPOF015","ARION WL1106-4**48-****","Коммутационный блок","Iu 630 A, AC, 4-полюс, выдвижное исполнение, Icu 85 kA, задний фланцевый подвод, размер 1","- / -",0,0,4225.99,{"$f":"VLOOKUP(B2680,#REF!,3,FALSE)","v":{"$error":"#REF!"}}]
["Arion","Arion","LA1","CPOF563","ARION WL1108-4**48-****","Коммутационный блок","Iu 800 A, AC, 4-полюс, выдвижное исполнение, Icu 85 kA, задний фланцевый подвод, размер 1","- / -",0,0,4232.1400000000003,{"$f":"VLOOKUP(B2681,#REF!,3,FALSE)","v":{"$error":"#REF!"}}]
["Arion","Arion","LA1","CPOFC10","ARION WL1110-4**48-****","Коммутационный блок","Iu 1000 A, AC, 4-полюс, выдвижное исполнение, Icu 85 kA, задний фланцевый подвод, размер 1","- / -",0,0,4465.17,{"$f":"VLOOKUP(B2682,#REF!,3,FALSE)","v":{"$error":"#REF!"}}]
["Arion","Arion","LA1","CPOFC30","ARION WL1116-4**48-****","Коммутационный блок","Iu 1600 A, AC, 4-полюс, выдвижное исполнение, Icu 85 kA, задний фланцевый подвод, размер 1","- / -",0,0,5805.1500000000005,{"$f":"VLOOKUP(B2683,#REF!,3,FALSE)","v":{"$error":"#REF!"}}]
["Arion","Arion","LA1","CPOF667","ARION WL1120-4**48-****","Коммутационный блок","Iu 2000 A, AC, 4-полюс, выдвижное исполнение, Icu 85 kA, задний фланцевый подвод, размер 1","- / -",0,0,6955.42,{"$f":"VLOOKUP(B2684,#REF!,3,FALSE)","v":{"$error":"#REF!"}}]
[null,null,null,"Level  7","ARION WL12xx-x**48-**** - Размер II, 800 ÷ 4 000 A"]
["Arion","Arion","LA1","CPOF742","ARION WL1220-2**48-****","Коммутационный блок","Iu 2000 A, AC, 4-полюс, выдвижное исполнение, Icu 66 kA, задний фланцевый подвод, размер 2","- / -",0,0,6992.21,{"$f":"VLOOKUP(B2686,#REF!,3,FALSE)","v":{"$error":"#REF!"}}]
["Arion","Arion","LA1","CPOF743","ARION WL1225-2**48-****","Коммутационный блок","Iu 2500 A, AC, 4-полюс, выдвижное исполнение, Icu 66 kA, задний фланцевый подвод, размер 2","- / -",0,0,8848.43,{"$f":"VLOOKUP(B2687,#REF!,3,FALSE)","v":{"$error":"#REF!"}}]
["Arion","Arion","LA1","CPOF105","ARION WL1232-2**48-****","Коммутационный блок","Iu 3200 A, AC, 4-полюс, выдвижное исполнение, Icu 66 kA, задний фланцевый подвод, размер 2","- / -",0,0,11586.210000000001,{"$f":"VLOOKUP(B2688,#REF!,3,FALSE)","v":{"$error":"#REF!"}}]
["Arion","Arion","LA1","CPOF784","ARION WL1208-3**48-****","Коммутационный блок","Iu 800 A, AC, 4-полюс, выдвижное исполнение, Icu 80 kA, задний фланцевый подвод, размер 2","- / -",0,0,4201.47,{"$f":"VLOOKUP(B2689,#REF!,3,FALSE)","v":{"$error":"#REF!"}}]
["Arion","Arion","LA1","CPOF785","ARION WL1210-3**48-****","Коммутационный блок","Iu 1000 A, AC, 4-полюс, выдвижное исполнение, Icu 80 kA, задний фланцевый подвод, размер 2","- / -",0,0,4459.08,{"$f":"VLOOKUP(B2690,#REF!,3,FALSE)","v":{"$error":"#REF!"}}]
["Arion","Arion","LA1","CPOF786","ARION WL1212-3**48-****","Коммутационный блок","Iu 1250 A, AC, 4-полюс, выдвижное исполнение, Icu 80 kA, задний фланцевый подвод, размер 2","- / -",0,0,4618.55,{"$f":"VLOOKUP(B2691,#REF!,3,FALSE)","v":{"$error":"#REF!"}}]
["Arion","Arion","LA1","CPOF787","ARION WL1216-3**48-****","Коммутационный блок","Iu 1600 A, AC, 4-полюс, выдвижное исполнение, Icu 80 kA, задний фланцевый подвод, размер 2","- / -",0,0,6256.17,{"$f":"VLOOKUP(B2692,#REF!,3,FALSE)","v":{"$error":"#REF!"}}]
["Arion","Arion","LA1","CPOF788","ARION WL1220-3**48-****","Коммутационный блок","Iu 2000 A, AC, 4-полюс, выдвижное исполнение, Icu 80 kA, задний фланцевый подвод, размер 2","- / -",0,0,7581.02,{"$f":"VLOOKUP(B2693,#REF!,3,FALSE)","v":{"$error":"#REF!"}}]
["Arion","Arion","LA1","CPOF789","ARION WL1225-3**48-****","Коммутационный блок","Iu 2500 A, AC, 4-полюс, выдвижное исполнение, Icu 80 kA, задний фланцевый подвод, размер 2","- / -",0,0,9778.89,{"$f":"VLOOKUP(B2694,#REF!,3,FALSE)","v":{"$error":"#REF!"}}]
["Arion","Arion","LA1","CPOF790","ARION WL1232-3**48-****","Коммутационный блок","Iu 3200 A, AC, 4-полюс, выдвижное исполнение, Icu 80 kA, задний фланцевый подвод, размер 2","- / -",0,0,12242.49,{"$f":"VLOOKUP(B2695,#REF!,3,FALSE)","v":{"$error":"#REF!"}}]
["Arion","Arion","LA1","CPOF817","ARION WL1208-4**48-****","Коммутационный блок","Iu 800 A, AC, 4-полюс, выдвижное исполнение, Icu 100 kA, задний фланцевый подвод, размер 2","- / -",0,0,4330.2800000000007,{"$f":"VLOOKUP(B2696,#REF!,3,FALSE)","v":{"$error":"#REF!"}}]
["Arion","Arion","LA1","CPOF818","ARION WL1210-4**48-****","Коммутационный блок","Iu 1000 A, AC, 4-полюс, выдвижное исполнение, Icu 100 kA, задний фланцевый подвод, размер 2","- / -",0,0,4581.7300000000005,{"$f":"VLOOKUP(B2697,#REF!,3,FALSE)","v":{"$error":"#REF!"}}]
["Arion","Arion","LA1","CPOF819","ARION WL1212-4**48-****","Коммутационный блок","Iu 1250 A, AC, 4-полюс, выдвижное исполнение, Icu 100 kA, задний фланцевый подвод, размер 2","- / -",0,0,4808.68,{"$f":"VLOOKUP(B2698,#REF!,3,FALSE)","v":{"$error":"#REF!"}}]
["Arion","Arion","LA1","CPOF820","ARION WL1216-4**48-****","Коммутационный блок","Iu 1600 A, AC, 4-полюс, выдвижное исполнение, Icu 100 kA, задний фланцевый подвод, размер 2","- / -",0,0,6434.0300000000007,{"$f":"VLOOKUP(B2699,#REF!,3,FALSE)","v":{"$error":"#REF!"}}]
["Arion","Arion","LA1","CPOF821","ARION WL1220-4**48-****","Коммутационный блок","Iu 2000 A, AC, 4-полюс, выдвижное исполнение, Icu 100 kA, задний фланцевый подвод, размер 2","- / -",0,0,7734.3600000000006,{"$f":"VLOOKUP(B2700,#REF!,3,FALSE)","v":{"$error":"#REF!"}}]
["Arion","Arion","LA1","CPOF822","ARION WL1225-4**48-****","Коммутационный блок","Iu 2500 A, AC, 4-полюс, выдвижное исполнение, Icu 100 kA, задний фланцевый подвод, размер 2","- / -",0,0,9989.02,{"$f":"VLOOKUP(B2701,#REF!,3,FALSE)","v":{"$error":"#REF!"}}]
["Arion","Arion","LA1","CPOF823","ARION WL1232-4**48-****","Коммутационный блок","Iu 3200 A, AC, 4-полюс, выдвижное исполнение, Icu 100 kA, задний фланцевый подвод, размер 2","- / -",0,0,12677.98,{"$f":"VLOOKUP(B2702,#REF!,3,FALSE)","v":{"$error":"#REF!"}}]
[null,null,null,"Level  7","ARION WL13xx-x**48-**** - Размер III, 4 000 ÷ 6 300 A"]
["Arion","Arion","LA1","CPOF824","ARION WL1340-4**48-****","Коммутационный блок","Iu 4000 A, AC, 4-полюс, выдвижное исполнение, Icu 100 kA, задний фланцевый подвод, размер 3","- / -",0,0,19310.37,{"$f":"VLOOKUP(B2704,#REF!,3,FALSE)","v":{"$error":"#REF!"}}]
[null,null,null,"Level  4","ARION WL1xxx-8**xx-**** - Коммутационные блоки, DC разъединители нагрузки"]
[null,null,null,"Level  5","ARION WL1xxx-8**3x-**** - 3-полюс, стационарное исполнение"]
[null,null,null,"Level  6","ARION WL1xxx-8**32-**** - Задние горизонтальные подводы"]
["Arion","Arion","LA1","CPOFE11","ARION WL1210-8**32-****","Коммутационный блок","Iu 1000 A, DC, 3-полюс, стационарное исполнение, Icc 25 kA / DC 600 V /1 s, задний горизонтальный подвод, размер 2","- / -",0,0,2993.1600000000003,{"$f":"VLOOKUP(B2708,#REF!,3,FALSE)","v":{"$error":"#REF!"}}]
["Arion","Arion","LA1","CPOFE12","ARION WL1220-8**32-****","Коммутационный блок","Iu 2000 A, DC, 3-полюс, стационарное исполнение, Icc 25 kA / DC 600 V /1 s, задний горизонтальный подвод, размер 2","- / -",0,0,5606.04,{"$f":"VLOOKUP(B2709,#REF!,3,FALSE)","v":{"$error":"#REF!"}}]
["Arion","Arion","LA1","CPOFE13","ARION WL1240-8**32-****","Коммутационный блок","Iu 4000 A, DC, 3-полюс, стационарное исполнение, Icc 25 kA / DC 600 V /1 s, задний горизонтальный подвод, размер 2","- / -",0,0,9960.82,{"$f":"VLOOKUP(B2710,#REF!,3,FALSE)","v":{"$error":"#REF!"}}]
[null,null,null,"Level  6","ARION WL1xxx-8**31-**** - Задние вертикальные подводы"]
["Arion","Arion","LA1","CPOFE14","ARION WL1210-8**31-****","Коммутационный блок","Iu 1000 A, DC, 3-полюс, стационарное исполнение, Icc 25 kA / DC 600 V /1 s, задний вертикальный подвод, размер 2","- / -",0,0,3174.0800000000004,{"$f":"VLOOKUP(B2712,#REF!,3,FALSE)","v":{"$error":"#REF!"}}]
["Arion","Arion","LA1","CPOFE15","ARION WL1220-8**31-****","Коммутационный блок","Iu 2000 A, DC, 3-полюс, стационарное исполнение, Icc 25 kA / DC 600 V /1 s, задний вертикальный подвод, размер 2","- / -",0,0,5828.68,{"$f":"VLOOKUP(B2713,#REF!,3,FALSE)","v":{"$error":"#REF!"}}]
["Arion","Arion","LA1","CPOFE16","ARION WL1240-8**31-****","Коммутационный блок","Iu 4000 A, DC, 3-полюс, стационарное исполнение, Icc 25 kA / DC 600 V /1 s, задний вертикальный подвод, размер 2","- / -",0,0,10580.32,{"$f":"VLOOKUP(B2714,#REF!,3,FALSE)","v":{"$error":"#REF!"}}]
[null,null,null,"Level  6","ARION WL1xxx-8**33-**** - Передние подводы один ряд отверстий"]
["Arion","Arion","LA1","CPOFE17","ARION WL1210-8**33-****","Коммутационный блок","Iu 1000 A, DC, 3-полюс, стационарное исполнение, Icc 25 kA / DC 600 V /1 s, Передний подвод один ряд отверстий, размер 2","- / -",0,0,3174.0800000000004,{"$f":"VLOOKUP(B2716,#REF!,3,FALSE)","v":{"$error":"#REF!"}}]
["Arion","Arion","LA1","CPOFE18","ARION WL1220-8**33-****","Коммутационный блок","Iu 2000 A, DC, 3-полюс, стационарное исполнение, Icc 25 kA / DC 600 V /1 s, Передний подвод один ряд отверстий, размер 2","- / -",0,0,5828.68,{"$f":"VLOOKUP(B2717,#REF!,3,FALSE)","v":{"$error":"#REF!"}}]
[null,null,null,"Level  6","ARION WL1xxx-8**34-**** - Передние подводы два ряда отверстий"]
["Arion","Arion","LA1","CPOFE19","ARION WL1210-8**34-****","Коммутационный блок","Iu 1000 A, DC, 3-полюс, стационарное исполнение, Icc 25 kA / DC 600 V /1 s, Передний подвод два ряда отверстий, размер 2","- / -",0,0,3174.0800000000004,{"$f":"VLOOKUP(B2719,#REF!,3,FALSE)","v":{"$error":"#REF!"}}]
["Arion","Arion","LA1","CPOFE20","ARION WL1220-8**34-****","Коммутационный блок","Iu 2000 A, DC, 3-полюс, стационарное исполнение, Icc 25 kA / DC 600 V /1 s, Передний подвод два ряда отверстий, размер 2","- / -",0,0,5828.68,{"$f":"VLOOKUP(B2720,#REF!,3,FALSE)","v":{"$error":"#REF!"}}]
[null,null,null,"Level  5","ARION WL1xxx-8**3y-**** - 3-полюс, выдвижное исполнение"]
[null,null,null,"Level  6","ARION WL1xxx-8**36-**** - Задние горизонтальные подводы"]
["Arion","Arion","LA1","CPOFE34","ARION WL1210-8**36-****","Коммутационный блок","Iu 1000 A, DC, 3-полюс, выдвижное исполнение, Icc 25 kA / DC 600 V /1 s, задний горизонтальный подвод, размер 2","- / -",0,0,4459.08,{"$f":"VLOOKUP(B2723,#REF!,3,FALSE)","v":{"$error":"#REF!"}}]
["Arion","Arion","LA1","CPOFE35","ARION WL1220-8**36-****","Коммутационный блок","Iu 2000 A, DC, 3-полюс, выдвижное исполнение, Icc 25 kA / DC 600 V /1 s, задний горизонтальный подвод, размер 2","- / -",0,0,7182.3600000000006,{"$f":"VLOOKUP(B2724,#REF!,3,FALSE)","v":{"$error":"#REF!"}}]
["Arion","Arion","LA1","CPOFE36","ARION WL1240-8**36-****","Коммутационный блок","Iu 4000 A, DC, 3-полюс, выдвижное исполнение, Icc 25 kA / DC 600 V /1 s, задний горизонтальный подвод, размер 2","- / -",0,0,13321.97,{"$f":"VLOOKUP(B2725,#REF!,3,FALSE)","v":{"$error":"#REF!"}}]
[null,null,null,"Level  6","ARION WL1xxx-8**35-**** - Без выдвижного оборудования"]
["Arion","Arion","LA1","CPOFE31","ARION WL1210-8**35-****","Коммутационный блок","Iu 1000 A, DC, 3-полюс, выдвижное исполнение, Icc 25 kA / DC 600 V /1 s, Без выдвижного оборудования, размер 2","- / -",0,0,3508.38,{"$f":"VLOOKUP(B2727,#REF!,3,FALSE)","v":{"$error":"#REF!"}}]
["Arion","Arion","LA1","CPOFE32","ARION WL1220-8**35-****","Коммутационный блок","Iu 2000 A, DC, 3-полюс, выдвижное исполнение, Icc 25 kA / DC 600 V /1 s, Без выдвижного оборудования, размер 2","- / -",0,0,6372.7300000000005,{"$f":"VLOOKUP(B2728,#REF!,3,FALSE)","v":{"$error":"#REF!"}}]
["Arion","Arion","LA1","CPOFE33","ARION WL1240-8**35-****","Коммутационный блок","Iu 4000 A, DC, 3-полюс, выдвижное исполнение, Icc 25 kA / DC 600 V /1 s, Без выдвижного оборудования, размер 2","- / -",0,0,11445.130000000001,{"$f":"VLOOKUP(B2729,#REF!,3,FALSE)","v":{"$error":"#REF!"}}]
[null,null,null,"Level  6","ARION WL1xxx-8**37-**** - Задние вертикальные подводы"]
["Arion","Arion","LA1","CPOFE37","ARION WL1210-8**37-****","Коммутационный блок","Iu 1000 A, DC, 3-полюс, выдвижное исполнение, Icc 25 kA / DC 600 V /1 s, задний вертикальный подвод, размер 2","- / -",0,0,4640,{"$f":"VLOOKUP(B2731,#REF!,3,FALSE)","v":{"$error":"#REF!"}}]
["Arion","Arion","LA1","CPOFE38","ARION WL1220-8**37-****","Коммутационный блок","Iu 2000 A, DC, 3-полюс, выдвижное исполнение, Icc 25 kA / DC 600 V /1 s, задний вертикальный подвод, размер 2","- / -",0,0,7404.9800000000005,{"$f":"VLOOKUP(B2732,#REF!,3,FALSE)","v":{"$error":"#REF!"}}]
["Arion","Arion","LA1","CPOFE39","ARION WL1240-8**37-****","Коммутационный блок","Iu 4000 A, DC, 3-полюс, выдвижное исполнение, Icc 25 kA / DC 600 V /1 s, задний вертикальный подвод, размер 2","- / -",0,0,13947.62,{"$f":"VLOOKUP(B2733,#REF!,3,FALSE)","v":{"$error":"#REF!"}}]
[null,null,null,"Level  6","ARION WL1xxx-8**38-**** - Задние фланцевые подводы"]
["Arion","Arion","LA1","CPOFE40","ARION WL1210-8**38-****","Коммутационный блок","Iu 1000 A, DC, 3-полюс, выдвижное исполнение, Icc 25 kA/600 V d.c./1 s, задний фланцевый подвод, размер 2","- / -",0,0,4640,{"$f":"VLOOKUP(B2735,#REF!,3,FALSE)","v":{"$error":"#REF!"}}]
["Arion","Arion","LA1","CPOFE41","ARION WL1220-8**38-****","Коммутационный блок","Iu 2000 A, DC, 3-полюс, выдвижное исполнение, Icc 25 kA / DC 600 V /1 s, задний фланцевый подвод, размер 2","- / -",0,0,7404.9800000000005,{"$f":"VLOOKUP(B2736,#REF!,3,FALSE)","v":{"$error":"#REF!"}}]
["Arion","Arion","LA1","CPOFE42","ARION WL1240-8**38-****","Коммутационный блок","Iu 4000 A, DC, 3-полюс, выдвижное исполнение, Icc 25 kA / DC 600 V /1 s, задний фланцевый подвод, размер 2","- / -",0,0,13947.62,{"$f":"VLOOKUP(B2737,#REF!,3,FALSE)","v":{"$error":"#REF!"}}]
[null,null,null,"Level  5","ARION WL1xxx-8**4x-**** - 4-полюс, стационарное исполнение"]
[null,null,null,"Level  6","ARION WL1xxx-8**42-**** - Задние горизонтальные подводы"]
["Arion","Arion","LA1","CPOFF69","ARION WL1120-8**42-****","Коммутационный блок","Iu 2000 A, DC, 4-полюс, стационарное исполнение, Icc 20 kA / DC 1000 V /1 s, задний горизонтальный подвод, размер 1","- / -",0,0,6216.3600000000006,{"$f":"VLOOKUP(B2740,#REF!,3,FALSE)","v":{"$error":"#REF!"}}]
["Arion","Arion","LA1","CPOFE21","ARION WL1210-8**42-****","Коммутационный блок","Iu 1000 A, DC, 4-полюс, стационарное исполнение, Icc 25 kA / DC 600 V /1 s, задний горизонтальный подвод, размер 2","- / -",0,0,4526.5300000000007,{"$f":"VLOOKUP(B2741,#REF!,3,FALSE)","v":{"$error":"#REF!"}}]
["Arion","Arion","LA1","CPOFE22","ARION WL1220-8**42-****","Коммутационный блок","Iu 2000 A, DC, 4-полюс, стационарное исполнение, Icc 25 kA / DC 600 V /1 s, задний горизонтальный подвод, размер 2","- / -",0,0,7262.1100000000006,{"$f":"VLOOKUP(B2742,#REF!,3,FALSE)","v":{"$error":"#REF!"}}]
["Arion","Arion","LA1","CPOFE23","ARION WL1240-8**42-****","Коммутационный блок","Iu 4000 A, DC, 4-полюс, стационарное исполнение, Icc 25 kA / DC 600 V /1 s, задний горизонтальный подвод, размер 2","- / -",0,0,12653.44,{"$f":"VLOOKUP(B2743,#REF!,3,FALSE)","v":{"$error":"#REF!"}}]
[null,null,null,"Level  6","ARION WL1xxx-8**41-**** - Задние вертикальные подводы"]
["Arion","Arion","LA1","CPOFF70","ARION WL1120-8**41-****","Коммутационный блок","Iu 2000 A, DC, 4-полюс, стационарное исполнение, Icc 20 kA / DC 1000 V /1 s, задний вертикальный подвод, размер 1","- / -",0,0,6380.0300000000007,{"$f":"VLOOKUP(B2745,#REF!,3,FALSE)","v":{"$error":"#REF!"}}]
["Arion","Arion","LA1","CPOFE24","ARION WL1210-8**41-****","Коммутационный блок","Iu 1000 A, DC, 4-полюс, стационарное исполнение, Icc 25 kA / DC 600 V /1 s, задний вертикальный подвод, размер 2","- / -",0,0,4767.6000000000004,{"$f":"VLOOKUP(B2746,#REF!,3,FALSE)","v":{"$error":"#REF!"}}]
["Arion","Arion","LA1","CPOFE25","ARION WL1220-8**41-****","Коммутационный блок","Iu 2000 A, DC, 4-полюс, стационарное исполнение, Icc 25 kA / DC 600 V /1 s, задний вертикальный подвод, размер 2","- / -",0,0,7561.39,{"$f":"VLOOKUP(B2747,#REF!,3,FALSE)","v":{"$error":"#REF!"}}]
["Arion","Arion","LA1","CPOFE26","ARION WL1240-8**41-****","Коммутационный блок","Iu 4000 A, DC, 4-полюс, стационарное исполнение, Icc 25 kA / DC 600 V / 1 s, задний вертикальный подвод, размер 2","- / -",0,0,13471.64,{"$f":"VLOOKUP(B2748,#REF!,3,FALSE)","v":{"$error":"#REF!"}}]
[null,null,null,"Level  6","ARION WL1xxx-8**43-**** - Передние подводы один ряд отверстий"]
["Arion","Arion","LA1","CPOFE27","ARION WL1210-8**43-****","Коммутационный блок","Iu 1000 A, DC, 4-полюс, стационарное исполнение, Icc 25 kA / DC 600 V /1 s, Передний подвод один ряд отверстий, размер 2","- / -",0,0,4767.6000000000004,{"$f":"VLOOKUP(B2750,#REF!,3,FALSE)","v":{"$error":"#REF!"}}]
["Arion","Arion","LA1","CPOFE28","ARION WL1220-8**43-****","Коммутационный блок","Iu 2000 A, DC, 4-полюс, стационарное исполнение, Icc 25 kA / DC 600 V /1 s, Передний подвод один ряд отверстий, размер 2","- / -",0,0,7561.39,{"$f":"VLOOKUP(B2751,#REF!,3,FALSE)","v":{"$error":"#REF!"}}]
[null,null,null,"Level  6","ARION WL1xxx-8**44-**** - Передние подводы два ряда отверстий"]
["Arion","Arion","LA1","CPOFE29","ARION WL1210-8**44-****","Коммутационный блок","Iu 1000 A, DC, 4-полюс, стационарное исполнение, Icc 25 kA / DC 600 V /1 s, Передний подвод два ряда отверстий, размер 2","- / -",0,0,4767.6000000000004,{"$f":"VLOOKUP(B2753,#REF!,3,FALSE)","v":{"$error":"#REF!"}}]
["Arion","Arion","LA1","CPOFE30","ARION WL1220-8**44-****","Коммутационный блок","Iu 2000 A, DC, 4-полюс, стационарное исполнение, Icc 25 kA / DC 600 V /1 s, Передний подвод два ряда отверстий, размер 2","- / -",0,0,7561.39,{"$f":"VLOOKUP(B2754,#REF!,3,FALSE)","v":{"$error":"#REF!"}}]
[null,null,null,"Level  5","ARION WL1xxx-8**4y-**** - 4-полюс, выдвижное исполнение"]
[null,null,null,"Level  6","ARION WL1xxx-8**46-**** - Задние горизонтальные подводы"]
["Arion","Arion","LA1","CPOFE46","ARION WL1210-8**46-****","Коммутационный блок","Iu 1000 A, DC, 4-полюс, выдвижное исполнение, Icc 25 kA / DC 600 V /1 s, задний горизонтальный подвод, размер 2","- / -",0,0,6415.67,{"$f":"VLOOKUP(B2757,#REF!,3,FALSE)","v":{"$error":"#REF!"}}]
["Arion","Arion","LA1","CPOFE47","ARION WL1220-8**46-****","Коммутационный блок","Iu 2000 A, DC, 4-полюс, выдвижное исполнение, Icc 25 kA / DC 600 V /1 s, задний горизонтальный подвод, размер 2","- / -",0,0,9261.6,{"$f":"VLOOKUP(B2758,#REF!,3,FALSE)","v":{"$error":"#REF!"}}]
["Arion","Arion","LA1","CPOFE48","ARION WL1240-8**46-****","Коммутационный блок","Iu 4000 A, DC, 4-полюс, выдвижное исполнение, Icc 25 kA / DC 600 V /1 s, задний горизонтальный подвод, размер 2","- / -",0,0,19050.679999999997,{"$f":"VLOOKUP(B2759,#REF!,3,FALSE)","v":{"$error":"#REF!"}}]
[null,null,null,"Level  6","ARION WL1xxx-8**45-**** - Без выдвижного оборудования"]
["Arion","Arion","LA1","CPOFE43","ARION WL1210-8**45-****","Коммутационный блок","Iu 1000 A, DC, 4-полюс, выдвижное исполнение, Icc 25 kA / DC 600 V /1 s, Без выдвижного оборудования, размер 2","- / -",0,0,5047.8900000000003,{"$f":"VLOOKUP(B2761,#REF!,3,FALSE)","v":{"$error":"#REF!"}}]
["Arion","Arion","LA1","CPOFE44","ARION WL1220-8**45-****","Коммутационный блок","Iu 2000 A, DC, 4-полюс, выдвижное исполнение, Icc 25 kA / DC 600 V /1 s, Без выдвижного оборудования, размер 2","- / -",0,0,8163.7,{"$f":"VLOOKUP(B2762,#REF!,3,FALSE)","v":{"$error":"#REF!"}}]
["Arion","Arion","LA1","CPOFE45","ARION WL1240-8**45-****","Коммутационный блок","Iu 4000 A, DC, 4-полюс, выдвижное исполнение, Icc 25 kA / DC 600 V /1 s, Без выдвижного оборудования, размер 2","- / -",0,0,16627.939999999999,{"$f":"VLOOKUP(B2763,#REF!,3,FALSE)","v":{"$error":"#REF!"}}]
[null,null,null,"Level  6","ARION WL1xxx-8**47-**** - Задние вертикальные подводы"]
["Arion","Arion","LA1","CPOFE49","ARION WL1210-8**47-****","Коммутационный блок","Iu 1000 A, DC, 4-полюс, выдвижное исполнение, Icc 25 kA / DC 600 V /1 s, задний вертикальный подвод, размер 2","- / -",0,0,6656.71,{"$f":"VLOOKUP(B2765,#REF!,3,FALSE)","v":{"$error":"#REF!"}}]
["Arion","Arion","LA1","CPOFE50","ARION WL1220-8**47-****","Коммутационный блок","Iu 2000 A, DC, 4-полюс, выдвижное исполнение, Icc 25 kA / DC 600 V /1 s, задний вертикальный подвод, размер 2","- / -",0,0,9560.94,{"$f":"VLOOKUP(B2766,#REF!,3,FALSE)","v":{"$error":"#REF!"}}]
["Arion","Arion","LA1","CPOFE51","ARION WL1240-8**47-****","Коммутационный блок","Iu 4000 A, DC, 4-полюс, выдвижное исполнение, Icc 25 kA / DC 600 V /1 s, задний вертикальный подвод, размер 2","- / -",0,0,19856.64,{"$f":"VLOOKUP(B2767,#REF!,3,FALSE)","v":{"$error":"#REF!"}}]
[null,null,null,"Level  6","ARION WL1xxx-8**48-**** - Задние фланцевые подводы"]
["Arion","Arion","LA1","CPOFE52","ARION WL1210-8**48-****","Коммутационный блок","Iu 1000 A, DC, 4-полюс, выдвижное исполнение, Icc 25 kA / DC 600 V /1 s, задний фланцевый подвод, размер 2","- / -",0,0,6656.71,{"$f":"VLOOKUP(B2769,#REF!,3,FALSE)","v":{"$error":"#REF!"}}]
["Arion","Arion","LA1","CPOFE53","ARION WL1220-8**48-****","Коммутационный блок","Iu 2000 A, DC, 4-полюс, выдвижное исполнение, Icc 25 kA / DC 600 V /1 s, задний фланцевый подвод, размер 2","- / -",0,0,9560.94,{"$f":"VLOOKUP(B2770,#REF!,3,FALSE)","v":{"$error":"#REF!"}}]
["Arion","Arion","LA1","CPOFE54","ARION WL1240-8**48-****","Коммутационный блок","Iu 4000 A, DC, 4-полюс, выдвижное исполнение, Icc 25 kA / DC 600 V /1 s, задний фланцевый подвод, размер 2","- / -",0,0,19856.64,{"$f":"VLOOKUP(B2771,#REF!,3,FALSE)","v":{"$error":"#REF!"}}]
[null,null,null,"Level  3","ARION WL1***-*xx**-**** - Расцепители максимального тока"]
["Arion","Arion","LA1","CPOF825","ARION WL1***-*AA**-****","Блок разъединителя нагрузки","без расцепителя максимального тока - разъединитель нагрузки","- / -",0,0,0,{"$f":"VLOOKUP(B2773,#REF!,3,FALSE)","v":{"$error":"#REF!"}}]
["Arion","Arion","LA1","CPOF050","ARION WL1***-*BB**-****","Расцепитель максимального тока","ETU15B, защитные функции LI","- / -",0,0,711.5,{"$f":"VLOOKUP(B2774,#REF!,3,FALSE)","v":{"$error":"#REF!"}}]
["Arion","Arion","LA1","CPOF049","ARION WL1***-*CB**-****","Расцепитель максимального тока","ETU25B, защитные функции LSI","- / -",0,0,791.22,{"$f":"VLOOKUP(B2775,#REF!,3,FALSE)","v":{"$error":"#REF!"}}]
["Arion","Arion","LA1","CPOF322","ARION WL1***-*EB**-****","Расцепитель максимального тока","ETU45B, защитные функции LSIN","- / -",0,0,962.98,{"$f":"VLOOKUP(B2776,#REF!,3,FALSE)","v":{"$error":"#REF!"}}]
["Arion","Arion","LA1","CPOF146","ARION WL1***-*FB**-****","Расцепитель максимального тока","ETU45B, защитные функции LSIN, с дисплеем, количество строк 4","- / -",0,0,1122.45,{"$f":"VLOOKUP(B2777,#REF!,3,FALSE)","v":{"$error":"#REF!"}}]
["Arion","Arion","LA1","CPOF826","ARION WL1***-*NB**-****","Расцепитель максимального тока","ETU76B, защитные функции LSIN","- / -",0,0,2030.19,{"$f":"VLOOKUP(B2778,#REF!,3,FALSE)","v":{"$error":"#REF!"}}]
["Arion","Arion","LA1","CPOF827","ARION WL1***-*DG**-****","Расцепитель максимального тока","ETU27B, защитные функции LSING","- / -",0,0,1183.77,{"$f":"VLOOKUP(B2779,#REF!,3,FALSE)","v":{"$error":"#REF!"}}]
["Arion","Arion","LA1","CPOF051","ARION WL1***-*EG**-****","Расцепитель максимального тока","ETU45B, защитные функции LSING","- / -",0,0,1422.96,{"$f":"VLOOKUP(B2780,#REF!,3,FALSE)","v":{"$error":"#REF!"}}]
["Arion","Arion","LA1","CPOF828","ARION WL1***-*FG**-****","Расцепитель максимального тока","ETU45B, защитные функции LSING, с дисплеем, количество строк 4","- / -",0,0,1606.97,{"$f":"VLOOKUP(B2781,#REF!,3,FALSE)","v":{"$error":"#REF!"}}]
["Arion","Arion","LA1","CPOF830","ARION WL1***-*NG**-****","Расцепитель максимального тока","ETU76B, защитные функции LSING","- / -",0,0,2496.3500000000004,{"$f":"VLOOKUP(B2782,#REF!,3,FALSE)","v":{"$error":"#REF!"}}]
[null,null,null,"Level  3","ARION WL1***-*****-xxxx - Основные принадлежности"]
[null,null,null,"Level  4","ARION WL1***-*****-x*** - Приводы"]
["Arion","Arion","LA1","CPOFA08","ARION WL1***-*****-1***","Привод","ручной привод","- / -",0,0,0,{"$f":"VLOOKUP(B2785,#REF!,3,FALSE)","v":{"$error":"#REF!"}}]
["Arion","Arion","LA1","CPOFA09","ARION WL1***-*****-2***","Привод","ручной привод с электрическим включением, Ue AC 110 ÷ 127 V / DC 110 ÷ 125 V","- / -",0,0,136.78,{"$f":"VLOOKUP(B2786,#REF!,3,FALSE)","v":{"$error":"#REF!"}}]
["Arion","Arion","LA1","CPOF316","ARION WL1***-*****-3***","Привод","ручной привод с электрическим включением, Ue AC 208 ÷ 240 V / DC 220 ÷ 250 V","- / -",0,0,136.78,{"$f":"VLOOKUP(B2787,#REF!,3,FALSE)","v":{"$error":"#REF!"}}]
["Arion","Arion","LA1","CPOF052","ARION WL1***-*****-4***","Привод","моторный привод Ue AC 208 ÷ 240 V / DC 220 ÷ 250 V с электрическим включением Ue AC 208 ÷ 240 V / DC 220 ÷ 250 V","- / -",0,0,760.58,{"$f":"VLOOKUP(B2788,#REF!,3,FALSE)","v":{"$error":"#REF!"}}]
["Arion","Arion","LA1","CPOF053","ARION WL1***-*****-5***","Привод","моторный привод Ue AC 110 ÷ 127 V / DC 110 ÷ 125 V с электрическим включением Ue AC 110 ÷ 127 V / DC 110 ÷ 125 V","- / -",0,0,760.58,{"$f":"VLOOKUP(B2789,#REF!,3,FALSE)","v":{"$error":"#REF!"}}]
["Arion","Arion","LA1","CPOF054","ARION WL1***-*****-6***","Привод","моторный привод Ue DC 24 ÷ 30 V с электрическим включением Ue DC 24 V","- / -",0,0,760.58,{"$f":"VLOOKUP(B2790,#REF!,3,FALSE)","v":{"$error":"#REF!"}}]
[null,null,null,"Level  4","ARION WL1***-*****-*x** - 1-ые вспомогательные расцепители"]
["Arion","Arion","LA1","CPOF831","ARION WL1***-*****-*A**","1-ый вспомогательный расцепитель","без 1-го вспомогательного расцепителя","- / -",0,0,0,{"$f":"VLOOKUP(B2792,#REF!,3,FALSE)","v":{"$error":"#REF!"}}]
["Arion","Arion","LA1","CPOF055","ARION WL1***-*****-*B**","1-ый вспомогательный расцепитель","независимый расцепитель Ue DC 24 V, коэффициент нагрузки 100 %","- / -",0,0,136.78,{"$f":"VLOOKUP(B2793,#REF!,3,FALSE)","v":{"$error":"#REF!"}}]
["Arion","Arion","LA1","CPOF832","ARION WL1***-*****-*C**","1-ый вспомогательный расцепитель","независимый расцепитель Ue DC 30 V, коэффициент нагрузки 100 %","- / -",0,0,145.98999999999998,{"$f":"VLOOKUP(B2794,#REF!,3,FALSE)","v":{"$error":"#REF!"}}]
["Arion","Arion","LA1","CPOF056","ARION WL1***-*****-*D**","1-ый вспомогательный расцепитель","независимый расцепитель Ue DC 48 V, коэффициент нагрузки 100 %","- / -",0,0,145.98999999999998,{"$f":"VLOOKUP(B2795,#REF!,3,FALSE)","v":{"$error":"#REF!"}}]
["Arion","Arion","LA1","CPOF833","ARION WL1***-*****-*E**","1-ый вспомогательный расцепитель","независимый расцепитель Ue DC 60 V, коэффициент нагрузки 100 %","- / -",0,0,145.98999999999998,{"$f":"VLOOKUP(B2796,#REF!,3,FALSE)","v":{"$error":"#REF!"}}]
["Arion","Arion","LA1","CPOF057","ARION WL1***-*****-*F**","1-ый вспомогательный расцепитель","независимый расцепитель Ue AC 110 ÷ 127 V / DC 110 ÷ 125 V, коэффициент нагрузки 100 %","- / -",0,0,136.78,{"$f":"VLOOKUP(B2797,#REF!,3,FALSE)","v":{"$error":"#REF!"}}]
["Arion","Arion","LA1","CPOF058","ARION WL1***-*****-*G**","1-ый вспомогательный расцепитель","независимый расцепитель Ue AC 208 ÷ 240 V / DC 220 ÷ 250 V, коэффициент нагрузки 100 %","- / -",0,0,136.78,{"$f":"VLOOKUP(B2798,#REF!,3,FALSE)","v":{"$error":"#REF!"}}]
[null,null,null,"Level  4","ARION WL1***-*****-**x* - 2-ые вспомогательные расцепители"]
["Arion","Arion","LA1","CPOF834","ARION WL1***-*****-**A*","2-ой вспомогательный расцепитель","без 2-го вспомогательного расцепителя","- / -",0,0,0,{"$f":"VLOOKUP(B2800,#REF!,3,FALSE)","v":{"$error":"#REF!"}}]
["Arion","Arion","LA1","CPOF059","ARION WL1***-*****-**B*","2-ой вспомогательный расцепитель","независимый расцепитель Ue DC 24 V, коэффициент нагрузки 100 %","- / -",0,0,136.78,{"$f":"VLOOKUP(B2801,#REF!,3,FALSE)","v":{"$error":"#REF!"}}]
["Arion","Arion","LA1","CPOF835","ARION WL1***-*****-**C*","2-ой вспомогательный расцепитель","независимый расцепитель Ue DC 30 V, коэффициент нагрузки 100 %","- / -",0,0,145.98999999999998,{"$f":"VLOOKUP(B2802,#REF!,3,FALSE)","v":{"$error":"#REF!"}}]
["Arion","Arion","LA1","CPOF060","ARION WL1***-*****-**D*","2-ой вспомогательный расцепитель","независимый расцепитель Ue DC 48 V, коэффициент нагрузки 100 %","- / -",0,0,145.98999999999998,{"$f":"VLOOKUP(B2803,#REF!,3,FALSE)","v":{"$error":"#REF!"}}]
["Arion","Arion","LA1","CPOF836","ARION WL1***-*****-**E*","2-ой вспомогательный расцепитель","независимый расцепитель Ue DC 60 V, коэффициент нагрузки 100 %","- / -",0,0,145.98999999999998,{"$f":"VLOOKUP(B2804,#REF!,3,FALSE)","v":{"$error":"#REF!"}}]
["Arion","Arion","LA1","CPOF061","ARION WL1***-*****-**F*","2-ой вспомогательный расцепитель","независимый расцепитель Ue AC 110 ÷ 127 V / DC 110 ÷ 125 V, коэффициент нагрузки 100 %","- / -",0,0,136.78,{"$f":"VLOOKUP(B2805,#REF!,3,FALSE)","v":{"$error":"#REF!"}}]
["Arion","Arion","LA1","CPOF062","ARION WL1***-*****-**G*","2-ой вспомогательный расцепитель","независимый расцепитель Ue AC 208 ÷ 240 V / DC 220 ÷ 250 V, коэффициент нагрузки 100 %","- / -",0,0,136.78,{"$f":"VLOOKUP(B2806,#REF!,3,FALSE)","v":{"$error":"#REF!"}}]
["Arion","Arion","LA1","CPOF063","ARION WL1***-*****-**J*","2-ой вспомогательный расцепитель","расцепитель минимального напряжения Ue DC 24 V, задержка 80 ms или 200 ms","- / -",0,0,162.56,{"$f":"VLOOKUP(B2807,#REF!,3,FALSE)","v":{"$error":"#REF!"}}]
["Arion","Arion","LA1","CPOF837","ARION WL1***-*****-**K*","2-ой вспомогательный расцепитель","расцепитель минимального напряжения Ue DC 30 V, задержка 80 ms или 200 ms","- / -",0,0,180.95,{"$f":"VLOOKUP(B2808,#REF!,3,FALSE)","v":{"$error":"#REF!"}}]
["Arion","Arion","LA1","CPOF064","ARION WL1***-*****-**L*","2-ой вспомогательный расцепитель","расцепитель минимального напряжения Ue DC 48 V, задержка 80 ms или 200 ms","- / -",0,0,180.95,{"$f":"VLOOKUP(B2809,#REF!,3,FALSE)","v":{"$error":"#REF!"}}]
["Arion","Arion","LA1","CPOF083","ARION WL1***-*****-**U*","2-ой вспомогательный расцепитель","расцепитель минимального напряжения Ue DC 60 V, задержка 80 ms или 200 ms","- / -",0,0,180.95,{"$f":"VLOOKUP(B2810,#REF!,3,FALSE)","v":{"$error":"#REF!"}}]
["Arion","Arion","LA1","CPOF065","ARION WL1***-*****-**M*","2-ой вспомогательный расцепитель","расцепитель минимального напряжения Ue AC 110 ÷ 127 V / DC 110 ÷ 125 V, задержка 80 ms или 200 ms","- / -",0,0,162.56,{"$f":"VLOOKUP(B2811,#REF!,3,FALSE)","v":{"$error":"#REF!"}}]
["Arion","Arion","LA1","CPOF066","ARION WL1***-*****-**N*","2-ой вспомогательный расцепитель","расцепитель минимального напряжения Ue AC 208 ÷ 240 V / DC 220 ÷ 250 V, задержка 80 ms или 200 ms","- / -",0,0,162.56,{"$f":"VLOOKUP(B2812,#REF!,3,FALSE)","v":{"$error":"#REF!"}}]
["Arion","Arion","LA1","CPOF838","ARION WL1***-*****-**P*","2-ой вспомогательный расцепитель","расцепитель минимального напряжения Ue AC 380 ÷ 415 V, задержка 80 ms или 200 ms","- / -",0,0,180.95,{"$f":"VLOOKUP(B2813,#REF!,3,FALSE)","v":{"$error":"#REF!"}}]
["Arion","Arion","LA1","CPOF067","ARION WL1***-*****-**Q*","2-ой вспомогательный расцепитель","расцепитель минимального напряжения Ue DC 48 V, задержка 0,2 ÷ 3,2 s","- / -",0,0,436.71,{"$f":"VLOOKUP(B2814,#REF!,3,FALSE)","v":{"$error":"#REF!"}}]
["Arion","Arion","LA1","CPOF068","ARION WL1***-*****-**R*","2-ой вспомогательный расцепитель","расцепитель минимального напряжения Ue AC 110 ÷ 127 V / DC 110 ÷ 125 V, задержка 0,2 ÷ 3,2 s","- / -",0,0,395.59999999999997,{"$f":"VLOOKUP(B2815,#REF!,3,FALSE)","v":{"$error":"#REF!"}}]
["Arion","Arion","LA1","CPOF069","ARION WL1***-*****-**S*","2-ой вспомогательный расцепитель","расцепитель минимального напряжения Ue AC 208 ÷ 240 V / DC 220 ÷ 250 V, задержка 0,2 ÷ 3,2 s","- / -",0,0,395.59999999999997,{"$f":"VLOOKUP(B2816,#REF!,3,FALSE)","v":{"$error":"#REF!"}}]
["Arion","Arion","LA1","CPOF839","ARION WL1***-*****-**T*","2-ой вспомогательный расцепитель","расцепитель минимального напряжения Ue AC 380 ÷ 415 V, задержка 0,2 ÷ 3,2 s","- / -",0,0,436.71,{"$f":"VLOOKUP(B2817,#REF!,3,FALSE)","v":{"$error":"#REF!"}}]
[null,null,null,"Level  4","ARION WL1***-*****-***x - Вспомогательные выключатели"]
["Arion","Arion","LA1","CPOF070","ARION WL1***-*****-***2","Выключатель","2x NO + 2x NC","- / -",0,0,0,{"$f":"VLOOKUP(B2819,#REF!,3,FALSE)","v":{"$error":"#REF!"}}]
["Arion","Arion","LA1","CPOF071","ARION WL1***-*****-***4","Выключатель","4x NO + 4x NC","- / -",0,0,140.45999999999998,{"$f":"VLOOKUP(B2820,#REF!,3,FALSE)","v":{"$error":"#REF!"}}]
["Arion","Arion","LA1","CPOF072","ARION WL1***-*****-***7","Выключатель","6x NO + 2x NC","- / -",0,0,140.45999999999998,{"$f":"VLOOKUP(B2821,#REF!,3,FALSE)","v":{"$error":"#REF!"}}]
["Arion","Arion","LA1","CPOF073","ARION WL1***-*****-***8","Выключатель","5x NO + 3x NC","- / -",0,0,140.45999999999998,{"$f":"VLOOKUP(B2822,#REF!,3,FALSE)","v":{"$error":"#REF!"}}]
[null,null,null,"Level  3","ARION WL1***-*****-****-Z xxx - Дополнительные принадлежности"]
[null,null,null,"Level  4","ARION WL1***-*****-****-Z Nxx - Метод присоединения, стационарное исполнение"]
[null,null,null,"Level  5","ARION WL1***-***3*-****-Z Nxx - 3-полюсная исполнения"]
["Arion","Arion","LA1","CPOF941","ARION WL1***-*****-****-N11","Присоединительный комплект","In 1600 A, размер 1, 3-полюс, для стационарного исполнения, верхние зажимы : задний горизонтальный подвод, нижние зажимы : Передний подвод один ряд отверстий","- / -",0,0,94.440000000000012,{"$f":"VLOOKUP(B2826,#REF!,3,FALSE)","v":{"$error":"#REF!"}}]
["Arion","Arion","LA1","CPOF942","ARION WL1***-*****-****-N11","Присоединительный комплект","In 2000 A, размер 2, 3-полюс, для стационарного исполнения, верхние зажимы : задний горизонтальный подвод, нижние зажимы : Передний подвод один ряд отверстий","- / -",0,0,117.18,{"$f":"VLOOKUP(B2827,#REF!,3,FALSE)","v":{"$error":"#REF!"}}]
["Arion","Arion","LA1","CPOF943","ARION WL1***-*****-****-N11","Присоединительный комплект","In 2500 A, размер 2, 3-полюс, для стационарного исполнения, верхние зажимы : задний горизонтальный подвод, нижние зажимы : Передний подвод один ряд отверстий","- / -",0,0,139.22999999999999,{"$f":"VLOOKUP(B2828,#REF!,3,FALSE)","v":{"$error":"#REF!"}}]
["Arion","Arion","LA1","CPOF944","ARION WL1***-*****-****-N11","Присоединительный комплект","In 3200 A, размер 2, 3-полюс, для стационарного исполнения, верхние зажимы : задний горизонтальный подвод, нижние зажимы : Передний подвод один ряд отверстий","- / -",0,0,184.01,{"$f":"VLOOKUP(B2829,#REF!,3,FALSE)","v":{"$error":"#REF!"}}]
["Arion","Arion","LA1","CPOF945","ARION WL1***-*****-****-N11","Присоединительный комплект","In 4000 A, размер 3, 3-полюс, для стационарного исполнения, верхние зажимы : задний горизонтальный подвод, нижние зажимы : Передний подвод один ряд отверстий","- / -",0,0,351.45,{"$f":"VLOOKUP(B2830,#REF!,3,FALSE)","v":{"$error":"#REF!"}}]
["Arion","Arion","LA1","CPOF946","ARION WL1***-*****-****-N20","Присоединительный комплект","In 1600 A, размер 1, 3-полюс, для стационарного исполнения, верхние зажимы : задний вертикальный подвод, нижние зажимы : задний горизонтальный подвод","- / -",0,0,94.440000000000012,{"$f":"VLOOKUP(B2831,#REF!,3,FALSE)","v":{"$error":"#REF!"}}]
["Arion","Arion","LA1","CPOFC17","ARION WL1***-*****-****-N20","Присоединительный комплект","In 2000 A, размер 1, 3-полюс, для стационарного исполнения, верхние зажимы : задний вертикальный подвод, нижние зажимы : задний горизонтальный подвод","- / -",0,0,120.95,{"$f":"VLOOKUP(B2832,#REF!,3,FALSE)","v":{"$error":"#REF!"}}]
["Arion","Arion","LA1","CPOF947","ARION WL1***-*****-****-N20","Присоединительный комплект","In 2000 A, размер 2, 3-полюс, для стационарного исполнения, верхние зажимы : задний вертикальный подвод, нижние зажимы : задний горизонтальный подвод","- / -",0,0,117.18,{"$f":"VLOOKUP(B2833,#REF!,3,FALSE)","v":{"$error":"#REF!"}}]
["Arion","Arion","LA1","CPOF948","ARION WL1***-*****-****-N20","Присоединительный комплект","In 2500 A, размер 2, 3-полюс, для стационарного исполнения, верхние зажимы : задний вертикальный подвод, нижние зажимы : задний горизонтальный подвод","- / -",0,0,139.22999999999999,{"$f":"VLOOKUP(B2834,#REF!,3,FALSE)","v":{"$error":"#REF!"}}]
["Arion","Arion","LA1","CPOF949","ARION WL1***-*****-****-N20","Присоединительный комплект","In 3200 A, размер 2, 3-полюс, для стационарного исполнения, верхние зажимы : задний вертикальный подвод, нижние зажимы : задний горизонтальный подвод","- / -",0,0,184.01,{"$f":"VLOOKUP(B2835,#REF!,3,FALSE)","v":{"$error":"#REF!"}}]
["Arion","Arion","LA1","CPOF950","ARION WL1***-*****-****-N20","Присоединительный комплект","In 4000 A, размер 3, 3-полюс, для стационарного исполнения, верхние зажимы : задний вертикальный подвод, нижние зажимы : задний горизонтальный подвод","- / -",0,0,351.45,{"$f":"VLOOKUP(B2836,#REF!,3,FALSE)","v":{"$error":"#REF!"}}]
["Arion","Arion","LA1","CPOF951","ARION WL1***-*****-****-N20","Присоединительный комплект","In 5000 A, размер 3, 3-полюс, для стационарного исполнения, верхние зажимы : задний вертикальный подвод, нижние зажимы : задний горизонтальный подвод","- / -",0,0,421.37,{"$f":"VLOOKUP(B2837,#REF!,3,FALSE)","v":{"$error":"#REF!"}}]
["Arion","Arion","LA1","CPOF952","ARION WL1***-*****-****-N24","Присоединительный комплект","In 1600 A, размер 1, 3-полюс, для стационарного исполнения, верхние зажимы : задний горизонтальный подвод, нижние зажимы : задний вертикальный подвод","- / -",0,0,94.440000000000012,{"$f":"VLOOKUP(B2838,#REF!,3,FALSE)","v":{"$error":"#REF!"}}]
["Arion","Arion","LA1","CPOFC21","ARION WL1***-*****-****-N24","Присоединительный комплект","In 2000 A, размер 1, 3-полюс, для стационарного исполнения, верхние зажимы : задний горизонтальный подвод, нижние зажимы : задний вертикальный подвод","- / -",0,0,144.41999999999999,{"$f":"VLOOKUP(B2839,#REF!,3,FALSE)","v":{"$error":"#REF!"}}]
["Arion","Arion","LA1","CPOF953","ARION WL1***-*****-****-N24","Присоединительный комплект","In 2000 A, размер 2, 3-полюс, для стационарного исполнения, верхние зажимы : задний горизонтальный подвод, нижние зажимы : задний вертикальный подвод","- / -",0,0,124.82000000000001,{"$f":"VLOOKUP(B2840,#REF!,3,FALSE)","v":{"$error":"#REF!"}}]
["Arion","Arion","LA1","CPOF954","ARION WL1***-*****-****-N24","Присоединительный комплект","In 2500 A, размер 2, 3-полюс, для стационарного исполнения, верхние зажимы : задний горизонтальный подвод, нижние зажимы : задний вертикальный подвод","- / -",0,0,148.32,{"$f":"VLOOKUP(B2841,#REF!,3,FALSE)","v":{"$error":"#REF!"}}]
["Arion","Arion","LA1","CPOF955","ARION WL1***-*****-****-N24","Присоединительный комплект","In 3200 A, размер 2, 3-полюс, для стационарного исполнения, верхние зажимы : задний горизонтальный подвод, нижние зажимы : задний вертикальный подвод","- / -",0,0,196.03,{"$f":"VLOOKUP(B2842,#REF!,3,FALSE)","v":{"$error":"#REF!"}}]
["Arion","Arion","LA1","CPOF956","ARION WL1***-*****-****-N24","Присоединительный комплект","In 4000 A, размер 3, 3-полюс, для стационарного исполнения, верхние зажимы : задний горизонтальный подвод, нижние зажимы : задний вертикальный подвод","- / -",0,0,374.4,{"$f":"VLOOKUP(B2843,#REF!,3,FALSE)","v":{"$error":"#REF!"}}]
["Arion","Arion","LA1","CPOF957","ARION WL1***-*****-****-N24","Присоединительный комплект","In 5000 A, размер 3, 3-полюс, для стационарного исполнения, верхние зажимы : задний горизонтальный подвод, нижние зажимы : задний вертикальный подвод","- / -",0,0,374.4,{"$f":"VLOOKUP(B2844,#REF!,3,FALSE)","v":{"$error":"#REF!"}}]
[null,null,null,"Level  5","ARION WL1***-***4*-****-Z Nxx - 4-полюсная исполнения"]
["Arion","Arion","LA1","CPOF990","ARION WL1***-*****-****-N11","Присоединительный комплект","In 1600 A, размер 1, 4-полюс, для стационарного исполнения, верхние зажимы : задний горизонтальный подвод, нижние зажимы : Передний подвод один ряд отверстий","- / -",0,0,134.59,{"$f":"VLOOKUP(B2846,#REF!,3,FALSE)","v":{"$error":"#REF!"}}]
["Arion","Arion","LA1","CPOF991","ARION WL1***-*****-****-N11","Присоединительный комплект","In 2000 A, размер 2, 4-полюс, для стационарного исполнения, верхние зажимы : задний горизонтальный подвод, нижние зажимы : Передний подвод один ряд отверстий","- / -",0,0,167.95,{"$f":"VLOOKUP(B2847,#REF!,3,FALSE)","v":{"$error":"#REF!"}}]
["Arion","Arion","LA1","CPOF992","ARION WL1***-*****-****-N11","Присоединительный комплект","In 2500 A, размер 2, 4-полюс, для стационарного исполнения, верхние зажимы : задний горизонтальный подвод, нижние зажимы : Передний подвод один ряд отверстий","- / -",0,0,196.03,{"$f":"VLOOKUP(B2848,#REF!,3,FALSE)","v":{"$error":"#REF!"}}]
["Arion","Arion","LA1","CPOF993","ARION WL1***-*****-****-N11","Присоединительный комплект","In 3200 A, размер 2, 4-полюс, для стационарного исполнения, верхние зажимы : задний горизонтальный подвод, нижние зажимы : Передний подвод один ряд отверстий","- / -",0,0,264.01,{"$f":"VLOOKUP(B2849,#REF!,3,FALSE)","v":{"$error":"#REF!"}}]
["Arion","Arion","LA1","CPOF994","ARION WL1***-*****-****-N11","Присоединительный комплект","In 4000 A, размер 3, 4-полюс, для стационарного исполнения, верхние зажимы : задний горизонтальный подвод, нижние зажимы : Передний подвод один ряд отверстий","- / -",0,0,497.25,{"$f":"VLOOKUP(B2850,#REF!,3,FALSE)","v":{"$error":"#REF!"}}]
["Arion","Arion","LA1","CPOF995","ARION WL1***-*****-****-N20","Присоединительный комплект","In 1600 A, размер 1, 4-полюс, для стационарного исполнения, верхние зажимы : задний вертикальный подвод, нижние зажимы : задний горизонтальный подвод","- / -",0,0,134.59,{"$f":"VLOOKUP(B2851,#REF!,3,FALSE)","v":{"$error":"#REF!"}}]
["Arion","Arion","LA1","CPOFC34","ARION WL1***-*****-****-N20","Присоединительный комплект","In 2000 A, размер 1, 4-полюс, для стационарного исполнения, верхние зажимы : задний вертикальный подвод, нижние зажимы : задний горизонтальный подвод","- / -",0,0,163.54,{"$f":"VLOOKUP(B2852,#REF!,3,FALSE)","v":{"$error":"#REF!"}}]
["Arion","Arion","LA1","CPOF996","ARION WL1***-*****-****-N20","Присоединительный комплект","In 2000 A, размер 2, 4-полюс, для стационарного исполнения, верхние зажимы : задний вертикальный подвод, нижние зажимы : задний горизонтальный подвод","- / -",0,0,167.95,{"$f":"VLOOKUP(B2853,#REF!,3,FALSE)","v":{"$error":"#REF!"}}]
["Arion","Arion","LA1","CPOF997","ARION WL1***-*****-****-N20","Присоединительный комплект","In 2500 A, размер 2, 4-полюс, для стационарного исполнения, верхние зажимы : задний вертикальный подвод, нижние зажимы : задний горизонтальный подвод","- / -",0,0,196.03,{"$f":"VLOOKUP(B2854,#REF!,3,FALSE)","v":{"$error":"#REF!"}}]
["Arion","Arion","LA1","CPOF998","ARION WL1***-*****-****-N20","Присоединительный комплект","In 3200 A, размер 2, 4-полюс, для стационарного исполнения, верхние зажимы : задний вертикальный подвод, нижние зажимы : задний горизонтальный подвод","- / -",0,0,264.01,{"$f":"VLOOKUP(B2855,#REF!,3,FALSE)","v":{"$error":"#REF!"}}]
["Arion","Arion","LA1","CPOF999","ARION WL1***-*****-****-N20","Присоединительный комплект","In 4000 A, размер 3, 4-полюс, для стационарного исполнения, верхние зажимы : задний вертикальный подвод, нижние зажимы : задний горизонтальный подвод","- / -",0,0,497.25,{"$f":"VLOOKUP(B2856,#REF!,3,FALSE)","v":{"$error":"#REF!"}}]
["Arion","Arion","LA1","CPOFA01","ARION WL1***-*****-****-N20","Присоединительный комплект","In 5000 A, размер 3, 4-полюс, для стационарного исполнения, верхние зажимы : задний вертикальный подвод, нижние зажимы : задний горизонтальный подвод","- / -",0,0,535.13,{"$f":"VLOOKUP(B2857,#REF!,3,FALSE)","v":{"$error":"#REF!"}}]
["Arion","Arion","LA1","CPOFA02","ARION WL1***-*****-****-N24","Присоединительный комплект","In 1600 A, размер 1, 4-полюс, для стационарного исполнения, верхние зажимы : задний горизонтальный подвод, нижние зажимы : задний вертикальный подвод","- / -",0,0,100.62,{"$f":"VLOOKUP(B2858,#REF!,3,FALSE)","v":{"$error":"#REF!"}}]
["Arion","Arion","LA1","CPOFC35","ARION WL1***-*****-****-N24","Присоединительный комплект","In 2000 A, размер 1, 4-полюс, для стационарного исполнения, верхние зажимы : задний горизонтальный подвод, нижние зажимы : задний вертикальный подвод","- / -",0,0,163.54,{"$f":"VLOOKUP(B2859,#REF!,3,FALSE)","v":{"$error":"#REF!"}}]
["Arion","Arion","LA1","CPOFA03","ARION WL1***-*****-****-N24","Присоединительный комплект","In 2000 A, размер 2, 4-полюс, для стационарного исполнения, верхние зажимы : задний горизонтальный подвод, нижние зажимы : задний вертикальный подвод","- / -",0,0,124.82000000000001,{"$f":"VLOOKUP(B2860,#REF!,3,FALSE)","v":{"$error":"#REF!"}}]
["Arion","Arion","LA1","CPOFA04","ARION WL1***-*****-****-N24","Присоединительный комплект","In 2500 A, размер 2, 4-полюс, для стационарного исполнения, верхние зажимы : задний горизонтальный подвод, нижние зажимы : задний вертикальный подвод","- / -",0,0,148.32,{"$f":"VLOOKUP(B2861,#REF!,3,FALSE)","v":{"$error":"#REF!"}}]
["Arion","Arion","LA1","CPOFA05","ARION WL1***-*****-****-N24","Присоединительный комплект","In 3200 A, размер 2, 4-полюс, для стационарного исполнения, верхние зажимы : задний горизонтальный подвод, нижние зажимы : задний вертикальный подвод","- / -",0,0,196.03,{"$f":"VLOOKUP(B2862,#REF!,3,FALSE)","v":{"$error":"#REF!"}}]
["Arion","Arion","LA1","CPOFA06","ARION WL1***-*****-****-N24","Присоединительный комплект","In 4000 A, размер 3, 4-полюс, для стационарного исполнения, верхние зажимы : задний горизонтальный подвод, нижние зажимы : задний вертикальный подвод","- / -",0,0,374.4,{"$f":"VLOOKUP(B2863,#REF!,3,FALSE)","v":{"$error":"#REF!"}}]
["Arion","Arion","LA1","CPOFA07","ARION WL1***-*****-****-N24","Присоединительный комплект","In 5000 A, размер 3, 4-полюс, для стационарного исполнения, верхние зажимы : задний горизонтальный подвод, нижние зажимы : задний вертикальный подвод","- / -",0,0,374.4,{"$f":"VLOOKUP(B2864,#REF!,3,FALSE)","v":{"$error":"#REF!"}}]
[null,null,null,"Level  4","ARION WL1***-*****-****-Z Pxx - Метод присоединения, выдвижное исполнение"]
[null,null,null,"Level  5","ARION WL1***-***3*-****-Z Pxx - 3-полюсная исполнения"]
["Arion","Arion","LA1","CPOF326","ARION WL1***-*****-****-P00","Присоединительный комплект","In 1600 A, размер 1, 3-полюс, для выдвижного исполнения, верхние зажимы : Передний подвод один ряд отверстий, нижние зажимы : Передний подвод один ряд отверстий","- / -",0,0,192.75,{"$f":"VLOOKUP(B2867,#REF!,3,FALSE)","v":{"$error":"#REF!"}}]
["Arion","Arion","LA1","CPOF911","ARION WL1***-*****-****-P00","Присоединительный комплект","In 2000 A, размер 2, 3-полюс, для выдвижного исполнения, верхние зажимы : Передний подвод один ряд отверстий, нижние зажимы : Передний подвод один ряд отверстий","- / -",0,0,237.2,{"$f":"VLOOKUP(B2868,#REF!,3,FALSE)","v":{"$error":"#REF!"}}]
["Arion","Arion","LA1","CPOF336","ARION WL1***-*****-****-P00","Присоединительный комплект","In 2500 A, размер 2, 3-полюс, для выдвижного исполнения, верхние зажимы : Передний подвод один ряд отверстий, нижние зажимы : Передний подвод один ряд отверстий","- / -",0,0,282.94,{"$f":"VLOOKUP(B2869,#REF!,3,FALSE)","v":{"$error":"#REF!"}}]
["Arion","Arion","LA1","CPOF912","ARION WL1***-*****-****-P00","Присоединительный комплект","In 3200 A, размер 2, 3-полюс, для выдвижного исполнения, верхние зажимы : Передний подвод один ряд отверстий, нижние зажимы : Передний подвод один ряд отверстий","- / -",0,0,374.4,{"$f":"VLOOKUP(B2870,#REF!,3,FALSE)","v":{"$error":"#REF!"}}]
["Arion","Arion","LA1","CPOF913","ARION WL1***-*****-****-P00","Присоединительный комплект","In 4000 A, размер 3, 3-полюс, для выдвижного исполнения, верхние зажимы : Передний подвод один ряд отверстий, нижние зажимы : Передний подвод один ряд отверстий","- / -",0,0,712.2,{"$f":"VLOOKUP(B2871,#REF!,3,FALSE)","v":{"$error":"#REF!"}}]
["Arion","Arion","LA1","CPOF914","ARION WL1***-*****-****-P01","Присоединительный комплект","In 1600 A, размер 1, 3-полюс, для выдвижного исполнения, верхние зажимы : Передний подвод два ряда отверстий, нижние зажимы : Передний подвод два ряда отверстий","- / -",0,0,192.75,{"$f":"VLOOKUP(B2872,#REF!,3,FALSE)","v":{"$error":"#REF!"}}]
["Arion","Arion","LA1","CPOFC20","ARION WL1***-*****-****-P01","Присоединительный комплект","In 2000 A, размер 1, 3-полюс, для выдвижного исполнения, верхние зажимы : Передний подвод два ряда отверстий, нижние зажимы : Передний подвод два ряда отверстий","- / -",0,0,230.6,{"$f":"VLOOKUP(B2873,#REF!,3,FALSE)","v":{"$error":"#REF!"}}]
["Arion","Arion","LA1","CPOF915","ARION WL1***-*****-****-P01","Присоединительный комплект","In 2000 A, размер 2, 3-полюс, для выдвижного исполнения, верхние зажимы : Передний подвод два ряда отверстий, нижние зажимы : Передний подвод два ряда отверстий","- / -",0,0,237.2,{"$f":"VLOOKUP(B2874,#REF!,3,FALSE)","v":{"$error":"#REF!"}}]
["Arion","Arion","LA1","CPOF916","ARION WL1***-*****-****-P01","Присоединительный комплект","In 2500 A, размер 2, 3-полюс, для выдвижного исполнения, верхние зажимы : Передний подвод два ряда отверстий, нижние зажимы : Передний подвод два ряда отверстий","- / -",0,0,282.94,{"$f":"VLOOKUP(B2875,#REF!,3,FALSE)","v":{"$error":"#REF!"}}]
["Arion","Arion","LA1","CPOF917","ARION WL1***-*****-****-P01","Присоединительный комплект","In 3200 A, размер 2, 3-полюс, для выдвижного исполнения, верхние зажимы : Передний подвод два ряда отверстий, нижние зажимы : Передний подвод два ряда отверстий","- / -",0,0,374.4,{"$f":"VLOOKUP(B2876,#REF!,3,FALSE)","v":{"$error":"#REF!"}}]
["Arion","Arion","LA1","CPOF918","ARION WL1***-*****-****-P01","Присоединительный комплект","In 4000 A, размер 3, 3-полюс, для выдвижного исполнения, верхние зажимы : Передний подвод два ряда отверстий, нижние зажимы : Передний подвод два ряда отверстий","- / -",0,0,712.2,{"$f":"VLOOKUP(B2877,#REF!,3,FALSE)","v":{"$error":"#REF!"}}]
["Arion","Arion","LA1","CPOF919","ARION WL1***-*****-****-P07","Присоединительный комплект","In 1600 A, размер 1, 3-полюс, для выдвижного исполнения, верхние зажимы : задний горизонтальный подвод, нижние зажимы : Передний подвод один ряд отверстий","- / -",0,0,100.62,{"$f":"VLOOKUP(B2878,#REF!,3,FALSE)","v":{"$error":"#REF!"}}]
["Arion","Arion","LA1","CPOF920","ARION WL1***-*****-****-P07","Присоединительный комплект","In 2000 A, размер 2, 3-полюс, для выдвижного исполнения, верхние зажимы : задний горизонтальный подвод, нижние зажимы : Передний подвод один ряд отверстий","- / -",0,0,124.82000000000001,{"$f":"VLOOKUP(B2879,#REF!,3,FALSE)","v":{"$error":"#REF!"}}]
["Arion","Arion","LA1","CPOF921","ARION WL1***-*****-****-P07","Присоединительный комплект","In 2500 A, размер 2, 3-полюс, для выдвижного исполнения, верхние зажимы : задний горизонтальный подвод, нижние зажимы : Передний подвод один ряд отверстий","- / -",0,0,148.32,{"$f":"VLOOKUP(B2880,#REF!,3,FALSE)","v":{"$error":"#REF!"}}]
["Arion","Arion","LA1","CPOF922","ARION WL1***-*****-****-P07","Присоединительный комплект","In 3200 A, размер 2, 3-полюс, для выдвижного исполнения, верхние зажимы : задний горизонтальный подвод, нижние зажимы : Передний подвод один ряд отверстий","- / -",0,0,196.03,{"$f":"VLOOKUP(B2881,#REF!,3,FALSE)","v":{"$error":"#REF!"}}]
["Arion","Arion","LA1","CPOF923","ARION WL1***-*****-****-P07","Присоединительный комплект","In 4000 A, размер 3, 3-полюс, для выдвижного исполнения, верхние зажимы : задний горизонтальный подвод, нижние зажимы : Передний подвод один ряд отверстий","- / -",0,0,374.4,{"$f":"VLOOKUP(B2882,#REF!,3,FALSE)","v":{"$error":"#REF!"}}]
["Arion","Arion","LA1","CPOF924","ARION WL1***-*****-****-P18","Присоединительный комплект","In 1600 A, размер 1, 3-полюс, для выдвижного исполнения, верхние зажимы : задний вертикальный подвод, нижние зажимы : задний горизонтальный подвод","- / -",0,0,100.62,{"$f":"VLOOKUP(B2883,#REF!,3,FALSE)","v":{"$error":"#REF!"}}]
["Arion","Arion","LA1","CPOFC23","ARION WL1***-*****-****-P18","Присоединительный комплект","In 2000 A, размер 1, 3-полюс, для выдвижного исполнения, верхние зажимы : задний вертикальный подвод, нижние зажимы : задний горизонтальный подвод","- / -",0,0,120.95,{"$f":"VLOOKUP(B2884,#REF!,3,FALSE)","v":{"$error":"#REF!"}}]
["Arion","Arion","LA1","CPOF925","ARION WL1***-*****-****-P18","Присоединительный комплект","In 2000 A, размер 2, 3-полюс, для выдвижного исполнения, верхние зажимы : задний вертикальный подвод, нижние зажимы : задний горизонтальный подвод","- / -",0,0,124.82000000000001,{"$f":"VLOOKUP(B2885,#REF!,3,FALSE)","v":{"$error":"#REF!"}}]
["Arion","Arion","LA1","CPOF926","ARION WL1***-*****-****-P18","Присоединительный комплект","In 2500 A, размер 2, 3-полюс, для выдвижного исполнения, верхние зажимы : задний вертикальный подвод, нижние зажимы : задний горизонтальный подвод","- / -",0,0,148.32,{"$f":"VLOOKUP(B2886,#REF!,3,FALSE)","v":{"$error":"#REF!"}}]
["Arion","Arion","LA1","CPOF927","ARION WL1***-*****-****-P18","Присоединительный комплект","In 3200 A, размер 2, 3-полюс, для выдвижного исполнения, верхние зажимы : задний вертикальный подвод, нижние зажимы : задний горизонтальный подвод","- / -",0,0,196.03,{"$f":"VLOOKUP(B2887,#REF!,3,FALSE)","v":{"$error":"#REF!"}}]
["Arion","Arion","LA1","CPOF928","ARION WL1***-*****-****-P18","Присоединительный комплект","In 4000 A, размер 3, 3-полюс, для выдвижного исполнения, верхние зажимы : задний вертикальный подвод, нижние зажимы : задний горизонтальный подвод","- / -",0,0,374.4,{"$f":"VLOOKUP(B2888,#REF!,3,FALSE)","v":{"$error":"#REF!"}}]
["Arion","Arion","LA1","CPOF929","ARION WL1***-*****-****-P18","Присоединительный комплект","In 5000 A, размер 3, 3-полюс, для выдвижного исполнения, верхние зажимы : задний вертикальный подвод, нижние зажимы : задний горизонтальный подвод","- / -",0,0,448.86,{"$f":"VLOOKUP(B2889,#REF!,3,FALSE)","v":{"$error":"#REF!"}}]
["Arion","Arion","LA1","CPOF930","ARION WL1***-*****-****-P19","Присоединительный комплект","In 1600 A, размер 1, 3-полюс, для выдвижного исполнения, верхние зажимы : задний фланцевый подвод, нижние зажимы : задний горизонтальный подвод","- / -",0,0,100.62,{"$f":"VLOOKUP(B2890,#REF!,3,FALSE)","v":{"$error":"#REF!"}}]
["Arion","Arion","LA1","CPOFC25","ARION WL1***-*****-****-P19","Присоединительный комплект","In 2000 A, размер 1, 3-полюс, для выдвижного исполнения, верхние зажимы : задний фланцевый подвод, нижние зажимы : задний горизонтальный подвод","- / -",0,0,120.95,{"$f":"VLOOKUP(B2891,#REF!,3,FALSE)","v":{"$error":"#REF!"}}]
["Arion","Arion","LA1","CPOF931","ARION WL1***-*****-****-P19","Присоединительный комплект","In 2000 A, размер 2, 3-полюс, для выдвижного исполнения, верхние зажимы : задний фланцевый подвод, нижние зажимы : задний горизонтальный подвод","- / -",0,0,124.82000000000001,{"$f":"VLOOKUP(B2892,#REF!,3,FALSE)","v":{"$error":"#REF!"}}]
["Arion","Arion","LA1","CPOF932","ARION WL1***-*****-****-P19","Присоединительный комплект","In 2500 A, размер 2, 3-полюс, для выдвижного исполнения, верхние зажимы : задний фланцевый подвод, нижние зажимы : задний горизонтальный подвод","- / -",0,0,148.32,{"$f":"VLOOKUP(B2893,#REF!,3,FALSE)","v":{"$error":"#REF!"}}]
["Arion","Arion","LA1","CPOF933","ARION WL1***-*****-****-P19","Присоединительный комплект","In 3200 A, размер 2, 3-полюс, для выдвижного исполнения, верхние зажимы : задний фланцевый подвод, нижние зажимы : задний горизонтальный подвод","- / -",0,0,196.03,{"$f":"VLOOKUP(B2894,#REF!,3,FALSE)","v":{"$error":"#REF!"}}]
["Arion","Arion","LA1","CPOF934","ARION WL1***-*****-****-P19","Присоединительный комплект","In 4000 A, размер 3, 3-полюс, для выдвижного исполнения, верхние зажимы : задний фланцевый подвод, нижние зажимы : задний горизонтальный подвод","- / -",0,0,374.4,{"$f":"VLOOKUP(B2895,#REF!,3,FALSE)","v":{"$error":"#REF!"}}]
["Arion","Arion","LA1","CPOFF07","ARION WL1***-*****-****-P23","Присоединительный комплект","In 1600 A, размер 1, 3-полюс, для выдвижного исполнения, верхние зажимы : задний горизонтальный подвод, нижние зажимы : задний вертикальный подвод","- / -",0,0,100.62,{"$f":"VLOOKUP(B2896,#REF!,3,FALSE)","v":{"$error":"#REF!"}}]
["Arion","Arion","LA1","CPOFC29","ARION WL1***-*****-****-P23","Присоединительный комплект","In 2000 A, размер 1, 3-полюс, для выдвижного исполнения, верхние зажимы : задний горизонтальный подвод, нижние зажимы : задний вертикальный подвод","- / -",0,0,120.95,{"$f":"VLOOKUP(B2897,#REF!,3,FALSE)","v":{"$error":"#REF!"}}]
["Arion","Arion","LA1","CPOF936","ARION WL1***-*****-****-P23","Присоединительный комплект","In 2000 A, размер 2, 3-полюс, для выдвижного исполнения, верхние зажимы : задний горизонтальный подвод, нижние зажимы : задний вертикальный подвод","- / -",0,0,124.82000000000001,{"$f":"VLOOKUP(B2898,#REF!,3,FALSE)","v":{"$error":"#REF!"}}]
["Arion","Arion","LA1","CPOF937","ARION WL1***-*****-****-P23","Присоединительный комплект","In 2500 A, размер 2, 3-полюс, для выдвижного исполнения, верхние зажимы : задний горизонтальный подвод, нижние зажимы : задний вертикальный подвод","- / -",0,0,148.32,{"$f":"VLOOKUP(B2899,#REF!,3,FALSE)","v":{"$error":"#REF!"}}]
["Arion","Arion","LA1","CPOF938","ARION WL1***-*****-****-P23","Присоединительный комплект","In 3200 A, размер 2, 3-полюс, для выдвижного исполнения, верхние зажимы : задний горизонтальный подвод, нижние зажимы : задний вертикальный подвод","- / -",0,0,196.03,{"$f":"VLOOKUP(B2900,#REF!,3,FALSE)","v":{"$error":"#REF!"}}]
["Arion","Arion","LA1","CPOF939","ARION WL1***-*****-****-P23","Присоединительный комплект","In 4000 A, размер 3, 3-полюс, для выдвижного исполнения, верхние зажимы : задний горизонтальный подвод, нижние зажимы : задний вертикальный подвод","- / -",0,0,374.4,{"$f":"VLOOKUP(B2901,#REF!,3,FALSE)","v":{"$error":"#REF!"}}]
["Arion","Arion","LA1","CPOF940","ARION WL1***-*****-****-P23","Присоединительный комплект","In 5000 A, размер 3, 3-полюс, для выдвижного исполнения, верхние зажимы : задний горизонтальный подвод, нижние зажимы : задний вертикальный подвод","- / -",0,0,448.86,{"$f":"VLOOKUP(B2902,#REF!,3,FALSE)","v":{"$error":"#REF!"}}]
[null,null,null,"Level  5","ARION WL1***-***4*-****-Z Pxx - 4-полюсная исполнения"]
["Arion","Arion","LA1","CPOF958","ARION WL1***-*****-****-P00","Присоединительный комплект","In 1600 A, размер 1, 4-полюс, для выдвижного исполнения, верхние зажимы : Передний подвод один ряд отверстий, нижние зажимы : Передний подвод один ряд отверстий","- / -",0,0,256.8,{"$f":"VLOOKUP(B2904,#REF!,3,FALSE)","v":{"$error":"#REF!"}}]
["Arion","Arion","LA1","CPOF959","ARION WL1***-*****-****-P00","Присоединительный комплект","In 2000 A, размер 2, 4-полюс, для выдвижного исполнения, верхние зажимы : Передний подвод один ряд отверстий, нижние зажимы : Передний подвод один ряд отверстий","- / -",0,0,318.20999999999998,{"$f":"VLOOKUP(B2905,#REF!,3,FALSE)","v":{"$error":"#REF!"}}]
["Arion","Arion","LA1","CPOF960","ARION WL1***-*****-****-P00","Присоединительный комплект","In 2500 A, размер 2, 4-полюс, для выдвижного исполнения, верхние зажимы : Передний подвод один ряд отверстий, нижние зажимы : Передний подвод один ряд отверстий","- / -",0,0,374.4,{"$f":"VLOOKUP(B2906,#REF!,3,FALSE)","v":{"$error":"#REF!"}}]
["Arion","Arion","LA1","CPOF961","ARION WL1***-*****-****-P00","Присоединительный комплект","In 3200 A, размер 2, 4-полюс, для выдвижного исполнения, верхние зажимы : Передний подвод один ряд отверстий, нижние зажимы : Передний подвод один ряд отверстий","- / -",0,0,502.46999999999997,{"$f":"VLOOKUP(B2907,#REF!,3,FALSE)","v":{"$error":"#REF!"}}]
["Arion","Arion","LA1","CPOF962","ARION WL1***-*****-****-P00","Присоединительный комплект","In 4000 A, размер 3, 4-полюс, для выдвижного исполнения, верхние зажимы : Передний подвод один ряд отверстий, нижние зажимы : Передний подвод один ряд отверстий","- / -",0,0,947.42,{"$f":"VLOOKUP(B2908,#REF!,3,FALSE)","v":{"$error":"#REF!"}}]
["Arion","Arion","LA1","CPOF963","ARION WL1***-*****-****-P01","Присоединительный комплект","In 1600 A, размер 1, 4-полюс, для выдвижного исполнения, верхние зажимы : Передний подвод два ряда отверстий, нижние зажимы : Передний подвод два ряда отверстий","- / -",0,0,256.8,{"$f":"VLOOKUP(B2909,#REF!,3,FALSE)","v":{"$error":"#REF!"}}]
["Arion","Arion","LA1","CPOFC38","ARION WL1***-*****-****-P01","Присоединительный комплект","In 2000 A, размер 1, 4-полюс, для выдвижного исполнения, верхние зажимы : Передний подвод два ряда отверстий, нижние зажимы : Передний подвод два ряда отверстий","- / -",0,0,311.71999999999997,{"$f":"VLOOKUP(B2910,#REF!,3,FALSE)","v":{"$error":"#REF!"}}]
["Arion","Arion","LA1","CPOF964","ARION WL1***-*****-****-P01","Присоединительный комплект","In 2000 A, размер 2, 4-полюс, для выдвижного исполнения, верхние зажимы : Передний подвод два ряда отверстий, нижние зажимы : Передний подвод два ряда отверстий","- / -",0,0,318.20999999999998,{"$f":"VLOOKUP(B2911,#REF!,3,FALSE)","v":{"$error":"#REF!"}}]
["Arion","Arion","LA1","CPOF965","ARION WL1***-*****-****-P01","Присоединительный комплект","In 2500 A, размер 2, 4-полюс, для выдвижного исполнения, верхние зажимы : Передний подвод два ряда отверстий, нижние зажимы : Передний подвод два ряда отверстий","- / -",0,0,374.4,{"$f":"VLOOKUP(B2912,#REF!,3,FALSE)","v":{"$error":"#REF!"}}]
["Arion","Arion","LA1","CPOF966","ARION WL1***-*****-****-P01","Присоединительный комплект","In 3200 A, размер 2, 4-полюс, для выдвижного исполнения, верхние зажимы : Передний подвод два ряда отверстий, нижние зажимы : Передний подвод два ряда отверстий","- / -",0,0,502.46999999999997,{"$f":"VLOOKUP(B2913,#REF!,3,FALSE)","v":{"$error":"#REF!"}}]
["Arion","Arion","LA1","CPOF967","ARION WL1***-*****-****-P01","Присоединительный комплект","In 4000 A, размер 3, 4-полюс, для выдвижного исполнения, верхние зажимы : Передний подвод два ряда отверстий, нижние зажимы : Передний подвод два ряда отверстий","- / -",0,0,947.42,{"$f":"VLOOKUP(B2914,#REF!,3,FALSE)","v":{"$error":"#REF!"}}]
["Arion","Arion","LA1","CPOF968","ARION WL1***-*****-****-P07","Присоединительный комплект","In 1600 A, размер 1, 4-полюс, для выдвижного исполнения, верхние зажимы : задний горизонтальный подвод, нижние зажимы : Передний подвод один ряд отверстий","- / -",0,0,134.59,{"$f":"VLOOKUP(B2915,#REF!,3,FALSE)","v":{"$error":"#REF!"}}]
["Arion","Arion","LA1","CPOF969","ARION WL1***-*****-****-P07","Присоединительный комплект","In 2000 A, размер 2, 4-полюс, для выдвижного исполнения, верхние зажимы : задний горизонтальный подвод, нижние зажимы : Передний подвод один ряд отверстий","- / -",0,0,167.95,{"$f":"VLOOKUP(B2916,#REF!,3,FALSE)","v":{"$error":"#REF!"}}]
["Arion","Arion","LA1","CPOF970","ARION WL1***-*****-****-P07","Присоединительный комплект","In 2500 A, размер 2, 4-полюс, для выдвижного исполнения, верхние зажимы : задний горизонтальный подвод, нижние зажимы : Передний подвод один ряд отверстий","- / -",0,0,196.03,{"$f":"VLOOKUP(B2917,#REF!,3,FALSE)","v":{"$error":"#REF!"}}]
["Arion","Arion","LA1","CPOF971","ARION WL1***-*****-****-P07","Присоединительный комплект","In 3200 A, размер 2, 4-полюс, для выдвижного исполнения, верхние зажимы : задний горизонтальный подвод, нижние зажимы : Передний подвод один ряд отверстий","- / -",0,0,264.01,{"$f":"VLOOKUP(B2918,#REF!,3,FALSE)","v":{"$error":"#REF!"}}]
["Arion","Arion","LA1","CPOF972","ARION WL1***-*****-****-P07","Присоединительный комплект","In 4000 A, размер 3, 4-полюс, для выдвижного исполнения, верхние зажимы : задний горизонтальный подвод, нижние зажимы : Передний подвод один ряд отверстий","- / -",0,0,497.25,{"$f":"VLOOKUP(B2919,#REF!,3,FALSE)","v":{"$error":"#REF!"}}]
["Arion","Arion","LA1","CPOF973","ARION WL1***-*****-****-P18","Присоединительный комплект","In 1600 A, размер 1, 4-полюс, для выдвижного исполнения, верхние зажимы : задний вертикальный подвод, нижние зажимы : задний горизонтальный подвод","- / -",0,0,134.59,{"$f":"VLOOKUP(B2920,#REF!,3,FALSE)","v":{"$error":"#REF!"}}]
["Arion","Arion","LA1","CPOFC39","ARION WL1***-*****-****-P18","Присоединительный комплект","In 2000 A, размер 1, 4-полюс, для выдвижного исполнения, верхние зажимы : задний вертикальный подвод, нижние зажимы : задний горизонтальный подвод","- / -",0,0,163.54,{"$f":"VLOOKUP(B2921,#REF!,3,FALSE)","v":{"$error":"#REF!"}}]
["Arion","Arion","LA1","CPOF974","ARION WL1***-*****-****-P18","Присоединительный комплект","In 2000 A, размер 2, 4-полюс, для выдвижного исполнения, верхние зажимы : задний вертикальный подвод, нижние зажимы : задний горизонтальный подвод","- / -",0,0,167.95,{"$f":"VLOOKUP(B2922,#REF!,3,FALSE)","v":{"$error":"#REF!"}}]
["Arion","Arion","LA1","CPOF975","ARION WL1***-*****-****-P18","Присоединительный комплект","In 2500 A, размер 2, 4-полюс, для выдвижного исполнения, верхние зажимы : задний вертикальный подвод, нижние зажимы : задний горизонтальный подвод","- / -",0,0,196.03,{"$f":"VLOOKUP(B2923,#REF!,3,FALSE)","v":{"$error":"#REF!"}}]
["Arion","Arion","LA1","CPOF976","ARION WL1***-*****-****-P18","Присоединительный комплект","In 3200 A, размер 2, 4-полюс, для выдвижного исполнения, верхние зажимы : задний вертикальный подвод, нижние зажимы : задний горизонтальный подвод","- / -",0,0,264.01,{"$f":"VLOOKUP(B2924,#REF!,3,FALSE)","v":{"$error":"#REF!"}}]
["Arion","Arion","LA1","CPOF977","ARION WL1***-*****-****-P18","Присоединительный комплект","In 4000 A, размер 3, 4-полюс, для выдвижного исполнения, верхние зажимы : задний вертикальный подвод, нижние зажимы : задний горизонтальный подвод","- / -",0,0,497.25,{"$f":"VLOOKUP(B2925,#REF!,3,FALSE)","v":{"$error":"#REF!"}}]
["Arion","Arion","LA1","CPOF978","ARION WL1***-*****-****-P18","Присоединительный комплект","In 5000 A, размер 3, 4-полюс, для выдвижного исполнения, верхние зажимы : задний вертикальный подвод, нижние зажимы : задний горизонтальный подвод","- / -",0,0,535.13,{"$f":"VLOOKUP(B2926,#REF!,3,FALSE)","v":{"$error":"#REF!"}}]
["Arion","Arion","LA1","CPOF979","ARION WL1***-*****-****-P19","Присоединительный комплект","In 1600 A, размер 1, 4-полюс, для выдвижного исполнения, верхние зажимы : задний фланцевый подвод, нижние зажимы : задний горизонтальный подвод","- / -",0,0,134.59,{"$f":"VLOOKUP(B2927,#REF!,3,FALSE)","v":{"$error":"#REF!"}}]
["Arion","Arion","LA1","CPOFC43","ARION WL1***-*****-****-P19","Присоединительный комплект","In 2000 A, размер 1, 4-полюс, для выдвижного исполнения, верхние зажимы : задний фланцевый подвод, нижние зажимы : задний горизонтальный подвод","- / -",0,0,163.54,{"$f":"VLOOKUP(B2928,#REF!,3,FALSE)","v":{"$error":"#REF!"}}]
["Arion","Arion","LA1","CPOF980","ARION WL1***-*****-****-P19","Присоединительный комплект","In 2000 A, размер 2, 4-полюс, для выдвижного исполнения, верхние зажимы : задний фланцевый подвод, нижние зажимы : задний горизонтальный подвод","- / -",0,0,167.95,{"$f":"VLOOKUP(B2929,#REF!,3,FALSE)","v":{"$error":"#REF!"}}]
["Arion","Arion","LA1","CPOF981","ARION WL1***-*****-****-P19","Присоединительный комплект","In 2500 A, размер 2, 4-полюс, для выдвижного исполнения, верхние зажимы : задний фланцевый подвод, нижние зажимы : задний горизонтальный подвод","- / -",0,0,196.03,{"$f":"VLOOKUP(B2930,#REF!,3,FALSE)","v":{"$error":"#REF!"}}]
["Arion","Arion","LA1","CPOF982","ARION WL1***-*****-****-P19","Присоединительный комплект","In 3200 A, размер 2, 4-полюс, для выдвижного исполнения, верхние зажимы : задний фланцевый подвод, нижние зажимы : задний горизонтальный подвод","- / -",0,0,264.01,{"$f":"VLOOKUP(B2931,#REF!,3,FALSE)","v":{"$error":"#REF!"}}]
["Arion","Arion","LA1","CPOF983","ARION WL1***-*****-****-P19","Присоединительный комплект","In 4000 A, размер 3, 4-полюс, для выдвижного исполнения, верхние зажимы : задний фланцевый подвод, нижние зажимы : задний горизонтальный подвод","- / -",0,0,497.25,{"$f":"VLOOKUP(B2932,#REF!,3,FALSE)","v":{"$error":"#REF!"}}]
["Arion","Arion","LA1","CPOF984","ARION WL1***-*****-****-P23","Присоединительный комплект","In 1600 A, размер 1, 4-полюс, для выдвижного исполнения, верхние зажимы : задний горизонтальный подвод, нижние зажимы : задний вертикальный подвод","- / -",0,0,134.59,{"$f":"VLOOKUP(B2933,#REF!,3,FALSE)","v":{"$error":"#REF!"}}]
["Arion","Arion","LA1","CPOFC45","ARION WL1***-*****-****-P23","Присоединительный комплект","In 2000 A, размер 1, 4-полюс, для выдвижного исполнения, верхние зажимы : задний горизонтальный подвод, нижние зажимы : задний вертикальный подвод","- / -",0,0,163.54,{"$f":"VLOOKUP(B2934,#REF!,3,FALSE)","v":{"$error":"#REF!"}}]
["Arion","Arion","LA1","CPOF985","ARION WL1***-*****-****-P23","Присоединительный комплект","In 2000 A, размер 2, 4-полюс, для выдвижного исполнения, верхние зажимы : задний горизонтальный подвод, нижние зажимы : задний вертикальный подвод","- / -",0,0,157.64999999999998,{"$f":"VLOOKUP(B2935,#REF!,3,FALSE)","v":{"$error":"#REF!"}}]
["Arion","Arion","LA1","CPOF986","ARION WL1***-*****-****-P23","Присоединительный комплект","In 2500 A, размер 2, 4-полюс, для выдвижного исполнения, верхние зажимы : задний горизонтальный подвод, нижние зажимы : задний вертикальный подвод","- / -",0,0,184.01,{"$f":"VLOOKUP(B2936,#REF!,3,FALSE)","v":{"$error":"#REF!"}}]
["Arion","Arion","LA1","CPOF987","ARION WL1***-*****-****-P23","Присоединительный комплект","In 3200 A, размер 2, 4-полюс, для выдвижного исполнения, верхние зажимы : задний горизонтальный подвод, нижние зажимы : задний вертикальный подвод","- / -",0,0,247.81,{"$f":"VLOOKUP(B2937,#REF!,3,FALSE)","v":{"$error":"#REF!"}}]
["Arion","Arion","LA1","CPOF988","ARION WL1***-*****-****-P23","Присоединительный комплект","In 4000 A, размер 3, 4-полюс, для выдвижного исполнения, верхние зажимы : задний горизонтальный подвод, нижние зажимы : задний вертикальный подвод","- / -",0,0,466.78,{"$f":"VLOOKUP(B2938,#REF!,3,FALSE)","v":{"$error":"#REF!"}}]
["Arion","Arion","LA1","CPOF989","ARION WL1***-*****-****-P23","Присоединительный комплект","In 5000 A, размер 3, 4-полюс, для выдвижного исполнения, верхние зажимы : задний горизонтальный подвод, нижние зажимы : задний вертикальный подвод","- / -",0,0,502.33,{"$f":"VLOOKUP(B2939,#REF!,3,FALSE)","v":{"$error":"#REF!"}}]
[null,null,null,"Level  4","ARION WL1***-*****-****-Z N61, P61 - Блок зажимов, для стационарного исполнения"]
["Arion","Arion","LA1","CPOF909","ARION WL1***-*****-****-N61","Блок зажимов","для стационарного исполнения, пружинные зажимы","- / -",0,0,55.66,{"$f":"VLOOKUP(B2941,#REF!,3,FALSE)","v":{"$error":"#REF!"}}]
["Arion","Arion","LA1","CPOF910","ARION WL1***-*****-****-P61","Блок зажимов","для выдвижного исполнения, пружинные зажимы","- / -",0,0,55.66,{"$f":"VLOOKUP(B2942,#REF!,3,FALSE)","v":{"$error":"#REF!"}}]
[null,null,null,"Level  4","ARION WL1***-*****-****-Z M2x, M3x - Включающие расцепители"]
["Arion","Arion","LA1","CPOF317","ARION WL1***-*****-****-M21","Включающий расцепитель","Ue DC 24 V, коэффициент нагрузки 100%","- / -",0,0,136.78,{"$f":"VLOOKUP(B2944,#REF!,3,FALSE)","v":{"$error":"#REF!"}}]
["Arion","Arion","LA1","CPOF881","ARION WL1***-*****-****-M22","Включающий расцепитель","Ue DC 30 V, коэффициент нагрузки 100%","- / -",0,0,145.98999999999998,{"$f":"VLOOKUP(B2945,#REF!,3,FALSE)","v":{"$error":"#REF!"}}]
["Arion","Arion","LA1","CPOF882","ARION WL1***-*****-****-M23","Включающий расцепитель","Ue DC 48 V, коэффициент нагрузки 100%","- / -",0,0,145.98999999999998,{"$f":"VLOOKUP(B2946,#REF!,3,FALSE)","v":{"$error":"#REF!"}}]
["Arion","Arion","LA1","CPOF883","ARION WL1***-*****-****-M24","Включающий расцепитель","Ue DC 60 V, коэффициент нагрузки 100%","- / -",0,0,145.98999999999998,{"$f":"VLOOKUP(B2947,#REF!,3,FALSE)","v":{"$error":"#REF!"}}]
["Arion","Arion","LA1","CPOF884","ARION WL1***-*****-****-M25","Включающий расцепитель","Ue AC 110 ÷ 127 V / DC 110 ÷ 125 V, коэффициент нагрузки 100%","- / -",0,0,136.78,{"$f":"VLOOKUP(B2948,#REF!,3,FALSE)","v":{"$error":"#REF!"}}]
["Arion","Arion","LA1","CPOF885","ARION WL1***-*****-****-M26","Включающий расцепитель","Ue AC 208 ÷ 240 V / DC 220 ÷ 250 V, коэффициент нагрузки 100%","- / -",0,0,136.78,{"$f":"VLOOKUP(B2949,#REF!,3,FALSE)","v":{"$error":"#REF!"}}]
["Arion","Arion","LA1","CPOF886","ARION WL1***-*****-****-M31","Включающий расцепитель","Ue DC 24 V, коэффициент нагрузки 5%","- / -",0,0,136.78,{"$f":"VLOOKUP(B2950,#REF!,3,FALSE)","v":{"$error":"#REF!"}}]
["Arion","Arion","LA1","CPOF887","ARION WL1***-*****-****-M33","Включающий расцепитель","Ue DC 48 V, коэффициент нагрузки 5%","- / -",0,0,145.98999999999998,{"$f":"VLOOKUP(B2951,#REF!,3,FALSE)","v":{"$error":"#REF!"}}]
["Arion","Arion","LA1","CPOF888","ARION WL1***-*****-****-M35","Включающий расцепитель","Ue AC 110 ÷ 127 V / DC 110 ÷ 125 V, коэффициент нагрузки 5%","- / -",0,0,136.78,{"$f":"VLOOKUP(B2952,#REF!,3,FALSE)","v":{"$error":"#REF!"}}]
["Arion","Arion","LA1","CPOF889","ARION WL1***-*****-****-M36","Включающий расцепитель","Ue AC 208 ÷ 240 V / DC 220 ÷ 250 V, коэффициент нагрузки 5%","- / -",0,0,136.78,{"$f":"VLOOKUP(B2953,#REF!,3,FALSE)","v":{"$error":"#REF!"}}]
[null,null,null,"Level  4","ARION WL1***-*****-****-Z M0x - Моторные приводы"]
["Arion","Arion","LA1","CPOF878","ARION WL1***-*****-****-M01","Моторный привод","Ue DC 24 ÷ 30 V","- / -",0,0,631.75,{"$f":"VLOOKUP(B2955,#REF!,3,FALSE)","v":{"$error":"#REF!"}}]
["Arion","Arion","LA1","CPOF879","ARION WL1***-*****-****-M03","Моторный привод","Ue DC 48 ÷ 60 V","- / -",0,0,668.53,{"$f":"VLOOKUP(B2956,#REF!,3,FALSE)","v":{"$error":"#REF!"}}]
["Arion","Arion","LA1","CPOF880","ARION WL1***-*****-****-M05","Моторный привод","Ue AC 110 ÷ 127 V / DC 110 ÷ 125 V","- / -",0,0,631.75,{"$f":"VLOOKUP(B2957,#REF!,3,FALSE)","v":{"$error":"#REF!"}}]
["Arion","Arion","LA1","CPOF324","ARION WL1***-*****-****-M06","Моторный привод","Ue AC 208 ÷ 240 V / DC 220 ÷ 250 V","- / -",0,0,631.75,{"$f":"VLOOKUP(B2958,#REF!,3,FALSE)","v":{"$error":"#REF!"}}]
[null,null,null,"Level  4","ARION WL1***-*****-****-Z M4x - независимые расцепители"]
["Arion","Arion","LA1","CPOF085","ARION WL1***-*****-****-M41","Независимый расцепитель","Ue DC 24 V, коэффициент нагрузки 5%","- / -",0,0,136.78,{"$f":"VLOOKUP(B2960,#REF!,3,FALSE)","v":{"$error":"#REF!"}}]
["Arion","Arion","LA1","CPOF086","ARION WL1***-*****-****-M43","Независимый расцепитель","Ue DC 48 V, коэффициент нагрузки 5%","- / -",0,0,145.98999999999998,{"$f":"VLOOKUP(B2961,#REF!,3,FALSE)","v":{"$error":"#REF!"}}]
["Arion","Arion","LA1","CPOF087","ARION WL1***-*****-****-M45","Независимый расцепитель","Ue AC 110 ÷ 127 V / DC 110 ÷ 125 V, коэффициент нагрузки 5%","- / -",0,0,136.78,{"$f":"VLOOKUP(B2962,#REF!,3,FALSE)","v":{"$error":"#REF!"}}]
["Arion","Arion","LA1","CPOF088","ARION WL1***-*****-****-M46","Независимый расцепитель","Ue AC 208 ÷ 240 V / DC 220 ÷ 250 V, коэффициент нагрузки 5%","- / -",0,0,136.78,{"$f":"VLOOKUP(B2963,#REF!,3,FALSE)","v":{"$error":"#REF!"}}]
[null,null,null,"Level  4","ARION WL1***-*****-****-Z A05 - Номинальное рабочее напряжение 1 000 V"]
["Arion","Arion","LA1","CPOA048","ARION WL1***-*****-****-A05","Номинальное рабочее напряжение 1 000 V","In 2000 A, размер 1, 3-полюс, для автоматического выключателя AC или разъединитель нагрузки AC","- / -",0,0,803.12,{"$f":"VLOOKUP(B2965,#REF!,3,FALSE)","v":{"$error":"#REF!"}}]
["Arion","Arion","LA1","CPOF840","ARION WL1***-*****-****-A05","Номинальное рабочее напряжение 1 000 V","In 2000 A, размер 2, 3-полюс, для автоматического выключателя AC или разъединитель нагрузки AC/DC","- / -",0,0,1036.58,{"$f":"VLOOKUP(B2966,#REF!,3,FALSE)","v":{"$error":"#REF!"}}]
["Arion","Arion","LA1","CPOF841","ARION WL1***-*****-****-A05","Номинальное рабочее напряжение 1 000 V","In 2500 A, размер 2, 3-полюс, для автоматического выключателя AC или разъединитель нагрузки AC","- / -",0,0,1281.9100000000001,{"$f":"VLOOKUP(B2967,#REF!,3,FALSE)","v":{"$error":"#REF!"}}]
["Arion","Arion","LA1","CPOF842","ARION WL1***-*****-****-A05","Номинальное рабочее напряжение 1 000 V","In 3200 A, размер 2, 3-полюс, для автоматического выключателя AC или разъединитель нагрузки AC","- / -",0,0,1545.67,{"$f":"VLOOKUP(B2968,#REF!,3,FALSE)","v":{"$error":"#REF!"}}]
["Arion","Arion","LA1","CPOFF84","ARION WL1***-*****-****-A05","Номинальное рабочее напряжение 1 000 V","In 4000 A, размер 2, 3-полюс, для автоматического выключателя AC или разъединитель нагрузки AC/DC","- / -",0,0,1567.26,{"$f":"VLOOKUP(B2969,#REF!,3,FALSE)","v":{"$error":"#REF!"}}]
["Arion","Arion","LA1","CPOF843","ARION WL1***-*****-****-A05","Номинальное рабочее напряжение 1 000 V","In 4000 A, размер 3, 3-полюс, для автоматического выключателя AC или разъединитель нагрузки AC","- / -",0,0,1705.1299999999999,{"$f":"VLOOKUP(B2970,#REF!,3,FALSE)","v":{"$error":"#REF!"}}]
["Arion","Arion","LA1","CPOF844","ARION WL1***-*****-****-A05","Номинальное рабочее напряжение 1 000 V","In 5000 A, размер 3, 3-полюс, для автоматического выключателя AC или разъединитель нагрузки AC","- / -",0,0,1889.12,{"$f":"VLOOKUP(B2971,#REF!,3,FALSE)","v":{"$error":"#REF!"}}]
["Arion","Arion","LA1","CPOF845","ARION WL1***-*****-****-A05","Номинальное рабочее напряжение 1 000 V","In 6300 A, размер 3, 3-полюс, для автоматического выключателя AC или разъединитель нагрузки AC","- / -",0,0,2060.8500000000004,{"$f":"VLOOKUP(B2972,#REF!,3,FALSE)","v":{"$error":"#REF!"}}]
["Arion","Arion","LA1","CPOA049","ARION WL1***-*****-****-A05","Номинальное рабочее напряжение 1 000 V","In 2000 A, размер 1, 4-полюс, для автоматического выключателя AC или разъединитель нагрузки AC","- / -",0,0,870.99,{"$f":"VLOOKUP(B2973,#REF!,3,FALSE)","v":{"$error":"#REF!"}}]
["Arion","Arion","LA1","CPOF846","ARION WL1***-*****-****-A05","Номинальное рабочее напряжение 1 000 V","In 2000 A, размер 2, 4-полюс, для автоматического выключателя AC или разъединитель нагрузки AC/DC","- / -",0,0,1104.05,{"$f":"VLOOKUP(B2974,#REF!,3,FALSE)","v":{"$error":"#REF!"}}]
["Arion","Arion","LA1","CPOF847","ARION WL1***-*****-****-A05","Номинальное рабочее напряжение 1 000 V","In 2500 A, размер 2, 4-полюс, для автоматического выключателя AC или разъединитель нагрузки AC","- / -",0,0,1367.81,{"$f":"VLOOKUP(B2975,#REF!,3,FALSE)","v":{"$error":"#REF!"}}]
["Arion","Arion","LA1","CPOF848","ARION WL1***-*****-****-A05","Номинальное рабочее напряжение 1 000 V","In 3200 A, размер 2, 4-полюс, для автоматического выключателя AC или разъединитель нагрузки AC","- / -",0,0,1625.39,{"$f":"VLOOKUP(B2976,#REF!,3,FALSE)","v":{"$error":"#REF!"}}]
["Arion","Arion","LA1","CPOFF85","ARION WL1***-*****-****-A05","Номинальное рабочее напряжение 1 000 V","In 4000 A, размер 2, 4-полюс, для автоматического выключателя AC или разъединитель нагрузки AC/DC","- / -",0,0,1642.85,{"$f":"VLOOKUP(B2977,#REF!,3,FALSE)","v":{"$error":"#REF!"}}]
["Arion","Arion","LA1","CPOF849","ARION WL1***-*****-****-A05","Номинальное рабочее напряжение 1 000 V","In 4000 A, размер 3, 4-полюс, для автоматического выключателя AC или разъединитель нагрузки AC","- / -",0,0,1809.4,{"$f":"VLOOKUP(B2978,#REF!,3,FALSE)","v":{"$error":"#REF!"}}]
["Arion","Arion","LA1","CPOF850","ARION WL1***-*****-****-A05","Номинальное рабочее напряжение 1 000 V","In 5000 A, размер 3, 4-полюс, для автоматического выключателя AC или разъединитель нагрузки AC","- / -",0,0,1962.74,{"$f":"VLOOKUP(B2979,#REF!,3,FALSE)","v":{"$error":"#REF!"}}]
["Arion","Arion","LA1","CPOF851","ARION WL1***-*****-****-A05","Номинальное рабочее напряжение 1 000 V","In 6300 A, размер 3, 4-полюс, для автоматического выключателя AC или разъединитель нагрузки AC","- / -",0,0,2146.7200000000003,{"$f":"VLOOKUP(B2980,#REF!,3,FALSE)","v":{"$error":"#REF!"}}]
[null,null,null,"Level  4","ARION WL1***-*****-****-Z A15 - Номинальное рабочее напряжение 1 150 V"]
["Arion","Arion","LA1","CPOFB51","ARION WL1***-*****-****-A15","Номинальное рабочее напряжение 1 150 V","In 2000 A, размер 2, 3-полюс, для автоматического выключателя AC или разъединитель нагрузки AC","- / -",0,0,1293,{"$f":"VLOOKUP(B2982,#REF!,3,FALSE)","v":{"$error":"#REF!"}}]
["Arion","Arion","LA1","CPOFB53","ARION WL1***-*****-****-A15","Номинальное рабочее напряжение 1 150 V","In 2500 A, размер 2, 3-полюс, для автоматического выключателя AC или разъединитель нагрузки AC","- / -",0,0,1603.82,{"$f":"VLOOKUP(B2983,#REF!,3,FALSE)","v":{"$error":"#REF!"}}]
["Arion","Arion","LA1","CPOFB54","ARION WL1***-*****-****-A15","Номинальное рабочее напряжение 1 150 V","In 3200 A, размер 2, 3-полюс, для автоматического выключателя AC или разъединитель нагрузки AC","- / -",0,0,1933.28,{"$f":"VLOOKUP(B2984,#REF!,3,FALSE)","v":{"$error":"#REF!"}}]
["Arion","Arion","LA1","CPOFB56","ARION WL1***-*****-****-A15","Номинальное рабочее напряжение 1 150 V","In 4000 A, размер 2, 3-полюс, для автоматического выключателя AC или разъединитель нагрузки AC","- / -",0,0,2082.4700000000003,{"$f":"VLOOKUP(B2985,#REF!,3,FALSE)","v":{"$error":"#REF!"}}]
["Arion","Arion","LA1","CPOFB57","ARION WL1***-*****-****-A15","Номинальное рабочее напряжение 1 150 V","In 2000 A, размер 2, 4-полюс, для автоматического выключателя AC или разъединитель нагрузки AC","- / -",0,0,1404.9,{"$f":"VLOOKUP(B2986,#REF!,3,FALSE)","v":{"$error":"#REF!"}}]
["Arion","Arion","LA1","CPOFC65","ARION WL1***-*****-****-A15","Номинальное рабочее напряжение 1 150 V","In 2500 A, размер 2, 4-полюс, для автоматического выключателя AC или разъединитель нагрузки AC","- / -",0,0,1715.72,{"$f":"VLOOKUP(B2987,#REF!,3,FALSE)","v":{"$error":"#REF!"}}]
["Arion","Arion","LA1","CPOFC66","ARION WL1***-*****-****-A15","Номинальное рабочее напряжение 1 150 V","In 3200 A, размер 2, 4-полюс, для автоматического выключателя AC или разъединитель нагрузки AC","- / -",0,0,2045.18,{"$f":"VLOOKUP(B2988,#REF!,3,FALSE)","v":{"$error":"#REF!"}}]
["Arion","Arion","LA1","CPOFC67","ARION WL1***-*****-****-A15","Номинальное рабочее напряжение 1 150 V","In 4000 A, размер 2, 4-полюс, для автоматического выключателя AC или разъединитель нагрузки AC","- / -",0,0,2213.0200000000004,{"$f":"VLOOKUP(B2989,#REF!,3,FALSE)","v":{"$error":"#REF!"}}]
[null,null,null,"Level  4","ARION WL1***-*****-****-Z Bxx - Модули номинального тока"]
["Arion","Arion","LA1","CPOF852","ARION WL1***-*****-****-B02","Модуль номинального тока","In 250 A, размер 1, 2","- / -",0,0,0,{"$f":"VLOOKUP(B2991,#REF!,3,FALSE)","v":{"$error":"#REF!"}}]
["Arion","Arion","LA1","CPOF853","ARION WL1***-*****-****-B03","Модуль номинального тока","In 315 A, размер 1, 2","- / -",0,0,0,{"$f":"VLOOKUP(B2992,#REF!,3,FALSE)","v":{"$error":"#REF!"}}]
["Arion","Arion","LA1","CPOF854","ARION WL1***-*****-****-B04","Модуль номинального тока","In 400 A, размер 1, 2","- / -",0,0,0,{"$f":"VLOOKUP(B2993,#REF!,3,FALSE)","v":{"$error":"#REF!"}}]
["Arion","Arion","LA1","CPOF855","ARION WL1***-*****-****-B05","Модуль номинального тока","In 500 A, размер 1, 2","- / -",0,0,0,{"$f":"VLOOKUP(B2994,#REF!,3,FALSE)","v":{"$error":"#REF!"}}]
["Arion","Arion","LA1","CPOF856","ARION WL1***-*****-****-B06","Модуль номинального тока","In 630 A, размер 1, 2","- / -",0,0,0,{"$f":"VLOOKUP(B2995,#REF!,3,FALSE)","v":{"$error":"#REF!"}}]
["Arion","Arion","LA1","CPOF857","ARION WL1***-*****-****-B08","Модуль номинального тока","In 800 A, размер 1, 2","- / -",0,0,0,{"$f":"VLOOKUP(B2996,#REF!,3,FALSE)","v":{"$error":"#REF!"}}]
["Arion","Arion","LA1","CPOF858","ARION WL1***-*****-****-B10","Модуль номинального тока","In 1000 A, размер 1, 2","- / -",0,0,0,{"$f":"VLOOKUP(B2997,#REF!,3,FALSE)","v":{"$error":"#REF!"}}]
["Arion","Arion","LA1","CPOF859","ARION WL1***-*****-****-B12","Модуль номинального тока","In 1250 A, размер 1, 2, 3","- / -",0,0,0,{"$f":"VLOOKUP(B2998,#REF!,3,FALSE)","v":{"$error":"#REF!"}}]
["Arion","Arion","LA1","CPOF860","ARION WL1***-*****-****-B16","Модуль номинального тока","In 1600 A, размер 1, 2, 3","- / -",0,0,0,{"$f":"VLOOKUP(B2999,#REF!,3,FALSE)","v":{"$error":"#REF!"}}]
["Arion","Arion","LA1","CPOF861","ARION WL1***-*****-****-B20","Модуль номинального тока","In 2000 A, размер 2, 3","- / -",0,0,0,{"$f":"VLOOKUP(B3000,#REF!,3,FALSE)","v":{"$error":"#REF!"}}]
["Arion","Arion","LA1","CPOF862","ARION WL1***-*****-****-B25","Модуль номинального тока","In 2500 A, размер 2, 3","- / -",0,0,0,{"$f":"VLOOKUP(B3001,#REF!,3,FALSE)","v":{"$error":"#REF!"}}]
["Arion","Arion","LA1","CPOF863","ARION WL1***-*****-****-B32","Модуль номинального тока","In 3200 A, размер 2, 3","- / -",0,0,0,{"$f":"VLOOKUP(B3002,#REF!,3,FALSE)","v":{"$error":"#REF!"}}]
["Arion","Arion","LA1","CPOF864","ARION WL1***-*****-****-B40","Модуль номинального тока","In 4000 A, размер 2, 3","- / -",0,0,0,{"$f":"VLOOKUP(B3003,#REF!,3,FALSE)","v":{"$error":"#REF!"}}]
["Arion","Arion","LA1","CPOF865","ARION WL1***-*****-****-B50","Модуль номинального тока","In 5000 A, размер 3","- / -",0,0,0,{"$f":"VLOOKUP(B3004,#REF!,3,FALSE)","v":{"$error":"#REF!"}}]
["Arion","Arion","LA1","CPOF866","ARION WL1***-*****-****-B63","Модуль номинального тока","In 6300 A, размер 3","- / -",0,0,0,{"$f":"VLOOKUP(B3005,#REF!,3,FALSE)","v":{"$error":"#REF!"}}]
[null,null,null,"Level  4","ARION WL1***-*****-****-Z Cxx, Rxx, Sxx - Выключатели для сигнализации, устройства для изображения и управления"]
["Arion","Arion","LA1","CPOF127","ARION WL1***-*****-****-C22","Выключатель","для сигнализации состояния \"готов к включению\"","- / -",0,0,76.660000000000011,{"$f":"VLOOKUP(B3007,#REF!,3,FALSE)","v":{"$error":"#REF!"}}]
["Arion","Arion","LA1","CPOF350","ARION WL1***-*****-****-C20","Выключатель","для сигнализации состояния накопителя","- / -",0,0,55.66,{"$f":"VLOOKUP(B3008,#REF!,3,FALSE)","v":{"$error":"#REF!"}}]
["Arion","Arion","LA1","CPOF868","ARION WL1***-*****-****-C26","Выключатель","для сигнализации выключения 1-м вспомогательным расцепителем","- / -",0,0,29.880000000000003,{"$f":"VLOOKUP(B3009,#REF!,3,FALSE)","v":{"$error":"#REF!"}}]
["Arion","Arion","LA1","CPOF869","ARION WL1***-*****-****-C27","Выключатель","для сигнализации выключения 2-м вспомогательным расцепителем","- / -",0,0,29.880000000000003,{"$f":"VLOOKUP(B3010,#REF!,3,FALSE)","v":{"$error":"#REF!"}}]
["Arion","Arion","LA1","CPOF074","ARION WL1***-*****-****-K07","Выключатель","для сигнализации состояния \"Выключено расцепителем максимального тока\"","- / -",0,0,47.18,{"$f":"VLOOKUP(B3011,#REF!,3,FALSE)","v":{"$error":"#REF!"}}]
["Arion","Arion","LA1","CPOFF71","ARION WL1***-*****-****-K06","Выключатель","для 2-ой сигнализации состояния \"Выключено расцепителем максимального тока\"","- / -",0,0,53.05,{"$f":"VLOOKUP(B3012,#REF!,3,FALSE)","v":{"$error":"#REF!"}}]
["Arion","Arion","LA1","CPOF135","ARION WL1***-*****-****-R15","Выключатель","для сигнализации положения 3x CO","- / -",0,0,103.68,{"$f":"VLOOKUP(B3013,#REF!,3,FALSE)","v":{"$error":"#REF!"}}]
["Arion","Arion","LA1","CPOF335","ARION WL1***-*****-****-R16","Выключатель","для сигнализации положения 6x CO","- / -",0,0,180.95,{"$f":"VLOOKUP(B3014,#REF!,3,FALSE)","v":{"$error":"#REF!"}}]
["Arion","Arion","LA1","CPOF867","ARION WL1***-*****-****-C01","Счётчик циклов","количество мест 5","- / -",0,0,167.47,{"$f":"VLOOKUP(B3015,#REF!,3,FALSE)","v":{"$error":"#REF!"}}]
["Arion","Arion","LA1","CPOF325","ARION WL1***-*****-****-S24","Кнопка","для аварийного выключения","- / -",0,0,154.59,{"$f":"VLOOKUP(B3016,#REF!,3,FALSE)","v":{"$error":"#REF!"}}]
["Arion","Arion","LA1","CPOF333","ARION WL1***-*****-****-S25","Выключатель","для моторного привода","- / -",0,0,162.56,{"$f":"VLOOKUP(B3017,#REF!,3,FALSE)","v":{"$error":"#REF!"}}]
["Arion","Arion","LA1","CPOF318","ARION WL1***-*****-****-C11","Кнопка","для электрического ВКЛ. на передней панели с пломбируемой крышкой","- / -",0,0,29.880000000000003,{"$f":"VLOOKUP(B3018,#REF!,3,FALSE)","v":{"$error":"#REF!"}}]
["Arion","Arion","LA1","CPOFF06","ARION WL1***-*****-****-C12","Кнопка","для электрического ВКЛ. на передней панели, замок CES","- / -",0,0,103.68,{"$f":"VLOOKUP(B3019,#REF!,3,FALSE)","v":{"$error":"#REF!"}}]
[null,null,null,"Level  4","ARION WL1***-*****-****-Z Kxx - Автоматический RESET"]
["Arion","Arion","LA1","CPOF334","ARION WL1***-*****-****-K01","Устройство для автоматического ресета","блокировка повторного включения автоматического выключателя","- / -",0,0,42.8,{"$f":"VLOOKUP(B3021,#REF!,3,FALSE)","v":{"$error":"#REF!"}}]
["Arion","Arion","LA1","CPOF875","ARION WL1***-*****-****-K10","Устройство для дистанционного ресета","Ue DC 24 V","- / -",0,0,211,{"$f":"VLOOKUP(B3022,#REF!,3,FALSE)","v":{"$error":"#REF!"}}]
["Arion","Arion","LA1","CPOF311","ARION WL1***-*****-****-K11","Устройство для дистанционного ресета","Ue DC 48 V","- / -",0,0,211,{"$f":"VLOOKUP(B3023,#REF!,3,FALSE)","v":{"$error":"#REF!"}}]
["Arion","Arion","LA1","CPOF876","ARION WL1***-*****-****-K12","Устройство для дистанционного ресета","Ue AC 110 ÷ 127 V / DC 110 ÷ 125 V","- / -",0,0,211,{"$f":"VLOOKUP(B3024,#REF!,3,FALSE)","v":{"$error":"#REF!"}}]
["Arion","Arion","LA1","CPOF877","ARION WL1***-*****-****-K13","Устройство для дистанционного ресета","Ue AC 208 ÷ 240 V / DC 220 ÷ 250 V","- / -",0,0,211,{"$f":"VLOOKUP(B3025,#REF!,3,FALSE)","v":{"$error":"#REF!"}}]
[null,null,null,"Level  4","ARION WL1***-*****-****-Z Fxx - Устройство для коммуникации данных и функции измерения"]
[null,null,null,"Level  5","ARION WL1***-*****-****-Z F23 - Внутренние измерительные трансформаторы тока для нулевого провода"]
["Arion","Arion","LA1","CPOF871","ARION WL1***-*****-****-F23","Внутренний измерительный трансформатор тока для нулевого провода","размер 1","- / -",0,0,76.660000000000011,{"$f":"VLOOKUP(B3028,#REF!,3,FALSE)","v":{"$error":"#REF!"}}]
["Arion","Arion","LA1","CPOF872","ARION WL1***-*****-****-F23","Внутренний измерительный трансформатор тока для нулевого провода","размер 2","- / -",0,0,93.850000000000009,{"$f":"VLOOKUP(B3029,#REF!,3,FALSE)","v":{"$error":"#REF!"}}]
["Arion","Arion","LA1","CPOF873","ARION WL1***-*****-****-F23","Внутренний измерительный трансформатор тока для нулевого провода","размер 3","- / -",0,0,139.84,{"$f":"VLOOKUP(B3030,#REF!,3,FALSE)","v":{"$error":"#REF!"}}]
[null,null,null,"Level  5","ARION WL1***-*****-****-Z F05 - Функция измерения"]
["Arion","Arion","LA1","CPOF345","ARION WL1***-*****-****-F05","Модуль функции измерения","Функция измерения Plus","- / -",0,0,748.28,{"$f":"VLOOKUP(B3032,#REF!,3,FALSE)","v":{"$error":"#REF!"}}]
[null,null,null,"Level  5","ARION WL1***-*****-****-Z F0x - Коммуникация данных"]
["Arion","Arion","LA1","CPOF890","ARION WL1***-*****-****-F01","Модуль BSS","модуль BSS - датчик состояния автоматического выключателя","- / -",0,0,286.45,{"$f":"VLOOKUP(B3034,#REF!,3,FALSE)","v":{"$error":"#REF!"}}]
["Arion","Arion","LA1","CPOF891","ARION WL1***-*****-****-F02","Устройство для коммуникации данных","комплектная коммуникация данных PROFIBUS - модуль COM15, модуль BSS, соединительные кабели 2 m","- / -",0,0,766.67,{"$f":"VLOOKUP(B3035,#REF!,3,FALSE)","v":{"$error":"#REF!"}}]
["Arion","Arion","LA1","CPOF089","ARION WL1***-*****-****-F12","Устройство для коммуникации данных","комплектная коммуникация данных MODBUS - модуль COM16, модуль BSS, соединительные кабели 2 m","- / -",0,0,766.67,{"$f":"VLOOKUP(B3036,#REF!,3,FALSE)","v":{"$error":"#REF!"}}]
[null,null,null,"Level  5","ARION WL1***-*****-****-Z F31 - Помехоподавляющие фильтры EMC"]
["Arion","Arion","LA1","CPOF084","ARION WL1***-*****-****-F31","Помехоподавляющий фильтр","для подавления помех","- / -",0,0,538.52,{"$f":"VLOOKUP(B3038,#REF!,3,FALSE)","v":{"$error":"#REF!"}}]
[null,null,null,"Level  4","ARION WL1***-*****-****-Z Sxx, Rxx - Блокировка и запирание"]
[null,null,null,"Level  5","ARION WL1***-*****-****-Z S30, Rx0 - Устройства блокировки"]
["Arion","Arion","LA1","CPOF906","ARION WL1***-*****-****-S30","Устройство блокировки","против открытия дверцы распредщита, для автоматического выключателя в стационарном исполнении","- / -",0,0,103.68,{"$f":"VLOOKUP(B3041,#REF!,3,FALSE)","v":{"$error":"#REF!"}}]
["Arion","Arion","LA1","CPOF907","ARION WL1***-*****-****-R30","Устройство блокировки","против открытия дверцы распредщита, для автоматического выключателя в выдвижном исполнении","- / -",0,0,103.68,{"$f":"VLOOKUP(B3042,#REF!,3,FALSE)","v":{"$error":"#REF!"}}]
["Arion","Arion","LA1","CPOF908","ARION WL1***-*****-****-R50","Устройство блокировки","против передвижения автоматического выключателя при открытой двери распредщита","- / -",0,0,103.68,{"$f":"VLOOKUP(B3043,#REF!,3,FALSE)","v":{"$error":"#REF!"}}]
[null,null,null,"Level  5","ARION WL1***-*****-****-Z S55, R5x - Механические блокировки"]
["Arion","Arion","LA1","CPOF147","ARION WL1***-*****-****-S55","Механическая блокировка","для стационарного исполнения","- / -",0,0,369.84999999999997,{"$f":"VLOOKUP(B3045,#REF!,3,FALSE)","v":{"$error":"#REF!"}}]
["Arion","Arion","LA1","CPOF123","ARION WL1***-*****-****-R55","Механическая блокировка","для выдвижного исполнения","- / -",0,0,369.84999999999997,{"$f":"VLOOKUP(B3046,#REF!,3,FALSE)","v":{"$error":"#REF!"}}]
["Arion","Arion","LA1","CPOF341","ARION WL1***-*****-****-R56","Механическая блокировка","только для выдвижного оборудования","- / -",0,0,323.84999999999997,{"$f":"VLOOKUP(B3047,#REF!,3,FALSE)","v":{"$error":"#REF!"}}]
["Arion","Arion","LA1","CPOF892","ARION WL1***-*****-****-R57","Механическая блокировка","только для автоматического выключателя в выдвижном исполнении","- / -",0,0,49.93,{"$f":"VLOOKUP(B3048,#REF!,3,FALSE)","v":{"$error":"#REF!"}}]
[null,null,null,"Level  5","ARION WL1***-*****-****-Z S0x, R6x - Запираемое оборудованиe против некомпетентного включения"]
["Arion","Arion","LA1","CPOF148","ARION WL1***-*****-****-S01","Запираемoе оборудованиe","против некомпетентного ВКЛ., замок CES","- / -",0,0,118.98,{"$f":"VLOOKUP(B3050,#REF!,3,FALSE)","v":{"$error":"#REF!"}}]
["Arion","Arion","LA1","CPOF893","ARION WL1***-*****-****-S03","Запираемoе оборудованиe","против некомпетентного ВКЛ., замок IKON","- / -",0,0,162.56,{"$f":"VLOOKUP(B3051,#REF!,3,FALSE)","v":{"$error":"#REF!"}}]
["Arion","Arion","LA1","CPOF149","ARION WL1***-*****-****-S05","Запираемoе оборудованиe","против некомпетентного ВКЛ., замок FORTRESS или замок CASTELL","- / -",0,0,79.75,{"$f":"VLOOKUP(B3052,#REF!,3,FALSE)","v":{"$error":"#REF!"}}]
["Arion","Arion","LA1","CPOF337","ARION WL1***-*****-****-S07","Запираемoе оборудованиe","против некомпетентного ВКЛ., комплект для висячих замков","- / -",0,0,55.66,{"$f":"VLOOKUP(B3053,#REF!,3,FALSE)","v":{"$error":"#REF!"}}]
["Arion","Arion","LA1","CPOF894","ARION WL1***-*****-****-S08","Запираемoе оборудованиe","против некомпетентного ВКЛ., замок RONIS","- / -",0,0,133.1,{"$f":"VLOOKUP(B3054,#REF!,3,FALSE)","v":{"$error":"#REF!"}}]
["Arion","Arion","LA1","CPOF895","ARION WL1***-*****-****-S09","Запираемoе оборудованиe","против некомпетентного ВКЛ., замок PROFALUX","- / -",0,0,133.1,{"$f":"VLOOKUP(B3055,#REF!,3,FALSE)","v":{"$error":"#REF!"}}]
["Arion","Arion","LA1","CPOF898","ARION WL1***-*****-****-R60","Запираемoе оборудованиe","против некомпетентного ВКЛ., для автоматического выключателя в выдвижном исполнении, замок PROFALUX","- / -",0,0,308.52,{"$f":"VLOOKUP(B3056,#REF!,3,FALSE)","v":{"$error":"#REF!"}}]
["Arion","Arion","LA1","CPOF896","ARION WL1***-*****-****-R61","Запираемoе оборудованиe","против некомпетентного ВКЛ., для автоматического выключателя в выдвижном исполнении, замок CES","- / -",0,0,265.61,{"$f":"VLOOKUP(B3057,#REF!,3,FALSE)","v":{"$error":"#REF!"}}]
["Arion","Arion","LA1","CPOF897","ARION WL1***-*****-****-R68","Запираемoе оборудованиe","против некомпетентного ВКЛ., для автоматического выключателя, в выдвижном исполнении, замок RONIS","- / -",0,0,308.52,{"$f":"VLOOKUP(B3058,#REF!,3,FALSE)","v":{"$error":"#REF!"}}]
[null,null,null,"Level  5","ARION WL1***-*****-****-Z S33 - Запираемoе оборудованиe рычага накопителя"]
["Arion","Arion","LA1","CPOF899","ARION WL1***-*****-****-S33","Запираемoе оборудованиe","для рычага накопителя, комплект для висячих замков","- / -",0,0,93.850000000000009,{"$f":"VLOOKUP(B3060,#REF!,3,FALSE)","v":{"$error":"#REF!"}}]
[null,null,null,"Level  5","ARION WL1***-*****-****-Z S7x - Запираемoе оборудованиe против передвижения"]
["Arion","Arion","LA1","CPOF900","ARION WL1***-*****-****-S71","Запираемoе оборудованиe","против передвижения автоматического выключателя, замок CES","- / -",0,0,265.61,{"$f":"VLOOKUP(B3062,#REF!,3,FALSE)","v":{"$error":"#REF!"}}]
["Arion","Arion","LA1","CPOF901","ARION WL1***-*****-****-S75","Запираемoе оборудованиe","против передвижения автоматического выключателя, замок PROFALUX","- / -",0,0,333.06,{"$f":"VLOOKUP(B3063,#REF!,3,FALSE)","v":{"$error":"#REF!"}}]
["Arion","Arion","LA1","CPOF902","ARION WL1***-*****-****-S76","Запираемoе оборудованиe","против передвижения автоматического выключателя, замок RONIS","- / -",0,0,333.06,{"$f":"VLOOKUP(B3064,#REF!,3,FALSE)","v":{"$error":"#REF!"}}]
[null,null,null,"Level  5","ARION WL1***-*****-****-Z R8x - Запираемoе оборудованиe против передвижения выдвижного автоматического выключателя в отключенном положении"]
["Arion","Arion","LA1","CPOF903","ARION WL1***-*****-****-R81","Запираемoе оборудованиe","против передвижения автоматического выключателя в отключенном положении, замок CES","- / -",0,0,265.61,{"$f":"VLOOKUP(B3066,#REF!,3,FALSE)","v":{"$error":"#REF!"}}]
["Arion","Arion","LA1","CPOF904","ARION WL1***-*****-****-R85","Запираемoе оборудованиe","против передвижения автоматического выключателя в отключенном положении, замок PROFALUX","- / -",0,0,333.06,{"$f":"VLOOKUP(B3067,#REF!,3,FALSE)","v":{"$error":"#REF!"}}]
["Arion","Arion","LA1","CPOF905","ARION WL1***-*****-****-R86","Запираемoе оборудованиe","против передвижения автоматического выключателя в отключенном положении, замок RONIS","- / -",0,0,333.06,{"$f":"VLOOKUP(B3068,#REF!,3,FALSE)","v":{"$error":"#REF!"}}]
[null,null,null,"Level  4","ARION WL1***-*****-****-Z R10 - Крышки дугогасительных камер"]
["Arion","Arion","LA1","CPOF150","ARION WL1***-*****-****-R10","Крышка дугогасительных камер","3-полюс, размер 1","- / -",0,0,136.78,{"$f":"VLOOKUP(B3070,#REF!,3,FALSE)","v":{"$error":"#REF!"}}]
["Arion","Arion","LA1","CPOF151","ARION WL1***-*****-****-R10","Крышка дугогасительных камер","3-полюс, размер 2","- / -",0,0,162.56,{"$f":"VLOOKUP(B3071,#REF!,3,FALSE)","v":{"$error":"#REF!"}}]
["Arion","Arion","LA1","CPOF152","ARION WL1***-*****-****-R10","Крышка дугогасительных камер","3-полюс, размер 3","- / -",0,0,188.92999999999998,{"$f":"VLOOKUP(B3072,#REF!,3,FALSE)","v":{"$error":"#REF!"}}]
["Arion","Arion","LA1","CPOF153","ARION WL1***-*****-****-R10","Крышка дугогасительных камер","4-полюс, размер 1","- / -",0,0,162.56,{"$f":"VLOOKUP(B3073,#REF!,3,FALSE)","v":{"$error":"#REF!"}}]
["Arion","Arion","LA1","CPOF154","ARION WL1***-*****-****-R10","Крышка дугогасительных камер","4-полюс, размер 2","- / -",0,0,188.92999999999998,{"$f":"VLOOKUP(B3074,#REF!,3,FALSE)","v":{"$error":"#REF!"}}]
["Arion","Arion","LA1","CPOF155","ARION WL1***-*****-****-R10","Крышка дугогасительных камер","4-полюс, размер 3","- / -",0,0,230.6,{"$f":"VLOOKUP(B3075,#REF!,3,FALSE)","v":{"$error":"#REF!"}}]
[null,null,null,"Level  4","ARION WL1***-*****-****-Z R21 - Изоляционные крышки "]
["Arion","Arion","LA1","CPOF156","ARION WL1***-*****-****-R21","Изоляционная крышка","3-полюс, размер 1","- / -",0,0,162.56,{"$f":"VLOOKUP(B3077,#REF!,3,FALSE)","v":{"$error":"#REF!"}}]
["Arion","Arion","LA1","CPOF157","ARION WL1***-*****-****-R21","Изоляционная крышка","3-полюс, размер 2","- / -",0,0,162.56,{"$f":"VLOOKUP(B3078,#REF!,3,FALSE)","v":{"$error":"#REF!"}}]
["Arion","Arion","LA1","CPOF158","ARION WL1***-*****-****-R21","Изоляционная крышка","3-полюс, размер 3","- / -",0,0,317.73,{"$f":"VLOOKUP(B3079,#REF!,3,FALSE)","v":{"$error":"#REF!"}}]
["Arion","Arion","LA1","CPOF159","ARION WL1***-*****-****-R21","Изоляционная крышка","4-полюс, размер 1","- / -",0,0,188.92999999999998,{"$f":"VLOOKUP(B3080,#REF!,3,FALSE)","v":{"$error":"#REF!"}}]
["Arion","Arion","LA1","CPOF160","ARION WL1***-*****-****-R21","Изоляционная крышка","4-полюс, размер 2","- / -",0,0,225.70999999999998,{"$f":"VLOOKUP(B3081,#REF!,3,FALSE)","v":{"$error":"#REF!"}}]
["Arion","Arion","LA1","CPOF161","ARION WL1***-*****-****-R21","Изоляционная крышка","4-полюс, размер 3","- / -",0,0,380.28999999999996,{"$f":"VLOOKUP(B3082,#REF!,3,FALSE)","v":{"$error":"#REF!"}}]
[null,null,null,"Level  4","ARION WL1***-*****-****-Z T40 - Уплотнительные рамы"]
["Arion","Arion","LA1","CPOF136","ARION WL1***-*****-****-T40","Уплотнительная рама","степень защиты IP41","- / -",0,0,116.54,{"$f":"VLOOKUP(B3084,#REF!,3,FALSE)","v":{"$error":"#REF!"}}]
[null,null,null,"Level  3","3WL921x-xxxxx-xxA1 - выдвижные оборудования"]
[null,null,null,"Level  4","3WL921x-xAx**-**A1 - 3-полюс, AC исполнения"]
[null,null,null,"Level  5","3WL921*-xAB**-**A1 - Передние подводы два ряда отверстий"]
["Arion","Arion","LA1","CPOFA19","3WL9211-1AB**-**A1","Выдвижное оборудование","Iu 1000 A, AC, Icu 66 kA, 3-полюс, Передний подвод два ряда отверстий, размер 1","- / -",0,0,888.46,{"$f":"VLOOKUP(B3088,#REF!,3,FALSE)","v":{"$error":"#REF!"}}]
["Arion","Arion","LA1","CPOFA20","3WL9211-2AB**-**A1","Выдвижное оборудование","Iu 1600 A, AC, Icu 66 kA, 3-полюс, Передний подвод два ряда отверстий, размер 1","- / -",0,0,1068.53,{"$f":"VLOOKUP(B3089,#REF!,3,FALSE)","v":{"$error":"#REF!"}}]
["Arion","Arion","LA1","CPOFF72","3WL9211-3AB**-**A1","Выдвижное оборудование","Iu 2000 A, AC, Icu 85 kA, 3-полюс, Передний подвод два ряда отверстий, размер 1","- / -",0,0,1221.71,{"$f":"VLOOKUP(B3090,#REF!,3,FALSE)","v":{"$error":"#REF!"}}]
["Arion","Arion","LA1","CPOFA21","3WL9212-3AB**-**A1","Выдвижное оборудование","Iu 2000 A, AC, Icu 100 kA, 3-полюс, Передний подвод два ряда отверстий, размер 2","- / -",0,0,1242.6299999999999,{"$f":"VLOOKUP(B3091,#REF!,3,FALSE)","v":{"$error":"#REF!"}}]
["Arion","Arion","LA1","CPOFA22","3WL9212-4AB**-**A1","Выдвижное оборудование","Iu 2500 A, AC, Icu 100 kA, 3-полюс, Передний подвод два ряда отверстий, размер 2","- / -",0,0,1566.78,{"$f":"VLOOKUP(B3092,#REF!,3,FALSE)","v":{"$error":"#REF!"}}]
["Arion","Arion","LA1","CPOFA23","3WL9212-5AB**-**A1","Выдвижное оборудование","Iu 3200 A, AC, Icu 100 kA, 3-полюс, Передний подвод два ряда отверстий, размер 2","- / -",0,0,2389.19,{"$f":"VLOOKUP(B3093,#REF!,3,FALSE)","v":{"$error":"#REF!"}}]
["Arion","Arion","LA1","CPOFA24","3WL9213-6AB**-**A1","Выдвижное оборудование","Iu 4000 A, AC, Icu 100 kA, 3-полюс, Передний подвод два ряда отверстий, размер 3","- / -",0,0,3133.59,{"$f":"VLOOKUP(B3094,#REF!,3,FALSE)","v":{"$error":"#REF!"}}]
[null,null,null,"Level  5","3WL921*-xAA**-**A1 - Передние подводы один ряд отверстий"]
["Arion","Arion","LA1","CPOFA13","3WL9211-1AA**-**A1","Выдвижное оборудование","Iu 1000 A, AC, Icu 66 kA, 3-полюс, Передний подвод один ряд отверстий, размер 1","- / -",0,0,888.46,{"$f":"VLOOKUP(B3096,#REF!,3,FALSE)","v":{"$error":"#REF!"}}]
["Arion","Arion","LA1","CPOFA14","3WL9211-2AA**-**A1","Выдвижное оборудование","Iu 1600 A, AC, Icu 66 kA, 3-полюс, Передний подвод один ряд отверстий, размер 1","- / -",0,0,1068.53,{"$f":"VLOOKUP(B3097,#REF!,3,FALSE)","v":{"$error":"#REF!"}}]
["Arion","Arion","LA1","CPOFA15","3WL9212-3AA**-**A1","Выдвижное оборудование","Iu 2000 A, AC, Icu 100 kA, 3-полюс, Передний подвод один ряд отверстий, размер 2","- / -",0,0,1242.6299999999999,{"$f":"VLOOKUP(B3098,#REF!,3,FALSE)","v":{"$error":"#REF!"}}]
["Arion","Arion","LA1","CPOFA16","3WL9212-4AA**-**A1","Выдвижное оборудование","Iu 2500 A, AC, Icu 100 kA, 3-полюс, Передний подвод один ряд отверстий, размер 2","- / -",0,0,1524.75,{"$f":"VLOOKUP(B3099,#REF!,3,FALSE)","v":{"$error":"#REF!"}}]
["Arion","Arion","LA1","CPOFA17","3WL9212-5AA**-**A1","Выдвижное оборудование","Iu 3200 A, AC, Icu 100 kA, 3-полюс, Передний подвод один ряд отверстий, размер 2","- / -",0,0,2389.19,{"$f":"VLOOKUP(B3100,#REF!,3,FALSE)","v":{"$error":"#REF!"}}]
["Arion","Arion","LA1","CPOFA18","3WL9213-6AA**-**A1","Выдвижное оборудование","Iu 4000 A, AC, Icu 100 kA, 3-полюс, Передний подвод один ряд отверстий, размер 3","- / -",0,0,3133.59,{"$f":"VLOOKUP(B3101,#REF!,3,FALSE)","v":{"$error":"#REF!"}}]
[null,null,null,"Level  5","3WL921*-xAC**-**A1 - Задние горизонтальные подводы"]
["Arion","Arion","LA1","CPOFA25","3WL9211-1AC**-**A1","Выдвижное оборудование","Iu 1000 A, AC, Icu 66 kA, 3-полюс, задний горизонтальный подвод, размер 1","- / -",0,0,714.33,{"$f":"VLOOKUP(B3103,#REF!,3,FALSE)","v":{"$error":"#REF!"}}]
["Arion","Arion","LA1","CPOFA26","3WL9211-2AC**-**A1","Выдвижное оборудование","Iu 1600 A, AC, Icu 66 kA, 3-полюс, задний горизонтальный подвод, размер 1","- / -",0,0,888.46,{"$f":"VLOOKUP(B3104,#REF!,3,FALSE)","v":{"$error":"#REF!"}}]
["Arion","Arion","LA1","CPOFF73","3WL9211-3AC**-**A1","Выдвижное оборудование","Iu 2000 A, AC, Icu 85 kA, 3-полюс, задний горизонтальный подвод, размер 1","- / -",0,0,1014.39,{"$f":"VLOOKUP(B3105,#REF!,3,FALSE)","v":{"$error":"#REF!"}}]
["Arion","Arion","LA1","CPOFA27","3WL9212-3AC**-**A1","Выдвижное оборудование","Iu 2000 A, AC, Icu 100 kA, 3-полюс, задний горизонтальный подвод, размер 2","- / -",0,0,1032.51,{"$f":"VLOOKUP(B3106,#REF!,3,FALSE)","v":{"$error":"#REF!"}}]
["Arion","Arion","LA1","CPOFA28","3WL9212-4AC**-**A1","Выдвижное оборудование","Iu 2500 A, AC, Icu 100 kA, 3-полюс, задний горизонтальный подвод, размер 2","- / -",0,0,1308.6500000000001,{"$f":"VLOOKUP(B3107,#REF!,3,FALSE)","v":{"$error":"#REF!"}}]
["Arion","Arion","LA1","CPOFA29","3WL9212-5AC**-**A1","Выдвижное оборудование","Iu 3200 A, AC, Icu 100 kA, 3-полюс, задний горизонтальный подвод, размер 2","- / -",0,0,2047.01,{"$f":"VLOOKUP(B3108,#REF!,3,FALSE)","v":{"$error":"#REF!"}}]
["Arion","Arion","LA1","CPOFF74","3WL9212-5AC**-**C1","Выдвижное оборудование","Iu 3200 A, AC, Icu 130 kA, 3-полюс, задний горизонтальный подвод, размер 2","- / -",0,0,2672.2700000000004,{"$f":"VLOOKUP(B3109,#REF!,3,FALSE)","v":{"$error":"#REF!"}}]
["Arion","Arion","LA1","CPOFA30","3WL9213-6AC**-**A1","Выдвижное оборудование","Iu 4000 A, AC, Icu 100 kA, 3-полюс, задний горизонтальный подвод, размер 3","- / -",0,0,2551.2700000000004,{"$f":"VLOOKUP(B3110,#REF!,3,FALSE)","v":{"$error":"#REF!"}}]
["Arion","Arion","LA1","CPOFA31","3WL9213-7AC**-**A1","Выдвижное оборудование","Iu 5000 A, AC, Icu 100 kA, 3-полюс, задний горизонтальный подвод, размер 3","- / -",0,0,3313.67,{"$f":"VLOOKUP(B3111,#REF!,3,FALSE)","v":{"$error":"#REF!"}}]
[null,null,null,"Level  5","3WL921*-xAE**-**A1 - Задние фланцевые подводы"]
["Arion","Arion","LA1","CPOFA40","3WL9211-1AE**-**A1","Выдвижное оборудование","Iu 1000 A, AC, Icu 66 kA, 3-полюс, задний фланцевый подвод, размер 1","- / -",0,0,714.33,{"$f":"VLOOKUP(B3113,#REF!,3,FALSE)","v":{"$error":"#REF!"}}]
["Arion","Arion","LA1","CPOFA41","3WL9211-2AE**-**A1","Выдвижное оборудование","Iu 1600 A, AC, Icu 66 kA, 3-полюс, задний фланцевый подвод, размер 1","- / -",0,0,888.46,{"$f":"VLOOKUP(B3114,#REF!,3,FALSE)","v":{"$error":"#REF!"}}]
["Arion","Arion","LA1","CPOFF75","3WL9211-3AE**-**A1","Выдвижное оборудование","Iu 2000 A, AC, Icu 85 kA, 3-полюс, задний фланцевый подвод, размер 1","- / -",0,0,1014.39,{"$f":"VLOOKUP(B3115,#REF!,3,FALSE)","v":{"$error":"#REF!"}}]
["Arion","Arion","LA1","CPOFA42","3WL9212-3AE**-**A1","Выдвижное оборудование","Iu 2000 A, AC, Icu 100 kA, 3-полюс, задний фланцевый подвод, размер 2","- / -",0,0,1032.51,{"$f":"VLOOKUP(B3116,#REF!,3,FALSE)","v":{"$error":"#REF!"}}]
["Arion","Arion","LA1","CPOFA43","3WL9212-4AE**-**A1","Выдвижное оборудование","Iu 2500 A, AC, Icu 100 kA, 3-полюс, задний фланцевый подвод, размер 2","- / -",0,0,1308.6500000000001,{"$f":"VLOOKUP(B3117,#REF!,3,FALSE)","v":{"$error":"#REF!"}}]
["Arion","Arion","LA1","CPOFA44","3WL9212-5AE**-**A1","Выдвижное оборудование","Iu 3200 A, AC, Icu 100 kA, 3-полюс, задний фланцевый подвод, размер 2","- / -",0,0,2047.01,{"$f":"VLOOKUP(B3118,#REF!,3,FALSE)","v":{"$error":"#REF!"}}]
["Arion","Arion","LA1","CPOFA45","3WL9213-6AE**-**A1","Выдвижное оборудование","Iu 4000 A, AC, Icu 100 kA, 3-полюс, задний фланцевый подвод, размер 3","- / -",0,0,2551.2700000000004,{"$f":"VLOOKUP(B3119,#REF!,3,FALSE)","v":{"$error":"#REF!"}}]
[null,null,null,"Level  5","3WL921*-xAD**-***1 - Задние вертикальные подводы"]
["Arion","Arion","LA1","CPOFA32","3WL9211-1AD**-**A1","Выдвижное оборудование","Iu 1000 A, AC, Icu 66 kA, 3-полюс, задний вертикальный подвод, размер 1","- / -",0,0,888.46,{"$f":"VLOOKUP(B3121,#REF!,3,FALSE)","v":{"$error":"#REF!"}}]
["Arion","Arion","LA1","CPOFA33","3WL9211-2AD**-**A1","Выдвижное оборудование","Iu 1600 A, AC, Icu 66 kA, 3-полюс, задний вертикальный подвод, размер 1","- / -",0,0,1068.53,{"$f":"VLOOKUP(B3122,#REF!,3,FALSE)","v":{"$error":"#REF!"}}]
["Arion","Arion","LA1","CPOFF76","3WL9211-3AD**-**A1","Выдвижное оборудование","Iu 2000 A, AC, Icu 85 kA, 3-полюс, задний вертикальный подвод, размер 1","- / -",0,0,1221.71,{"$f":"VLOOKUP(B3123,#REF!,3,FALSE)","v":{"$error":"#REF!"}}]
["Arion","Arion","LA1","CPOFA34","3WL9212-3AD**-**A1","Выдвижное оборудование","Iu 2000 A, AC, Icu 100 kA, 3-полюс, задний вертикальный подвод, размер 2","- / -",0,0,1242.6299999999999,{"$f":"VLOOKUP(B3124,#REF!,3,FALSE)","v":{"$error":"#REF!"}}]
["Arion","Arion","LA1","CPOFA35","3WL9212-4AD**-**A1","Выдвижное оборудование","Iu 2500 A, AC, Icu 100 kA, 3-полюс, задний вертикальный подвод, размер 2","- / -",0,0,1524.75,{"$f":"VLOOKUP(B3125,#REF!,3,FALSE)","v":{"$error":"#REF!"}}]
["Arion","Arion","LA1","CPOFA36","3WL9212-5AD**-**A1","Выдвижное оборудование","Iu 3200 A, AC, Icu 100 kA, 3-полюс, задний вертикальный подвод, размер 2","- / -",0,0,2341.15,{"$f":"VLOOKUP(B3126,#REF!,3,FALSE)","v":{"$error":"#REF!"}}]
["Arion","Arion","LA1","CPOFF77","3WL9212-5AD**-**C1","Выдвижное оборудование","Iu 3200 A, AC, Icu 130 kA, 3-полюс, задний вертикальный подвод, размер 2","- / -",0,0,3053.7900000000004,{"$f":"VLOOKUP(B3127,#REF!,3,FALSE)","v":{"$error":"#REF!"}}]
["Arion","Arion","LA1","CPOFF86","3WL9212-6AD**-**A1","Выдвижное оборудование","Iu 4000 A, AC, Icu 100 kA, 3-полюс, задний вертикальный подвод, размер 2","- / -",0,0,2734.8,{"$f":"VLOOKUP(B3128,#REF!,3,FALSE)","v":{"$error":"#REF!"}}]
["Arion","Arion","LA1","CPOFA37","3WL9213-6AD**-**A1","Выдвижное оборудование","Iu 4000 A, AC, Icu 100 kA, 3-полюс, задний вертикальный подвод, размер 3","- / -",0,0,3211.6000000000004,{"$f":"VLOOKUP(B3129,#REF!,3,FALSE)","v":{"$error":"#REF!"}}]
["Arion","Arion","LA1","CPOFA38","3WL9213-7AD**-**A1","Выдвижное оборудование","Iu 5000 A, AC, Icu 100 kA, 3-полюс, задний вертикальный подвод, размер 3","- / -",0,0,4022.0200000000004,{"$f":"VLOOKUP(B3130,#REF!,3,FALSE)","v":{"$error":"#REF!"}}]
["Arion","Arion","LA1","CPOFA39","3WL9213-8AD**-**A1","Выдвижное оборудование","Iu 6300 A, AC, Icu 100 kA, 3-полюс, задний вертикальный подвод, размер 3","- / -",0,0,4772.4000000000005,{"$f":"VLOOKUP(B3131,#REF!,3,FALSE)","v":{"$error":"#REF!"}}]
[null,null,null,"Level  4","3WL921x-xBx**-**A1 - 4-полюс, AC исполнения"]
[null,null,null,"Level  5","3WL921*-xBB**-**A1 - Передние подводы два ряда отверстий"]
["Arion","Arion","LA1","CPOFA52","3WL9211-1BB**-**A1","Выдвижное оборудование","Iu 1000 A, AC, Icu 66 kA, 4-полюс, Передний подвод два ряда отверстий, размер 1","- / -",0,0,1128.57,{"$f":"VLOOKUP(B3134,#REF!,3,FALSE)","v":{"$error":"#REF!"}}]
["Arion","Arion","LA1","CPOFA53","3WL9211-2BB**-**A1","Выдвижное оборудование","Iu 1600 A, AC, Icu 66 kA, 4-полюс, Передний подвод два ряда отверстий, размер 1","- / -",0,0,1302.6600000000001,{"$f":"VLOOKUP(B3135,#REF!,3,FALSE)","v":{"$error":"#REF!"}}]
["Arion","Arion","LA1","CPOFF78","3WL9211-3BB**-**A1","Выдвижное оборудование","Iu 2000 A, AC, Icu 85 kA, 4-полюс, Передний подвод два ряда отверстий, размер 1","- / -",0,0,1543.2,{"$f":"VLOOKUP(B3136,#REF!,3,FALSE)","v":{"$error":"#REF!"}}]
["Arion","Arion","LA1","CPOFA54","3WL9212-3BB**-**A1","Выдвижное оборудование","Iu 2000 A, AC, Icu 100 kA, 4-полюс, Передний подвод два ряда отверстий, размер 2","- / -",0,0,1620.81,{"$f":"VLOOKUP(B3137,#REF!,3,FALSE)","v":{"$error":"#REF!"}}]
["Arion","Arion","LA1","CPOFA55","3WL9212-4BB**-**A1","Выдвижное оборудование","Iu 2500 A, AC, Icu 100 kA, 4-полюс, Передний подвод два ряда отверстий, размер 2","- / -",0,0,1950.98,{"$f":"VLOOKUP(B3138,#REF!,3,FALSE)","v":{"$error":"#REF!"}}]
["Arion","Arion","LA1","CPOFA56","3WL9212-5BB**-**A1","Выдвижное оборудование","Iu 3200 A, AC, Icu 100 kA, 4-полюс, Передний подвод два ряда отверстий, размер 2","- / -",0,0,2941.5,{"$f":"VLOOKUP(B3139,#REF!,3,FALSE)","v":{"$error":"#REF!"}}]
["Arion","Arion","LA1","CPOFA57","3WL9213-6BB**-**A1","Выдвижное оборудование","Iu 4000 A, AC, Icu 100 kA, 4-полюс, Передний подвод два ряда отверстий, размер 3","- / -",0,0,3925.9500000000003,{"$f":"VLOOKUP(B3140,#REF!,3,FALSE)","v":{"$error":"#REF!"}}]
[null,null,null,"Level  5","3WL921*-xBA**-**A1 - Передние подводы один ряд отверстий"]
["Arion","Arion","LA1","CPOFA46","3WL9211-1BA**-**A1","Выдвижное оборудование","Iu 1000 A, AC, Icu 66 kA, 4-полюс, Передний подвод один ряд отверстий, размер 1","- / -",0,0,1128.57,{"$f":"VLOOKUP(B3142,#REF!,3,FALSE)","v":{"$error":"#REF!"}}]
["Arion","Arion","LA1","CPOFA47","3WL9211-2BA**-**A1","Выдвижное оборудование","Iu 1600 A, AC, Icu 66 kA, 4-полюс, Передний подвод один ряд отверстий, размер 1","- / -",0,0,1302.6600000000001,{"$f":"VLOOKUP(B3143,#REF!,3,FALSE)","v":{"$error":"#REF!"}}]
["Arion","Arion","LA1","CPOFA48","3WL9212-3BA**-**A1","Выдвижное оборудование","Iu 2000 A, AC, Icu 100 kA, 4-полюс, Передний подвод один ряд отверстий, размер 2","- / -",0,0,1620.81,{"$f":"VLOOKUP(B3144,#REF!,3,FALSE)","v":{"$error":"#REF!"}}]
["Arion","Arion","LA1","CPOFA49","3WL9212-4BA**-**A1","Выдвижное оборудование","Iu 2500 A, AC, Icu 100 kA, 4-полюс, Передний подвод один ряд отверстий, размер 2","- / -",0,0,1950.98,{"$f":"VLOOKUP(B3145,#REF!,3,FALSE)","v":{"$error":"#REF!"}}]
["Arion","Arion","LA1","CPOFA50","3WL9212-5BA**-**A1","Выдвижное оборудование","Iu 3200 A, AC, Icu 100 kA, 4-полюс, Передний подвод один ряд отверстий, размер 2","- / -",0,0,3013.5200000000004,{"$f":"VLOOKUP(B3146,#REF!,3,FALSE)","v":{"$error":"#REF!"}}]
["Arion","Arion","LA1","CPOFA51","3WL9213-6BA**-**A1","Выдвижное оборудование","Iu 4000 A, AC, Icu 100 kA, 4-полюс, Передний подвод один ряд отверстий, размер 3","- / -",0,0,3925.9500000000003,{"$f":"VLOOKUP(B3147,#REF!,3,FALSE)","v":{"$error":"#REF!"}}]
[null,null,null,"Level  5","3WL921*-xBC**-***1 - Задние горизонтальные подводы"]
["Arion","Arion","LA1","CPOFA58","3WL9211-1BC**-**A1","Выдвижное оборудование","Iu 1000 A, AC, Icu 66 kA, 4-полюс, задний горизонтальный подвод, размер 1","- / -",0,0,888.46,{"$f":"VLOOKUP(B3149,#REF!,3,FALSE)","v":{"$error":"#REF!"}}]
["Arion","Arion","LA1","CPOFA59","3WL9211-2BC**-**A1","Выдвижное оборудование","Iu 1600 A, AC, Icu 66 kA, 4-полюс, задний горизонтальный подвод, размер 1","- / -",0,0,1056.54,{"$f":"VLOOKUP(B3150,#REF!,3,FALSE)","v":{"$error":"#REF!"}}]
["Arion","Arion","LA1","CPOFF79","3WL9211-3BC**-**A1","Выдвижное оборудование","Iu 2000 A, AC, Icu 85 kA, 4-полюс, задний горизонтальный подвод, размер 1","- / -",0,0,1254.51,{"$f":"VLOOKUP(B3151,#REF!,3,FALSE)","v":{"$error":"#REF!"}}]
["Arion","Arion","LA1","CPOFA60","3WL9212-3BC**-**A1","Выдвижное оборудование","Iu 2000 A, AC, Icu 100 kA, 4-полюс, задний горизонтальный подвод, размер 2","- / -",0,0,1326.67,{"$f":"VLOOKUP(B3152,#REF!,3,FALSE)","v":{"$error":"#REF!"}}]
["Arion","Arion","LA1","CPOFA61","3WL9212-4BC**-**A1","Выдвижное оборудование","Iu 2500 A, AC, Icu 100 kA, 4-полюс, задний горизонтальный подвод, размер 2","- / -",0,0,1656.84,{"$f":"VLOOKUP(B3153,#REF!,3,FALSE)","v":{"$error":"#REF!"}}]
["Arion","Arion","LA1","CPOFA62","3WL9212-5BC**-**A1","Выдвижное оборудование","Iu 3200 A, AC, Icu 100 kA, 4-полюс, задний горизонтальный подвод, размер 2","- / -",0,0,2551.2700000000004,{"$f":"VLOOKUP(B3154,#REF!,3,FALSE)","v":{"$error":"#REF!"}}]
["Arion","Arion","LA1","CPOFF80","3WL9212-5BC**-**C1","Выдвижное оборудование","Iu 3200 A, AC, Icu 130 kA, 4-полюс, задний горизонтальный подвод, размер 2","- / -",0,0,3342.9,{"$f":"VLOOKUP(B3155,#REF!,3,FALSE)","v":{"$error":"#REF!"}}]
["Arion","Arion","LA1","CPOFA63","3WL9213-6BC**-**A1","Выдвижное оборудование","Iu 4000 A, AC, Icu 100 kA, 4-полюс, задний горизонтальный подвод, размер 3","- / -",0,0,3151.5600000000004,{"$f":"VLOOKUP(B3156,#REF!,3,FALSE)","v":{"$error":"#REF!"}}]
["Arion","Arion","LA1","CPOFA64","3WL9213-7BC**-**A1","Выдвижное оборудование","Iu 5000 A, AC, Icu 100 kA, 4-полюс, задний горизонтальный подвод, размер 3","- / -",0,0,4250.1400000000003,{"$f":"VLOOKUP(B3157,#REF!,3,FALSE)","v":{"$error":"#REF!"}}]
[null,null,null,"Level  5","3WL921*-xBE**-**A1 - Задние фланцевые подводы"]
["Arion","Arion","LA1","CPOFA73","3WL9211-1BE**-**A1","Выдвижное оборудование","Iu 1000 A, AC, Icu 66 kA, 4-полюс, задний фланцевый подвод, размер 1","- / -",0,0,888.46,{"$f":"VLOOKUP(B3159,#REF!,3,FALSE)","v":{"$error":"#REF!"}}]
["Arion","Arion","LA1","CPOFA74","3WL9211-2BE**-**A1","Выдвижное оборудование","Iu 1600 A, AC, Icu 66 kA, 4-полюс, задний фланцевый подвод, размер 1","- / -",0,0,1056.54,{"$f":"VLOOKUP(B3160,#REF!,3,FALSE)","v":{"$error":"#REF!"}}]
["Arion","Arion","LA1","CPOFF81","3WL9211-3BE**-**A1","Выдвижное оборудование","Iu 2000 A, AC, Icu 85 kA, 4-полюс, задний фланцевый подвод, размер 1","- / -",0,0,1254.51,{"$f":"VLOOKUP(B3161,#REF!,3,FALSE)","v":{"$error":"#REF!"}}]
["Arion","Arion","LA1","CPOFA75","3WL9212-3BE**-**A1","Выдвижное оборудование","Iu 2000 A, AC, Icu 100 kA, 4-полюс, задний фланцевый подвод, размер 2","- / -",0,0,1326.67,{"$f":"VLOOKUP(B3162,#REF!,3,FALSE)","v":{"$error":"#REF!"}}]
["Arion","Arion","LA1","CPOFA76","3WL9212-4BE**-**A1","Выдвижное оборудование","Iu 2500 A, AC, Icu 100 kA, 4-полюс, задний фланцевый подвод, размер 2","- / -",0,0,1656.84,{"$f":"VLOOKUP(B3163,#REF!,3,FALSE)","v":{"$error":"#REF!"}}]
["Arion","Arion","LA1","CPOFA77","3WL9212-5BE**-**A1","Выдвижное оборудование","Iu 3200 A, AC, Icu 100 kA, 4-полюс, задний фланцевый подвод, размер 2","- / -",0,0,2551.2700000000004,{"$f":"VLOOKUP(B3164,#REF!,3,FALSE)","v":{"$error":"#REF!"}}]
["Arion","Arion","LA1","CPOFA78","3WL9213-6BE**-**A1","Выдвижное оборудование","Iu 4000 A, AC, Icu 100 kA, 4-полюс, задний фланцевый подвод, размер 3","- / -",0,0,3151.5600000000004,{"$f":"VLOOKUP(B3165,#REF!,3,FALSE)","v":{"$error":"#REF!"}}]
[null,null,null,"Level  5","3WL921*-xBD**-***1 - Задние вертикальные подводы"]
["Arion","Arion","LA1","CPOFA65","3WL9211-1BD**-**A1","Выдвижное оборудование","Iu 1000 A, AC, Icu 66 kA, 4-полюс, задний вертикальный подвод, размер 1","- / -",0,0,1128.57,{"$f":"VLOOKUP(B3167,#REF!,3,FALSE)","v":{"$error":"#REF!"}}]
["Arion","Arion","LA1","CPOFA66","3WL9211-2BD**-**A1","Выдвижное оборудование","Iu 1600 A, AC, Icu 66 kA, 4-полюс, задний вертикальный подвод, размер 1","- / -",0,0,1302.6600000000001,{"$f":"VLOOKUP(B3168,#REF!,3,FALSE)","v":{"$error":"#REF!"}}]
["Arion","Arion","LA1","CPOFF82","3WL9211-3BD**-**A1","Выдвижное оборудование","Iu 2000 A, AC, Icu 85 kA, 4-полюс, задний вертикальный подвод, размер 1","- / -",0,0,1543.2,{"$f":"VLOOKUP(B3169,#REF!,3,FALSE)","v":{"$error":"#REF!"}}]
["Arion","Arion","LA1","CPOFA67","3WL9212-3BD**-**A1","Выдвижное оборудование","Iu 2000 A, AC, Icu 100 kA, 4-полюс, задний вертикальный подвод, размер 2","- / -",0,0,1620.81,{"$f":"VLOOKUP(B3170,#REF!,3,FALSE)","v":{"$error":"#REF!"}}]
["Arion","Arion","LA1","CPOFA68","3WL9212-4BD**-**A1","Выдвижное оборудование","Iu 2500 A, AC, Icu 100 kA, 4-полюс, задний вертикальный подвод, размер 2","- / -",0,0,1950.98,{"$f":"VLOOKUP(B3171,#REF!,3,FALSE)","v":{"$error":"#REF!"}}]
["Arion","Arion","LA1","CPOFA69","3WL9212-5BD**-**A1","Выдвижное оборудование","Iu 3200 A, AC, Icu 100 kA, 4-полюс, задний вертикальный подвод, размер 2","- / -",0,0,3013.5200000000004,{"$f":"VLOOKUP(B3172,#REF!,3,FALSE)","v":{"$error":"#REF!"}}]
["Arion","Arion","LA1","CPOFF83","3WL9212-5BD**-**C1","Выдвижное оборудование","Iu 3200 A, AC, Icu 130 kA, 4-полюс, задний вертикальный подвод, размер 2","- / -",0,0,3964.5400000000004,{"$f":"VLOOKUP(B3173,#REF!,3,FALSE)","v":{"$error":"#REF!"}}]
["Arion","Arion","LA1","CPOFF87","3WL9212-6BD**-**A1","Выдвижное оборудование","Iu 4000 A, AC, Icu 100 kA, 4-полюс, задний вертикальный подвод, размер 2","- / -",0,0,3533.5400000000004,{"$f":"VLOOKUP(B3174,#REF!,3,FALSE)","v":{"$error":"#REF!"}}]
["Arion","Arion","LA1","CPOFA70","3WL9213-6BD**-**A1","Выдвижное оборудование","Iu 4000 A, AC, Icu 100 kA, 4-полюс, задний вертикальный подвод, размер 3","- / -",0,0,3925.9500000000003,{"$f":"VLOOKUP(B3175,#REF!,3,FALSE)","v":{"$error":"#REF!"}}]
["Arion","Arion","LA1","CPOFA71","3WL9213-7BD**-**A1","Выдвижное оборудование","Iu 5000 A, AC, Icu 100 kA, 4-полюс, задний вертикальный подвод, размер 3","- / -",0,0,4922.49,{"$f":"VLOOKUP(B3176,#REF!,3,FALSE)","v":{"$error":"#REF!"}}]
["Arion","Arion","LA1","CPOFA72","3WL9213-8BD**-**A1","Выдвижное оборудование","Iu 6300 A, AC, Icu 100 kA, 4-полюс, задний вертикальный подвод, размер 3","- / -",0,0,5066.54,{"$f":"VLOOKUP(B3177,#REF!,3,FALSE)","v":{"$error":"#REF!"}}]
[null,null,null,"Level  4","3WL921x-xDx**-**A1 - 3-полюс, DC исполнения"]
[null,null,null,"Level  5","3WL9212-xDB**-**A1 - Передние подводы два ряда отверстий"]
["Arion","Arion","LA1","CPOFE56","3WL9212-3DB**-**A1","Выдвижное оборудование","Iu 2000 A, размер 2, 3-полюс, Передний подвод два ряда отверстий","- / -",0,0,1476.73,{"$f":"VLOOKUP(B3180,#REF!,3,FALSE)","v":{"$error":"#REF!"}}]
[null,null,null,"Level  5","3WL9212-xDA**-**A1 - Передние подводы один ряд отверстий"]
["Arion","Arion","LA1","CPOFE55","3WL9212-3DA**-**A1","Выдвижное оборудование","Iu 2000 A, размер 2, 3-полюс, Передний подвод один ряд отверстий","- / -",0,0,1476.73,{"$f":"VLOOKUP(B3182,#REF!,3,FALSE)","v":{"$error":"#REF!"}}]
[null,null,null,"Level  5","3WL9212-xDC**-**A1 - Задние горизонтальные подводы"]
["Arion","Arion","LA1","CPOFE57","3WL9212-3DC**-**A1","Выдвижное оборудование","Iu 2000 A, размер 2, 3-полюс, задний горизонтальный подвод","- / -",0,0,1248.67,{"$f":"VLOOKUP(B3184,#REF!,3,FALSE)","v":{"$error":"#REF!"}}]
["Arion","Arion","LA1","CPOFE58","3WL9212-6DC**-**A1","Выдвижное оборудование","Iu 4000 A, размер 2, 3-полюс, задний горизонтальный подвод","- / -",0,0,2521.2800000000002,{"$f":"VLOOKUP(B3185,#REF!,3,FALSE)","v":{"$error":"#REF!"}}]
[null,null,null,"Level  5","3WL9212-xDE**-**A1 - Задние фланцевые подводы"]
["Arion","Arion","LA1","CPOFB61","3WL9212-3DE**-**A1","Выдвижное оборудование","Iu 2000 A, размер 2, 3-полюс, задний фланцевый подвод","- / -",0,0,1512.76,{"$f":"VLOOKUP(B3187,#REF!,3,FALSE)","v":{"$error":"#REF!"}}]
["Arion","Arion","LA1","CPOFB62","3WL9212-6DE**-**A1","Выдвижное оборудование","Iu 4000 A, размер 2, 3-полюс, задний фланцевый подвод","- / -",0,0,3169.5600000000004,{"$f":"VLOOKUP(B3188,#REF!,3,FALSE)","v":{"$error":"#REF!"}}]
[null,null,null,"Level  5","3WL9212-xDD**-**A1 - Задние вертикальные подводы"]
["Arion","Arion","LA1","CPOFE59","3WL9212-3DD**-**A1","Выдвижное оборудование","Iu 2000 A, размер 2, 3-полюс, задний вертикальный подвод","- / -",0,0,1476.73,{"$f":"VLOOKUP(B3190,#REF!,3,FALSE)","v":{"$error":"#REF!"}}]
["Arion","Arion","LA1","CPOFE60","3WL9212-6DD**-**A1","Выдвижное оборудование","Iu 4000 A, размер 2, 3-полюс, задний вертикальный подвод","- / -",0,0,3169.5600000000004,{"$f":"VLOOKUP(B3191,#REF!,3,FALSE)","v":{"$error":"#REF!"}}]
[null,null,null,"Level  4","3WL921x-xEx**-**A1 - 4-полюс, DC исполнения"]
[null,null,null,"Level  5","3WL9212-xEB**-**A1 - Передние подводы два ряда отверстий"]
["Arion","Arion","LA1","CPOFB64","3WL9212-3EB**-**A1","Выдвижное оборудование","Iu 2000 A, размер 2, 4-полюс, Передний подвод два ряда отверстий","- / -",0,0,1908.97,{"$f":"VLOOKUP(B3194,#REF!,3,FALSE)","v":{"$error":"#REF!"}}]
[null,null,null,"Level  5","3WL9212-xEA**-**A1 - Передние подводы один ряд отверстий"]
["Arion","Arion","LA1","CPOFB63","3WL9212-3EA**-**A1","Выдвижное оборудование","Iu 2000 A, размер 2, 4-полюс, Передний подвод один ряд отверстий","- / -",0,0,1908.97,{"$f":"VLOOKUP(B3196,#REF!,3,FALSE)","v":{"$error":"#REF!"}}]
[null,null,null,"Level  5","3WL9212-xEC**-**A1 - Задние горизонтальные подводы"]
["Arion","Arion","LA1","CPOFB65","3WL9212-3EC**-**A1","Выдвижное оборудование","Iu 2000 A, размер 2, 4-полюс, задний горизонтальный подвод","- / -",0,0,1554.79,{"$f":"VLOOKUP(B3198,#REF!,3,FALSE)","v":{"$error":"#REF!"}}]
["Arion","Arion","LA1","CPOFB66","3WL9212-6EC**-**A1","Выдвижное оборудование","Iu 4000 A, размер 2, 4-полюс, задний горизонтальный подвод","- / -",0,0,3109.5800000000004,{"$f":"VLOOKUP(B3199,#REF!,3,FALSE)","v":{"$error":"#REF!"}}]
[null,null,null,"Level  5","3WL9212-xEE**-**A1 - Задние фланцевые подводы"]
["Arion","Arion","LA1","CPOFB69","3WL9212-3EE**-**A1","Выдвижное оборудование","Iu 2000 A, размер 2, 4-полюс, задний фланцевый подвод","- / -",0,0,1908.97,{"$f":"VLOOKUP(B3201,#REF!,3,FALSE)","v":{"$error":"#REF!"}}]
["Arion","Arion","LA1","CPOFB70","3WL9212-6EE**-**A1","Выдвижное оборудование","Iu 4000 A, размер 2, 4-полюс, задний фланцевый подвод","- / -",0,0,3973.9700000000003,{"$f":"VLOOKUP(B3202,#REF!,3,FALSE)","v":{"$error":"#REF!"}}]
[null,null,null,"Level  5","3WL9212-xED**-**A1 - Задние вертикальные подводы"]
["Arion","Arion","LA1","CPOFB67","3WL9212-3ED**-**A1","Выдвижное оборудование","Iu 2000 A, размер 2, 4-полюс, задний вертикальный подвод","- / -",0,0,1908.97,{"$f":"VLOOKUP(B3204,#REF!,3,FALSE)","v":{"$error":"#REF!"}}]
["Arion","Arion","LA1","CPOFB68","3WL9212-6ED**-**A1","Выдвижное оборудование","Iu 4000 A, размер 2, 4-полюс, задний вертикальный подвод","- / -",0,0,3973.9700000000003,{"$f":"VLOOKUP(B3205,#REF!,3,FALSE)","v":{"$error":"#REF!"}}]
[null,null,null,"Level  4","3WL****-***x*-**** - Блоки зажимов вспомогательных цепей"]
["Arion","Arion","LA1","CPOFA79","3WL****-***0*-****","Блок зажимов","количество штук 0","- / -",0,0,0,{"$f":"VLOOKUP(B3207,#REF!,3,FALSE)","v":{"$error":"#REF!"}}]
["Arion","Arion","LA1","CPOFA80","3WL****-***1*-****","Блок зажимов","количество штук 1","- / -",0,0,25.75,{"$f":"VLOOKUP(B3208,#REF!,3,FALSE)","v":{"$error":"#REF!"}}]
["Arion","Arion","LA1","CPOFA81","3WL****-***2*-****","Блок зажимов","количество штук 2","- / -",0,0,51.419999999999995,{"$f":"VLOOKUP(B3209,#REF!,3,FALSE)","v":{"$error":"#REF!"}}]
["Arion","Arion","LA1","CPOFA82","3WL****-***3*-****","Блок зажимов","количество штук 3","- / -",0,0,76.660000000000011,{"$f":"VLOOKUP(B3210,#REF!,3,FALSE)","v":{"$error":"#REF!"}}]
["Arion","Arion","LA1","CPOFA83","3WL****-***4*-****","Блок зажимов","количество штук 4","- / -",0,0,103.68,{"$f":"VLOOKUP(B3211,#REF!,3,FALSE)","v":{"$error":"#REF!"}}]
[null,null,null,"Level  4","3WL****-****x-**** - Тип блоков зажимов"]
["Arion","Arion","LA1","CPOFA84","3WL****-****0-****","Блок зажимов","без блока зажимов","- / -",0,0,0,{"$f":"VLOOKUP(B3213,#REF!,3,FALSE)","v":{"$error":"#REF!"}}]
["Arion","Arion","LA1","CPOFA85","3WL****-****1-****","Блок зажимов","винтовые зажимы","- / -",0,0,42.8,{"$f":"VLOOKUP(B3214,#REF!,3,FALSE)","v":{"$error":"#REF!"}}]
["Arion","Arion","LA1","CPOFA86","3WL****-****2-****","Блок зажимов","пружинные зажимы","- / -",0,0,55.66,{"$f":"VLOOKUP(B3215,#REF!,3,FALSE)","v":{"$error":"#REF!"}}]
[null,null,null,"Level  4","3WL****-*****-x*** - Cигнализации положения"]
["Arion","Arion","LA1","CPOFA87","3WL****-*****-0***","Выключатель","без выключателей","- / -",0,0,0,{"$f":"VLOOKUP(B3217,#REF!,3,FALSE)","v":{"$error":"#REF!"}}]
["Arion","Arion","LA1","CPOFA88","3WL****-*****-1***","Выключатель","для сигнализации положения 3x CO","- / -",0,0,103.68,{"$f":"VLOOKUP(B3218,#REF!,3,FALSE)","v":{"$error":"#REF!"}}]
["Arion","Arion","LA1","CPOFA89","3WL****-*****-2***","Выключатель","для сигнализации положения 6x CO","- / -",0,0,180.95,{"$f":"VLOOKUP(B3219,#REF!,3,FALSE)","v":{"$error":"#REF!"}}]
[null,null,null,"Level  4","3WL****-*****-*x** - Изоляционные крышки "]
["Arion","Arion","LA1","CPOFA90","3WL****-*****-*A**","Изоляционная крышка","без изоляционной крышки","- / -",0,0,0,{"$f":"VLOOKUP(B3221,#REF!,3,FALSE)","v":{"$error":"#REF!"}}]
["Arion","Arion","LA1","CPOFA91","3WL****-*****-*B**","Изоляционная крышка","с изоляционной крышкой, 3-полюс, размер 1","- / -",0,0,162.56,{"$f":"VLOOKUP(B3222,#REF!,3,FALSE)","v":{"$error":"#REF!"}}]
["Arion","Arion","LA1","CPOFA92","3WL****-*****-*B**","Изоляционная крышка","с изоляционной крышкой, 3-полюс, размер 2","- / -",0,0,196.28,{"$f":"VLOOKUP(B3223,#REF!,3,FALSE)","v":{"$error":"#REF!"}}]
["Arion","Arion","LA1","CPOFA93","3WL****-*****-*B**","Изоляционная крышка","с изоляционной крышкой, 3-полюс, размер 3","- / -",0,0,325.08999999999997,{"$f":"VLOOKUP(B3224,#REF!,3,FALSE)","v":{"$error":"#REF!"}}]
["Arion","Arion","LA1","CPOFB09","3WL****-*****-*B**","Изоляционная крышка","с изоляционной крышкой, 4-полюс, размер 1","- / -",0,0,188.92999999999998,{"$f":"VLOOKUP(B3225,#REF!,3,FALSE)","v":{"$error":"#REF!"}}]
["Arion","Arion","LA1","CPOFB10","3WL****-*****-*B**","Изоляционная крышка","с изоляционной крышкой, 4-полюс, размер 2","- / -",0,0,230.6,{"$f":"VLOOKUP(B3226,#REF!,3,FALSE)","v":{"$error":"#REF!"}}]
["Arion","Arion","LA1","CPOFB11","3WL****-*****-*B**","Изоляционная крышка","с изоляционной крышкой, 4-полюс, размер 3","- / -",0,0,377.2,{"$f":"VLOOKUP(B3227,#REF!,3,FALSE)","v":{"$error":"#REF!"}}]
[null,null,null,"Level  4","3WL921*-*****-**A1-Z A05 - Номинальное рабочее напряжение 1 000 V"]
["Arion","Arion","LA1","CPOFB98","3WL****-*****-*A05","Номинальное рабочее напряжение 1 000 V","размер 1, 3-полюс, 4-полюс","- / -",0,0,85.28,{"$f":"VLOOKUP(B3229,#REF!,3,FALSE)","v":{"$error":"#REF!"}}]
["Arion","Arion","LA1","CPOFA95","3WL****-*****-*A05","Номинальное рабочее напряжение 1 000 V","размер 2, 3-полюс","- / -",0,0,85.28,{"$f":"VLOOKUP(B3230,#REF!,3,FALSE)","v":{"$error":"#REF!"}}]
["Arion","Arion","LA1","CPOFA96","3WL****-*****-*A05","Номинальное рабочее напряжение 1 000 V","размер 3, 3-полюс, 4-полюс, размер 2, 4-полюс","- / -",0,0,170.53,{"$f":"VLOOKUP(B3231,#REF!,3,FALSE)","v":{"$error":"#REF!"}}]
[null,null,null,"Level  3","3WL9111-xxxxx-xxxx - Принадлежности - поставляемые отдельно"]
[null,null,null,"Level  4","3WL9111-0AAxx-0AA0 - Модули номинального тока"]
["Arion","Arion","LA1","OEZ:34755","3WL9111-0AA51-0AA0","Модуль номинального тока","In 250 A, размер 1, 2","1 / -",1.2E-2,0,162.89999999999998,{"$f":"VLOOKUP(B3234,#REF!,3,FALSE)","v":{"$error":"#REF!"}}]
["Arion","Arion","LA1","OEZ:34756","3WL9111-0AA52-0AA0","Модуль номинального тока","In 315 A, размер 1, 2","1 / -",1.2E-2,0,162.89999999999998,{"$f":"VLOOKUP(B3235,#REF!,3,FALSE)","v":{"$error":"#REF!"}}]
["Arion","Arion","LA1","OEZ:34757","3WL9111-0AA53-0AA0","Модуль номинального тока","In 400 A, размер 1, 2","1 / -",1.2E-2,0,162.89999999999998,{"$f":"VLOOKUP(B3236,#REF!,3,FALSE)","v":{"$error":"#REF!"}}]
["Arion","Arion","LA1","OEZ:34758","3WL9111-0AA54-0AA0","Модуль номинального тока","In 500 A, размер 1, 2","1 / -",1.2E-2,0,162.89999999999998,{"$f":"VLOOKUP(B3237,#REF!,3,FALSE)","v":{"$error":"#REF!"}}]
["Arion","Arion","LA1","OEZ:34759","3WL9111-0AA55-0AA0","Модуль номинального тока","In 630 A, размер 1, 2","1 / -",1.2E-2,0,162.89999999999998,{"$f":"VLOOKUP(B3238,#REF!,3,FALSE)","v":{"$error":"#REF!"}}]
["Arion","Arion","LA1","OEZ:34628","3WL9111-0AA56-0AA0","Модуль номинального тока","In 800 A, размер 1, 2","1 / -",1.2E-2,0,162.89999999999998,{"$f":"VLOOKUP(B3239,#REF!,3,FALSE)","v":{"$error":"#REF!"}}]
["Arion","Arion","LA1","OEZ:34760","3WL9111-0AA57-0AA0","Модуль номинального тока","In 1000 A, размер 1, 2","1 / -",1.2E-2,0,162.89999999999998,{"$f":"VLOOKUP(B3240,#REF!,3,FALSE)","v":{"$error":"#REF!"}}]
["Arion","Arion","LA1","OEZ:34761","3WL9111-0AA58-0AA0","Модуль номинального тока","In 1250 A, размер 1, 2, 3","1 / -",1.2E-2,0,162.89999999999998,{"$f":"VLOOKUP(B3241,#REF!,3,FALSE)","v":{"$error":"#REF!"}}]
["Arion","Arion","LA1","OEZ:34762","3WL9111-0AA61-0AA0","Модуль номинального тока","In 1600 A, размер 1, 2, 3","1 / -",1.2E-2,0,162.89999999999998,{"$f":"VLOOKUP(B3242,#REF!,3,FALSE)","v":{"$error":"#REF!"}}]
["Arion","Arion","LA1","OEZ:34763","3WL9111-0AA62-0AA0","Модуль номинального тока","In 2000 A, размер 2, 3","1 / -",1.2E-2,0,162.89999999999998,{"$f":"VLOOKUP(B3243,#REF!,3,FALSE)","v":{"$error":"#REF!"}}]
["Arion","Arion","LA1","OEZ:34764","3WL9111-0AA63-0AA0","Модуль номинального тока","In 2500 A, размер 2, 3","1 / -",1.2E-2,0,162.89999999999998,{"$f":"VLOOKUP(B3244,#REF!,3,FALSE)","v":{"$error":"#REF!"}}]
["Arion","Arion","LA1","OEZ:34765","3WL9111-0AA64-0AA0","Модуль номинального тока","In 3200 A, размер 2, 3","1 / -",1.2E-2,0,162.89999999999998,{"$f":"VLOOKUP(B3245,#REF!,3,FALSE)","v":{"$error":"#REF!"}}]
["Arion","Arion","LA1","OEZ:34766","3WL9111-0AA65-0AA0","Модуль номинального тока","In 4000 A, размер 2, 3","1 / -",1.2E-2,0,162.89999999999998,{"$f":"VLOOKUP(B3246,#REF!,3,FALSE)","v":{"$error":"#REF!"}}]
["Arion","Arion","LA1","OEZ:34767","3WL9111-0AA66-0AA0","Модуль номинального тока","In 5000 A, размер 3","1 / -",1.2E-2,0,162.89999999999998,{"$f":"VLOOKUP(B3247,#REF!,3,FALSE)","v":{"$error":"#REF!"}}]
["Arion","Arion","LA1","OEZ:34768","3WL9111-0AA67-0AA0","Модуль номинального тока","In 6300 A, размер 3","1 / -",1.2E-2,0,162.89999999999998,{"$f":"VLOOKUP(B3248,#REF!,3,FALSE)","v":{"$error":"#REF!"}}]
[null,null,null,"Level  4","3WL9111-0Axxx-0AA0 - Соединительные зажимы для стационарного исполнения"]
[null,null,null,"Level  5","3WL9111-0ALxx-0AA0 - Передние подводы"]
["Arion","Arion","LA1","OEZ:34739","3WL9111-0AL01-0AA0","Присоединительный комплект","In 1000 A, размер 1, Передний подвод один ряд отверстий - верхний зажим, стационарное исполнение, 1 шт.","1 / -",1.2649999999999999,0,39.26,{"$f":"VLOOKUP(B3251,#REF!,3,FALSE)","v":{"$error":"#REF!"}}]
["Arion","Arion","LA1","OEZ:34740","3WL9111-0AL02-0AA0","Присоединительный комплект","In 1250 ÷ 1600 A, размер 1, Передний подвод один ряд отверстий - верхний зажим, стационарное исполнение, 1 шт.","1 / -",1.84,0,39.26,{"$f":"VLOOKUP(B3252,#REF!,3,FALSE)","v":{"$error":"#REF!"}}]
["Arion","Arion","LA1","OEZ:20371","3WL9111-0AL03-0AA0","Присоединительный комплект","In 2000 A, размер 2, Передний подвод один ряд отверстий - верхний зажим, стационарное исполнение, 1 шт.","1 / -",2.2999999999999998,0,48.39,{"$f":"VLOOKUP(B3253,#REF!,3,FALSE)","v":{"$error":"#REF!"}}]
["Arion","Arion","LA1","OEZ:34741","3WL9111-0AL04-0AA0","Присоединительный комплект","In 2500 A, размер 2, Передний подвод один ряд отверстий - верхний зажим, стационарное исполнение, 1 шт.","1 / -",4.1399999999999997,0,57.51,{"$f":"VLOOKUP(B3254,#REF!,3,FALSE)","v":{"$error":"#REF!"}}]
["Arion","Arion","LA1","OEZ:34742","3WL9111-0AL05-0AA0","Присоединительный комплект","In 3200 A, размер 2, Передний подвод один ряд отверстий - верхний зажим, стационарное исполнение, 1 шт.","1 / -",4.0250000000000004,0,76.75,{"$f":"VLOOKUP(B3255,#REF!,3,FALSE)","v":{"$error":"#REF!"}}]
["Arion","Arion","LA1","OEZ:34743","3WL9111-0AL06-0AA0","Присоединительный комплект","In 4000 A, размер 3, Передний подвод один ряд отверстий - верхний зажим, стационарное исполнение, 1 шт.","1 / -",7.0149999999999997,0,145.29,{"$f":"VLOOKUP(B3256,#REF!,3,FALSE)","v":{"$error":"#REF!"}}]
["Arion","Arion","LA1","OEZ:19341","3WL9111-0AL07-0AA0","Присоединительный комплект","In 1000 A, размер 1, Передний подвод два ряда отверстий - верхний зажим, стационарное исполнение, 1 шт.","1 / -",1.61,0.61599999999999999,39.26,{"$f":"VLOOKUP(B3257,#REF!,3,FALSE)","v":{"$error":"#REF!"}}]
["Arion","Arion","LA1","OEZ:19342","3WL9111-0AL08-0AA0","Присоединительный комплект","In 1250 ÷ 2000 A, размер 1, Передний подвод два ряда отверстий - верхний зажим, стационарное исполнение, 1 шт.","1 / -",2.2999999999999998,0.69299999999999995,39.26,{"$f":"VLOOKUP(B3258,#REF!,3,FALSE)","v":{"$error":"#REF!"}}]
["Arion","Arion","LA1","OEZ:19343","3WL9111-0AL11-0AA0","Присоединительный комплект","In 2000 A, размер 2, Передний подвод два ряда отверстий - верхний зажим, стационарное исполнение, 1 шт.","1 / -",2.76,0.96099999999999997,48.39,{"$f":"VLOOKUP(B3259,#REF!,3,FALSE)","v":{"$error":"#REF!"}}]
["Arion","Arion","LA1","OEZ:19344","3WL9111-0AL12-0AA0","Присоединительный комплект","In 2500 A, размер 2, Передний подвод два ряда отверстий - верхний зажим, стационарное исполнение, 1 шт.","1 / -",5.1749999999999998,1.425,57.51,{"$f":"VLOOKUP(B3260,#REF!,3,FALSE)","v":{"$error":"#REF!"}}]
["Arion","Arion","LA1","OEZ:19345","3WL9111-0AL13-0AA0","Присоединительный комплект","In 3200 A, размер 2, Передний подвод два ряда отверстий - верхний зажим, стационарное исполнение, 1 шт.","1 / -",5.0599999999999996,1.6279999999999999,76.75,{"$f":"VLOOKUP(B3261,#REF!,3,FALSE)","v":{"$error":"#REF!"}}]
["Arion","Arion","LA1","OEZ:14532","3WL9111-0AL14-0AA0","Присоединительный комплект","In 4000 A, размер 3, Передний подвод два ряда отверстий - верхний зажим, стационарное исполнение, 1 шт.","1 / -",8.9700000000000006,2.5299999999999998,145.29,{"$f":"VLOOKUP(B3262,#REF!,3,FALSE)","v":{"$error":"#REF!"}}]
["Arion","Arion","LA1","OEZ:34744","3WL9111-0AL51-0AA0","Присоединительный комплект","In 1000 A, размер 1, Передний подвод один ряд отверстий - нижний зажим, стационарное исполнение, 1 шт.","1 / -",1.1499999999999999,0,39.26,{"$f":"VLOOKUP(B3263,#REF!,3,FALSE)","v":{"$error":"#REF!"}}]
["Arion","Arion","LA1","OEZ:34745","3WL9111-0AL52-0AA0","Присоединительный комплект","In 1250 ÷ 1600 A, размер 1, Передний подвод один ряд отверстий - нижний зажим, стационарное исполнение, 1 шт.","1 / -",1.4950000000000001,0,39.26,{"$f":"VLOOKUP(B3264,#REF!,3,FALSE)","v":{"$error":"#REF!"}}]
["Arion","Arion","LA1","OEZ:34746","3WL9111-0AL53-0AA0","Присоединительный комплект","In 2000 A, размер 2, Передний подвод один ряд отверстий - нижний зажим, стационарное исполнение, 1 шт.","1 / -",2.0699999999999998,0,48.39,{"$f":"VLOOKUP(B3265,#REF!,3,FALSE)","v":{"$error":"#REF!"}}]
["Arion","Arion","LA1","OEZ:34747","3WL9111-0AL54-0AA0","Присоединительный комплект","In 2500 A, размер 2, Передний подвод один ряд отверстий - нижний зажим, стационарное исполнение, 1 шт.","1 / -",3.5649999999999999,0,57.51,{"$f":"VLOOKUP(B3266,#REF!,3,FALSE)","v":{"$error":"#REF!"}}]
["Arion","Arion","LA1","OEZ:34748","3WL9111-0AL55-0AA0","Присоединительный комплект","In 3200 A, размер 2, Передний подвод один ряд отверстий - нижний зажим, стационарное исполнение, 1 шт.","1 / -",3.45,0,76.75,{"$f":"VLOOKUP(B3267,#REF!,3,FALSE)","v":{"$error":"#REF!"}}]
["Arion","Arion","LA1","OEZ:34749","3WL9111-0AL56-0AA0","Присоединительный комплект","In 4000 A, размер 3, Передний подвод один ряд отверстий - нижний зажим, стационарное исполнение, 1 шт.","1 / -",5.98,0,145.29,{"$f":"VLOOKUP(B3268,#REF!,3,FALSE)","v":{"$error":"#REF!"}}]
["Arion","Arion","LA1","OEZ:19346","3WL9111-0AL57-0AA0","Присоединительный комплект","In 1000 A, размер 1, Передний подвод два ряда отверстий - нижний зажим, стационарное исполнение, 1 шт.","1 / -",1.4950000000000001,0.504,39.26,{"$f":"VLOOKUP(B3269,#REF!,3,FALSE)","v":{"$error":"#REF!"}}]
["Arion","Arion","LA1","OEZ:19347","3WL9111-0AL58-0AA0","Присоединительный комплект","In 1250 ÷ 2000 A, размер 1, Передний подвод два ряда отверстий - нижний зажим, стационарное исполнение, 1 шт.","1 / -",1.9550000000000001,0.60099999999999998,39.26,{"$f":"VLOOKUP(B3270,#REF!,3,FALSE)","v":{"$error":"#REF!"}}]
["Arion","Arion","LA1","OEZ:19348","3WL9111-0AL61-0AA0","Присоединительный комплект","In 2000 A, размер 2, Передний подвод два ряда отверстий - нижний зажим, стационарное исполнение, 1 шт.","1 / -",2.2999999999999998,0.86499999999999999,48.39,{"$f":"VLOOKUP(B3271,#REF!,3,FALSE)","v":{"$error":"#REF!"}}]
["Arion","Arion","LA1","OEZ:19349","3WL9111-0AL62-0AA0","Присоединительный комплект","In 2500 A, размер 2, Передний подвод два ряда отверстий - нижний зажим, стационарное исполнение, 1 шт.","1 / -",4.2549999999999999,1.1279999999999999,57.51,{"$f":"VLOOKUP(B3272,#REF!,3,FALSE)","v":{"$error":"#REF!"}}]
["Arion","Arion","LA1","OEZ:19350","3WL9111-0AL63-0AA0","Присоединительный комплект","In 3200 A, размер 2, Передний подвод два ряда отверстий - нижний зажим, стационарное исполнение, 1 шт.","1 / -",4.1399999999999997,1.167,76.75,{"$f":"VLOOKUP(B3273,#REF!,3,FALSE)","v":{"$error":"#REF!"}}]
["Arion","Arion","LA1","OEZ:14354","3WL9111-0AL64-0AA0","Присоединительный комплект","In 4000 A, размер 3, Передний подвод два ряда отверстий - нижний зажим, стационарное исполнение, 1 шт.","1 / -",7.36,2.2719999999999998,145.29,{"$f":"VLOOKUP(B3274,#REF!,3,FALSE)","v":{"$error":"#REF!"}}]
[null,null,null,"Level  5","3WL9111-0AM0x-0AA0 - Задние подводы"]
["Arion","Arion","LA1","OEZ:19351","3WL9111-0AM01-0AA0","Присоединительный комплект","In 1600 A, размер 1, задний вертикальный подвод - верхний или нижний зажим, стационарное исполнение, 1 шт.","1 / -",0.57499999999999996,0.45,36.82,{"$f":"VLOOKUP(B3276,#REF!,3,FALSE)","v":{"$error":"#REF!"}}]
["Arion","Arion","LA1","OEZ:19352","3WL9111-0AM02-0AA0","Присоединительный комплект","In 3200 A, размер 2, задний вертикальный подвод - верхний или нижний зажим, стационарное исполнение, 1 шт.","1 / -",2.5299999999999998,0.97199999999999998,82.36,{"$f":"VLOOKUP(B3277,#REF!,3,FALSE)","v":{"$error":"#REF!"}}]
["Arion","Arion","LA1","OEZ:14355","3WL9111-0AM03-0AA0","Присоединительный комплект","In 6300 A, размер 3, задний вертикальный подвод - верхний или нижний зажим, стационарное исполнение, 1 шт.","1 / -",5.75,0,183.64999999999998,{"$f":"VLOOKUP(B3278,#REF!,3,FALSE)","v":{"$error":"#REF!"}}]
[null,null,null,"Level  4","3WL9111-0ANxx-0AA0 - Соединительные зажимы для выдвижного исполнения"]
[null,null,null,"Level  5","3WL9111-0AN0x-0AA0 - Передние подводы"]
["Arion","Arion","LA1","OEZ:34750","3WL9111-0AN01-0AA0","Присоединительный комплект","In 1000 A, размер 1, Передний подвод один ряд отверстий - верхний или нижний зажим, выдвижное исполнение, 1 шт.","1 / -",1.1499999999999999,0,39.26,{"$f":"VLOOKUP(B3281,#REF!,3,FALSE)","v":{"$error":"#REF!"}}]
["Arion","Arion","LA1","OEZ:14462","3WL9111-0AN02-0AA0","Присоединительный комплект","In 1250 ÷ 1600 A, размер 1, Передний подвод один ряд отверстий - верхний или нижний зажим, выдвижное исполнение, 1 шт.","1 / -",1.4950000000000001,0.86399999999999999,40.379999999999995,{"$f":"VLOOKUP(B3282,#REF!,3,FALSE)","v":{"$error":"#REF!"}}]
["Arion","Arion","LA1","OEZ:34751","3WL9111-0AN03-0AA0","Присоединительный комплект","In 2000 A, размер 2, Передний подвод один ряд отверстий - верхний или нижний зажим, выдвижное исполнение, 1 шт.","1 / -",2.0699999999999998,0,48.39,{"$f":"VLOOKUP(B3283,#REF!,3,FALSE)","v":{"$error":"#REF!"}}]
["Arion","Arion","LA1","OEZ:34752","3WL9111-0AN04-0AA0","Присоединительный комплект","In 2500 A, размер 2, Передний подвод один ряд отверстий - верхний или нижний зажим, выдвижное исполнение, 1 шт.","1 / -",3.5649999999999999,0,57.51,{"$f":"VLOOKUP(B3284,#REF!,3,FALSE)","v":{"$error":"#REF!"}}]
["Arion","Arion","LA1","OEZ:34753","3WL9111-0AN05-0AA0","Присоединительный комплект","In 3200 A, размер 2, Передний подвод один ряд отверстий - верхний или нижний зажим, выдвижное исполнение, 1 шт.","1 / -",3.45,0,72.34,{"$f":"VLOOKUP(B3285,#REF!,3,FALSE)","v":{"$error":"#REF!"}}]
["Arion","Arion","LA1","OEZ:34754","3WL9111-0AN06-0AA0","Присоединительный комплект","In 4000 A, размер 3, Передний подвод один ряд отверстий - верхний или нижний зажим, выдвижное исполнение, 1 шт.","1 / -",5.98,0,145.29,{"$f":"VLOOKUP(B3286,#REF!,3,FALSE)","v":{"$error":"#REF!"}}]
["Arion","Arion","LA1","OEZ:19353","3WL9111-0AN07-0AA0","Присоединительный комплект","In 1000 A, размер 1, Передний подвод два ряда отверстий - верхний или нижний зажим, выдвижное исполнение, 1 шт.","1 / -",1.4950000000000001,0.63,39.26,{"$f":"VLOOKUP(B3287,#REF!,3,FALSE)","v":{"$error":"#REF!"}}]
["Arion","Arion","LA1","OEZ:19354","3WL9111-0AN08-0AA0","Присоединительный комплект","In 1250 ÷ 2000 A, размер 1, Передний подвод два ряда отверстий - верхний или нижний зажим, выдвижное исполнение, 1 шт.","1 / -",1.9550000000000001,0.72,39.26,{"$f":"VLOOKUP(B3288,#REF!,3,FALSE)","v":{"$error":"#REF!"}}]
["Arion","Arion","LA1","OEZ:19355","3WL9111-0AN11-0AA0","Присоединительный комплект","In 2000 A, размер 2, Передний подвод два ряда отверстий - верхний или нижний зажим, выдвижное исполнение, 1 шт.","1 / -",2.2999999999999998,0.92500000000000004,48.39,{"$f":"VLOOKUP(B3289,#REF!,3,FALSE)","v":{"$error":"#REF!"}}]
["Arion","Arion","LA1","OEZ:19356","3WL9111-0AN12-0AA0","Присоединительный комплект","In 2500 A, размер 2, Передний подвод два ряда отверстий - верхний или нижний зажим, выдвижное исполнение, 1 шт.","1 / -",4.2549999999999999,1.2,57.51,{"$f":"VLOOKUP(B3290,#REF!,3,FALSE)","v":{"$error":"#REF!"}}]
["Arion","Arion","LA1","OEZ:19357","3WL9111-0AN13-0AA0","Присоединительный комплект","In 3200 A, размер 2, Передний подвод два ряда отверстий - верхний или нижний зажим, выдвижное исполнение, 1 шт.","1 / -",4.1399999999999997,1.47,76.75,{"$f":"VLOOKUP(B3291,#REF!,3,FALSE)","v":{"$error":"#REF!"}}]
["Arion","Arion","LA1","OEZ:19358","3WL9111-0AN14-0AA0","Присоединительный комплект","In 4000 A, размер 3, Передний подвод два ряда отверстий - верхний или нижний зажим, выдвижное исполнение, 1 шт.","1 / -",7.36,1.92,145.29,{"$f":"VLOOKUP(B3292,#REF!,3,FALSE)","v":{"$error":"#REF!"}}]
[null,null,null,"Level  5","3WL9111-0AN4x-0AA0 - Опоры для переднего подвода выдвижного исполнения"]
["Arion","Arion","LA1","OEZ:19368","3WL9111-0AN41-0AA0","Опора","3-полюс, размер 1, для переднего подвода выдвижного исполнения","1 / -",0.80500000000000005,1.04,100.67,{"$f":"VLOOKUP(B3294,#REF!,3,FALSE)","v":{"$error":"#REF!"}}]
["Arion","Arion","LA1","OEZ:19369","3WL9111-0AN42-0AA0","Опора","3-полюс, размер 2, для переднего подвода выдвижного исполнения","1 / -",1.5529999999999999,0.59899999999999998,140.29,{"$f":"VLOOKUP(B3295,#REF!,3,FALSE)","v":{"$error":"#REF!"}}]
["Arion","Arion","LA1","OEZ:19370","3WL9111-0AN43-0AA0","Опора","3-полюс, размер 3, для переднего подвода выдвижного исполнения","1 / -",2.7829999999999999,0,182.41,{"$f":"VLOOKUP(B3296,#REF!,3,FALSE)","v":{"$error":"#REF!"}}]
["Arion","Arion","LA1","OEZ:19371","3WL9111-0AN44-0AA0","Опора","4-полюс, размер 1, для переднего подвода выдвижного исполнения","1 / -",1.38,0,121.39,{"$f":"VLOOKUP(B3297,#REF!,3,FALSE)","v":{"$error":"#REF!"}}]
["Arion","Arion","LA1","OEZ:19372","3WL9111-0AN45-0AA0","Опора","4-полюс, размер 2, для переднего подвода выдвижного исполнения","1 / -",2.5529999999999999,0,161.04,{"$f":"VLOOKUP(B3298,#REF!,3,FALSE)","v":{"$error":"#REF!"}}]
["Arion","Arion","LA1","OEZ:19373","3WL9111-0AN46-0AA0","Опора","4-полюс, размер 3, для переднего подвода выдвижного исполнения","1 / -",3.68,0,188.07999999999998,{"$f":"VLOOKUP(B3299,#REF!,3,FALSE)","v":{"$error":"#REF!"}}]
[null,null,null,"Level  4","3WL9111-0ATxx-0AA0 - Тестирующий прибор"]
["Arion","Arion","LA1","OEZ:36687","3WL9111-0AT32-0AA0","Тестирующий прибор","ручной тестер для ETU15B ÷ ETU76B","1 / -",1.2649999999999999,0,1031.58,{"$f":"VLOOKUP(B3301,#REF!,3,FALSE)","v":{"$error":"#REF!"}}]
["Arion","Arion","LA1","OEZ:36087","3WL9111-0AT44-0AA0","Тестирующий прибор","испытательный прибор для проверки выключающих характеристик, для ETU15B ÷ ETU76B","1 / -",9.4420000000000002,0,11510.84,{"$f":"VLOOKUP(B3302,#REF!,3,FALSE)","v":{"$error":"#REF!"}}]
["Arion","Arion","LA1","OEZ:36689","3WL9111-0AT47-0AA0","Соединительный кабель","для 3WL9111-0AT44-0AA0 и ETU Release 2","1 / -",0.4,1,100.03,{"$f":"VLOOKUP(B3303,#REF!,3,FALSE)","v":{"$error":"#REF!"}}]
[null,null,null,"Level  4","3WL9111-0AT2x-0AA0 - Блоки CubicleBUS"]
["Arion","Arion","LA1","OEZ:17878","3WL9111-0AT26-0AA0","Модуль CubicleBUS","дигитальный выходной модуль с поворотным переключателем - релейные выходы","1 / -",0.27600000000000002,0,281.17,{"$f":"VLOOKUP(B3305,#REF!,3,FALSE)","v":{"$error":"#REF!"}}]
["Arion","Arion","LA1","OEZ:17914","3WL9111-0AT20-0AA0","Модуль CubicleBUS","дигитальный выходной модуль, возможность программирования - релейные выходы","1 / -",0.35699999999999998,0,333.37,{"$f":"VLOOKUP(B3306,#REF!,3,FALSE)","v":{"$error":"#REF!"}}]
["Arion","Arion","LA1","OEZ:34772","3WL9111-0AT27-0AA0","Модуль CubicleBUS","дигитальный входной модуль","1 / -",0.27600000000000002,0,264.20999999999998,{"$f":"VLOOKUP(B3307,#REF!,3,FALSE)","v":{"$error":"#REF!"}}]
["Arion","Arion","LA1","OEZ:34773","3WL9111-0AT23-0AA0","Модуль CubicleBUS","аналоговый выходной модуль","1 / -",0.27600000000000002,0,264.20999999999998,{"$f":"VLOOKUP(B3308,#REF!,3,FALSE)","v":{"$error":"#REF!"}}]
["Arion","Arion","LA1","OEZ:34774","3WL9111-0AT21-0AA0","Модуль CubicleBUS","модуль ZSS - временно-сокращенное управление селективностью","1 / -",0.27600000000000002,0,196.87,{"$f":"VLOOKUP(B3309,#REF!,3,FALSE)","v":{"$error":"#REF!"}}]
["Arion","Arion","LA1","OEZ:34778","3WL9111-0BC04-0AA0","Соединительный кабель","для модулей CubicleBUS и автоматический выключатель с коммуникацией данных PROFIBUS/MODBUS, длина 0,5 m","1 / -",2.3E-2,0,8.7899999999999991,{"$f":"VLOOKUP(B3310,#REF!,3,FALSE)","v":{"$error":"#REF!"}}]
["Arion","Arion","LA1","OEZ:34779","3WL9111-0BC02-0AA0","Соединительный кабель","для модулей CubicleBUS и автоматический выключатель с коммуникацией данных PROFIBUS/MODBUS, длина 1 m","1 / -",5.8000000000000003E-2,0,10.199999999999999,{"$f":"VLOOKUP(B3311,#REF!,3,FALSE)","v":{"$error":"#REF!"}}]
["Arion","Arion","LA1","OEZ:34780","3WL9111-0BC03-0AA0","Соединительный кабель","для модулей CubicleBUS и автоматический выключатель с коммуникацией данных PROFIBUS/MODBUS, длина 2 m","1 / -",6.9000000000000006E-2,0,11.15,{"$f":"VLOOKUP(B3312,#REF!,3,FALSE)","v":{"$error":"#REF!"}}]
["Arion","Arion","LA1","OEZ:34781","3WL9111-0BC05-0AA0","Соединительный кабель","для модулей CubicleBUS и автоматический выключатель без коммуникации данных PROFIBUS/MODBUS, длина 2 m","1 / -",8.1000000000000003E-2,0,12.44,{"$f":"VLOOKUP(B3313,#REF!,3,FALSE)","v":{"$error":"#REF!"}}]
[null,null,null,"Level  4","6EP133x-xxxxx - Источники напряжения"]
["Arion","Arion","LA1","OEZ:42585","6EP1332-2BA20","Источник напряжения","Upri AC 230 V, Usec DC 24 V, In 2,5 A","1 / -",0.4,0,180.62,{"$f":"VLOOKUP(B3315,#REF!,3,FALSE)","v":{"$error":"#REF!"}}]
["Arion","Arion","LA1","OEZ:42586","6EP1333-2BA20","Источник напряжения","Upri AC 230 V, Usec DC 24 V, In 5 A","1 / -",0.5,0,235.82,{"$f":"VLOOKUP(B3316,#REF!,3,FALSE)","v":{"$error":"#REF!"}}]
[null,null,null,"Level  4","3WL9111-0xxxx-0AA0 - Устройство для коммуникации данных и функции измерения"]
["Arion","Arion","LA1","OEZ:15968","3WL9111-0AT33-0AA0","BDA plus адаптер","параметризация, управление, диагностика, тестирование, интерфейс RS232, Ethernet","1 / -",1.38,0,1585.09,{"$f":"VLOOKUP(B3318,#REF!,3,FALSE)","v":{"$error":"#REF!"}}]
["Arion","Arion","LA1","OEZ:34776","3WL9111-0BC21-0AA0","Соединительный кабель","для BDA адаптер и для автоматического выключателя","1 / -",0.40300000000000002,0,24.91,{"$f":"VLOOKUP(B3319,#REF!,3,FALSE)","v":{"$error":"#REF!"}}]
["Arion","Arion","LA1","OEZ:36690","3WL9111-0BC22-0AA0","Соединительный кабель","для BDA адаптер и для расцепителя максимального тока ETU Release 2, длина 1 m","1 / -",0.8,1.5,24.91,{"$f":"VLOOKUP(B3320,#REF!,3,FALSE)","v":{"$error":"#REF!"}}]
[null,null,null,"Level  4","3WL9111-0BBxx-0AA0 - Измерительные трансформаторы напряжения"]
["Arion","Arion","LA1","OEZ:34154","3WL9111-0BB68-0AA0","Измерительный трансформатор напряжения","Ue AC 380 ÷ 690 V, класс точности 0,5","1 / -",2.99,4.4000000000000004,244.04999999999998,{"$f":"VLOOKUP(B3322,#REF!,3,FALSE)","v":{"$error":"#REF!"}}]
[null,null,null,"Level  4","3WL9111-0AA2x-0AA0 - Внешние измерительные трансформаторы тока для N провода"]
["Arion","Arion","LA1","OEZ:34769","3WL9111-0AA21-0AA0","Измерительный трансформатор тока для Н провода","размер 1, без медных шин","1 / -",0.34499999999999997,0,264.20999999999998,{"$f":"VLOOKUP(B3324,#REF!,3,FALSE)","v":{"$error":"#REF!"}}]
["Arion","Arion","LA1","OEZ:20513","3WL9111-0AA22-0AA0","Измерительный трансформатор тока для Н провода","размер 2, без медных шин","1 / -",0.437,0,306.36,{"$f":"VLOOKUP(B3325,#REF!,3,FALSE)","v":{"$error":"#REF!"}}]
["Arion","Arion","LA1","OEZ:34770","3WL9111-0AA23-0AA0","Измерительный трансформатор тока для Н провода","размер 3, без медных шин","1 / -",0.78200000000000003,0,393.12,{"$f":"VLOOKUP(B3326,#REF!,3,FALSE)","v":{"$error":"#REF!"}}]
["Arion","Arion","LA1","OEZ:20112","3WL9111-0AA31-0AA0","Измерительный трансформатор тока для Н провода","размер 1, с медными шинами","1 / -",1.84,0,318.90999999999997,{"$f":"VLOOKUP(B3327,#REF!,3,FALSE)","v":{"$error":"#REF!"}}]
["Arion","Arion","LA1","OEZ:20111","3WL9111-0AA32-0AA0","Измерительный трансформатор тока для Н провода","размер 2, с медными шинами","1 / -",4.899,0,401.94,{"$f":"VLOOKUP(B3328,#REF!,3,FALSE)","v":{"$error":"#REF!"}}]
["Arion","Arion","LA1","OEZ:34653","3WL9111-0AA33-0AA0","Измерительный трансформатор тока для Н провода","размер 3, с медными шинами","1 / -",9.7750000000000004,0,512.63,{"$f":"VLOOKUP(B3329,#REF!,3,FALSE)","v":{"$error":"#REF!"}}]
[null,null,null,"Level  4","3WL9111-0BA1x-0AA0 - Вспомогательные источники энергии для независимых расцепителей"]
["Arion","Arion","LA1","OEZ:36099","3WL9111-0BA14-0AA0","Вспомогательный источник энергии для независимых расцепителей","Ue AC 220 ÷ 240 V / DC 220 ÷ 250 V","1 / -",0.59799999999999998,0,467.37,{"$f":"VLOOKUP(B3331,#REF!,3,FALSE)","v":{"$error":"#REF!"}}]
[null,null,null,"Level  4","3WL9111-0BB4x-0AA0 - Троса Боудена для механической блокировки"]
["Arion","Arion","LA1","OEZ:36684","3WL9111-0BB45-0AA0","Трос Боудена","длина 2 m","1 / -",0.17299999999999999,0,86.83,{"$f":"VLOOKUP(B3333,#REF!,3,FALSE)","v":{"$error":"#REF!"}}]
["Arion","Arion","LA1","OEZ:36685","3WL9111-0BB46-0AA0","Трос Боудена","длина 3 m","1 / -",0.253,0,113.25,{"$f":"VLOOKUP(B3334,#REF!,3,FALSE)","v":{"$error":"#REF!"}}]
["Arion","Arion","LA1","OEZ:36686","3WL9111-0BB47-0AA0","Трос Боудена","длина 4,5 m","1 / -",0.41399999999999998,0,157.25,{"$f":"VLOOKUP(B3335,#REF!,3,FALSE)","v":{"$error":"#REF!"}}]
[null,null,null,"Level  4","3WL9111-0AT4x-0AA0 - Пломбируемые крышки расцепителя максимального тока"]
["Arion","Arion","LA1","OEZ:19421","3WL9111-0AT45-0AA0","Пломбируемая крышка","для ETU15B, ETU25B, ETU27B, ETU45B","1 / -",5.8000000000000003E-2,0.35299999999999998,26.430000000000003,{"$f":"VLOOKUP(B3337,#REF!,3,FALSE)","v":{"$error":"#REF!"}}]
["Arion","Arion","LA1","OEZ:19422","3WL9111-0AT46-0AA0","Пломбируемая крышка","для ETU76B","1 / -",5.8000000000000003E-2,0.35299999999999998,26.430000000000003,{"$f":"VLOOKUP(B3338,#REF!,3,FALSE)","v":{"$error":"#REF!"}}]
[null,null,null,"Level  4","3WL9111-0AP01-0AA0 - Уплотнительные рамы"]
["Arion","Arion","LA1","OEZ:13959","3WL9111-0AP01-0AA0","Уплотнительная рама","степень защиты IP41","1 / -",0.41399999999999998,4.9089999999999998,140.4,{"$f":"VLOOKUP(B3340,#REF!,3,FALSE)","v":{"$error":"#REF!"}}]
[null,null,null,"Level  4","3WL9111-0AP02-0AA0 - Прозрачные крышки"]
["Arion","Arion","LA1","OEZ:20516","3WL9111-0AP02-0AA0","Прозрачная крышка","степень защиты IP55","1 / -",1.84,0,275.5,{"$f":"VLOOKUP(B3342,#REF!,3,FALSE)","v":{"$error":"#REF!"}}]
[null,null,null,"Level  4","3WL9111-0ASxx-0AA0 - Крышки дугогасительных камер"]
["Arion","Arion","LA1","OEZ:19335","3WL9111-0AS32-0AA0","Крышка дугогасительных камер","3-полюс, размер 1","1 / -",2.1280000000000001,4.5140000000000002,174.89,{"$f":"VLOOKUP(B3344,#REF!,3,FALSE)","v":{"$error":"#REF!"}}]
["Arion","Arion","LA1","OEZ:19336","3WL9111-0AS36-0AA0","Крышка дугогасительных камер","3-полюс, размер 2","1 / -",2.99,4.7880000000000003,193.76,{"$f":"VLOOKUP(B3345,#REF!,3,FALSE)","v":{"$error":"#REF!"}}]
["Arion","Arion","LA1","OEZ:19337","3WL9111-0AS38-0AA0","Крышка дугогасительных камер","3-полюс, размер 3","1 / -",4.6580000000000004,0,220.14999999999998,{"$f":"VLOOKUP(B3346,#REF!,3,FALSE)","v":{"$error":"#REF!"}}]
["Arion","Arion","LA1","OEZ:19338","3WL9111-0AS42-0AA0","Крышка дугогасительных камер","4-полюс, размер 1","1 / -",2.6909999999999998,0,185.56,{"$f":"VLOOKUP(B3347,#REF!,3,FALSE)","v":{"$error":"#REF!"}}]
["Arion","Arion","LA1","OEZ:19339","3WL9111-0AS44-0AA0","Крышка дугогасительных камер","4-полюс, размер 2","1 / -",3.7949999999999999,0,211.34,{"$f":"VLOOKUP(B3348,#REF!,3,FALSE)","v":{"$error":"#REF!"}}]
["Arion","Arion","LA1","OEZ:19340","3WL9111-0AS46-0AA0","Крышка дугогасительных камер","4-полюс, размер 3","1 / -",5.992,0,236.51999999999998,{"$f":"VLOOKUP(B3349,#REF!,3,FALSE)","v":{"$error":"#REF!"}}]
[null,null,null,"Level  4","3WL9111-0BB50-0AA0 - Несущие угольники"]
["Arion","Arion","LA1","OEZ:34771","3WL9111-0BB50-0AA0","Несущий угольник","размер 1, 2","1 / -",8.0500000000000007,0,161.04,{"$f":"VLOOKUP(B3351,#REF!,3,FALSE)","v":{"$error":"#REF!"}}]
[null,null,null,"Level  1","Предохранительные системы Varius"]
[null,null,null,"Level  2","Разъединители нагрузки, разъединители и держатели цилиндрических предохранителей"]
[null,null,null,"Level  3","OPVP - Предохранительные разъединители нагрузки"]
[null,null,null,"Level  4","OPVP10 - разъединители нагрузки цилиндрических предохранителей типоразмера 10x38"]
["Varius","Varius OPVP","LP5","OEZ:41013","OPVP10-1","Предохранительный разъединитель нагрузки","Ie 32 A, Ue AC 690 V/DC 440 V, для цилиндрических плавких вставок 10x38, 1-полюс. исполнение, без сигнализации, замена OPVA10-1","12 / -",6.3E-2,8.5000000000000006E-2,4.42,{"$f":"VLOOKUP(B3356,#REF!,3,FALSE)","v":{"$error":"#REF!"}}]
["Varius","Varius OPVP","LP5","OEZ:43683","OPVP10-1-S","Предохранительный разъединитель нагрузки","Ie 32 A, Ue AC 690 V/DC 440 V, для цилиндрических плавких вставок 10x38, 1-полюс. исполнение, с сигнализацией, замена OPVA10-1-S","12 / -",6.8000000000000005E-2,8.5000000000000006E-2,7.41,{"$f":"VLOOKUP(B3357,#REF!,3,FALSE)","v":{"$error":"#REF!"}}]
["Varius","Varius OPVP","LP5","OEZ:43686","OPVP10-1N","Предохранительный разъединитель нагрузки","Ie 32 A, Ue AC 690 V/DC 440 V, для цилиндрических плавких вставок 10x38, 1+N-полюс, без сигнализации, замена OPVA10-1N","6 / -",0.13300000000000001,0.16900000000000001,10.35,{"$f":"VLOOKUP(B3358,#REF!,3,FALSE)","v":{"$error":"#REF!"}}]
["Varius","Varius OPVP","LP5","OEZ:41014","OPVP10-2","Предохранительный разъединитель нагрузки","Ie 32 A, Ue AC 690 V/DC 440 V, для цилиндрических плавких вставок 10x38, 2-полюсное исполнение, без сигнализации, замена OPVA10-2","6 / -",0.128,0.16900000000000001,8.7200000000000006,{"$f":"VLOOKUP(B3359,#REF!,3,FALSE)","v":{"$error":"#REF!"}}]
["Varius","Varius OPVP","LP5","OEZ:43684","OPVP10-2-S","Предохранительный разъединитель нагрузки","Ie 32 A, Ue AC 690 V/DC 440 V, для цилиндрических плавких вставок 10x38, 2-полюсное исполнение, с сигнализацией, замена OPVA10-2-S","6 / -",0.13700000000000001,0.16900000000000001,15.42,{"$f":"VLOOKUP(B3360,#REF!,3,FALSE)","v":{"$error":"#REF!"}}]
["Varius","Varius OPVP","LP5","OEZ:41015","OPVP10-3","Предохранительный разъединитель нагрузки","Ie 32 A, Ue AC 690 V/DC 440 V, для цилиндрических плавких вставок 10x38, 3-полюсное исполнение, без сигнализации, замена OPVA10-3","4 / -",0.193,0.254,12.9,{"$f":"VLOOKUP(B3361,#REF!,3,FALSE)","v":{"$error":"#REF!"}}]
["Varius","Varius OPVP","LP5","OEZ:43685","OPVP10-3-S","Предохранительный разъединитель нагрузки","Ie 32 A, Ue AC 690 V/DC 440 V, для цилиндрических плавких вставок 10x38, 3-полюсное исполнение, с сигнализацией, замена OPVA10-3-S","4 / -",0.193,0.254,21.85,{"$f":"VLOOKUP(B3362,#REF!,3,FALSE)","v":{"$error":"#REF!"}}]
["Varius","Varius OPVP","LP5","OEZ:43687","OPVP10-3N","Предохранительный разъединитель нагрузки","Ie 32 A, Ue AC 690 V/DC 440 V, для цилиндрических плавких вставок 10x38, 3+N-полюс, без сигнализации, замена OPVA10-3N","3 / -",0.27100000000000002,0.33800000000000002,18.860000000000003,{"$f":"VLOOKUP(B3363,#REF!,3,FALSE)","v":{"$error":"#REF!"}}]
[null,null,null,"Level  4","OPVP14 - разъединители нагрузки цилиндрических предохранителей типоразмера 14x51"]
["Varius","Varius OPVP","LP5","OEZ:41024","OPVP14-1","Предохранительный разъединитель нагрузки","Ie 63 A, Ue AC 690 V/DC 440 V, для цилиндрических плавких вставок 14x51, 1-полюс. исполнение, без сигнализации, замена OPVA14-1","6 / -",9.7000000000000003E-2,0.16800000000000001,7.33,{"$f":"VLOOKUP(B3365,#REF!,3,FALSE)","v":{"$error":"#REF!"}}]
["Varius","Varius OPVP","LP5","OEZ:43688","OPVP14-1-S","Предохранительный разъединитель нагрузки","Ie 63 A, Ue AC 690 V/DC 440 V, для цилиндрических плавких вставок 14x51, 1-полюс. исполнение, с сигнализацией, замена OPVA14-1-S","6 / -",9.8000000000000004E-2,0.16800000000000001,14.2,{"$f":"VLOOKUP(B3366,#REF!,3,FALSE)","v":{"$error":"#REF!"}}]
["Varius","Varius OPVP","LP5","OEZ:43691","OPVP14-1N","Предохранительный разъединитель нагрузки","Ie 63 A, Ue AC 690 V/DC 440 V, для цилиндрических плавких вставок 14x51, 1+N-полюс, без сигнализации, замена OPVA14-1N","3 / -",0.218,0.33500000000000002,17.200000000000003,{"$f":"VLOOKUP(B3367,#REF!,3,FALSE)","v":{"$error":"#REF!"}}]
["Varius","Varius OPVP","LP5","OEZ:41025","OPVP14-2","Предохранительный разъединитель нагрузки","Ie 63 A, Ue AC 690 V/DC 440 V, для цилиндрических плавких вставок 14x51, 2-полюсное исполнение, без сигнализации, замена OPVA14-2","3 / -",0.20200000000000001,0.33500000000000002,14.94,{"$f":"VLOOKUP(B3368,#REF!,3,FALSE)","v":{"$error":"#REF!"}}]
["Varius","Varius OPVP","LP5","OEZ:43689","OPVP14-2-S","Предохранительный разъединитель нагрузки","Ie 63 A, Ue AC 690 V/DC 440 V, для цилиндрических плавких вставок 14x51, 2-полюсное исполнение, с сигнализацией, замена OPVA14-2-S","3 / -",0.20300000000000001,0.33500000000000002,22.71,{"$f":"VLOOKUP(B3369,#REF!,3,FALSE)","v":{"$error":"#REF!"}}]
["Varius","Varius OPVP","LP5","OEZ:41026","OPVP14-3","Предохранительный разъединитель нагрузки","Ie 63 A, Ue AC 690 V/DC 440 V, для цилиндрических плавких вставок 14x51, 3-полюсное исполнение, без сигнализации, замена OPVA14-3","2 / -",0.30399999999999999,0.503,20.84,{"$f":"VLOOKUP(B3370,#REF!,3,FALSE)","v":{"$error":"#REF!"}}]
["Varius","Varius OPVP","LP5","OEZ:43690","OPVP14-3-S","Предохранительный разъединитель нагрузки","Ie 63 A, Ue AC 690 V/DC 440 V, для цилиндрических плавких вставок 14x51, 3-полюсное исполнение, с сигнализацией, замена OPVA14-3-S","2 / -",0.30499999999999999,0.503,40.61,{"$f":"VLOOKUP(B3371,#REF!,3,FALSE)","v":{"$error":"#REF!"}}]
["Varius","Varius OPVP","LP5","OEZ:43692","OPVP14-3N","Предохранительный разъединитель нагрузки","Ie 63 A, Ue AC 690 V/DC 440 V, для цилиндрических плавких вставок 14x51, 3+N-полюс, без сигнализации, замена OPVA14-3N","1 / -",0.42699999999999999,0.67100000000000004,35.4,{"$f":"VLOOKUP(B3372,#REF!,3,FALSE)","v":{"$error":"#REF!"}}]
[null,null,null,"Level  4","OPVP22 - разъединители нагрузки цилиндрических предохранителей типоразмера 22x58"]
["Varius","Varius OPVP","LP5","OEZ:41035","OPVP22-1","Предохранительный разъединитель нагрузки","Ie 125 A, Ue AC 690 V/DC 440 V, для цилиндрических плавких вставок 22x58, 1-полюс. исполнение, без сигнализации, замена OPVA22-1","6 / -",0.158,0.28599999999999998,11.39,{"$f":"VLOOKUP(B3374,#REF!,3,FALSE)","v":{"$error":"#REF!"}}]
["Varius","Varius OPVP","LP5","OEZ:43693","OPVP22-1-S","Предохранительный разъединитель нагрузки","Ie 125 A, Ue AC 690 V/DC 440 V, для цилиндрических плавких вставок 22x58, 1-полюс. исполнение, с сигнализацией, замена OPVA22-1-S","6 / -",0.159,0.28599999999999998,15.12,{"$f":"VLOOKUP(B3375,#REF!,3,FALSE)","v":{"$error":"#REF!"}}]
["Varius","Varius OPVP","LP5","OEZ:43696","OPVP22-1N","Предохранительный разъединитель нагрузки","Ie 125 A, Ue AC 690 V/DC 440 V, для цилиндрических плавких вставок 22x58, 1+N-полюс, без сигнализации, замена OPVA22-1N","3 / -",0.35799999999999998,0.57099999999999995,29.91,{"$f":"VLOOKUP(B3376,#REF!,3,FALSE)","v":{"$error":"#REF!"}}]
["Varius","Varius OPVP","LP5","OEZ:41036","OPVP22-2","Предохранительный разъединитель нагрузки","Ie 125 A, Ue AC 690 V/DC 440 V, для цилиндрических плавких вставок 22x58, 2-полюсное исполнение, без сигнализации, замена OPVA22-2","3 / -",0.32200000000000001,0.57099999999999995,26.62,{"$f":"VLOOKUP(B3377,#REF!,3,FALSE)","v":{"$error":"#REF!"}}]
["Varius","Varius OPVP","LP5","OEZ:43694","OPVP22-2-S","Предохранительный разъединитель нагрузки","Ie 125 A, Ue AC 690 V/DC 440 V, для цилиндрических плавких вставок 22x58, 2-полюсное исполнение, с сигнализацией, замена OPVA22-2-S","3 / -",0.32300000000000001,0.57099999999999995,34.239999999999995,{"$f":"VLOOKUP(B3378,#REF!,3,FALSE)","v":{"$error":"#REF!"}}]
["Varius","Varius OPVP","LP5","OEZ:41037","OPVP22-3","Предохранительный разъединитель нагрузки","Ie 125 A, Ue AC 690 V/DC 440 V, для цилиндрических плавких вставок 22x58, 3-полюсное исполнение, без сигнализации, замена OPVA22-3","2 / -",0.48599999999999999,0.85699999999999998,32.64,{"$f":"VLOOKUP(B3379,#REF!,3,FALSE)","v":{"$error":"#REF!"}}]
["Varius","Varius OPVP","LP5","OEZ:43695","OPVP22-3-S","Предохранительный разъединитель нагрузки","Ie 125 A, Ue AC 690 V/DC 440 V, для цилиндрических плавких вставок 22x58, 3-полюсное исполнение, с сигнализацией, замена OPVA22-3-S","2 / -",0.48699999999999999,0.85699999999999998,55.08,{"$f":"VLOOKUP(B3380,#REF!,3,FALSE)","v":{"$error":"#REF!"}}]
["Varius","Varius OPVP","LP5","OEZ:43697","OPVP22-3N","Предохранительный разъединитель нагрузки","Ie 125 A, Ue AC 690 V/DC 440 V, для цилиндрических плавких вставок 22x58, 3+N-полюс, без сигнализации, замена OPVA22-3N","1 / -",0.67500000000000004,1.143,51.64,{"$f":"VLOOKUP(B3381,#REF!,3,FALSE)","v":{"$error":"#REF!"}}]
[null,null,null,"Level  4","OD-OPVP - Принадлежности"]
[null,null,null,"Level  5","OD-OPVP10 - Принадлежности"]
["Minia","Minia 10kA","LD6","OEZ:38475","S1L-210-10","Соединительная рейка","1-полюс. исполнение, сечение 10 mm2, расстояние 17,8 mm, количество выводов 12, штифты","50 / -",4.4999999999999998E-2,0.02,1.96,{"$f":"VLOOKUP(B3384,#REF!,3,FALSE)","v":{"$error":"#REF!"}}]
["Minia","Minia 10kA","LD6","OEZ:37375","S1L-1000-16","Соединительная рейка","1-полюс. исполнение, сечение 16 mm2, расстояние 17,8 mm, количество выводов 57, штифты","50 / -",0.30199999999999999,0.20300000000000001,16.07,{"$f":"VLOOKUP(B3385,#REF!,3,FALSE)","v":{"$error":"#REF!"}}]
["Minia","Minia 10kA","LD6","OEZ:38476","S2L-210-10","Соединительная рейка","2-полюсное исполнение, сечение 10 mm2, расстояние 17,8 mm, количество выводов 6 x 2, штифты","20 / -",6.7000000000000004E-2,7.0000000000000007E-2,5.22,{"$f":"VLOOKUP(B3386,#REF!,3,FALSE)","v":{"$error":"#REF!"}}]
["Minia","Minia 10kA","LD6","OEZ:37378","S2L-1000-16","Соединительная рейка","2-полюсное исполнение, сечение 16 mm2, расстояние 17,8 mm, количество выводов 28 x 2, штифты","20 / -",0.315,0.317,27.3,{"$f":"VLOOKUP(B3387,#REF!,3,FALSE)","v":{"$error":"#REF!"}}]
["Minia","Minia 10kA","LD6","OEZ:38482","S3L-210-10","Соединительная рейка","3-полюсное исполнение, сечение 10 mm2, расстояние 17,8 mm, количество выводов 4 x 3, штифты","25 / -",0.11,0.10100000000000001,6.2,{"$f":"VLOOKUP(B3388,#REF!,3,FALSE)","v":{"$error":"#REF!"}}]
["Minia","Minia 10kA","LD6","OEZ:37379","S3L-1000-16","Соединительная рейка","3-полюсное исполнение, сечение 16 mm2, расстояние 17,8 mm, количество выводов 19 x 3, штифты","20 / -",0.73699999999999999,0.50700000000000001,33.589999999999996,{"$f":"VLOOKUP(B3389,#REF!,3,FALSE)","v":{"$error":"#REF!"}}]
["Minia","Minia 10kA","LD6","OEZ:37383","EKC-1","Концевая заглушка","для однополюсных реек, сечение 10, 12, 16 mm2","10 / -",1E-3,7.0000000000000007E-2,0.75,{"$f":"VLOOKUP(B3390,#REF!,3,FALSE)","v":{"$error":"#REF!"}}]
["Minia","Minia 10kA","LD6","OEZ:37384","EKC-2+3","Концевая заглушка","для двухполюсных реек, для трехполюсных реек, сечение 16 mm2","10 / -",1E-3,1E-3,0.6,{"$f":"VLOOKUP(B3391,#REF!,3,FALSE)","v":{"$error":"#REF!"}}]
["Minia","Minia 10kA","LD6","OEZ:37388","ES-35-GS","Блок питания","сечение 35 mm2, для соединительных реек","10 / -",3.2000000000000001E-2,4.8000000000000001E-2,3.1799999999999997,{"$f":"VLOOKUP(B3392,#REF!,3,FALSE)","v":{"$error":"#REF!"}}]
["Minia","Minia 10kA","LD6","OEZ:43147","EKD-5","Крышка выводов","для всех типов реек","10 / -",4.0000000000000001E-3,1.4999999999999999E-2,1.64,{"$f":"VLOOKUP(B3393,#REF!,3,FALSE)","v":{"$error":"#REF!"}}]
["Minia","Minia 10kA","LD6","OEZ:43149","AS-50-S-L","Адаптер для присоединения","штифт, сечение 6 ÷ 50 mm2, для OPVP10, OPVP14","1 / -",3.3000000000000002E-2,3.2000000000000001E-2,4.04,{"$f":"VLOOKUP(B3394,#REF!,3,FALSE)","v":{"$error":"#REF!"}}]
["Varius","Varius OPVP","LP5","OEZ:43148","OD-OPV-AD45","Адаптер для \"U\" рейки","для OPVP10","1 / -",8.0000000000000002E-3,2.8000000000000001E-2,2.3199999999999998,{"$f":"VLOOKUP(B3395,#REF!,3,FALSE)","v":{"$error":"#REF!"}}]
["Varius","Varius OPVP","LP5","OEZ:11883","GA-60/63/54-1x7,5","Адаптер к сборным шинам","In 63 A, Un AC/DC 690 V, расстояние сборных шин 60 mm, ширина 54 mm, 1× U рейка TH35","1 / -",0.26,1.98,73.81,{"$f":"VLOOKUP(B3396,#REF!,3,FALSE)","v":{"$error":"#REF!"}}]
["Varius","Varius OPVP","LP5","OEZ:38614","MD-M3","Электронная сигнализация состояния предохранителей","для дистанционной сигнализации состояния предохранителей","1 / -",0.15,0.30399999999999999,96.78,{"$f":"VLOOKUP(B3397,#REF!,3,FALSE)","v":{"$error":"#REF!"}}]
[null,null,null,"Level  5","OD-OPVP14 - Принадлежности"]
["Minia","Minia 10kA","LD6","OEZ:37380","S3L-27-1000-16","Соединительная рейка","3-полюсное исполнение, сечение 16 mm2, расстояние 27 mm, количество выводов 12 x 3, штифты","20 / -",0.53700000000000003,0.50700000000000001,33.35,{"$f":"VLOOKUP(B3399,#REF!,3,FALSE)","v":{"$error":"#REF!"}}]
["Minia","Minia 10kA","LD6","OEZ:37381","S3L-27-1000-25","Соединительная рейка","3-полюсное исполнение, сечение 25 mm2, расстояние 27 mm, количество выводов 12 x 3, штифты","10 / -",0.995,1.272,73.84,{"$f":"VLOOKUP(B3400,#REF!,3,FALSE)","v":{"$error":"#REF!"}}]
["Varius","Varius OPVP","LP5","OEZ:11892","S3L-27-156-16SN","Соединительная рейка","3-полюсное исполнение, сечение 16 mm2, расстояние 26,8 mm, количество выводов 2x 3, луженые контакты, штифты, для 2× OPVP14-3","1 / -",6.5000000000000002E-2,9.4E-2,9.07,{"$f":"VLOOKUP(B3401,#REF!,3,FALSE)","v":{"$error":"#REF!"}}]
["Minia","Minia 10kA","LD6","OEZ:37384","EKC-2+3","Концевая заглушка","для двухполюсных реек, для трехполюсных реек, сечение 16 mm2","10 / -",1E-3,1E-3,0.6,{"$f":"VLOOKUP(B3402,#REF!,3,FALSE)","v":{"$error":"#REF!"}}]
["Minia","Minia 10kA","LD6","OEZ:37386","EKC-3-36","Концевая заглушка","для трехполюсных реек, для четырехполюсных реек, сечение 25 mm2","10 / -",2E-3,3.0000000000000001E-3,0.72,{"$f":"VLOOKUP(B3403,#REF!,3,FALSE)","v":{"$error":"#REF!"}}]
["Minia","Minia 10kA","LD6","OEZ:37388","ES-35-GS","Блок питания","сечение 35 mm2, для соединительных реек","10 / -",3.2000000000000001E-2,4.8000000000000001E-2,3.1799999999999997,{"$f":"VLOOKUP(B3404,#REF!,3,FALSE)","v":{"$error":"#REF!"}}]
["Minia","Minia 10kA","LD6","OEZ:43147","EKD-5","Крышка выводов","для всех типов реек","10 / -",4.0000000000000001E-3,1.4999999999999999E-2,1.64,{"$f":"VLOOKUP(B3405,#REF!,3,FALSE)","v":{"$error":"#REF!"}}]
["Minia","Minia 10kA","LD6","OEZ:38749","AS-50-S-AL01","Адаптер для присоединения","штифт, сечение Cu / Al 2,5 ÷ 50 mm2, для LTE, LTN, LVN, LST-DC, LFE, LFN, OLE, OLI, OFI100/125, SJB, SJBC, SVBC, SVC, SVM, MSO, MSN, OPVP14","1 / -",1.7999999999999999E-2,3.2000000000000001E-2,9.879999999999999,{"$f":"VLOOKUP(B3406,#REF!,3,FALSE)","v":{"$error":"#REF!"}}]
["Minia","Minia 10kA","LD6","OEZ:43149","AS-50-S-L","Адаптер для присоединения","штифт, сечение 6 ÷ 50 mm2, для OPVP10, OPVP14","1 / -",3.3000000000000002E-2,3.2000000000000001E-2,4.04,{"$f":"VLOOKUP(B3407,#REF!,3,FALSE)","v":{"$error":"#REF!"}}]
["Varius","Varius OPVP","LP5","OEZ:11883","GA-60/63/54-1x7,5","Адаптер к сборным шинам","In 63 A, Un AC/DC 690 V, расстояние сборных шин 60 mm, ширина 54 mm, 1× U рейка TH35","1 / -",0.26,1.98,73.81,{"$f":"VLOOKUP(B3408,#REF!,3,FALSE)","v":{"$error":"#REF!"}}]
["Varius","Varius OPVP","LP5","OEZ:38614","MD-M3","Электронная сигнализация состояния предохранителей","для дистанционной сигнализации состояния предохранителей","1 / -",0.15,0.30399999999999999,96.78,{"$f":"VLOOKUP(B3409,#REF!,3,FALSE)","v":{"$error":"#REF!"}}]
[null,null,null,"Level  5","OD-OPVP22 - Принадлежности"]
["Varius","Varius OPVP","LP5","OEZ:35954","CS-OPV22-3L2","Соединительная рейка","Imax 200 A, 3-полюсное исполнение, сечение 35 mm2, расстояние 35,3 mm, количество выводов 3 x 2, для OPVP22","5 / -",0.184,0.16200000000000001,21.520000000000003,{"$f":"VLOOKUP(B3411,#REF!,3,FALSE)","v":{"$error":"#REF!"}}]
["Varius","Varius OPVP","LP5","OEZ:35955","CS-OPV22-3L3","Соединительная рейка","Imax 200 A, 3-полюсное исполнение, сечение 35 mm2, расстояние 35,3 mm, количество выводов 3 × 3, для OPVP22","5 / -",0.32,0.26300000000000001,38.71,{"$f":"VLOOKUP(B3412,#REF!,3,FALSE)","v":{"$error":"#REF!"}}]
["Varius","Varius OPVP","LP5","OEZ:35956","CS-OPV22-3L4","Соединительная рейка","Imax 200 A, 3-полюсное исполнение, сечение 35 mm2, расстояние 35,3 mm, количество выводов 3 × 4, для OPVP22","5 / -",0.45200000000000001,0.32400000000000001,54.839999999999996,{"$f":"VLOOKUP(B3413,#REF!,3,FALSE)","v":{"$error":"#REF!"}}]
["Varius","Varius OPVP","LP5","OEZ:35957","CS-OPV22-3L5","Соединительная рейка","Imax 200 A, 3-полюсное исполнение, сечение 35 mm2, расстояние 35,3 mm, количество выводов 3 × 5, для OPVP22","5 / -",0.59,0.40500000000000003,71.410000000000011,{"$f":"VLOOKUP(B3414,#REF!,3,FALSE)","v":{"$error":"#REF!"}}]
["Varius","Varius FH","LP1","OEZ:13740","CS-FH000-3NP95","Адаптеры для присоединения","с прямым выводом, сечение Cu/Al 35 ÷ 95 mm2, для FH000-3./T, OPVP22, LVN, LST-DC, SJBplus, комплект 3 шт.","1 / -",0.17599999999999999,0.14899999999999999,17.55,{"$f":"VLOOKUP(B3415,#REF!,3,FALSE)","v":{"$error":"#REF!"}}]
["Varius","Varius FH","LP1","OEZ:15589","CS-FH000-3ND95","Адаптеры для присоединения","с удлиненным выводом, сечение Cu/Al 35 ÷ 95 mm2, для FH000-3./T, OPVP22, комплект 3 шт.","1 / -",0.184,0.32200000000000001,19.39,{"$f":"VLOOKUP(B3416,#REF!,3,FALSE)","v":{"$error":"#REF!"}}]
["Varius","Varius OPVP","LP5","OEZ:11885","GA-60/100/81-1x15","Адаптер к сборным шинам","In 100 A, Un 690 V, расстояние сборных шин 60 mm, ширина 81 mm, 1× U рейка TH35","1 / -",0.64,1.98,52.29,{"$f":"VLOOKUP(B3417,#REF!,3,FALSE)","v":{"$error":"#REF!"}}]
["Varius","Varius OPVP","LP5","OEZ:38614","MD-M3","Электронная сигнализация состояния предохранителей","для дистанционной сигнализации состояния предохранителей","1 / -",0.15,0.30399999999999999,96.78,{"$f":"VLOOKUP(B3418,#REF!,3,FALSE)","v":{"$error":"#REF!"}}]
[null,null,null,"Level  3","OPT - Предохранительные разъединители"]
["Varius","Varius OPVP","LP5","OEZ:08474","OPT22/1","Предохранительный разъединитель","Ie 63 A, Ue AC 1500 V / DC 1000 V, для цилиндрических плавких вставок 22x127, 1-полюс. исполнение","4 / -",0.49,0.92500000000000004,26.12,{"$f":"VLOOKUP(B3420,#REF!,3,FALSE)","v":{"$error":"#REF!"}}]
["Varius","Varius OPVP","LP5","OEZ:08344","OPT22/2","Предохранительный разъединитель","Ie 63 A, Ue AC 1500 V / DC 1000 V, для цилиндрических плавких вставок 22x127, 2-полюсное исполнение","2 / -",0.98,1.849,52.97,{"$f":"VLOOKUP(B3421,#REF!,3,FALSE)","v":{"$error":"#REF!"}}]
["Varius","Varius OPVP","LP5","OEZ:08700","OPT22/3","Предохранительный разъединитель","Ie 63 A, Ue AC 1500 V / DC 1000 V, для цилиндрических плавких вставок 22x127, 3-полюсное исполнение","1 / -",1.42,2.8130000000000002,78.430000000000007,{"$f":"VLOOKUP(B3422,#REF!,3,FALSE)","v":{"$error":"#REF!"}}]
["Varius","Varius OPVP","LP5","OEZ:08345","OPT22/4","Предохранительный разъединитель","Ie 63 A, Ue AC 1500 V / DC 1000 V, для цилиндрических плавких вставок 22x127, 4-полюсное исполнение","1 / -",1.96,3.6989999999999998,106.12,{"$f":"VLOOKUP(B3423,#REF!,3,FALSE)","v":{"$error":"#REF!"}}]
["Varius","Varius OPVP","LP5","OEZ:34403","OPT20/1","Предохранительный разъединитель","Ie 63 A, Ue AC 1500 V / DC 1000 V, для цилиндрических плавких вставок 20x127, 1-полюс. исполнение","1 / -",0.48,0.92900000000000005,25.94,{"$f":"VLOOKUP(B3424,#REF!,3,FALSE)","v":{"$error":"#REF!"}}]
[null,null,null,"Level  3","OPVF10 - Держатели предохранителей"]
["Varius","Varius OPVP","LP5","OEZ:41003","OPVF10-1","Держатель предохранителей","Ie 32 A, Ue DC 1000 V, для цилиндрических плавких вставок 10x38 для защиты фотовольтаичных систем, 1-полюс. исполнение, замена OPF10","12 / -",5.3999999999999999E-2,8.5000000000000006E-2,4.6899999999999995,{"$f":"VLOOKUP(B3426,#REF!,3,FALSE)","v":{"$error":"#REF!"}}]
["Varius","Varius OPVP","LP5","OEZ:41004","OPVF10-2","Держатель предохранителей","Ie 32 A, Ue DC 1000 V, для цилиндрических плавких вставок 10x38 для защиты фотовольтаичных систем, 2-полюсное исполнение, замена OPF10-2","6 / -",0.107,0.16900000000000001,9.34,{"$f":"VLOOKUP(B3427,#REF!,3,FALSE)","v":{"$error":"#REF!"}}]
[null,null,null,"Level  2","Предохранительные разъединители нагрузки"]
[null,null,null,"Level  3","FH000 - Предохранительные разъединители нагрузки Varius типоразмера 000 до 160 A"]
[null,null,null,"Level  4","FH000 - Предохранительные разъединители нагрузки"]
["Varius","Varius FH","LP1","OEZ:11899","FH000-1A/T","Предохранительный разъединитель нагрузки","Ie 160 A (240 A/ZP000), Ue 690 V, 1-полюс. исполнение, хомутные зажимы 1,5-50 mm2","1 / -",0.28000000000000003,0.77400000000000002,17.430000000000003,{"$f":"VLOOKUP(B3431,#REF!,3,FALSE)","v":{"$error":"#REF!"}}]
["Varius","Varius FH","LP1","OEZ:14000","FH000-1S/T","Предохранительный разъединитель нагрузки","Ie 160 A (240 A/ZP000), Ue 690 V, 1-полюс. исполнение с сигнализацией состояния предохранителей, хомутные зажимы 1,5-50 mm2","1 / -",0.32,0.77400000000000002,38.54,{"$f":"VLOOKUP(B3432,#REF!,3,FALSE)","v":{"$error":"#REF!"}}]
["Varius","Varius FH","LP1","OEZ:12362","FH000-3A/T","Предохранительный разъединитель нагрузки","Ie 160 A (240 A/ZP000), Ue 690 V, 3-полюсное исполнение, хомутные зажимы 1,5-50 mm2","1 / -",0.62,1.244,29.560000000000002,{"$f":"VLOOKUP(B3433,#REF!,3,FALSE)","v":{"$error":"#REF!"}}]
["Varius","Varius FH","LP1","OEZ:11901","FH000-3S/T","Предохранительный разъединитель нагрузки","Ie 160 A (240 A/ZP000), Ue 690 V, 3-полюсное исполнение с сигнализацией состояния предохранителей, хомутные зажимы 1,5-50 mm2","1 / -",0.72199999999999998,1.597,91.06,{"$f":"VLOOKUP(B3434,#REF!,3,FALSE)","v":{"$error":"#REF!"}}]
["Varius","Varius FH","LP1","OEZ:13695","FH000-3SB/T","Предохранительный разъединитель нагрузки","Ie 160 A (240 A/ZP000), Ue 690 V, 3-полюсное исполнение с сигнализацией состояния предохранителей, разъём без кабеля, хомутные зажимы 1,5-50 mm2","1 / -",0.65800000000000003,1.597,70.010000000000005,{"$f":"VLOOKUP(B3435,#REF!,3,FALSE)","v":{"$error":"#REF!"}}]
["Varius","Varius FH","LP1","OEZ:20766","FH000-3L/T","Предохранительный разъединитель нагрузки","Ie 160 A (240 A/ZP000), Ue 690 V, 3-полюсное исполнение со световой сигнализацией состояния предохранителей, хомутные зажимы 1,5-50 mm2","1 / -",0.99,1.244,89.25,{"$f":"VLOOKUP(B3436,#REF!,3,FALSE)","v":{"$error":"#REF!"}}]
[null,null,null,"Level  4","CS-FH000 - Присоединительные комплекты"]
["Varius","Varius FH","LP1","OEZ:14378","CS-FH000-1NP95","Адаптер для присоединения","с прямым выводом, сечение Cu/Al 35-95 mm2, для FH000-1./T, LVN, LST-DC, SJBplus, 1 шт.","1 / -",7.0000000000000007E-2,0.15,6.02,{"$f":"VLOOKUP(B3438,#REF!,3,FALSE)","v":{"$error":"#REF!"}}]
["Varius","Varius FH","LP1","OEZ:13740","CS-FH000-3NP95","Адаптеры для присоединения","с прямым выводом, сечение Cu/Al 35 ÷ 95 mm2, для FH000-3./T, OPVP22, LVN, LST-DC, SJBplus, комплект 3 шт.","1 / -",0.17599999999999999,0.14899999999999999,17.55,{"$f":"VLOOKUP(B3439,#REF!,3,FALSE)","v":{"$error":"#REF!"}}]
["Varius","Varius FH","LP1","OEZ:13742","CS-FH000-3NV95","Адаптеры для присоединения","с выгнутым выводом, сечение Cu/Al 35-95 mm2, для FH000-3./T, LVN, LST-DC, SJBplus, комплект 3 шт.","1 / -",0.184,0.32200000000000001,17.82,{"$f":"VLOOKUP(B3440,#REF!,3,FALSE)","v":{"$error":"#REF!"}}]
["Varius","Varius FH","LP1","OEZ:15589","CS-FH000-3ND95","Адаптеры для присоединения","с удлиненным выводом, сечение Cu/Al 35 ÷ 95 mm2, для FH000-3./T, OPVP22, комплект 3 шт.","1 / -",0.184,0.32200000000000001,19.39,{"$f":"VLOOKUP(B3441,#REF!,3,FALSE)","v":{"$error":"#REF!"}}]
["Varius","Varius FH","LP1","OEZ:14127","N3x10-FH000","Адаптеры для присоединения","штифт, тройной зажим, сечение 3× 10 mm2, комплект 3 шт.","1 / -",0.06,0.32100000000000001,30.12,{"$f":"VLOOKUP(B3442,#REF!,3,FALSE)","v":{"$error":"#REF!"}}]
["Varius","Varius FH","LP1","OEZ:34315","CS-FH000-3L2","Соединительная рейка","Imax 250 A, 3-полюсное исполнение, сечение 50 mm2, расстояние 25 mm, количество выводов 3 × 2, для FH000","5 / -",0.55500000000000005,0.16,32.879999999999995,{"$f":"VLOOKUP(B3443,#REF!,3,FALSE)","v":{"$error":"#REF!"}}]
["Varius","Varius FH","LP1","OEZ:34316","CS-FH000-3L3","Соединительная рейка","Imax 250 A, 3-полюсное исполнение, сечение 50 mm2, расстояние 25 mm, количество выводов 3 × 3, для FH000","5 / -",0.97,0.24299999999999999,53.62,{"$f":"VLOOKUP(B3444,#REF!,3,FALSE)","v":{"$error":"#REF!"}}]
["Varius","Varius FH","LP1","OEZ:34317","CS-FH000-3L4","Соединительная рейка","Imax 250 A, 3-полюсное исполнение, сечение 50 mm2, расстояние 25 mm, количество выводов 3 × 4, для FH000","5 / -",1.3859999999999999,0.32400000000000001,75.17,{"$f":"VLOOKUP(B3445,#REF!,3,FALSE)","v":{"$error":"#REF!"}}]
["Varius","Varius FH","LP1","OEZ:34318","CS-FH000-3L5","Соединительная рейка","Imax 250 A, 3-полюсное исполнение, сечение 50 mm2, расстояние 25 mm, количество выводов 3 × 5, для FH000","5 / -",1.8009999999999999,0.40500000000000003,96.160000000000011,{"$f":"VLOOKUP(B3446,#REF!,3,FALSE)","v":{"$error":"#REF!"}}]
[null,null,null,"Level  4","OD-FH000 - Принадлежности"]
["Varius","Varius FH","LP1","OEZ:18643","OD-FH000-AL60","Адаптер к сборным шинам","расстояние 60 mm, толщина сборных шин 5-12 mm, для FH000","1 / -",0.52500000000000002,2.5680000000000001,25.14,{"$f":"VLOOKUP(B3448,#REF!,3,FALSE)","v":{"$error":"#REF!"}}]
["Varius","Varius FH","LP1","OEZ:18652","OD-FH000-KPA","Крышка соединительного пространства адаптера","для OD-FH000-AL60","1 / -",3.7999999999999999E-2,0.81,3.44,{"$f":"VLOOKUP(B3449,#REF!,3,FALSE)","v":{"$error":"#REF!"}}]
["Varius","Varius FH","LP1","OEZ:38427","OD-FH000-VU","Вставка для запирания","для FH000","1 / -",6.0000000000000001E-3,0.17699999999999999,1.75,{"$f":"VLOOKUP(B3450,#REF!,3,FALSE)","v":{"$error":"#REF!"}}]
["Varius","Varius FH","LP1","OEZ:14136","OD-FH000-SS24","Соединительный комплект","для составления 2-х полюсного или 4-х полюсного разъединителя нагрузки","1 / -",4.0000000000000001E-3,0.01,1.72,{"$f":"VLOOKUP(B3451,#REF!,3,FALSE)","v":{"$error":"#REF!"}}]
["Varius","Varius FH","LP1","OEZ:15185","OD-FH000-Z1","Барьер","защита от опасного прикосновения для FH000-1","1 / -",6.0000000000000001E-3,3.5000000000000003E-2,1.31,{"$f":"VLOOKUP(B3452,#REF!,3,FALSE)","v":{"$error":"#REF!"}}]
["Varius","Varius FH","LP1","OEZ:15186","OD-FH000-Z3","Барьер","защита от опасного прикосновения для FH000-3","1 / -",8.0000000000000002E-3,0.02,1.55,{"$f":"VLOOKUP(B3453,#REF!,3,FALSE)","v":{"$error":"#REF!"}}]
["Varius","Varius FH","LP1","OEZ:12928","OD-FH000-KR","Защитная рама","для FH000-3","1 / -",1.7999999999999999E-2,0.03,7.92,{"$f":"VLOOKUP(B3454,#REF!,3,FALSE)","v":{"$error":"#REF!"}}]
[null,null,null,"Level  4","ND-FH000 - Запасные части"]
["Varius","Varius FH","LP1","OEZ:33720","ND-FH000-V1","Запасная часть","1-полюсная крышка без сигнализации состояния предохранителей, размер 000","1 / -",7.4999999999999997E-2,0.77400000000000002,8.16,{"$f":"VLOOKUP(B3456,#REF!,3,FALSE)","v":{"$error":"#REF!"}}]
["Varius","Varius FH","LP1","OEZ:33719","ND-FH000-V3","Запасная часть","3-полюсная крышка без сигнализации состояния предохранителей, размер 000","1 / -",0.182,1.597,10.56,{"$f":"VLOOKUP(B3457,#REF!,3,FALSE)","v":{"$error":"#REF!"}}]
["Varius","Varius FH","LP1","OEZ:14135","ND-FH000-VS1","Запасная часть","1-полюсная крышка с сигнализацией состояния предохранителей, составной частью является кабель с разъёмом, размер 000","1 / -",0.112,0.77400000000000002,25.41,{"$f":"VLOOKUP(B3458,#REF!,3,FALSE)","v":{"$error":"#REF!"}}]
["Varius","Varius FH","LP1","OEZ:14134","ND-FH000-VS3","Запасная часть","3-полюсная крышка с сигнализацией состояния предохранителей, составной частью является кабель с разъёмом, размер 000","1 / -",0.28000000000000003,1.597,59.55,{"$f":"VLOOKUP(B3459,#REF!,3,FALSE)","v":{"$error":"#REF!"}}]
["Varius","Varius FH","LP1","OEZ:33509","ND-FH000-VL3","Запасная часть","3-полюсная крышка со световой сигнализацией состояния предохранителей, размер 000","1 / -",0.32,1.597,35.19,{"$f":"VLOOKUP(B3460,#REF!,3,FALSE)","v":{"$error":"#REF!"}}]
["Varius","Varius FH","LP1","OEZ:33519","ND-FH-SZ10","Запасная часть","разъём для 1-полюсный разъединитель нагрузки с дистанционной сигнализацией состояния предохранителей, без кабеля","1 / -",2E-3,0.17299999999999999,2.73,{"$f":"VLOOKUP(B3461,#REF!,3,FALSE)","v":{"$error":"#REF!"}}]
["Varius","Varius FH","LP1","OEZ:33520","ND-FH-SZ13","Запасная часть","разъём для 1-полюсный разъединитель нагрузки с дистанционной сигнализацией состояния предохранителей, 3 жильный кабель","1 / -",2.3E-2,0.17299999999999999,6.38,{"$f":"VLOOKUP(B3462,#REF!,3,FALSE)","v":{"$error":"#REF!"}}]
["Varius","Varius FH","LP1","OEZ:33521","ND-FH-SZ30","Запасная часть","разъём для 3-полюсный разъединитель нагрузки с дистанционной сигнализацией состояния предохранителей, без кабеля","1 / -",4.0000000000000001E-3,0.17299999999999999,4.66,{"$f":"VLOOKUP(B3463,#REF!,3,FALSE)","v":{"$error":"#REF!"}}]
["Varius","Varius FH","LP1","OEZ:33522","ND-FH-SZ39","Запасная часть","разъём для 3-полюсный разъединитель нагрузки с дистанционной сигнализацией состояния предохранителей, 9 жильный кабель","1 / -",6.9000000000000006E-2,0.17299999999999999,14.709999999999999,{"$f":"VLOOKUP(B3464,#REF!,3,FALSE)","v":{"$error":"#REF!"}}]
[null,null,null,"Level  3","FH00 - Предохранительные разъединители нагрузки Varius типоразмера 00 до 160 A"]
[null,null,null,"Level  4","FH00 - Предохранительные разъединители нагрузки"]
["Varius","Varius FH","LP1","OEZ:18621","FH00-1A/F","Предохранительный разъединитель нагрузки","Ie 160 A (250 A/ZP000), Ue 690 V, 1-полюс. исполнение, M8 - шестигран винты приложены","1 / -",0.27,0.94799999999999995,19.270000000000003,{"$f":"VLOOKUP(B3467,#REF!,3,FALSE)","v":{"$error":"#REF!"}}]
["Varius","Varius FH","LP1","OEZ:18623","FH00-1S/F","Предохранительный разъединитель нагрузки","Ie 160 A (250 A/ZP000), Ue 690 V, 1-полюс. исполнение с сигнализацией состояния предохранителей, M8 - шестигран винты приложены","1 / -",0.28699999999999998,0.94799999999999995,38.54,{"$f":"VLOOKUP(B3468,#REF!,3,FALSE)","v":{"$error":"#REF!"}}]
["Varius","Varius FH","LP1","OEZ:18622","FH00-3A/F","Предохранительный разъединитель нагрузки","Ie 160 A (250 A/ZP000), Ue 690 V, 3-полюсное исполнение, M8 - шестигран винты приложены","1 / -",0.78400000000000003,2.319,31.130000000000003,{"$f":"VLOOKUP(B3469,#REF!,3,FALSE)","v":{"$error":"#REF!"}}]
["Varius","Varius FH","LP1","OEZ:18624","FH00-3S/F","Предохранительный разъединитель нагрузки","Ie 160 A (250 A/ZP000), Ue 690 V, 3-полюсное исполнение с сигнализацией состояния предохранителей, M8 - шестигран винты приложены","1 / -",0.71199999999999997,2.319,87.440000000000012,{"$f":"VLOOKUP(B3470,#REF!,3,FALSE)","v":{"$error":"#REF!"}}]
["Varius","Varius FH","LP1","OEZ:18625","FH00-3SB/F","Предохранительный разъединитель нагрузки","Ie 160 A (250 A/ZP000), Ue 690 V, 3-полюсное исполнение с сигнализацией состояния предохранителей, разъём без кабеля, M8 - шестигран винты приложены","1 / -",0.82499999999999996,2.319,75.59,{"$f":"VLOOKUP(B3471,#REF!,3,FALSE)","v":{"$error":"#REF!"}}]
["Varius","Varius FH","LP1","OEZ:20767","FH00-3L/F","Предохранительный разъединитель нагрузки","Ie 160 A (250 A/ZP000), Ue 690 V, 3-полюсное исполнение со световой сигнализацией состояния предохранителей, M8 - шестигран винты приложены","1 / -",0.79,2.319,64.59,{"$f":"VLOOKUP(B3472,#REF!,3,FALSE)","v":{"$error":"#REF!"}}]
[null,null,null,"Level  4","CS-FH00 - Присоединительные комплекты"]
["Varius","Varius FH","LP1","OEZ:18626","CS-FH00-1S","Присоединительный комплект","накладной зажим для FH00-1./F, присоединение проводов Cu 2,5-70 mm2, 1 шт.","1 / -",1.7999999999999999E-2,2.4E-2,2.11,{"$f":"VLOOKUP(B3474,#REF!,3,FALSE)","v":{"$error":"#REF!"}}]
["Varius","Varius FH","LP1","OEZ:18627","CS-FH00-3S","Присоединительный комплект","накладные зажимы для FH00-3./F, присоединение проводов Cu 2,5-70 mm2, комплект 3 шт.","1 / -",5.3999999999999999E-2,0.08,2.2599999999999998,{"$f":"VLOOKUP(B3475,#REF!,3,FALSE)","v":{"$error":"#REF!"}}]
["Varius","Varius FH","LP1","OEZ:18628","CS-FH00-1P1","Присоединительный комплект","призматический зажим для FH00-1./F, присоединение проводов Cu/Al 10-95 mm2, 1 шт.","1 / -",4.4999999999999998E-2,1.6E-2,4.87,{"$f":"VLOOKUP(B3476,#REF!,3,FALSE)","v":{"$error":"#REF!"}}]
["Varius","Varius FH","LP1","OEZ:18629","CS-FH00-3P1","Присоединительный комплект","призматические зажимы для FH00-3./F, присоединение проводов Cu/Al 10-95 mm2, комплект 3 шт.","1 / -",0.13200000000000001,4.8000000000000001E-2,13.82,{"$f":"VLOOKUP(B3477,#REF!,3,FALSE)","v":{"$error":"#REF!"}}]
["Varius","Varius FH","LP1","OEZ:20764","CS-FH00-3N","Адаптер","для FH00-3./F, запрессовочная гайка M8, шестигран винты приложены, для двух кабельных наконечников, комплект 3 шт.","1 / -",5.0999999999999997E-2,0.17199999999999999,5.04,{"$f":"VLOOKUP(B3478,#REF!,3,FALSE)","v":{"$error":"#REF!"}}]
["Varius","Varius FH","LP1","OEZ:20765","CS-FH00-3Z","Присоединительный комплект","зажимы для заднего подвода для FH00-3, комплект 3 шт.","1 / -",7.6999999999999999E-2,0.28799999999999998,4.54,{"$f":"VLOOKUP(B3479,#REF!,3,FALSE)","v":{"$error":"#REF!"}}]
["Varius","Varius FH","LP1","OEZ:34394","CS-FH00-3L2","Соединительная рейка","Imax 250 A, 3-полюсное исполнение, сечение 50 mm2, расстояние 33 mm, количество выводов 3 × 2, для FH00","1 / -",0.9,0.22800000000000001,48.699999999999996,{"$f":"VLOOKUP(B3480,#REF!,3,FALSE)","v":{"$error":"#REF!"}}]
["Varius","Varius FH","LP1","OEZ:34395","CS-FH00-3L3","Соединительная рейка","Imax 250 A, 3-полюсное исполнение, сечение 50 mm2, расстояние 33 mm, количество выводов 3 × 3, для FH00","1 / -",1.601,0.34200000000000003,81.84,{"$f":"VLOOKUP(B3481,#REF!,3,FALSE)","v":{"$error":"#REF!"}}]
["Varius","Varius FH","LP1","OEZ:34396","CS-FH00-3L4","Соединительная рейка","Imax 250 A, 3-полюсное исполнение, сечение 50 mm2, расстояние 33 mm, количество выводов 3 × 4, для FH00","1 / -",2.3029999999999999,0.45600000000000002,115.22,{"$f":"VLOOKUP(B3482,#REF!,3,FALSE)","v":{"$error":"#REF!"}}]
["Varius","Varius FH","LP1","OEZ:34397","CS-FH00-3L5","Соединительная рейка","Imax 250 A, 3-полюсное исполнение, сечение 50 mm2, расстояние 33 mm, количество выводов 3 × 5, для FH00","1 / -",3.0049999999999999,0.57099999999999995,156.94999999999999,{"$f":"VLOOKUP(B3483,#REF!,3,FALSE)","v":{"$error":"#REF!"}}]
[null,null,null,"Level  4","OD-FH00 - Принадлежности"]
["Varius","Varius FH","LP1","OEZ:18630","OD-FH00-AL60","Адаптер к сборным шинам","расстояние 60 mm, толщина сборных шин 5-12 mm, для FH00","1 / -",0.51300000000000001,2.5680000000000001,36.199999999999996,{"$f":"VLOOKUP(B3485,#REF!,3,FALSE)","v":{"$error":"#REF!"}}]
["Varius","Varius FH","LP1","OEZ:18632","OD-FH00-KP1","Крышка соединительного пространства","для FH00-1./F","1 / -",1.2999999999999999E-2,0.27,1.64,{"$f":"VLOOKUP(B3486,#REF!,3,FALSE)","v":{"$error":"#REF!"}}]
["Varius","Varius FH","LP1","OEZ:18633","OD-FH00-KP3","Крышка соединительного пространства","для FH00-3./F","1 / -",7.0000000000000007E-2,0.60799999999999998,3.3499999999999996,{"$f":"VLOOKUP(B3487,#REF!,3,FALSE)","v":{"$error":"#REF!"}}]
["Varius","Varius FH","LP1","OEZ:18631","OD-FH00-SS24","Соединительный комплект","для составления 2-х полюсного или 4-х полюсного разъединителя нагрузки","1 / -",7.0000000000000001E-3,2.1000000000000001E-2,5.55,{"$f":"VLOOKUP(B3488,#REF!,3,FALSE)","v":{"$error":"#REF!"}}]
["Varius","Varius FH","LP1","OEZ:18634","OD-FH00-Z3","Барьер","защита от опасного прикосновения для FH00-3","1 / -",1.6E-2,0.20300000000000001,1.78,{"$f":"VLOOKUP(B3489,#REF!,3,FALSE)","v":{"$error":"#REF!"}}]
["Varius","Varius FH","LP1","OEZ:18635","OD-FH00-KR","Защитная рама","для FH00-3","1 / -",2.5999999999999999E-2,3.9E-2,10.53,{"$f":"VLOOKUP(B3490,#REF!,3,FALSE)","v":{"$error":"#REF!"}}]
[null,null,null,"Level  4","ND-FH00 - Запасные части"]
["Varius","Varius FH","LP1","OEZ:33722","ND-FH00-V1","Запасная часть","1-полюсная крышка без сигнализации состояния предохранителей, размер 00","1 / -",8.3000000000000004E-2,0.94799999999999995,18.440000000000001,{"$f":"VLOOKUP(B3492,#REF!,3,FALSE)","v":{"$error":"#REF!"}}]
["Varius","Varius FH","LP1","OEZ:33721","ND-FH00-V3","Запасная часть","3-полюсная крышка без сигнализации состояния предохранителей, размер 00","1 / -",0.20300000000000001,2.319,12.99,{"$f":"VLOOKUP(B3493,#REF!,3,FALSE)","v":{"$error":"#REF!"}}]
["Varius","Varius FH","LP1","OEZ:18680","ND-FH00-VS1","Запасная часть","1-полюсная крышка с сигнализацией состояния предохранителей, составной частью является кабель с разъёмом, размер 00","1 / -",0.1,0.94799999999999995,27.240000000000002,{"$f":"VLOOKUP(B3494,#REF!,3,FALSE)","v":{"$error":"#REF!"}}]
["Varius","Varius FH","LP1","OEZ:18681","ND-FH00-VS3","Запасная часть","3-полюсная крышка с сигнализацией состояния предохранителей, составной частью является кабель с разъёмом, размер 00","1 / -",0.23799999999999999,2.3199999999999998,62.72,{"$f":"VLOOKUP(B3495,#REF!,3,FALSE)","v":{"$error":"#REF!"}}]
["Varius","Varius FH","LP1","OEZ:33510","ND-FH00-VL3","Запасная часть","3-полюсная крышка со световой сигнализацией состояния предохранителей, размер 00","1 / -",0.27900000000000003,2.319,44.23,{"$f":"VLOOKUP(B3496,#REF!,3,FALSE)","v":{"$error":"#REF!"}}]
["Varius","Varius FH","LP1","OEZ:33519","ND-FH-SZ10","Запасная часть","разъём для 1-полюсный разъединитель нагрузки с дистанционной сигнализацией состояния предохранителей, без кабеля","1 / -",2E-3,0.17299999999999999,2.73,{"$f":"VLOOKUP(B3497,#REF!,3,FALSE)","v":{"$error":"#REF!"}}]
["Varius","Varius FH","LP1","OEZ:33520","ND-FH-SZ13","Запасная часть","разъём для 1-полюсный разъединитель нагрузки с дистанционной сигнализацией состояния предохранителей, 3 жильный кабель","1 / -",2.3E-2,0.17299999999999999,6.38,{"$f":"VLOOKUP(B3498,#REF!,3,FALSE)","v":{"$error":"#REF!"}}]
["Varius","Varius FH","LP1","OEZ:33521","ND-FH-SZ30","Запасная часть","разъём для 3-полюсный разъединитель нагрузки с дистанционной сигнализацией состояния предохранителей, без кабеля","1 / -",4.0000000000000001E-3,0.17299999999999999,4.66,{"$f":"VLOOKUP(B3499,#REF!,3,FALSE)","v":{"$error":"#REF!"}}]
["Varius","Varius FH","LP1","OEZ:33522","ND-FH-SZ39","Запасная часть","разъём для 3-полюсный разъединитель нагрузки с дистанционной сигнализацией состояния предохранителей, 9 жильный кабель","1 / -",6.9000000000000006E-2,0.17299999999999999,14.709999999999999,{"$f":"VLOOKUP(B3500,#REF!,3,FALSE)","v":{"$error":"#REF!"}}]
[null,null,null,"Level  3","FH1 - Предохранительные разъединители нагрузки Varius типоразмера 1 до 250 A"]
[null,null,null,"Level  4","FH1 - Предохранительные разъединители нагрузки"]
["Varius","Varius FH","LP1","OEZ:14362","FH1-1A/F","Предохранительный разъединитель нагрузки","Ie 250 A (325 A/ZP1), Ue 690 V, 1-полюс. исполнение, M10 - винты приложены","1 / -",1.1639999999999999,3.0720000000000001,46.57,{"$f":"VLOOKUP(B3503,#REF!,3,FALSE)","v":{"$error":"#REF!"}}]
["Varius","Varius FH","LP1","OEZ:14363","FH1-1S/F","Предохранительный разъединитель нагрузки","Ie 250 A (325 A/ZP1), Ue 690 V, 1-полюс. исполнение с сигнализацией состояния предохранителей, M10 - винты приложены","1 / -",1.1200000000000001,3.0720000000000001,113.05000000000001,{"$f":"VLOOKUP(B3504,#REF!,3,FALSE)","v":{"$error":"#REF!"}}]
["Varius","Varius FH","LP1","OEZ:14364","FH1-3A/F","Предохранительный разъединитель нагрузки","Ie 250 A (325 A/ZP1), Ue 690 V, 3-полюсное исполнение, M10 - винты приложены","1 / -",2.786,7.5789999999999997,86.940000000000012,{"$f":"VLOOKUP(B3505,#REF!,3,FALSE)","v":{"$error":"#REF!"}}]
["Varius","Varius FH","LP1","OEZ:14365","FH1-3S/F","Предохранительный разъединитель нагрузки","Ie 250 A (325 A/ZP1), Ue 690 V, 3-полюсное исполнение с сигнализацией состояния предохранителей, M10 - винты приложены","1 / -",2.6749999999999998,7.5789999999999997,200.16,{"$f":"VLOOKUP(B3506,#REF!,3,FALSE)","v":{"$error":"#REF!"}}]
["Varius","Varius FH","LP1","OEZ:14367","FH1-3SB/F","Предохранительный разъединитель нагрузки","Ie 250 A (325 A/ZP1), Ue 690 V, 3-полюсное исполнение с сигнализацией состояния предохранителей, разъём без кабеля, M10 - винты приложены","1 / -",2.68,7.5789999999999997,189.64,{"$f":"VLOOKUP(B3507,#REF!,3,FALSE)","v":{"$error":"#REF!"}}]
["Varius","Varius FH","LP1","OEZ:20769","FH1-3L/F","Предохранительный разъединитель нагрузки","Ie 250 A (325 A/ZP1), Ue 690 V, 3-полюсное исполнение со световой сигнализацией состояния предохранителей, M10 - винты приложены","1 / -",2.7,7.5789999999999997,133.94999999999999,{"$f":"VLOOKUP(B3508,#REF!,3,FALSE)","v":{"$error":"#REF!"}}]
[null,null,null,"Level  4","CS-FH1 - Присоединительные комплекты"]
["Varius","Varius FH","LP1","OEZ:15814","CS-FH12-1SM","Присоединительный комплект","накладной зажим для FH1-1./F, FH2-1./F, присоединение проводов Cu 6-16 mm2, 1 шт.","1 / -",6.6000000000000003E-2,5.3999999999999999E-2,2.88,{"$f":"VLOOKUP(B3510,#REF!,3,FALSE)","v":{"$error":"#REF!"}}]
["Varius","Varius FH","LP1","OEZ:15591","CS-FH12-1S","Присоединительный комплект","накладной зажим для FH1-1./F, FH2-1./F, присоединение проводов Cu 25-150 mm2, 1 шт.","1 / -",7.2999999999999995E-2,5.3999999999999999E-2,2.94,{"$f":"VLOOKUP(B3511,#REF!,3,FALSE)","v":{"$error":"#REF!"}}]
["Varius","Varius FH","LP1","OEZ:15592","CS-FH12-1P1","Присоединительный комплект","призматический зажим для FH1-1./F, FH2-1./F, присоединение проводов Cu/Al 70-150 mm2, 1 шт.","1 / -",0.13300000000000001,7.8E-2,9.2200000000000006,{"$f":"VLOOKUP(B3512,#REF!,3,FALSE)","v":{"$error":"#REF!"}}]
["Varius","Varius FH","LP1","OEZ:15593","CS-FH12-1P2","Присоединительный комплект","двойной призматический зажим для FH1-1./F, FH2-1./F, присоединение проводов Cu/Al 2× 70-95 mm2, 1 шт.","1 / -",0.193,0.17599999999999999,13.14,{"$f":"VLOOKUP(B3513,#REF!,3,FALSE)","v":{"$error":"#REF!"}}]
["Varius","Varius FH","LP1","OEZ:15815","CS-FH12-3SM","Присоединительный комплект","накладные зажимы для FH1-3./F, FH2-3./F, присоединение проводов Cu 6-16 mm2, комплект 3 шт.","1 / -",0.2,0.16200000000000001,8.7200000000000006,{"$f":"VLOOKUP(B3514,#REF!,3,FALSE)","v":{"$error":"#REF!"}}]
["Varius","Varius FH","LP1","OEZ:18226","CS-FH12-3S","Присоединительный комплект","накладные зажимы для FH1-3./F, FH2-3./F, присоединение проводов Cu 25-150 mm2, комплект 3 шт.","1 / -",0.22900000000000001,0.89700000000000002,8.01,{"$f":"VLOOKUP(B3515,#REF!,3,FALSE)","v":{"$error":"#REF!"}}]
["Varius","Varius FH","LP1","OEZ:18227","CS-FH12-3P1","Присоединительный комплект","призматические зажимы для FH1-3./F, FH2-3./F, присоединение проводов Cu/Al 70-150 mm2, комплект 3 шт.","1 / -",0.4,0.23400000000000001,27.810000000000002,{"$f":"VLOOKUP(B3516,#REF!,3,FALSE)","v":{"$error":"#REF!"}}]
["Varius","Varius FH","LP1","OEZ:18228","CS-FH12-3P2","Присоединительный комплект","двойные призматические зажимы для FH1-3./F, FH2-3./F, присоединение проводов Cu/Al 2× 70-95 mm2, комплект 3 шт.","1 / -",0.57999999999999996,0.60799999999999998,38.71,{"$f":"VLOOKUP(B3517,#REF!,3,FALSE)","v":{"$error":"#REF!"}}]
["Varius","Varius FH","LP1","OEZ:15594","CS-FH123-1Z","Присоединительный комплект","зажим для заднего подвода для 1-полюсного разъединителя нагрузки FH1, FH2, FH3","1 / -",0.17299999999999999,0.20300000000000001,13.37,{"$f":"VLOOKUP(B3518,#REF!,3,FALSE)","v":{"$error":"#REF!"}}]
["Varius","Varius FH","LP1","OEZ:18229","CS-FH123-3Z","Присоединительный комплект","зажим для заднего подвода для 3-полюсного разъединителя нагрузки FH1, FH2, FH3, комплект 3 шт.","1 / -",0.52,0.45100000000000001,39.28,{"$f":"VLOOKUP(B3519,#REF!,3,FALSE)","v":{"$error":"#REF!"}}]
[null,null,null,"Level  4","OD-FH1 - Принадлежности"]
["Varius","Varius FH","LP1","OEZ:17270","OD-FH1-AL60","Адаптер к сборным шинам","расстояние 60 mm, толщина сборных шин 5-12 mm, для FH1","1 / -",1.1000000000000001,6.0869999999999997,59.58,{"$f":"VLOOKUP(B3521,#REF!,3,FALSE)","v":{"$error":"#REF!"}}]
["Varius","Varius FH","LP1","OEZ:17269","OD-FH1-KP1","Крышка соединительного пространства","для FH1-1","1 / -",3.7999999999999999E-2,0.34100000000000003,2.8499999999999996,{"$f":"VLOOKUP(B3522,#REF!,3,FALSE)","v":{"$error":"#REF!"}}]
["Varius","Varius FH","LP1","OEZ:17268","OD-FH1-KP3","Крышка соединительного пространства","для FH1-3","1 / -",0.14499999999999999,1.5660000000000001,7.41,{"$f":"VLOOKUP(B3523,#REF!,3,FALSE)","v":{"$error":"#REF!"}}]
["Varius","Varius FH","LP1","OEZ:17271","OD-FH1-Z3","Барьер","защита от опасного прикосновения для FH1-3","1 / -",4.4999999999999998E-2,0.66500000000000004,2.3199999999999998,{"$f":"VLOOKUP(B3524,#REF!,3,FALSE)","v":{"$error":"#REF!"}}]
["Varius","Varius FH","LP1","OEZ:17267","OD-FH1-KR","Защитная рама","для FH1-3","1 / -",3.5999999999999997E-2,0.12,18.440000000000001,{"$f":"VLOOKUP(B3525,#REF!,3,FALSE)","v":{"$error":"#REF!"}}]
["Varius","Varius FH","LP1","OEZ:18230","OD-FH123-VU","Вставка для запирания","для висячего замка, для FH1, FH2, FH3, FSD00","1 / -",6.0000000000000001E-3,2.5999999999999999E-2,1.84,{"$f":"VLOOKUP(B3526,#REF!,3,FALSE)","v":{"$error":"#REF!"}}]
["Varius","Varius FH","LP1","OEZ:17266","OD-FH123-SS24","Соединительный комплект","для составления 2-х полюсного или 4-х полюсного разъединителя нагрузки для FH1, FH2, FH3","1 / -",4.9000000000000002E-2,0.4,9.4599999999999991,{"$f":"VLOOKUP(B3527,#REF!,3,FALSE)","v":{"$error":"#REF!"}}]
["Varius","Varius FH","LP1","OEZ:12929","OD-FH-SK","Дистанционная сигнализация положения крышки","перекидной контакт, длина кабеля 1 m","1 / -",3.1E-2,0.33300000000000002,11.27,{"$f":"VLOOKUP(B3528,#REF!,3,FALSE)","v":{"$error":"#REF!"}}]
[null,null,null,"Level  4","ND-FH1 - Запасные части"]
["Varius","Varius FH","LP1","OEZ:33724","ND-FH1-V1","Запасная часть","1-полюсная крышка без сигнализации состояния предохранителей, размер 1","1 / -",0.26,3.0720000000000001,20.100000000000001,{"$f":"VLOOKUP(B3530,#REF!,3,FALSE)","v":{"$error":"#REF!"}}]
["Varius","Varius FH","LP1","OEZ:33723","ND-FH1-V3","Запасная часть","3-полюсная крышка без сигнализации состояния предохранителей, размер 1","1 / -",0.61399999999999999,7.5789999999999997,43.19,{"$f":"VLOOKUP(B3531,#REF!,3,FALSE)","v":{"$error":"#REF!"}}]
["Varius","Varius FH","LP1","OEZ:18682","ND-FH1-VS1","Запасная часть","1-полюсная крышка с сигнализацией состояния предохранителей, составной частью является кабель с разъёмом, размер 1","1 / -",0.27600000000000002,3.0720000000000001,32.76,{"$f":"VLOOKUP(B3532,#REF!,3,FALSE)","v":{"$error":"#REF!"}}]
["Varius","Varius FH","LP1","OEZ:18683","ND-FH1-VS3","Запасная часть","3-полюсная крышка с сигнализацией состояния предохранителей, составной частью является кабель с разъёмом, размер 1","1 / -",0.64900000000000002,7.5789999999999997,67.23,{"$f":"VLOOKUP(B3533,#REF!,3,FALSE)","v":{"$error":"#REF!"}}]
["Varius","Varius FH","LP1","OEZ:33511","ND-FH1-VL3","Запасная часть","3-полюсная крышка со световой сигнализацией состояния предохранителей, размер 1","1 / -",0.66900000000000004,7.5789999999999997,44.019999999999996,{"$f":"VLOOKUP(B3534,#REF!,3,FALSE)","v":{"$error":"#REF!"}}]
["Varius","Varius FH","LP1","OEZ:33519","ND-FH-SZ10","Запасная часть","разъём для 1-полюсный разъединитель нагрузки с дистанционной сигнализацией состояния предохранителей, без кабеля","1 / -",2E-3,0.17299999999999999,2.73,{"$f":"VLOOKUP(B3535,#REF!,3,FALSE)","v":{"$error":"#REF!"}}]
["Varius","Varius FH","LP1","OEZ:33520","ND-FH-SZ13","Запасная часть","разъём для 1-полюсный разъединитель нагрузки с дистанционной сигнализацией состояния предохранителей, 3 жильный кабель","1 / -",2.3E-2,0.17299999999999999,6.38,{"$f":"VLOOKUP(B3536,#REF!,3,FALSE)","v":{"$error":"#REF!"}}]
["Varius","Varius FH","LP1","OEZ:33521","ND-FH-SZ30","Запасная часть","разъём для 3-полюсный разъединитель нагрузки с дистанционной сигнализацией состояния предохранителей, без кабеля","1 / -",4.0000000000000001E-3,0.17299999999999999,4.66,{"$f":"VLOOKUP(B3537,#REF!,3,FALSE)","v":{"$error":"#REF!"}}]
["Varius","Varius FH","LP1","OEZ:33522","ND-FH-SZ39","Запасная часть","разъём для 3-полюсный разъединитель нагрузки с дистанционной сигнализацией состояния предохранителей, 9 жильный кабель","1 / -",6.9000000000000006E-2,0.17299999999999999,14.709999999999999,{"$f":"VLOOKUP(B3538,#REF!,3,FALSE)","v":{"$error":"#REF!"}}]
[null,null,null,"Level  3","FH2 - Предохранительные разъединители нагрузки Varius типоразмера 2 до 400 A"]
[null,null,null,"Level  4","FH2 - Предохранительные разъединители нагрузки"]
["Varius","Varius FH","LP1","OEZ:14369","FH2-1A/F","Предохранительный разъединитель нагрузки","Ie 400 A (520 A/ZP2), Ue 690 V, 1-полюс. исполнение, M10 - винты приложены","1 / -",1.28,4.1059999999999999,70.960000000000008,{"$f":"VLOOKUP(B3541,#REF!,3,FALSE)","v":{"$error":"#REF!"}}]
["Varius","Varius FH","LP1","OEZ:14371","FH2-1S/F","Предохранительный разъединитель нагрузки","Ie 400 A (520 A/ZP2), Ue 690 V, 1-полюс. исполнение с сигнализацией состояния предохранителей, M10 - винты приложены","1 / -",1.292,4.1059999999999999,152.20999999999998,{"$f":"VLOOKUP(B3542,#REF!,3,FALSE)","v":{"$error":"#REF!"}}]
["Varius","Varius FH","LP1","OEZ:14368","FH2-3A/F","Предохранительный разъединитель нагрузки","Ie 400 A (520 A/ZP2), Ue 690 V, 3-полюсное исполнение, M10 - винты приложены","1 / -",2.98,10.337,121.97,{"$f":"VLOOKUP(B3543,#REF!,3,FALSE)","v":{"$error":"#REF!"}}]
["Varius","Varius FH","LP1","OEZ:14370","FH2-3S/F","Предохранительный разъединитель нагрузки","Ie 400 A (520 A/ZP2), Ue 690 V, 3-полюсное исполнение с сигнализацией состояния предохранителей, M10 - винты приложены","1 / -",2.9950000000000001,10.337,226.87,{"$f":"VLOOKUP(B3544,#REF!,3,FALSE)","v":{"$error":"#REF!"}}]
["Varius","Varius FH","LP1","OEZ:14372","FH2-3SB/F","Предохранительный разъединитель нагрузки","Ie 400 A (520 A/ZP2), Ue 690 V, 3-полюсное исполнение с сигнализацией состояния предохранителей, разъём без кабеля, M10 - винты приложены","1 / -",3.532,10.337,214.26999999999998,{"$f":"VLOOKUP(B3545,#REF!,3,FALSE)","v":{"$error":"#REF!"}}]
["Varius","Varius FH","LP1","OEZ:20770","FH2-3L/F","Предохранительный разъединитель нагрузки","Ie 400 A (520 A/ZP2), Ue 690 V, 3-полюсное исполнение со световой сигнализацией состояния предохранителей, M10 - винты приложены","1 / -",3.3319999999999999,10.337,184.1,{"$f":"VLOOKUP(B3546,#REF!,3,FALSE)","v":{"$error":"#REF!"}}]
[null,null,null,"Level  4","CS-FH2 - Присоединительные комплекты"]
["Varius","Varius FH","LP1","OEZ:15814","CS-FH12-1SM","Присоединительный комплект","накладной зажим для FH1-1./F, FH2-1./F, присоединение проводов Cu 6-16 mm2, 1 шт.","1 / -",6.6000000000000003E-2,5.3999999999999999E-2,2.88,{"$f":"VLOOKUP(B3548,#REF!,3,FALSE)","v":{"$error":"#REF!"}}]
["Varius","Varius FH","LP1","OEZ:15591","CS-FH12-1S","Присоединительный комплект","накладной зажим для FH1-1./F, FH2-1./F, присоединение проводов Cu 25-150 mm2, 1 шт.","1 / -",7.2999999999999995E-2,5.3999999999999999E-2,2.94,{"$f":"VLOOKUP(B3549,#REF!,3,FALSE)","v":{"$error":"#REF!"}}]
["Varius","Varius FH","LP1","OEZ:15592","CS-FH12-1P1","Присоединительный комплект","призматический зажим для FH1-1./F, FH2-1./F, присоединение проводов Cu/Al 70-150 mm2, 1 шт.","1 / -",0.13300000000000001,7.8E-2,9.2200000000000006,{"$f":"VLOOKUP(B3550,#REF!,3,FALSE)","v":{"$error":"#REF!"}}]
["Varius","Varius FH","LP1","OEZ:15593","CS-FH12-1P2","Присоединительный комплект","двойной призматический зажим для FH1-1./F, FH2-1./F, присоединение проводов Cu/Al 2× 70-95 mm2, 1 шт.","1 / -",0.193,0.17599999999999999,13.14,{"$f":"VLOOKUP(B3551,#REF!,3,FALSE)","v":{"$error":"#REF!"}}]
["Varius","Varius FH","LP1","OEZ:15815","CS-FH12-3SM","Присоединительный комплект","накладные зажимы для FH1-3./F, FH2-3./F, присоединение проводов Cu 6-16 mm2, комплект 3 шт.","1 / -",0.2,0.16200000000000001,8.7200000000000006,{"$f":"VLOOKUP(B3552,#REF!,3,FALSE)","v":{"$error":"#REF!"}}]
["Varius","Varius FH","LP1","OEZ:18226","CS-FH12-3S","Присоединительный комплект","накладные зажимы для FH1-3./F, FH2-3./F, присоединение проводов Cu 25-150 mm2, комплект 3 шт.","1 / -",0.22900000000000001,0.89700000000000002,8.01,{"$f":"VLOOKUP(B3553,#REF!,3,FALSE)","v":{"$error":"#REF!"}}]
["Varius","Varius FH","LP1","OEZ:18227","CS-FH12-3P1","Присоединительный комплект","призматические зажимы для FH1-3./F, FH2-3./F, присоединение проводов Cu/Al 70-150 mm2, комплект 3 шт.","1 / -",0.4,0.23400000000000001,27.810000000000002,{"$f":"VLOOKUP(B3554,#REF!,3,FALSE)","v":{"$error":"#REF!"}}]
["Varius","Varius FH","LP1","OEZ:18228","CS-FH12-3P2","Присоединительный комплект","двойные призматические зажимы для FH1-3./F, FH2-3./F, присоединение проводов Cu/Al 2× 70-95 mm2, комплект 3 шт.","1 / -",0.57999999999999996,0.60799999999999998,38.71,{"$f":"VLOOKUP(B3555,#REF!,3,FALSE)","v":{"$error":"#REF!"}}]
["Varius","Varius FH","LP1","OEZ:15595","CS-FH2-1S","Присоединительный комплект","накладной зажим для FH2-1./F, присоединение проводов 25-240 mm2, 1 шт.","1 / -",0.08,0.59699999999999998,2.9699999999999998,{"$f":"VLOOKUP(B3556,#REF!,3,FALSE)","v":{"$error":"#REF!"}}]
["Varius","Varius FH","LP1","OEZ:15596","CS-FH2-1P1","Присоединительный комплект","призматический зажим для FH2-1./F, присоединение проводов Cu/Al 16-240 mm2, 1 шт.","1 / -",0.14000000000000001,8.6999999999999994E-2,10.82,{"$f":"VLOOKUP(B3557,#REF!,3,FALSE)","v":{"$error":"#REF!"}}]
["Varius","Varius FH","LP1","OEZ:15597","CS-FH2-1P2","Присоединительный комплект","двойной призматический зажим для FH2-1./F, присоединение проводов Cu/Al 2× 120-150 mm2, 1 шт.","1 / -",0.2,0.113,16.040000000000003,{"$f":"VLOOKUP(B3558,#REF!,3,FALSE)","v":{"$error":"#REF!"}}]
["Varius","Varius FH","LP1","OEZ:15811","CS-FH2-3S","Присоединительный комплект","накладные зажимы для FH2-3./F, присоединение проводов Cu 25-240 mm2, комплект 3 шт.","1 / -",0.24,0.16200000000000001,9.2200000000000006,{"$f":"VLOOKUP(B3559,#REF!,3,FALSE)","v":{"$error":"#REF!"}}]
["Varius","Varius FH","LP1","OEZ:15812","CS-FH2-3P1","Присоединительный комплект","призматические зажимы для FH2-3./F, присоединение проводов Cu/Al 16-240 mm2, комплект 3 шт.","1 / -",0.42,0.26100000000000001,32.19,{"$f":"VLOOKUP(B3560,#REF!,3,FALSE)","v":{"$error":"#REF!"}}]
["Varius","Varius FH","LP1","OEZ:15813","CS-FH2-3P2","Присоединительный комплект","двойные призматические зажимы для FH2-3./F, присоединение проводов Cu/Al 2× 120-150 mm2, комплект 3 шт.","1 / -",0.6,0.33900000000000002,46.01,{"$f":"VLOOKUP(B3561,#REF!,3,FALSE)","v":{"$error":"#REF!"}}]
["Varius","Varius FH","LP1","OEZ:15594","CS-FH123-1Z","Присоединительный комплект","зажим для заднего подвода для 1-полюсного разъединителя нагрузки FH1, FH2, FH3","1 / -",0.17299999999999999,0.20300000000000001,13.37,{"$f":"VLOOKUP(B3562,#REF!,3,FALSE)","v":{"$error":"#REF!"}}]
["Varius","Varius FH","LP1","OEZ:18229","CS-FH123-3Z","Присоединительный комплект","зажим для заднего подвода для 3-полюсного разъединителя нагрузки FH1, FH2, FH3, комплект 3 шт.","1 / -",0.52,0.45100000000000001,39.28,{"$f":"VLOOKUP(B3563,#REF!,3,FALSE)","v":{"$error":"#REF!"}}]
[null,null,null,"Level  4","OD-FH2 - Принадлежности"]
["Varius","Varius FH","LP1","OEZ:14382","OD-FH2-AL60","Адаптер к сборным шинам","расстояние 60 mm, толщина сборных шин 5-12 mm, для FH2","1 / -",1.35,7.8869999999999996,65.89,{"$f":"VLOOKUP(B3565,#REF!,3,FALSE)","v":{"$error":"#REF!"}}]
["Varius","Varius FH","LP1","OEZ:14381","OD-FH2-KP1","Крышка соединительного пространства","для FH2-1","1 / -",0.15,1.4259999999999999,5.1899999999999995,{"$f":"VLOOKUP(B3566,#REF!,3,FALSE)","v":{"$error":"#REF!"}}]
["Varius","Varius FH","LP1","OEZ:14380","OD-FH2-KP3","Крышка соединительного пространства","для FH2-3","1 / -",0.158,2.5680000000000001,8.8699999999999992,{"$f":"VLOOKUP(B3567,#REF!,3,FALSE)","v":{"$error":"#REF!"}}]
["Varius","Varius FH","LP1","OEZ:14383","OD-FH2-Z3","Барьер","защита от опасного прикосновения для FH2-3","1 / -",4.4999999999999998E-2,0.64,2.76,{"$f":"VLOOKUP(B3568,#REF!,3,FALSE)","v":{"$error":"#REF!"}}]
["Varius","Varius FH","LP1","OEZ:14379","OD-FH2-KR","Защитная рама","для FH2-3","1 / -",3.5999999999999997E-2,0.12,24.900000000000002,{"$f":"VLOOKUP(B3569,#REF!,3,FALSE)","v":{"$error":"#REF!"}}]
["Varius","Varius FH","LP1","OEZ:18230","OD-FH123-VU","Вставка для запирания","для висячего замка, для FH1, FH2, FH3, FSD00","1 / -",6.0000000000000001E-3,2.5999999999999999E-2,1.84,{"$f":"VLOOKUP(B3570,#REF!,3,FALSE)","v":{"$error":"#REF!"}}]
["Varius","Varius FH","LP1","OEZ:17266","OD-FH123-SS24","Соединительный комплект","для составления 2-х полюсного или 4-х полюсного разъединителя нагрузки для FH1, FH2, FH3","1 / -",4.9000000000000002E-2,0.4,9.4599999999999991,{"$f":"VLOOKUP(B3571,#REF!,3,FALSE)","v":{"$error":"#REF!"}}]
["Varius","Varius FH","LP1","OEZ:12929","OD-FH-SK","Дистанционная сигнализация положения крышки","перекидной контакт, длина кабеля 1 m","1 / -",3.1E-2,0.33300000000000002,11.27,{"$f":"VLOOKUP(B3572,#REF!,3,FALSE)","v":{"$error":"#REF!"}}]
[null,null,null,"Level  4","ND-FH2 - Запасные части"]
["Varius","Varius FH","LP1","OEZ:33726","ND-FH2-V1","Запасная часть","1-полюсная крышка без сигнализации состояния предохранителей, размер 2","1 / -",0.29099999999999998,4.1059999999999999,27.42,{"$f":"VLOOKUP(B3574,#REF!,3,FALSE)","v":{"$error":"#REF!"}}]
["Varius","Varius FH","LP1","OEZ:33725","ND-FH2-V3","Запасная часть","3-полюсная крышка без сигнализации состояния предохранителей, размер 2","1 / -",0.72899999999999998,10.337,32.989999999999995,{"$f":"VLOOKUP(B3575,#REF!,3,FALSE)","v":{"$error":"#REF!"}}]
["Varius","Varius FH","LP1","OEZ:18684","ND-FH2-VS1","Запасная часть","1-полюсная крышка с сигнализацией состояния предохранителей, составной частью является кабель с разъёмом, размер 2","1 / -",0.307,4.1059999999999999,32.79,{"$f":"VLOOKUP(B3576,#REF!,3,FALSE)","v":{"$error":"#REF!"}}]
["Varius","Varius FH","LP1","OEZ:18685","ND-FH2-VS3","Запасная часть","3-полюсная крышка с сигнализацией состояния предохранителей, составной частью является кабель с разъёмом, размер 2","1 / -",0.76400000000000001,10.337,83.740000000000009,{"$f":"VLOOKUP(B3577,#REF!,3,FALSE)","v":{"$error":"#REF!"}}]
["Varius","Varius FH","LP1","OEZ:33512","ND-FH2-VL3","Запасная часть","3-полюсная крышка со световой сигнализацией состояния предохранителей, размер 2","1 / -",0.80500000000000005,10.337,57.68,{"$f":"VLOOKUP(B3578,#REF!,3,FALSE)","v":{"$error":"#REF!"}}]
["Varius","Varius FH","LP1","OEZ:33519","ND-FH-SZ10","Запасная часть","разъём для 1-полюсный разъединитель нагрузки с дистанционной сигнализацией состояния предохранителей, без кабеля","1 / -",2E-3,0.17299999999999999,2.73,{"$f":"VLOOKUP(B3579,#REF!,3,FALSE)","v":{"$error":"#REF!"}}]
["Varius","Varius FH","LP1","OEZ:33520","ND-FH-SZ13","Запасная часть","разъём для 1-полюсный разъединитель нагрузки с дистанционной сигнализацией состояния предохранителей, 3 жильный кабель","1 / -",2.3E-2,0.17299999999999999,6.38,{"$f":"VLOOKUP(B3580,#REF!,3,FALSE)","v":{"$error":"#REF!"}}]
["Varius","Varius FH","LP1","OEZ:33521","ND-FH-SZ30","Запасная часть","разъём для 3-полюсный разъединитель нагрузки с дистанционной сигнализацией состояния предохранителей, без кабеля","1 / -",4.0000000000000001E-3,0.17299999999999999,4.66,{"$f":"VLOOKUP(B3581,#REF!,3,FALSE)","v":{"$error":"#REF!"}}]
["Varius","Varius FH","LP1","OEZ:33522","ND-FH-SZ39","Запасная часть","разъём для 3-полюсный разъединитель нагрузки с дистанционной сигнализацией состояния предохранителей, 9 жильный кабель","1 / -",6.9000000000000006E-2,0.17299999999999999,14.709999999999999,{"$f":"VLOOKUP(B3582,#REF!,3,FALSE)","v":{"$error":"#REF!"}}]
[null,null,null,"Level  3","FH3 - Предохранительные разъединители нагрузки Varius типоразмеров 3 до 630 A"]
[null,null,null,"Level  4","FH3 - Предохранительные разъединители нагрузки"]
["Varius","Varius FH","LP1","OEZ:14374","FH3-1A/F","Предохранительный разъединитель нагрузки","Ie 630 A (750 A/ZP3, 1000 A/ZP3/1000), Ue 690 V, 1-полюс. исполнение, M12 - винты приложены","1 / -",1.71,5.1509999999999998,123.57000000000001,{"$f":"VLOOKUP(B3585,#REF!,3,FALSE)","v":{"$error":"#REF!"}}]
["Varius","Varius FH","LP1","OEZ:14376","FH3-1S/F","Предохранительный разъединитель нагрузки","Ie 630 A (750 A/ZP3, 1000 A/ZP3/1000), Ue 690 V, 1-полюс. исполнение с сигнализацией состояния предохранителей, M12 - винты приложены","1 / -",1.722,5.1509999999999998,242.31,{"$f":"VLOOKUP(B3586,#REF!,3,FALSE)","v":{"$error":"#REF!"}}]
["Varius","Varius FH","LP1","OEZ:14373","FH3-3A/F","Предохранительный разъединитель нагрузки","Ie 630 A (750 A/ZP3, 1000 A/ZP3/1000), Ue 690 V, 3-полюсное исполнение, M12 - винты приложены","1 / -",4.992,13.912000000000001,160.67999999999998,{"$f":"VLOOKUP(B3587,#REF!,3,FALSE)","v":{"$error":"#REF!"}}]
["Varius","Varius FH","LP1","OEZ:14375","FH3-3S/F","Предохранительный разъединитель нагрузки","Ie 630 A (750 A/ZP3, 1000 A/ZP3/1000), Ue 690 V, 3-полюсное исполнение с сигнализацией состояния предохранителей, M12 - винты приложены","1 / -",4.2949999999999999,13.912000000000001,358.2,{"$f":"VLOOKUP(B3588,#REF!,3,FALSE)","v":{"$error":"#REF!"}}]
["Varius","Varius FH","LP1","OEZ:14377","FH3-3SB/F","Предохранительный разъединитель нагрузки","Ie 630 A (750 A/ZP3, 1000 A/ZP3/1000), Ue 690 V, 3-полюсное исполнение с сигнализацией состояния предохранителей, разъём без кабеля, M12 - винты приложены","1 / -",5.0179999999999998,13.912000000000001,337.09999999999997,{"$f":"VLOOKUP(B3589,#REF!,3,FALSE)","v":{"$error":"#REF!"}}]
["Varius","Varius FH","LP1","OEZ:20771","FH3-3L/F","Предохранительный разъединитель нагрузки","Ie 630 A (750 A/ZP3, 1000 A/ZP3/1000), Ue 690 V, 3-полюсное исполнение со световой сигнализацией состояния предохранителей, M12 - винты приложены","1 / -",4.4550000000000001,13.912000000000001,291.31,{"$f":"VLOOKUP(B3590,#REF!,3,FALSE)","v":{"$error":"#REF!"}}]
[null,null,null,"Level  4","CS-FH3 - Присоединительные комплекты"]
["Varius","Varius FH","LP1","OEZ:15800","CS-FH3-1P1","Присоединительный комплект","призматический зажим для FH3-1./F, присоединение проводов Cu/Al 120-300 mm2, 1 шт.","1 / -",0.14499999999999999,9.6000000000000002E-2,12.42,{"$f":"VLOOKUP(B3592,#REF!,3,FALSE)","v":{"$error":"#REF!"}}]
["Varius","Varius FH","LP1","OEZ:15801","CS-FH3-1P2","Присоединительный комплект","двойной призматический зажим для FH3-1./F, присоединение проводов Cu/Al 2× 120-240 mm2, 1 шт.","1 / -",0.20499999999999999,0.13,17.430000000000003,{"$f":"VLOOKUP(B3593,#REF!,3,FALSE)","v":{"$error":"#REF!"}}]
["Varius","Varius FH","LP1","OEZ:14384","CS-FH3-3P1","Присоединительный комплект","призматические зажимы для FH3-3./F, присоединение проводов Cu/Al 120-300 mm2, комплект 3 шт.","1 / -",0.435,0.28799999999999998,34.68,{"$f":"VLOOKUP(B3594,#REF!,3,FALSE)","v":{"$error":"#REF!"}}]
["Varius","Varius FH","LP1","OEZ:14385","CS-FH3-3P2","Присоединительный комплект","двойные призматические зажимы для FH3-.3/F, присоединение проводов Cu/Al 2× 120-240 mm2, комплект 3 шт.","1 / -",0.61499999999999999,0.39,48.97,{"$f":"VLOOKUP(B3595,#REF!,3,FALSE)","v":{"$error":"#REF!"}}]
["Varius","Varius FH","LP1","OEZ:15594","CS-FH123-1Z","Присоединительный комплект","зажим для заднего подвода для 1-полюсного разъединителя нагрузки FH1, FH2, FH3","1 / -",0.17299999999999999,0.20300000000000001,13.37,{"$f":"VLOOKUP(B3596,#REF!,3,FALSE)","v":{"$error":"#REF!"}}]
["Varius","Varius FH","LP1","OEZ:18229","CS-FH123-3Z","Присоединительный комплект","зажим для заднего подвода для 3-полюсного разъединителя нагрузки FH1, FH2, FH3, комплект 3 шт.","1 / -",0.52,0.45100000000000001,39.28,{"$f":"VLOOKUP(B3597,#REF!,3,FALSE)","v":{"$error":"#REF!"}}]
[null,null,null,"Level  4","OD-FH3 - Принадлежности"]
["Varius","Varius FH","LP1","OEZ:19557","OD-FH3-AL60","Адаптер к сборным шинам","расстояние 60 mm, толщина сборных шин 5-12 mm, для FH3","1 / -",1.6,7.89,305.06,{"$f":"VLOOKUP(B3599,#REF!,3,FALSE)","v":{"$error":"#REF!"}}]
["Varius","Varius FH","LP1","OEZ:14388","OD-FH3-KP1","Крышка соединительного пространства","для FH3-1","1 / -",7.4999999999999997E-2,1.4259999999999999,5.81,{"$f":"VLOOKUP(B3600,#REF!,3,FALSE)","v":{"$error":"#REF!"}}]
["Varius","Varius FH","LP1","OEZ:14387","OD-FH3-KP3","Крышка соединительного пространства","для FH3-3","1 / -",0.21,3.5510000000000002,11.709999999999999,{"$f":"VLOOKUP(B3601,#REF!,3,FALSE)","v":{"$error":"#REF!"}}]
["Varius","Varius FH","LP1","OEZ:14390","OD-FH3-Z3","Барьер","защита от опасного прикосновения для FH3-3","1 / -",0.04,1.04,3.6199999999999997,{"$f":"VLOOKUP(B3602,#REF!,3,FALSE)","v":{"$error":"#REF!"}}]
["Varius","Varius FH","LP1","OEZ:14386","OD-FH3-KR","Защитная рама","для FH3-3","1 / -",3.5999999999999997E-2,0.30199999999999999,25.17,{"$f":"VLOOKUP(B3603,#REF!,3,FALSE)","v":{"$error":"#REF!"}}]
["Varius","Varius FH","LP1","OEZ:18230","OD-FH123-VU","Вставка для запирания","для висячего замка, для FH1, FH2, FH3, FSD00","1 / -",6.0000000000000001E-3,2.5999999999999999E-2,1.84,{"$f":"VLOOKUP(B3604,#REF!,3,FALSE)","v":{"$error":"#REF!"}}]
["Varius","Varius FH","LP1","OEZ:17266","OD-FH123-SS24","Соединительный комплект","для составления 2-х полюсного или 4-х полюсного разъединителя нагрузки для FH1, FH2, FH3","1 / -",4.9000000000000002E-2,0.4,9.4599999999999991,{"$f":"VLOOKUP(B3605,#REF!,3,FALSE)","v":{"$error":"#REF!"}}]
["Varius","Varius FH","LP1","OEZ:12929","OD-FH-SK","Дистанционная сигнализация положения крышки","перекидной контакт, длина кабеля 1 m","1 / -",3.1E-2,0.33300000000000002,11.27,{"$f":"VLOOKUP(B3606,#REF!,3,FALSE)","v":{"$error":"#REF!"}}]
[null,null,null,"Level  4","ND-FH3 - Запасные части"]
["Varius","Varius FH","LP1","OEZ:33728","ND-FH3-V1","Запасная часть","1-полюсная крышка без сигнализации состояния предохранителей, размер 3","1 / -",0.34200000000000003,5.1509999999999998,53.03,{"$f":"VLOOKUP(B3608,#REF!,3,FALSE)","v":{"$error":"#REF!"}}]
["Varius","Varius FH","LP1","OEZ:33727","ND-FH3-V3","Запасная часть","3-полюсная крышка без сигнализации состояния предохранителей, размер 3","1 / -",1.18,13.912000000000001,38.799999999999997,{"$f":"VLOOKUP(B3609,#REF!,3,FALSE)","v":{"$error":"#REF!"}}]
["Varius","Varius FH","LP1","OEZ:18686","ND-FH3-VS1","Запасная часть","1-полюсная крышка с сигнализацией состояния предохранителей, составной частью является кабель с разъёмом, размер 3","1 / -",0.35799999999999998,5.1509999999999998,35.869999999999997,{"$f":"VLOOKUP(B3610,#REF!,3,FALSE)","v":{"$error":"#REF!"}}]
["Varius","Varius FH","LP1","OEZ:18687","ND-FH3-VS3","Запасная часть","3-полюсная крышка с сигнализацией состояния предохранителей, составной частью является кабель с разъёмом, размер 3","1 / -",0.96699999999999997,13.912000000000001,92.240000000000009,{"$f":"VLOOKUP(B3611,#REF!,3,FALSE)","v":{"$error":"#REF!"}}]
["Varius","Varius FH","LP1","OEZ:33513","ND-FH3-VL3","Запасная часть","3-полюсная крышка со световой сигнализацией состояния предохранителей, размер 3","1 / -",1.0069999999999999,13.912000000000001,65.63000000000001,{"$f":"VLOOKUP(B3612,#REF!,3,FALSE)","v":{"$error":"#REF!"}}]
["Varius","Varius FH","LP1","OEZ:33519","ND-FH-SZ10","Запасная часть","разъём для 1-полюсный разъединитель нагрузки с дистанционной сигнализацией состояния предохранителей, без кабеля","1 / -",2E-3,0.17299999999999999,2.73,{"$f":"VLOOKUP(B3613,#REF!,3,FALSE)","v":{"$error":"#REF!"}}]
["Varius","Varius FH","LP1","OEZ:33520","ND-FH-SZ13","Запасная часть","разъём для 1-полюсный разъединитель нагрузки с дистанционной сигнализацией состояния предохранителей, 3 жильный кабель","1 / -",2.3E-2,0.17299999999999999,6.38,{"$f":"VLOOKUP(B3614,#REF!,3,FALSE)","v":{"$error":"#REF!"}}]
["Varius","Varius FH","LP1","OEZ:33521","ND-FH-SZ30","Запасная часть","разъём для 3-полюсный разъединитель нагрузки с дистанционной сигнализацией состояния предохранителей, без кабеля","1 / -",4.0000000000000001E-3,0.17299999999999999,4.66,{"$f":"VLOOKUP(B3615,#REF!,3,FALSE)","v":{"$error":"#REF!"}}]
["Varius","Varius FH","LP1","OEZ:33522","ND-FH-SZ39","Запасная часть","разъём для 3-полюсный разъединитель нагрузки с дистанционной сигнализацией состояния предохранителей, 9 жильный кабель","1 / -",6.9000000000000006E-2,0.17299999999999999,14.709999999999999,{"$f":"VLOOKUP(B3616,#REF!,3,FALSE)","v":{"$error":"#REF!"}}]
[null,null,null,"Level  3","FHL - Держатели предохранителей"]
[null,null,null,"Level  3","LTL4a - Предохранительные разъединители нагрузки типоразмера 4a до 1600 A"]
[null,null,null,"Level  4","LTL4a - Предохранительные разъединители нагрузки до 1 250 A"]
["Varius","Varius FH","LP1","OEZ:08213","LTL4a-1x/9/1250","Предохранительный разъединитель нагрузки","Ie 1250 A, Ue 690 V, 1-полюс. исполнение, размер 4a, винт 1×M16","1 / -",5.5,28.574000000000002,521.14,{"$f":"VLOOKUP(B3620,#REF!,3,FALSE)","v":{"$error":"#REF!"}}]
["Varius","Varius FH","LP1","OEZ:08211","LTL4a-3x/9/1250","Предохранительный разъединитель нагрузки","Ie 1250 A, Ue 690 V, 3-полюсное исполнение, 1-полюсное управление, размер 4a, винт 1×M16","1 / -",16.100000000000001,28.574000000000002,1341.07,{"$f":"VLOOKUP(B3621,#REF!,3,FALSE)","v":{"$error":"#REF!"}}]
["Varius","Varius FH","LP1","OEZ:07886","LTL4a-3x3/9/1250","Предохранительный разъединитель нагрузки","Ie 1250 A, Ue 690 V, 3-полюсное исполнение, 3-полюсное управление, размер 4a, винт 1×M16","1 / -",16.5,28.574000000000002,1291.03,{"$f":"VLOOKUP(B3622,#REF!,3,FALSE)","v":{"$error":"#REF!"}}]
[null,null,null,"Level  4","LTL4a - Предохранительные разъединители нагрузки до 1 600 A"]
["Varius","Varius FH","LP1","OEZ:14806","LTL4a-1x/9/1600","Предохранительный разъединитель нагрузки","Ie 1600 A, Ue 690 V, 1-полюс. исполнение, размер 4a, винт 2×M12","1 / -",5.7,28.574000000000002,533.16999999999996,{"$f":"VLOOKUP(B3624,#REF!,3,FALSE)","v":{"$error":"#REF!"}}]
["Varius","Varius FH","LP1","OEZ:08714","LTL4a-3x/9/1600","Предохранительный разъединитель нагрузки","Ie 1600 a, Ue 690 V, 3-полюсное исполнение, 1-полюсное управление, размер 4a, винт 2×M12","1 / -",16.7,28.574000000000002,1458.8,{"$f":"VLOOKUP(B3625,#REF!,3,FALSE)","v":{"$error":"#REF!"}}]
["Varius","Varius FH","LP1","OEZ:08212","LTL4a-3x3/9/1600","Предохранительный разъединитель нагрузки","Ie 1600 A, Ue 690 V, 3-полюсное исполнение, 3-полюсное управление, размер 4a, винт 2×M12","1 / -",16.7,28.574000000000002,1370.5,{"$f":"VLOOKUP(B3626,#REF!,3,FALSE)","v":{"$error":"#REF!"}}]
[null,null,null,"Level  4","OD-LTL4a - Принадлежности"]
["Varius","Varius FH","LP1","OEZ:10423","EMV-LTL4a","Дистанционная сигнализация положения крышки","для LTL4a","1 / -",8.9999999999999993E-3,8.1000000000000003E-2,54.01,{"$f":"VLOOKUP(B3628,#REF!,3,FALSE)","v":{"$error":"#REF!"}}]
[null,null,null,"Level  2","Шинные предохранительные разъединители нагрузки и предохранительные рейки"]
[null,null,null,"Level  3","FSD00 - Шинные предохранительные разъединители нагрузки типоразмера 00 до 160 A"]
[null,null,null,"Level  4","FSD00-33K - 3-полюсное управление с расстоянием 100 mm"]
["Varius","Varius FSD","LP2","OEZ:43472","FSD00-33K-F","Шинный предохранительный разъединитель нагрузки","Ie 160 A (240 A/ZP000), Ue 690 V, 3-полюсное управление, расстояние сборных шин 100 mm, размер 00, M8, замена FD00-33K/F","1 / -",1.28,5.2069999999999999,52.879999999999995,{"$f":"VLOOKUP(B3632,#REF!,3,FALSE)","v":{"$error":"#REF!"}}]
["Varius","Varius FSD","LP2","OEZ:43473","FSD00-33K-FC","Шинный предохранительный разъединитель нагрузки","Ie 160 A (240 A/ZP000), Ue 690 V, 3-полюсное управление, расстояние сборных шин 100 mm, размер 00, M8, крышка соединительного пространства, замена FD00-33K/FC","1 / -",1.28,5.2069999999999999,53.949999999999996,{"$f":"VLOOKUP(B3633,#REF!,3,FALSE)","v":{"$error":"#REF!"}}]
["Varius","Varius FSD","LP2","OEZ:43474","FSD00-33K-FC-RM1","Шинный предохранительный разъединитель нагрузки","Ie 160 A (240 A/ZP000), Ue 690 V, 3-полюсное управление, расстояние сборных шин 100 mm, размер 00, крышка соединительного пространства, измерительные трансформаторы, коэффициент трансформации 100/5 A, класс точности 1, замена FD00-33K/FC-RM1","1 / -",1.96,5.2069999999999999,239.44,{"$f":"VLOOKUP(B3634,#REF!,3,FALSE)","v":{"$error":"#REF!"}}]
["Varius","Varius FSD","LP2","OEZ:43475","FSD00-33K-FC-M05","Шинный предохранительный разъединитель нагрузки","Ie 160 A (240 A/ZP000), Ue 690 V, 3-полюсное управление, расстояние сборных шин 100 mm, размер 00, крышка соединительного пространства, измерительные трансформаторы, коэффициент трансформации 200/5 A, класс точности 0,5, замена FD00-33K/FC-M05","1 / -",1.96,5.2069999999999999,340.14,{"$f":"VLOOKUP(B3635,#REF!,3,FALSE)","v":{"$error":"#REF!"}}]
["Varius","Varius FSD","LP2","OEZ:43476","FSD00-33K-FC-M1","Шинный предохранительный разъединитель нагрузки","Ie 160 A (240 A/ZP000), Ue 690 V, 3-полюсное управление, расстояние сборных шин 100 mm, размер 00, крышка соединительного пространства, измерительные трансформаторы, коэффициент трансформации 200/5 A, класс точности 1, замена FD00-33K/FC-M1","1 / -",1.96,5.2069999999999999,251.88,{"$f":"VLOOKUP(B3636,#REF!,3,FALSE)","v":{"$error":"#REF!"}}]
["Varius","Varius FSD","LP2","OEZ:43477","FSD00-33K-FC-M05C","Шинный предохранительный разъединитель нагрузки","Ie 160 A (240 A/ZP000), Ue 690 V, 3-полюсное управление, расстояние сборных шин 100 mm, размер 00, крышка соединительного пространства, калиброванные измерительные трансформаторы, коэффициент трансформации 200/5 A, класс точности 0,5, замена FD00-33K/FC-M05C","1 / -",1.96,5.2069999999999999,416.49,{"$f":"VLOOKUP(B3637,#REF!,3,FALSE)","v":{"$error":"#REF!"}}]
[null,null,null,"Level  4","FSD00-31D - 1-полюсное управление с расстоянием 185 mm"]
["Varius","Varius FSD","LP2","OEZ:43479","FSD00-31D-F","Шинный предохранительный разъединитель нагрузки","Ie 160 A (240 A/ZP000), Ue 690 V, 1-полюсное управление, расстояние сборных шин 185 mm, размер 00, замена FD00-31D/F","1 / -",1.67,7.2789999999999999,75.510000000000005,{"$f":"VLOOKUP(B3639,#REF!,3,FALSE)","v":{"$error":"#REF!"}}]
["Varius","Varius FSD","LP2","OEZ:43481","FSD00-31D-FC","Шинный предохранительный разъединитель нагрузки","Ie 160 A (240 A/ZP000), Ue 690 V, 1-полюсное управление, расстояние сборных шин 185 mm, размер 00, крышка соединительного пространства, замена FD00-31D/FC","1 / -",1.71,7.2789999999999999,75.06,{"$f":"VLOOKUP(B3640,#REF!,3,FALSE)","v":{"$error":"#REF!"}}]
["Varius","Varius FSD","LP2","OEZ:43483","FSD00-31D-FC-RM1","Шинный предохранительный разъединитель нагрузки","Ie 160 A (240 A/ZP000), Ue 690 V, 1-полюсное управление, расстояние сборных шин 185 mm, размер 00, крышка соединительного пространства, измерительные трансформаторы, коэффициент трансформации 100/5 A, класс точности 1, замена FD00-31D/FC-RM1","1 / -",2.2799999999999998,7.2919999999999998,256.68,{"$f":"VLOOKUP(B3641,#REF!,3,FALSE)","v":{"$error":"#REF!"}}]
["Varius","Varius FSD","LP2","OEZ:43485","FSD00-31D-FC-M05","Шинный предохранительный разъединитель нагрузки","Ie 160 A (240 A/ZP000), Ue 690 V, 1-полюсное управление, расстояние сборных шин 185 mm, размер 00, крышка соединительного пространства, измерительные трансформаторы, коэффициент трансформации 200/5 A, класс точности 0,5, замена FD00-31D/FC-M05","1 / -",2.012,7.2789999999999999,392.11,{"$f":"VLOOKUP(B3642,#REF!,3,FALSE)","v":{"$error":"#REF!"}}]
["Varius","Varius FSD","LP2","OEZ:43487","FSD00-31D-FC-M1","Шинный предохранительный разъединитель нагрузки","Ie 160 A (240 A/ZP000), Ue 690 V, 1-полюсное управление, расстояние сборных шин 185 mm, размер 00, крышка соединительного пространства, измерительные трансформаторы, коэффициент трансформации 200/5 A, класс точности 1, замена FD00-31D/FC-M1","1 / -",2.2799999999999998,7.2789999999999999,269.43,{"$f":"VLOOKUP(B3643,#REF!,3,FALSE)","v":{"$error":"#REF!"}}]
["Varius","Varius FSD","LP2","OEZ:43489","FSD00-31D-FC-M05C","Шинный предохранительный разъединитель нагрузки","Ie 160 A (240 A/ZP000), Ue 690 V, 1-полюсное управление, расстояние сборных шин 185 mm, размер 00, крышка соединительного пространства, калиброванные измерительные трансформаторы, коэффициент трансформации 200/5 A, класс точности 0,5, замена FD00-31D/FC-M05C","1 / -",2.2799999999999998,7.2789999999999999,476.38,{"$f":"VLOOKUP(B3644,#REF!,3,FALSE)","v":{"$error":"#REF!"}}]
[null,null,null,"Level  4","FSD00-33D - 3-полюсное управление с расстоянием 185 mm"]
["Varius","Varius FSD","LP2","OEZ:43480","FSD00-33D-F","Шинный предохранительный разъединитель нагрузки","Ie 160 A (240 A/ZP000), Ue 690 V, 3-полюсное управление, расстояние сборных шин 185 mm, размер 00, замена FD00-33D/F","1 / -",1.71,7.2789999999999999,76.050000000000011,{"$f":"VLOOKUP(B3646,#REF!,3,FALSE)","v":{"$error":"#REF!"}}]
["Varius","Varius FSD","LP2","OEZ:43482","FSD00-33D-FC","Шинный предохранительный разъединитель нагрузки","Ie 160 A (240 A/ZP000), Ue 690 V, 3-полюсное управление, расстояние сборных шин 185 mm, размер 00, крышка соединительного пространства, замена FD00-33D/FC","1 / -",1.74,7.2789999999999999,80.900000000000006,{"$f":"VLOOKUP(B3647,#REF!,3,FALSE)","v":{"$error":"#REF!"}}]
["Varius","Varius FSD","LP2","OEZ:43484","FSD00-33D-FC-RM1","Шинный предохранительный разъединитель нагрузки","Ie 160 A (240 A/ZP000), Ue 690 V, 3-полюсное управление, расстояние сборных шин 185 mm, размер 00, измерительные трансформаторы, коэффициент трансформации 100/5 A, класс точности 1, замена FD00-33D/FC-RM1","1 / -",2.3199999999999998,7.2919999999999998,258.43,{"$f":"VLOOKUP(B3648,#REF!,3,FALSE)","v":{"$error":"#REF!"}}]
["Varius","Varius FSD","LP2","OEZ:43486","FSD00-33D-FC-M05","Шинный предохранительный разъединитель нагрузки","Ie 160 A (240 A/ZP000), Ue 690 V, 3-полюсное управление, расстояние сборных шин 185 mm, размер 00, крышка соединительного пространства, измерительные трансформаторы, коэффициент трансформации 200/5 A, класс точности 0,5, замена FD00-33D/FC-M05","1 / -",2.012,7.2789999999999999,396.02,{"$f":"VLOOKUP(B3649,#REF!,3,FALSE)","v":{"$error":"#REF!"}}]
["Varius","Varius FSD","LP2","OEZ:43488","FSD00-33D-FC-M1","Шинный предохранительный разъединитель нагрузки","Ie 160 A (240 A/ZP000), Ue 690 V, 3-полюсное управление, расстояние сборных шин 185 mm, размер 00, крышка соединительного пространства, измерительные трансформаторы, коэффициент трансформации 200/5 A, класс точности 1, замена FD00-33D/FC-M1","1 / -",2.3199999999999998,7.2789999999999999,271.28999999999996,{"$f":"VLOOKUP(B3650,#REF!,3,FALSE)","v":{"$error":"#REF!"}}]
["Varius","Varius FSD","LP2","OEZ:43490","FSD00-33D-FC-M05C","Шинный предохранительный разъединитель нагрузки","Ie 160 A (240 A/ZP000), Ue 690 V, 3-полюсное управление, расстояние сборных шин 185 mm, размер 00, крышка соединительного пространства, калиброванные измерительные трансформаторы, коэффициент трансформации 200/5 A, класс точности 0,5, замена FD00-33D/FC-M05C","1 / -",2.3199999999999998,7.2789999999999999,480.26,{"$f":"VLOOKUP(B3651,#REF!,3,FALSE)","v":{"$error":"#REF!"}}]
[null,null,null,"Level  4","CS-FS00 - Присоединительные комплекты"]
["Varius","Varius FSD","LP2","OEZ:43421","CS-FS00-3H","Присоединительный комплект","соединительные крюки для FSD00, FSR00, комплект 3 шт.","1 / -",0.105,0.36,8.85,{"$f":"VLOOKUP(B3653,#REF!,3,FALSE)","v":{"$error":"#REF!"}}]
["Varius","Varius FSD","LP2","OEZ:43423","CS-FS00-3P1","Присоединительный комплект","призматические зажимы для FSD00, FSR00, комплект 3 шт.","1 / -",0.11,0.22500000000000001,13.51,{"$f":"VLOOKUP(B3654,#REF!,3,FALSE)","v":{"$error":"#REF!"}}]
["Varius","Varius FSD","LP2","OEZ:43425","CS-FS00-3S","Присоединительный комплект","накладные зажимы для FSD00, FSR00, комплект 3 шт.","1 / -",5.2999999999999999E-2,0.13500000000000001,1.91,{"$f":"VLOOKUP(B3655,#REF!,3,FALSE)","v":{"$error":"#REF!"}}]
[null,null,null,"Level  4","OD-FSD - Принадлежности"]
["Varius","Varius FSD","LP2","OEZ:43429","OD-FSD00-KA","Адаптер к сборным шинам","расстояние 185 mm, для FSD00-33K","1 / -",0.70699999999999996,3.347,38.699999999999996,{"$f":"VLOOKUP(B3657,#REF!,3,FALSE)","v":{"$error":"#REF!"}}]
["Varius","Varius FSD","LP2","OEZ:43428","OD-FS00-DA","Адаптер к сборным шинам","расстояние 185 mm, для FSR00, FSD00-3.D","1 / -",0.73,4.8369999999999997,35.36,{"$f":"VLOOKUP(B3658,#REF!,3,FALSE)","v":{"$error":"#REF!"}}]
["Varius","Varius FH","LP1","OEZ:18230","OD-FH123-VU","Вставка для запирания","для висячего замка, для FH1, FH2, FH3, FSD00","1 / -",6.0000000000000001E-3,2.5999999999999999E-2,1.84,{"$f":"VLOOKUP(B3659,#REF!,3,FALSE)","v":{"$error":"#REF!"}}]
["Varius","Varius FH","LP1","OEZ:12929","OD-FH-SK","Дистанционная сигнализация положения крышки","перекидной контакт, длина кабеля 1 m","1 / -",3.1E-2,0.33300000000000002,11.27,{"$f":"VLOOKUP(B3660,#REF!,3,FALSE)","v":{"$error":"#REF!"}}]
["Varius","Varius FSD","LP2","OEZ:43432","OD-FSD00-KPK","Крышка соединительного пространства","для FSD00-33K","1 / -",6.2E-2,0.69499999999999995,5.56,{"$f":"VLOOKUP(B3661,#REF!,3,FALSE)","v":{"$error":"#REF!"}}]
["Varius","Varius FSD","LP2","OEZ:43426","OD-FS00-KPD","Крышка соединительного пространства","для FSR00, FSD00-3.D","1 / -",7.6999999999999999E-2,1.1930000000000001,5.17,{"$f":"VLOOKUP(B3662,#REF!,3,FALSE)","v":{"$error":"#REF!"}}]
["Varius","Varius FSD","LP2","OEZ:43433","OD-FSD00-VK","Выравнивающая крышка","для FSD00-33K","1 / -",0.14299999999999999,1.86,13.31,{"$f":"VLOOKUP(B3663,#REF!,3,FALSE)","v":{"$error":"#REF!"}}]
["Varius","Varius FSD","LP2","OEZ:43427","OD-FS00-DK","Удлинительная крышка","для FSD00, FSR00","1 / -",7.9000000000000001E-2,0.79200000000000004,5.56,{"$f":"VLOOKUP(B3664,#REF!,3,FALSE)","v":{"$error":"#REF!"}}]
["Varius","Varius FSD","LP2","OEZ:43431","OD-FSD00-TL","Тяга трехполюсного управления","для FSD00-31D, комплект 2 шт.","1 / -",4.2999999999999997E-2,0.17299999999999999,5.17,{"$f":"VLOOKUP(B3665,#REF!,3,FALSE)","v":{"$error":"#REF!"}}]
["Varius","Varius FSD","LP2","OEZ:43434","OD-FSD00-KMK","Крышка свободного пространства","для FSD00","1 / -",0.10199999999999999,0.58599999999999997,10.45,{"$f":"VLOOKUP(B3666,#REF!,3,FALSE)","v":{"$error":"#REF!"}}]
["Varius","Varius FSD","LP2","OEZ:43435","OD-FSD00-KMD","Крышка свободного пространства","для FSD00","1 / -",0.14799999999999999,0.58599999999999997,13.51,{"$f":"VLOOKUP(B3667,#REF!,3,FALSE)","v":{"$error":"#REF!"}}]
[null,null,null,"Level  4","ND-FSD - Запасные части"]
["Varius","Varius FSD","LP2","OEZ:43436","ND-FSD00-V1","Запасная часть","крышка, для FSD00","1 / -",4.8000000000000001E-2,1.3089999999999999,5.71,{"$f":"VLOOKUP(B3669,#REF!,3,FALSE)","v":{"$error":"#REF!"}}]
[null,null,null,"Level  3","FSD1 - Шинные предохранительные разъединители нагрузки типоразмера 1 до 250 A"]
[null,null,null,"Level  4","FSD1-31 - 1-полюсное управление"]
["Varius","Varius FSD","LP2","OEZ:43333","FSD1-31-LM","Шинный предохранительный разъединитель нагрузки","Ie 250 A (400 A/ZP1), Ue 690 V, 1-полюсное управление, размер 1, M10, замена FD1-31/LM","1 / -",3.82,14.587,159.19,{"$f":"VLOOKUP(B3672,#REF!,3,FALSE)","v":{"$error":"#REF!"}}]
["Varius","Varius FSD","LP2","OEZ:43334","FSD1-31-LM-Z","Шинный предохранительный разъединитель нагрузки","Ie 250 A (400 A/ZP1), Ue 690 V, 1-полюсное управление, размер 1, M10, выдвижные держатели, замена FD1-31/LM-Z","1 / -",3.79,13.484999999999999,159.19,{"$f":"VLOOKUP(B3673,#REF!,3,FALSE)","v":{"$error":"#REF!"}}]
["Varius","Varius FSD","LP2","OEZ:43337","FSD1-31-LW","Шинный предохранительный разъединитель нагрузки","Ie 250 A (400 A/ZP1), Ue 690 V, 1-полюсное управление, размер 1, зажимы V-выводами, замена FD1-31/LW","1 / -",3.71,14.587,149.91999999999999,{"$f":"VLOOKUP(B3674,#REF!,3,FALSE)","v":{"$error":"#REF!"}}]
["Varius","Varius FSD","LP2","OEZ:43338","FSD1-31-LW-Z","Шинный предохранительный разъединитель нагрузки","Ie 250 A (400 A/ZP1), Ue 690 V, 1-полюсное управление, размер 1, зажимы V-выводами, выдвижные держатели, замена FD1-31/LW-Z","1 / -",3.68,13.484999999999999,149.91999999999999,{"$f":"VLOOKUP(B3675,#REF!,3,FALSE)","v":{"$error":"#REF!"}}]
["Varius","Varius FSD","LP2","OEZ:43340","FSD1-31-LL","Шинный предохранительный разъединитель нагрузки","Ie 250 A (400 A/ZP1), Ue 690 V, 1-полюсное управление, размер 1, замена FD1-31/LL","1 / -",3.36,14.587,157.38999999999999,{"$f":"VLOOKUP(B3676,#REF!,3,FALSE)","v":{"$error":"#REF!"}}]
["Varius","Varius FSD","LP2","OEZ:43341","FSD1-31-LL-Z","Шинный предохранительный разъединитель нагрузки","Ie 250 A (400 A/ZP1), Ue 690 V, 1-полюсное управление, размер 1, выдвижные держатели, замена FD1-31/LL-Z","1 / -",3.33,13.484999999999999,157.38999999999999,{"$f":"VLOOKUP(B3677,#REF!,3,FALSE)","v":{"$error":"#REF!"}}]
[null,null,null,"Level  4","FSD1-33 - 3-полюсное управление"]
["Varius","Varius FSD","LP2","OEZ:43335","FSD1-33-LM","Шинный предохранительный разъединитель нагрузки","Ie 250 A (400 A/ZP1), Ue 690 V, 3-полюсное управление, размер 1, M10, замена FD1-33/LM","1 / -",3.93,14.587,140.4,{"$f":"VLOOKUP(B3679,#REF!,3,FALSE)","v":{"$error":"#REF!"}}]
["Varius","Varius FSD","LP2","OEZ:43339","FSD1-33-LW","Шинный предохранительный разъединитель нагрузки","Ie 250 A (400 A/ZP1), Ue 690 V, 3-полюсное управление, размер 1, зажимы V-выводами, замена FD1-33/LW","1 / -",3.82,14.587,155.29,{"$f":"VLOOKUP(B3680,#REF!,3,FALSE)","v":{"$error":"#REF!"}}]
["Varius","Varius FSD","LP2","OEZ:43342","FSD1-33-LL","Шинный предохранительный разъединитель нагрузки","Ie 250 A (400 A/ZP1), Ue 690 V, 3-полюсное управление, размер 1, замена FD1-33/LL","1 / -",3.47,14.587,162.78,{"$f":"VLOOKUP(B3681,#REF!,3,FALSE)","v":{"$error":"#REF!"}}]
[null,null,null,"Level  4","CS-FSD1 - Присоединительные комплекты"]
["Varius","Varius FSD","LP2","OEZ:43556","CS-FS123-WD","Присоединительный комплект","для прямое присоединение параллельных проводов 2x 240 mm2, для FSD1,2,3; FSR1,2,3, замена WD-FD","1 / -",0.72,1.3049999999999999,63.489999999999995,{"$f":"VLOOKUP(B3683,#REF!,3,FALSE)","v":{"$error":"#REF!"}}]
[null,null,null,"Level  4","OD-FSD1 - Принадлежности"]
["Varius","Varius FSD","LP2","OEZ:43557","OD-FSD123-S","Дистанционная сигнализация состояния предохранителей","перекидной контакт, для FSD1,2,3","1 / -",6.3E-2,0.622,27.830000000000002,{"$f":"VLOOKUP(B3685,#REF!,3,FALSE)","v":{"$error":"#REF!"}}]
["Varius","Varius FSD","LP2","OEZ:43562","OD-FSD123-SK","Дистанционная сигнализация положения крышки","перекидной контакт, для FSD1,2,3","1 / -",2E-3,0.01,8.09,{"$f":"VLOOKUP(B3686,#REF!,3,FALSE)","v":{"$error":"#REF!"}}]
["Varius","Varius FSD","LP2","OEZ:43563","OD-FSD123-TL","Тяга трехполюсного управления","для FSD1-31,FSD2-31,FSD3-31","1 / -",0.12,0.03,9.41,{"$f":"VLOOKUP(B3687,#REF!,3,FALSE)","v":{"$error":"#REF!"}}]
["Varius","Varius FSD","LP2","OEZ:43564","OD-FSD123-KPK","Крышка соединительного пространства","для FSD1,2,3","1 / -",0.14499999999999999,2.8559999999999999,10.7,{"$f":"VLOOKUP(B3688,#REF!,3,FALSE)","v":{"$error":"#REF!"}}]
["Varius","Varius FSD","LP2","OEZ:43565","OD-FS123-KP","Крышка соединительного пространства","для FSD1,2,3, FSR1,2,3","1 / -",0.14499999999999999,2.9820000000000002,6.88,{"$f":"VLOOKUP(B3689,#REF!,3,FALSE)","v":{"$error":"#REF!"}}]
["Varius","Varius FSD","LP2","OEZ:43558","OD-FSD12-VZ","Крышка для заземления вывода","для FSD1,2","1 / -",0.41499999999999998,2.5680000000000001,62.03,{"$f":"VLOOKUP(B3690,#REF!,3,FALSE)","v":{"$error":"#REF!"}}]
["Varius","Varius FSD","LP2","OEZ:43560","OD-FSD12-VP","Крышка для параллельного вывода","для FSD1,2","1 / -",0.17,1.47,11.27,{"$f":"VLOOKUP(B3691,#REF!,3,FALSE)","v":{"$error":"#REF!"}}]
["Varius","Varius FSD","LP2","OEZ:43407","OD-FSD12-VS","Крышка со световой сигнализацией состояния предохранителей","для FSD1,2","1 / -",0.17,1.47,22.330000000000002,{"$f":"VLOOKUP(B3692,#REF!,3,FALSE)","v":{"$error":"#REF!"}}]
["Varius","Varius FSD","LP2","OEZ:43566","OD-FS123-KM","Крышка свободного пространства","ширина 100 mm, для FSD1,2,3;  FSR1,2,3","1 / -",0.23,0.22800000000000001,19.380000000000003,{"$f":"VLOOKUP(B3693,#REF!,3,FALSE)","v":{"$error":"#REF!"}}]
["Varius","Varius FSD","LP2","OEZ:43567","OD-FS123-CM","Фиксатор крышки свободного пространства","для FSD1,2,3;  FSR1,2,3, комплект 4 шт.","1 / -",6.0000000000000001E-3,0.63,3.15,{"$f":"VLOOKUP(B3694,#REF!,3,FALSE)","v":{"$error":"#REF!"}}]
["Varius","Varius FSD","LP2","OEZ:43646","OD-FSD123-VU","Вставка для запирания","для FSD1,2,3","1 / -",8.0000000000000002E-3,1.9E-2,2.4499999999999997,{"$f":"VLOOKUP(B3695,#REF!,3,FALSE)","v":{"$error":"#REF!"}}]
["Varius","Varius FSD","LP2","OEZ:11810","HP-SE/K","Адаптер для параллельного вывода","In 100 A, для FSR1,2,3; SPB1,2; S3PB1,2; SPF1,2,3","1 / -",0.34,3.7869999999999999,165.37,{"$f":"VLOOKUP(B3696,#REF!,3,FALSE)","v":{"$error":"#REF!"}}]
["Varius","Varius FSD","LP2","OEZ:11811","HP-SE/L","Адаптер для параллельного вывода","In 100 A, для FSD1,2,3","1 / -",0.35,3.7869999999999999,169.79999999999998,{"$f":"VLOOKUP(B3697,#REF!,3,FALSE)","v":{"$error":"#REF!"}}]
["Varius","Varius FSD","LP2","OEZ:09061","HP-KS","Кабельный наконечник","для HP-SE","1 / -",0.16500000000000001,0.39300000000000002,34.519999999999996,{"$f":"VLOOKUP(B3698,#REF!,3,FALSE)","v":{"$error":"#REF!"}}]
[null,null,null,"Level  3","FSD2 - Шинные предохранительные разъединители нагрузки типоразмера 2 до 400 A"]
[null,null,null,"Level  4","FSD2-31 - 1-полюсное управление"]
["Varius","Varius FSD","LP2","OEZ:43343","FSD2-31-LM","Шинный предохранительный разъединитель нагрузки","Ie 400 A (560 A/ZP2), Ue 690 V, 1-полюсное управление, размер 2, M12, замена FD2-31/LM","1 / -",4.12,14.587,140.4,{"$f":"VLOOKUP(B3701,#REF!,3,FALSE)","v":{"$error":"#REF!"}}]
["Varius","Varius FSD","LP2","OEZ:43344","FSD2-31-LM-Z","Шинный предохранительный разъединитель нагрузки","Ie 400 A (560 A/ZP2), Ue 690 V, 1-полюсное управление, размер 2, M12, выдвижные держатели, замена FD2-31/LM-Z","1 / -",4.09,13.484999999999999,160.31,{"$f":"VLOOKUP(B3702,#REF!,3,FALSE)","v":{"$error":"#REF!"}}]
["Varius","Varius FSD","LP2","OEZ:43347","FSD2-31-LW","Шинный предохранительный разъединитель нагрузки","Ie 400 A (560 A/ZP2), Ue 690 V, 1-полюсное управление, размер 2, зажимы V-выводами, замена FD2-31/LW","1 / -",3.94,14.587,155.62,{"$f":"VLOOKUP(B3703,#REF!,3,FALSE)","v":{"$error":"#REF!"}}]
["Varius","Varius FSD","LP2","OEZ:43348","FSD2-31-LW-Z","Шинный предохранительный разъединитель нагрузки","Ie 400 A (560 A/ZP2), Ue 690 V, 1-полюсное управление, размер 2, зажимы V-выводами, выдвижные держатели, замена FD2-31/LW-Z","1 / -",3.91,13.484999999999999,155.62,{"$f":"VLOOKUP(B3704,#REF!,3,FALSE)","v":{"$error":"#REF!"}}]
["Varius","Varius FSD","LP2","OEZ:43350","FSD2-31-LL","Шинный предохранительный разъединитель нагрузки","Ie 400 A (560 A/ZP2), Ue 690 V, 1-полюсное управление, размер 2, замена FD2-31/LL","1 / -",3.36,14.587,159.19,{"$f":"VLOOKUP(B3705,#REF!,3,FALSE)","v":{"$error":"#REF!"}}]
["Varius","Varius FSD","LP2","OEZ:43351","FSD2-31-LL-Z","Шинный предохранительный разъединитель нагрузки","Ie 400 A (560 A/ZP2), Ue 690 V, 1-полюсное управление, размер 2, выдвижные держатели, замена FD2-33/LL-Z","1 / -",3.33,13.484999999999999,159.19,{"$f":"VLOOKUP(B3706,#REF!,3,FALSE)","v":{"$error":"#REF!"}}]
[null,null,null,"Level  4","FSD2-33 - 3-полюсное управление"]
["Varius","Varius FSD","LP2","OEZ:43345","FSD2-33-LM","Шинный предохранительный разъединитель нагрузки","Ie 400 A (560 A/ZP2), Ue 690 V, 3-полюсное управление, размер 2, M12, замена FD2-33/LM","1 / -",4.2300000000000004,14.587,143.20999999999998,{"$f":"VLOOKUP(B3708,#REF!,3,FALSE)","v":{"$error":"#REF!"}}]
["Varius","Varius FSD","LP2","OEZ:43349","FSD2-33-LW","Шинный предохранительный разъединитель нагрузки","Ie 400 A (560 A/ZP2), Ue 690 V, 3-полюсное управление, размер 2, зажимы V-выводами, замена FD2-33/LW","1 / -",4.05,14.587,140.4,{"$f":"VLOOKUP(B3709,#REF!,3,FALSE)","v":{"$error":"#REF!"}}]
["Varius","Varius FSD","LP2","OEZ:43352","FSD2-33-LL","Шинный предохранительный разъединитель нагрузки","Ie 400 A (560 A/ZP2), Ue 690 V, 3-полюсное управление, размер 2, замена FD2-33/LL","1 / -",3.47,14.587,171.85,{"$f":"VLOOKUP(B3710,#REF!,3,FALSE)","v":{"$error":"#REF!"}}]
[null,null,null,"Level  4","CS-FSD2 - Присоединительные комплекты"]
["Varius","Varius FSD","LP2","OEZ:43556","CS-FS123-WD","Присоединительный комплект","для прямое присоединение параллельных проводов 2x 240 mm2, для FSD1,2,3; FSR1,2,3, замена WD-FD","1 / -",0.72,1.3049999999999999,63.489999999999995,{"$f":"VLOOKUP(B3712,#REF!,3,FALSE)","v":{"$error":"#REF!"}}]
[null,null,null,"Level  4","OD-FSD2 - Принадлежности"]
["Varius","Varius FSD","LP2","OEZ:43557","OD-FSD123-S","Дистанционная сигнализация состояния предохранителей","перекидной контакт, для FSD1,2,3","1 / -",6.3E-2,0.622,27.830000000000002,{"$f":"VLOOKUP(B3714,#REF!,3,FALSE)","v":{"$error":"#REF!"}}]
["Varius","Varius FSD","LP2","OEZ:43562","OD-FSD123-SK","Дистанционная сигнализация положения крышки","перекидной контакт, для FSD1,2,3","1 / -",2E-3,0.01,8.09,{"$f":"VLOOKUP(B3715,#REF!,3,FALSE)","v":{"$error":"#REF!"}}]
["Varius","Varius FSD","LP2","OEZ:43563","OD-FSD123-TL","Тяга трехполюсного управления","для FSD1-31,FSD2-31,FSD3-31","1 / -",0.12,0.03,9.41,{"$f":"VLOOKUP(B3716,#REF!,3,FALSE)","v":{"$error":"#REF!"}}]
["Varius","Varius FSD","LP2","OEZ:43564","OD-FSD123-KPK","Крышка соединительного пространства","для FSD1,2,3","1 / -",0.14499999999999999,2.8559999999999999,10.7,{"$f":"VLOOKUP(B3717,#REF!,3,FALSE)","v":{"$error":"#REF!"}}]
["Varius","Varius FSD","LP2","OEZ:43565","OD-FS123-KP","Крышка соединительного пространства","для FSD1,2,3, FSR1,2,3","1 / -",0.14499999999999999,2.9820000000000002,6.88,{"$f":"VLOOKUP(B3718,#REF!,3,FALSE)","v":{"$error":"#REF!"}}]
["Varius","Varius FSD","LP2","OEZ:43558","OD-FSD12-VZ","Крышка для заземления вывода","для FSD1,2","1 / -",0.41499999999999998,2.5680000000000001,62.03,{"$f":"VLOOKUP(B3719,#REF!,3,FALSE)","v":{"$error":"#REF!"}}]
["Varius","Varius FSD","LP2","OEZ:43560","OD-FSD12-VP","Крышка для параллельного вывода","для FSD1,2","1 / -",0.17,1.47,11.27,{"$f":"VLOOKUP(B3720,#REF!,3,FALSE)","v":{"$error":"#REF!"}}]
["Varius","Varius FSD","LP2","OEZ:43407","OD-FSD12-VS","Крышка со световой сигнализацией состояния предохранителей","для FSD1,2","1 / -",0.17,1.47,22.330000000000002,{"$f":"VLOOKUP(B3721,#REF!,3,FALSE)","v":{"$error":"#REF!"}}]
["Varius","Varius FSD","LP2","OEZ:43566","OD-FS123-KM","Крышка свободного пространства","ширина 100 mm, для FSD1,2,3;  FSR1,2,3","1 / -",0.23,0.22800000000000001,19.380000000000003,{"$f":"VLOOKUP(B3722,#REF!,3,FALSE)","v":{"$error":"#REF!"}}]
["Varius","Varius FSD","LP2","OEZ:43567","OD-FS123-CM","Фиксатор крышки свободного пространства","для FSD1,2,3;  FSR1,2,3, комплект 4 шт.","1 / -",6.0000000000000001E-3,0.63,3.15,{"$f":"VLOOKUP(B3723,#REF!,3,FALSE)","v":{"$error":"#REF!"}}]
["Varius","Varius FSD","LP2","OEZ:43646","OD-FSD123-VU","Вставка для запирания","для FSD1,2,3","1 / -",8.0000000000000002E-3,1.9E-2,2.4499999999999997,{"$f":"VLOOKUP(B3724,#REF!,3,FALSE)","v":{"$error":"#REF!"}}]
["Varius","Varius FSD","LP2","OEZ:11810","HP-SE/K","Адаптер для параллельного вывода","In 100 A, для FSR1,2,3; SPB1,2; S3PB1,2; SPF1,2,3","1 / -",0.34,3.7869999999999999,165.37,{"$f":"VLOOKUP(B3725,#REF!,3,FALSE)","v":{"$error":"#REF!"}}]
["Varius","Varius FSD","LP2","OEZ:11811","HP-SE/L","Адаптер для параллельного вывода","In 100 A, для FSD1,2,3","1 / -",0.35,3.7869999999999999,169.79999999999998,{"$f":"VLOOKUP(B3726,#REF!,3,FALSE)","v":{"$error":"#REF!"}}]
["Varius","Varius FSD","LP2","OEZ:09061","HP-KS","Кабельный наконечник","для HP-SE","1 / -",0.16500000000000001,0.39300000000000002,34.519999999999996,{"$f":"VLOOKUP(B3727,#REF!,3,FALSE)","v":{"$error":"#REF!"}}]
[null,null,null,"Level  3","FSD3 - Шинные предохранительные разъединители нагрузки типоразмера 3 до 630 A"]
[null,null,null,"Level  4","FSD3-31 - 1-полюсное управление"]
["Varius","Varius FSD","LP2","OEZ:43357","FSD3-31-LM","Шинный предохранительный разъединитель нагрузки","Ie 630 A (1000 A/ZP3/1000), Ue 690 V, 1-полюсное управление, размер 3, M12, замена FD3-31/LM","1 / -",4.71,14.587,189.97,{"$f":"VLOOKUP(B3730,#REF!,3,FALSE)","v":{"$error":"#REF!"}}]
["Varius","Varius FSD","LP2","OEZ:43359","FSD3-31-LW","Шинный предохранительный разъединитель нагрузки","Ie 630 A (1000 A/ZP3/1000), Ue 690 V, 1-полюсное управление, размер 3, зажимы V-выводами, замена FD3-31/LW","1 / -",4.54,14.587,191.06,{"$f":"VLOOKUP(B3731,#REF!,3,FALSE)","v":{"$error":"#REF!"}}]
["Varius","Varius FSD","LP2","OEZ:43361","FSD3-31-LL","Шинный предохранительный разъединитель нагрузки","Ie 630 A (1000 A/ZP3/1000), Ue 690 V, 1-полюсное управление, размер 3, замена FD3-31/LL","1 / -",3.54,14.587,186.6,{"$f":"VLOOKUP(B3732,#REF!,3,FALSE)","v":{"$error":"#REF!"}}]
[null,null,null,"Level  4","FSD3-33 - 3-полюсное управление"]
["Varius","Varius FSD","LP2","OEZ:43358","FSD3-33-LM","Шинный предохранительный разъединитель нагрузки","Ie 630 A (1000 A/ZP3/1000), Ue 690 V, 3-полюсное управление, размер 3, M12, замена FD3-33/LM","1 / -",4.82,14.587,168.48,{"$f":"VLOOKUP(B3734,#REF!,3,FALSE)","v":{"$error":"#REF!"}}]
["Varius","Varius FSD","LP2","OEZ:43360","FSD3-33-LW","Шинный предохранительный разъединитель нагрузки","Ie 630 A (1000 A/ZP3/1000), Ue 690 V, 3-полюсное управление, размер 3, зажимы V-выводами, замена FD3-33/LW","1 / -",4.6500000000000004,14.587,193.03,{"$f":"VLOOKUP(B3735,#REF!,3,FALSE)","v":{"$error":"#REF!"}}]
["Varius","Varius FSD","LP2","OEZ:43362","FSD3-33-LL","Шинный предохранительный разъединитель нагрузки","Ie 630 A (1000 A/ZP3/1000), Ue 690 V, 3-полюсное управление, размер 3, замена FD3-33/LL","1 / -",3.65,14.587,194.20999999999998,{"$f":"VLOOKUP(B3736,#REF!,3,FALSE)","v":{"$error":"#REF!"}}]
[null,null,null,"Level  4","CS-FSD3 - Присоединительные комплекты"]
["Varius","Varius FSD","LP2","OEZ:43556","CS-FS123-WD","Присоединительный комплект","для прямое присоединение параллельных проводов 2x 240 mm2, для FSD1,2,3; FSR1,2,3, замена WD-FD","1 / -",0.72,1.3049999999999999,63.489999999999995,{"$f":"VLOOKUP(B3738,#REF!,3,FALSE)","v":{"$error":"#REF!"}}]
[null,null,null,"Level  4","OD-FSD3 - Принадлежности"]
["Varius","Varius FSD","LP2","OEZ:43557","OD-FSD123-S","Дистанционная сигнализация состояния предохранителей","перекидной контакт, для FSD1,2,3","1 / -",6.3E-2,0.622,27.830000000000002,{"$f":"VLOOKUP(B3740,#REF!,3,FALSE)","v":{"$error":"#REF!"}}]
["Varius","Varius FSD","LP2","OEZ:43562","OD-FSD123-SK","Дистанционная сигнализация положения крышки","перекидной контакт, для FSD1,2,3","1 / -",2E-3,0.01,8.09,{"$f":"VLOOKUP(B3741,#REF!,3,FALSE)","v":{"$error":"#REF!"}}]
["Varius","Varius FSD","LP2","OEZ:43563","OD-FSD123-TL","Тяга трехполюсного управления","для FSD1-31,FSD2-31,FSD3-31","1 / -",0.12,0.03,9.41,{"$f":"VLOOKUP(B3742,#REF!,3,FALSE)","v":{"$error":"#REF!"}}]
["Varius","Varius FSD","LP2","OEZ:43564","OD-FSD123-KPK","Крышка соединительного пространства","для FSD1,2,3","1 / -",0.14499999999999999,2.8559999999999999,10.7,{"$f":"VLOOKUP(B3743,#REF!,3,FALSE)","v":{"$error":"#REF!"}}]
["Varius","Varius FSD","LP2","OEZ:43565","OD-FS123-KP","Крышка соединительного пространства","для FSD1,2,3, FSR1,2,3","1 / -",0.14499999999999999,2.9820000000000002,6.88,{"$f":"VLOOKUP(B3744,#REF!,3,FALSE)","v":{"$error":"#REF!"}}]
["Varius","Varius FSD","LP2","OEZ:43408","OD-FSD3-VS","Крышка со световой сигнализацией состояния предохранителей","для FSD3","1 / -",0.17,1.47,28.59,{"$f":"VLOOKUP(B3745,#REF!,3,FALSE)","v":{"$error":"#REF!"}}]
["Varius","Varius FSD","LP2","OEZ:43559","OD-FSD3-VZ","Крышка для заземления вывода","для FSD3","1 / -",0.41499999999999998,2.5680000000000001,70.850000000000009,{"$f":"VLOOKUP(B3746,#REF!,3,FALSE)","v":{"$error":"#REF!"}}]
["Varius","Varius FSD","LP2","OEZ:43561","OD-FSD3-VP","Крышка для параллельного вывода","для FSD3","1 / -",0.17,1.47,18.540000000000003,{"$f":"VLOOKUP(B3747,#REF!,3,FALSE)","v":{"$error":"#REF!"}}]
["Varius","Varius FSD","LP2","OEZ:43566","OD-FS123-KM","Крышка свободного пространства","ширина 100 mm, для FSD1,2,3;  FSR1,2,3","1 / -",0.23,0.22800000000000001,19.380000000000003,{"$f":"VLOOKUP(B3748,#REF!,3,FALSE)","v":{"$error":"#REF!"}}]
["Varius","Varius FSD","LP2","OEZ:43567","OD-FS123-CM","Фиксатор крышки свободного пространства","для FSD1,2,3;  FSR1,2,3, комплект 4 шт.","1 / -",6.0000000000000001E-3,0.63,3.15,{"$f":"VLOOKUP(B3749,#REF!,3,FALSE)","v":{"$error":"#REF!"}}]
["Varius","Varius FSD","LP2","OEZ:43646","OD-FSD123-VU","Вставка для запирания","для FSD1,2,3","1 / -",8.0000000000000002E-3,1.9E-2,2.4499999999999997,{"$f":"VLOOKUP(B3750,#REF!,3,FALSE)","v":{"$error":"#REF!"}}]
["Varius","Varius FSD","LP2","OEZ:11810","HP-SE/K","Адаптер для параллельного вывода","In 100 A, для FSR1,2,3; SPB1,2; S3PB1,2; SPF1,2,3","1 / -",0.34,3.7869999999999999,165.37,{"$f":"VLOOKUP(B3751,#REF!,3,FALSE)","v":{"$error":"#REF!"}}]
["Varius","Varius FSD","LP2","OEZ:11811","HP-SE/L","Адаптер для параллельного вывода","In 100 A, для FSD1,2,3","1 / -",0.35,3.7869999999999999,169.79999999999998,{"$f":"VLOOKUP(B3752,#REF!,3,FALSE)","v":{"$error":"#REF!"}}]
["Varius","Varius FSD","LP2","OEZ:09061","HP-KS","Кабельный наконечник","для HP-SE","1 / -",0.16500000000000001,0.39300000000000002,34.519999999999996,{"$f":"VLOOKUP(B3753,#REF!,3,FALSE)","v":{"$error":"#REF!"}}]
[null,null,null,"Level  3","SL3 - Шинные предохранительные разъединители нагрузки типоразмера 3 до 910 A"]
[null,null,null,"Level  4","SL3-3x - 1-полюсное управление"]
["Varius","Varius FSD","LP2","OEZ:00275","SL3-3x/910/HA","Шинный предохранительный разъединитель нагрузки","Ie 910 A, Ue 690 V, 1-полюсное управление, винты M12","1 / -",13,26.082000000000001,890.48,{"$f":"VLOOKUP(B3756,#REF!,3,FALSE)","v":{"$error":"#REF!"}}]
[null,null,null,"Level  4","SL3-3x3 - 3-полюсное управление"]
["Varius","Varius FSD","LP2","OEZ:00276","SL3-3x3/910/HA","Шинный предохранительный разъединитель нагрузки","Ie 910 A, Ue 690 V, 3-полюсное управление, винты M12","1 / -",13,26.082000000000001,890.48,{"$f":"VLOOKUP(B3758,#REF!,3,FALSE)","v":{"$error":"#REF!"}}]
[null,null,null,"Level  3","FSR00 - Предохранительные рейки до 160 A"]
[null,null,null,"Level  4","FSR00 - Предохранительные рейки"]
["Varius","Varius FSD","LP2","OEZ:43466","FSR00-3D-F","Предохранительная рейка","In 160 A (240 A/ZP000), Un 690 V, ширина 50 mm, расстояние сборных шин 185 mm, размер 00, M8, замена FR00-3D/F","1 / -",1.33,7.2789999999999999,50.75,{"$f":"VLOOKUP(B3761,#REF!,3,FALSE)","v":{"$error":"#REF!"}}]
["Varius","Varius FSD","LP2","OEZ:43467","FSR00-3D-FC","Предохранительная рейка","In 160 A (240 A/ZP000), Un 690 V, ширина 50 mm, расстояние сборных шин 185 mm, размер 00, M8, крышка соединительного пространства, замена FR00-3D/FC","1 / -",1.36,7.2789999999999999,51.949999999999996,{"$f":"VLOOKUP(B3762,#REF!,3,FALSE)","v":{"$error":"#REF!"}}]
["Varius","Varius FSD","LP2","OEZ:43470","FSR00-3D-FC-M1","Предохранительная рейка","In 160 A (240 A/ZP000), Un 690 V, ширина 50 mm, расстояние сборных шин 185 mm, размер 00, M8, крышка соединительного пространства, измерительные трансформаторы, коэффициент трансформации 200/5 A, класс точности 1, замена FR00-3D/FC-M1","1 / -",1.84,7.2789999999999999,259.77,{"$f":"VLOOKUP(B3763,#REF!,3,FALSE)","v":{"$error":"#REF!"}}]
["Varius","Varius FSD","LP2","OEZ:43468","FSR00-3D-FC-RM1","Предохранительная рейка","In 160 A (240 A/ZP000), Un 690 V, ширина 50 mm, расстояние сборных шин 185 mm, размер 00, M8, крышка соединительного пространства, измерительные трансформаторы, коэффициент трансформации 100/5 A, класс точности 1, замена FR00-3D/FC-RM1","1 / -",1.84,7.2789999999999999,247,{"$f":"VLOOKUP(B3764,#REF!,3,FALSE)","v":{"$error":"#REF!"}}]
["Varius","Varius FSD","LP2","OEZ:43469","FSR00-3D-FC-M05","Предохранительная рейка","In 160 A (240 A/ZP000), Un 690 V, ширина 50 mm, расстояние сборных шин 185 mm, размер 00, M8, крышка соединительного пространства, измерительные трансформаторы, коэффициент трансформации 200/5 A, класс точности 0,5, замена FR00-3D/FC-M05","1 / -",1.84,7.2789999999999999,425.59,{"$f":"VLOOKUP(B3765,#REF!,3,FALSE)","v":{"$error":"#REF!"}}]
["Varius","Varius FSD","LP2","OEZ:43471","FSR00-3D-FC-M05C","Предохранительная рейка","In 160 A (240 A/ZP000), Un 690 V, ширина 50 mm, расстояние сборных шин 185 mm, M8, размер 00, размер 00, M8, крышка соединительного пространства, коэффициент трансформации 200/5 A, класс точности 0,5, калиброванные измерительные трансформаторы, замена FR00-3D/FC-M05C","1 / -",1.84,7.2789999999999999,520.89,{"$f":"VLOOKUP(B3766,#REF!,3,FALSE)","v":{"$error":"#REF!"}}]
[null,null,null,"Level  4","CS-FSR00 - Присоединительные комплекты"]
["Varius","Varius FSD","LP2","OEZ:43421","CS-FS00-3H","Присоединительный комплект","соединительные крюки для FSD00, FSR00, комплект 3 шт.","1 / -",0.105,0.36,8.85,{"$f":"VLOOKUP(B3768,#REF!,3,FALSE)","v":{"$error":"#REF!"}}]
["Varius","Varius FSD","LP2","OEZ:43423","CS-FS00-3P1","Присоединительный комплект","призматические зажимы для FSD00, FSR00, комплект 3 шт.","1 / -",0.11,0.22500000000000001,13.51,{"$f":"VLOOKUP(B3769,#REF!,3,FALSE)","v":{"$error":"#REF!"}}]
["Varius","Varius FSD","LP2","OEZ:43425","CS-FS00-3S","Присоединительный комплект","накладные зажимы для FSD00, FSR00, комплект 3 шт.","1 / -",5.2999999999999999E-2,0.13500000000000001,1.91,{"$f":"VLOOKUP(B3770,#REF!,3,FALSE)","v":{"$error":"#REF!"}}]
[null,null,null,"Level  4","OD-FSR00 - Принадлежности"]
["Varius","Varius FSD","LP2","OEZ:43428","OD-FS00-DA","Адаптер к сборным шинам","расстояние 185 mm, для FSR00, FSD00-3.D","1 / -",0.73,4.8369999999999997,35.36,{"$f":"VLOOKUP(B3772,#REF!,3,FALSE)","v":{"$error":"#REF!"}}]
["Varius","Varius FSD","LP2","OEZ:43426","OD-FS00-KPD","Крышка соединительного пространства","для FSR00, FSD00-3.D","1 / -",7.6999999999999999E-2,1.1930000000000001,5.17,{"$f":"VLOOKUP(B3773,#REF!,3,FALSE)","v":{"$error":"#REF!"}}]
["Varius","Varius FSD","LP2","OEZ:43427","OD-FS00-DK","Удлинительная крышка","для FSD00, FSR00","1 / -",7.9000000000000001E-2,0.79200000000000004,5.56,{"$f":"VLOOKUP(B3774,#REF!,3,FALSE)","v":{"$error":"#REF!"}}]
["Varius","Varius FSD","LP2","OEZ:43430","OD-FSR00-K","Крышка предохранителя","In 160 A, для FSR00 (250 A/ZP1), Un 690 V, M8, размер 00","1 / -",5.6000000000000001E-2,1.212,9.69,{"$f":"VLOOKUP(B3775,#REF!,3,FALSE)","v":{"$error":"#REF!"}}]
[null,null,null,"Level  3","FSR1 - Предохранительные рейки до 250 A"]
[null,null,null,"Level  4","FSR1 - Предохранительные рейки"]
["Varius","Varius FSD","LP2","OEZ:43363","FSR1-3K-LM","Предохранительная рейка","In 250 A (400 A/ZP1), Un 690 V, ширина 100 mm, расстояние сборных шин 185 mm, размер 1, M10, замена FR1-3K/LM","1 / -",2.69,13.484999999999999,100.76,{"$f":"VLOOKUP(B3778,#REF!,3,FALSE)","v":{"$error":"#REF!"}}]
["Varius","Varius FSD","LP2","OEZ:43364","FSR1-3K-LW","Предохранительная рейка","In 250 A (400 A/ZP1), Un 690 V, ширина 100 mm, расстояние сборных шин 185 mm, размер 1, V-вывод, замена FR1-3K/LW","1 / -",2.58,13.484999999999999,99.86,{"$f":"VLOOKUP(B3779,#REF!,3,FALSE)","v":{"$error":"#REF!"}}]
["Varius","Varius FSD","LP2","OEZ:43365","FSR1-3K-LL","Предохранительная рейка","In 250 A (400 A/ZP1), Un 690 V, ширина 100 mm, расстояние сборных шин 185 mm, размер 1, замена FR1-3K/LL","1 / -",2.23,13.484999999999999,100,{"$f":"VLOOKUP(B3780,#REF!,3,FALSE)","v":{"$error":"#REF!"}}]
[null,null,null,"Level  4","CS-FS - Присоединительные комплекты"]
["Varius","Varius FSD","LP2","OEZ:43556","CS-FS123-WD","Присоединительный комплект","для прямое присоединение параллельных проводов 2x 240 mm2, для FSD1,2,3; FSR1,2,3, замена WD-FD","1 / -",0.72,1.3049999999999999,63.489999999999995,{"$f":"VLOOKUP(B3782,#REF!,3,FALSE)","v":{"$error":"#REF!"}}]
[null,null,null,"Level  4","OD-FS - Принадлежности"]
["Varius","Varius FSD","LP2","OEZ:43565","OD-FS123-KP","Крышка соединительного пространства","для FSD1,2,3, FSR1,2,3","1 / -",0.14499999999999999,2.9820000000000002,6.88,{"$f":"VLOOKUP(B3784,#REF!,3,FALSE)","v":{"$error":"#REF!"}}]
["Varius","Varius FSD","LP2","OEZ:43566","OD-FS123-KM","Крышка свободного пространства","ширина 100 mm, для FSD1,2,3;  FSR1,2,3","1 / -",0.23,0.22800000000000001,19.380000000000003,{"$f":"VLOOKUP(B3785,#REF!,3,FALSE)","v":{"$error":"#REF!"}}]
["Varius","Varius FSD","LP2","OEZ:43567","OD-FS123-CM","Фиксатор крышки свободного пространства","для FSD1,2,3;  FSR1,2,3, комплект 4 шт.","1 / -",6.0000000000000001E-3,0.63,3.15,{"$f":"VLOOKUP(B3786,#REF!,3,FALSE)","v":{"$error":"#REF!"}}]
["Varius","Varius FSD","LP2","OEZ:43388","NL-FSD12-31","Надстройка разъединителя нагрузки","1-полюс. исполнение, для FSR1, 2, замена NL-FD12/31","1 / -",1.56,13.484999999999999,92.33,{"$f":"VLOOKUP(B3787,#REF!,3,FALSE)","v":{"$error":"#REF!"}}]
["Varius","Varius FSD","LP2","OEZ:43389","NL-FSD12-33","Надстройка разъединителя нагрузки","3-полюсное исполнение, для FSR1, 2, замена NL-FD12/33","1 / -",1.67,14.484999999999999,98.06,{"$f":"VLOOKUP(B3788,#REF!,3,FALSE)","v":{"$error":"#REF!"}}]
["Varius","Varius FSD","LP2","OEZ:11810","HP-SE/K","Адаптер для параллельного вывода","In 100 A, для FSR1,2,3; SPB1,2; S3PB1,2; SPF1,2,3","1 / -",0.34,3.7869999999999999,165.37,{"$f":"VLOOKUP(B3789,#REF!,3,FALSE)","v":{"$error":"#REF!"}}]
["Varius","Varius FSD","LP2","OEZ:09061","HP-KS","Кабельный наконечник","для HP-SE","1 / -",0.16500000000000001,0.39300000000000002,34.519999999999996,{"$f":"VLOOKUP(B3790,#REF!,3,FALSE)","v":{"$error":"#REF!"}}]
[null,null,null,"Level  3","FSR2 - Предохранительные рейки до 400 A"]
[null,null,null,"Level  4","FSR2 - Предохранительные рейки"]
["Varius","Varius FSD","LP2","OEZ:43366","FSR2-3K-LM","Предохранительная рейка","In 400 A (560 A/ZP2), Un 690 V, ширина 100 mm, расстояние сборных шин 185 mm, размер 2, M12, замена FR2-3K/LM","1 / -",2.98,13.484999999999999,99.72,{"$f":"VLOOKUP(B3793,#REF!,3,FALSE)","v":{"$error":"#REF!"}}]
["Varius","Varius FSD","LP2","OEZ:43367","FSR2-3K-LW","Предохранительная рейка","In 400 A (560 A/ZP2), Un 690 V, ширина 100 mm, расстояние сборных шин 185 mm, размер 2, V-вывод, замена FR2-3K/LW","1 / -",2.81,13.484999999999999,97.75,{"$f":"VLOOKUP(B3794,#REF!,3,FALSE)","v":{"$error":"#REF!"}}]
["Varius","Varius FSD","LP2","OEZ:43368","FSR2-3K-LL","Предохранительная рейка","In 400 A (560 A/ZP2), Un 690 V, ширина 100 mm, расстояние сборных шин 185 mm, размер 2, замена FR2-3K/LL","1 / -",2.23,13.484999999999999,86.410000000000011,{"$f":"VLOOKUP(B3795,#REF!,3,FALSE)","v":{"$error":"#REF!"}}]
[null,null,null,"Level  4","CS-FS - Присоединительные комплекты"]
["Varius","Varius FSD","LP2","OEZ:43556","CS-FS123-WD","Присоединительный комплект","для прямое присоединение параллельных проводов 2x 240 mm2, для FSD1,2,3; FSR1,2,3, замена WD-FD","1 / -",0.72,1.3049999999999999,63.489999999999995,{"$f":"VLOOKUP(B3797,#REF!,3,FALSE)","v":{"$error":"#REF!"}}]
[null,null,null,"Level  4","OD-FS - Принадлежности"]
["Varius","Varius FSD","LP2","OEZ:43565","OD-FS123-KP","Крышка соединительного пространства","для FSD1,2,3, FSR1,2,3","1 / -",0.14499999999999999,2.9820000000000002,6.88,{"$f":"VLOOKUP(B3799,#REF!,3,FALSE)","v":{"$error":"#REF!"}}]
["Varius","Varius FSD","LP2","OEZ:43566","OD-FS123-KM","Крышка свободного пространства","ширина 100 mm, для FSD1,2,3;  FSR1,2,3","1 / -",0.23,0.22800000000000001,19.380000000000003,{"$f":"VLOOKUP(B3800,#REF!,3,FALSE)","v":{"$error":"#REF!"}}]
["Varius","Varius FSD","LP2","OEZ:43567","OD-FS123-CM","Фиксатор крышки свободного пространства","для FSD1,2,3;  FSR1,2,3, комплект 4 шт.","1 / -",6.0000000000000001E-3,0.63,3.15,{"$f":"VLOOKUP(B3801,#REF!,3,FALSE)","v":{"$error":"#REF!"}}]
["Varius","Varius FSD","LP2","OEZ:43388","NL-FSD12-31","Надстройка разъединителя нагрузки","1-полюс. исполнение, для FSR1, 2, замена NL-FD12/31","1 / -",1.56,13.484999999999999,92.33,{"$f":"VLOOKUP(B3802,#REF!,3,FALSE)","v":{"$error":"#REF!"}}]
["Varius","Varius FSD","LP2","OEZ:43389","NL-FSD12-33","Надстройка разъединителя нагрузки","3-полюсное исполнение, для FSR1, 2, замена NL-FD12/33","1 / -",1.67,14.484999999999999,98.06,{"$f":"VLOOKUP(B3803,#REF!,3,FALSE)","v":{"$error":"#REF!"}}]
["Varius","Varius FSD","LP2","OEZ:11810","HP-SE/K","Адаптер для параллельного вывода","In 100 A, для FSR1,2,3; SPB1,2; S3PB1,2; SPF1,2,3","1 / -",0.34,3.7869999999999999,165.37,{"$f":"VLOOKUP(B3804,#REF!,3,FALSE)","v":{"$error":"#REF!"}}]
["Varius","Varius FSD","LP2","OEZ:09061","HP-KS","Кабельный наконечник","для HP-SE","1 / -",0.16500000000000001,0.39300000000000002,34.519999999999996,{"$f":"VLOOKUP(B3805,#REF!,3,FALSE)","v":{"$error":"#REF!"}}]
[null,null,null,"Level  3","FSR3 - Предохранительные рейки до 630 A"]
[null,null,null,"Level  4","FSR3 - Предохранительные рейки"]
["Varius","Varius FSD","LP2","OEZ:43371","FSR3-3K-LM","Предохранительная рейка","In 630 A (1000 A/ZP3), Un 690 V, ширина 100 mm, расстояние сборных шин 185 mm, размер 3, M12, замена FR3-3K/LM","1 / -",3.54,13.484999999999999,109.24000000000001,{"$f":"VLOOKUP(B3808,#REF!,3,FALSE)","v":{"$error":"#REF!"}}]
["Varius","Varius FSD","LP2","OEZ:43372","FSR3-3K-LW","Предохранительная рейка","In 630 A (1000 A/ZP3), Un 690 V, ширина 100 mm, расстояние сборных шин 185 mm, размер 3, V-вывод, замена FR3-3K/LW","1 / -",3.36,14.214,109.57000000000001,{"$f":"VLOOKUP(B3809,#REF!,3,FALSE)","v":{"$error":"#REF!"}}]
["Varius","Varius FSD","LP2","OEZ:43373","FSR3-3K-LL","Предохранительная рейка","In 630 A (1000 A/ZP3), Un 690 V, ширина 100 mm, расстояние сборных шин 185 mm, размер 3, замена FR3-3K/LL","1 / -",2.38,13.484999999999999,88.910000000000011,{"$f":"VLOOKUP(B3810,#REF!,3,FALSE)","v":{"$error":"#REF!"}}]
[null,null,null,"Level  4","CS-FS - Присоединительные комплекты"]
["Varius","Varius FSD","LP2","OEZ:43556","CS-FS123-WD","Присоединительный комплект","для прямое присоединение параллельных проводов 2x 240 mm2, для FSD1,2,3; FSR1,2,3, замена WD-FD","1 / -",0.72,1.3049999999999999,63.489999999999995,{"$f":"VLOOKUP(B3812,#REF!,3,FALSE)","v":{"$error":"#REF!"}}]
[null,null,null,"Level  4","OD-FS - Принадлежности"]
["Varius","Varius FSD","LP2","OEZ:43565","OD-FS123-KP","Крышка соединительного пространства","для FSD1,2,3, FSR1,2,3","1 / -",0.14499999999999999,2.9820000000000002,6.88,{"$f":"VLOOKUP(B3814,#REF!,3,FALSE)","v":{"$error":"#REF!"}}]
["Varius","Varius FSD","LP2","OEZ:43566","OD-FS123-KM","Крышка свободного пространства","ширина 100 mm, для FSD1,2,3;  FSR1,2,3","1 / -",0.23,0.22800000000000001,19.380000000000003,{"$f":"VLOOKUP(B3815,#REF!,3,FALSE)","v":{"$error":"#REF!"}}]
["Varius","Varius FSD","LP2","OEZ:43567","OD-FS123-CM","Фиксатор крышки свободного пространства","для FSD1,2,3;  FSR1,2,3, комплект 4 шт.","1 / -",6.0000000000000001E-3,0.63,3.15,{"$f":"VLOOKUP(B3816,#REF!,3,FALSE)","v":{"$error":"#REF!"}}]
["Varius","Varius FSD","LP2","OEZ:43390","NL-FSD3-31","Надстройка разъединителя нагрузки","1-полюс. исполнение, для FSR3, замена NL-FD3/31","1 / -",1.56,15.484999999999999,111.51,{"$f":"VLOOKUP(B3817,#REF!,3,FALSE)","v":{"$error":"#REF!"}}]
["Varius","Varius FSD","LP2","OEZ:43391","NL-FSD3-33","Надстройка разъединителя нагрузки","3-полюсное исполнение, для FSR3, замена NL-FD3/33","1 / -",1.67,16.484999999999999,118.08,{"$f":"VLOOKUP(B3818,#REF!,3,FALSE)","v":{"$error":"#REF!"}}]
["Varius","Varius FSD","LP2","OEZ:11810","HP-SE/K","Адаптер для параллельного вывода","In 100 A, для FSR1,2,3; SPB1,2; S3PB1,2; SPF1,2,3","1 / -",0.34,3.7869999999999999,165.37,{"$f":"VLOOKUP(B3819,#REF!,3,FALSE)","v":{"$error":"#REF!"}}]
["Varius","Varius FSD","LP2","OEZ:09061","HP-KS","Кабельный наконечник","для HP-SE","1 / -",0.16500000000000001,0.39300000000000002,34.519999999999996,{"$f":"VLOOKUP(B3820,#REF!,3,FALSE)","v":{"$error":"#REF!"}}]
[null,null,null,"Level  3","FSD - Специальные шинные предохранительные разъединители нагрузки, без принадлежностей"]
[null,null,null,"Level  3","FSR - Специальные предохранительные рейки и разъединители нагрузки"]
[null,null,null,"Level  3","MA - Измерительные адаптеры для шинных предохранительных разъединителей нагрузки и предохранительных реек"]
[null,null,null,"Level  4","MA - Измерительные адаптеры "]
["Varius","Varius FSD","LP2","OEZ:43698","MA15-FS123-250/5/1","Измерительный адаптер","для FSD 1,2,3, FSR1,2,3 мощность 15 VA, коэффициент трансформации 250/5 A, класс точности 1, некалиброванные трансформаторы, замена MA15-FD123-250/5/1","1 / -",1.62,3.7069999999999999,285.65999999999997,{"$f":"VLOOKUP(B3825,#REF!,3,FALSE)","v":{"$error":"#REF!"}}]
["Varius","Varius FSD","LP2","OEZ:43699","MA15-FS123-400/5/1","Измерительный адаптер","для FSD 1,2,3, FSR1,2,3 мощность 15 VA, коэффициент трансформации 400/5 A, класс точности 1, некалиброванные трансформаторы, замена MA15-FD123-400/5/1","1 / -",1.62,3.7069999999999999,286.58999999999997,{"$f":"VLOOKUP(B3826,#REF!,3,FALSE)","v":{"$error":"#REF!"}}]
["Varius","Varius FSD","LP2","OEZ:43700","MA15-FS123-600/5/1","Измерительный адаптер","для FSD 1,2,3, FSR1,2,3 мощность 15 VA, коэффициент трансформации 600/ 5 A, класс точности 1, некалиброванные трансформаторы, замена MA15-FD123-600/5/1","1 / -",1.62,3.7069999999999999,289.02999999999997,{"$f":"VLOOKUP(B3827,#REF!,3,FALSE)","v":{"$error":"#REF!"}}]
["Varius","Varius FSD","LP2","OEZ:43701","MA10-FS123-250/5/0,5","Измерительный адаптер","для FSD 1,2,3, FSR1,2,3 мощность 10 VA, коэффициент трансформации 250/ 5 A, класс точности 0,5, некалиброванные трансформаторы, замена MA10-FD123-250/5/0,5","1 / -",1.62,3.7069999999999999,397.7,{"$f":"VLOOKUP(B3828,#REF!,3,FALSE)","v":{"$error":"#REF!"}}]
["Varius","Varius FSD","LP2","OEZ:43702","MA10-FS123-400/5/0,5","Измерительный адаптер","для FSD 1,2,3, FSR1,2,3 мощность 10 VA, коэффициент трансформации 400/5 A, класс точности 0,5, некалиброванные трансформаторы, замена MA10-FD123-400/5/0,5","1 / -",1.62,3.7069999999999999,447.15,{"$f":"VLOOKUP(B3829,#REF!,3,FALSE)","v":{"$error":"#REF!"}}]
["Varius","Varius FSD","LP2","OEZ:43703","MA10-FS123-600/5/0,5","Измерительный адаптер","для FSD 1,2,3, FSR1,2,3 мощность 10 VA, коэффициент трансформации 600/ 5 A, класс точности 0,5, некалиброванные трансформаторы, замена MA10-FD123-600/5/0,5","1 / -",1.62,3.7069999999999999,445.03999999999996,{"$f":"VLOOKUP(B3830,#REF!,3,FALSE)","v":{"$error":"#REF!"}}]
["Varius","Varius FSD","LP2","OEZ:43704","MA10-FS123-250/5/0,5C","Измерительный адаптер","для FSD 1,2,3, FSR1,2,3 мощность 10 VA, коэффициент трансформации 250/5 A, класс точности 0,5, калиброванные трансформаторы, замена MA10-FD123-250/5/0,5C","1 / -",1.62,3.7069999999999999,509.4,{"$f":"VLOOKUP(B3831,#REF!,3,FALSE)","v":{"$error":"#REF!"}}]
["Varius","Varius FSD","LP2","OEZ:43705","MA10-FS123-400/5/0,5C","Измерительный адаптер","для FSD 1,2,3, FSR1,2,3 мощность 10 VA, коэффициент трансформации 400/5 A, класс точности 0,5, калиброванные трансформаторы, замена MA10-FD123-400/5/0,5C","1 / -",1.62,3.7069999999999999,558.49,{"$f":"VLOOKUP(B3832,#REF!,3,FALSE)","v":{"$error":"#REF!"}}]
["Varius","Varius FSD","LP2","OEZ:43706","MA10-FS123-600/5/0,5C","Измерительный адаптер","для FSD 1,2,3, FSR1,2,3 мощность 10 VA, коэффициент трансформации 600/5 A, класс точности 0,5, калиброванные трансформаторы, замена MA10-FD123-600/5/0,5C","1 / -",1.62,3.7069999999999999,553.88,{"$f":"VLOOKUP(B3833,#REF!,3,FALSE)","v":{"$error":"#REF!"}}]
["Varius","Varius FSD","LP2","OEZ:43707","MA10-FS123-300/5/0,5S","Измерительный адаптер","для FSD 1,2,3, FSR1,2,3 мощность 10 VA, коэффициент трансформации 300/5 A, класс точности 0,5S, некалиброванные трансформаторы","1 / -",1.62,3.7069999999999999,668.45,{"$f":"VLOOKUP(B3834,#REF!,3,FALSE)","v":{"$error":"#REF!"}}]
["Varius","Varius FSD","LP2","OEZ:43708","MA10-FS123-400/5/0,5S","Измерительный адаптер","для FSD 1,2,3, FSR1,2,3 мощность 10 VA, коэффициент трансформации 400/5 A, класс точности 0,5S, некалиброванные трансформаторы","1 / -",1.62,3.7069999999999999,631.43999999999994,{"$f":"VLOOKUP(B3835,#REF!,3,FALSE)","v":{"$error":"#REF!"}}]
["Varius","Varius FSD","LP2","OEZ:43709","MA10-FS123-600/5/0,5S","Измерительный адаптер","для FSD 1,2,3, FSR1,2,3 мощность 10 VA, коэффициент трансформации 600/5 A, класс точности 0,5S, некалиброванные трансформаторы","1 / -",1.62,3.7069999999999999,631.43999999999994,{"$f":"VLOOKUP(B3836,#REF!,3,FALSE)","v":{"$error":"#REF!"}}]
[null,null,null,"Level  4","OD-MA - Принадлежности"]
["Varius","Varius FSD","LP2","OEZ:20369","OD-MA-3DV22","Дистанционный вкладыш","для монтажа трансформаторов, комплект 3 шт.","1 / -",0.28000000000000003,7.2999999999999995E-2,25.98,{"$f":"VLOOKUP(B3838,#REF!,3,FALSE)","v":{"$error":"#REF!"}}]
[null,null,null,"Level  2","силовые плавкие вставки"]
[null,null,null,"Level  3","PV - Цилиндрические плавкие вставки"]
[null,null,null,"Level  4","PV10, PVA10 - Плавкие вставки типоразмера 10x38"]
["Varius","Varius Fuse","LP6","OEZ:40748","PVA10 2A gG","Плавкая вставка","Un AC 500 V / DC 250 V, размер 10x38, gG - характеристика для общего применения, без Cd/Pb","10 / -",8.0000000000000002E-3,6.0000000000000001E-3,0.89,{"$f":"VLOOKUP(B3842,#REF!,3,FALSE)","v":{"$error":"#REF!"}}]
["Varius","Varius Fuse","LP6","OEZ:40749","PVA10 4A gG","Плавкая вставка","Un AC 500 V / DC 250 V, размер 10x38, gG - характеристика для общего применения, без Cd/Pb","10 / -",8.0000000000000002E-3,6.0000000000000001E-3,0.89,{"$f":"VLOOKUP(B3843,#REF!,3,FALSE)","v":{"$error":"#REF!"}}]
["Varius","Varius Fuse","LP6","OEZ:40750","PVA10 6A gG","Плавкая вставка","Un AC 500 V / DC 250 V, размер 10x38, gG - характеристика для общего применения, без Cd/Pb","10 / -",8.0000000000000002E-3,6.0000000000000001E-3,0.89,{"$f":"VLOOKUP(B3844,#REF!,3,FALSE)","v":{"$error":"#REF!"}}]
["Varius","Varius Fuse","LP6","OEZ:40751","PVA10 8A gG","Плавкая вставка","Un AC 500 V / DC 250 V, размер 10x38, gG - характеристика для общего применения, без Cd/Pb","10 / -",8.0000000000000002E-3,6.0000000000000001E-3,0.89,{"$f":"VLOOKUP(B3845,#REF!,3,FALSE)","v":{"$error":"#REF!"}}]
["Varius","Varius Fuse","LP6","OEZ:40752","PVA10 10A gG","Плавкая вставка","Un AC 500 V / DC 250 V, размер 10x38, gG - характеристика для общего применения, без Cd/Pb","10 / -",8.0000000000000002E-3,6.0000000000000001E-3,0.89,{"$f":"VLOOKUP(B3846,#REF!,3,FALSE)","v":{"$error":"#REF!"}}]
["Varius","Varius Fuse","LP6","OEZ:40753","PVA10 12A gG","Плавкая вставка","Un AC 500 V / DC 250 V, размер 10x38, gG - характеристика для общего применения, без Cd/Pb","10 / -",8.0000000000000002E-3,6.0000000000000001E-3,0.89,{"$f":"VLOOKUP(B3847,#REF!,3,FALSE)","v":{"$error":"#REF!"}}]
["Varius","Varius Fuse","LP6","OEZ:06703","PV10 16A gG","Плавкая вставка","Un AC 500 V / DC 250 V, размер 10×38, gG - характеристика для общего применения, без Cd/Pb","20 / -",0.01,6.0000000000000001E-3,0.89,{"$f":"VLOOKUP(B3848,#REF!,3,FALSE)","v":{"$error":"#REF!"}}]
["Varius","Varius Fuse","LP6","OEZ:06705","PV10 20A gG","Плавкая вставка","Un AC 500 V / DC 250 V, размер 10×38, gG - характеристика для общего применения, без Cd/Pb","20 / -",0.01,6.0000000000000001E-3,0.89,{"$f":"VLOOKUP(B3849,#REF!,3,FALSE)","v":{"$error":"#REF!"}}]
["Varius","Varius Fuse","LP6","OEZ:06707","PV10 25A gG","Плавкая вставка","Un AC 500 V / DC 250 V, размер 10×38, gG - характеристика для общего применения, без Cd/Pb","20 / -",8.0000000000000002E-3,6.0000000000000001E-3,0.89,{"$f":"VLOOKUP(B3850,#REF!,3,FALSE)","v":{"$error":"#REF!"}}]
["Varius","Varius Fuse","LP6","OEZ:45387","PV10 32A gG AC 400V","Плавкая вставка","Un AC 400 V / DC 250 V, размер 10×38, gG - характеристика для общего применения, без Cd/Pb","20 / -",0.01,6.0000000000000001E-3,1.19,{"$f":"VLOOKUP(B3851,#REF!,3,FALSE)","v":{"$error":"#REF!"}}]
["Varius","Varius Fuse","LP6","OEZ:40758","PVA10 0,25A aM","Плавкая вставка","Un AC 500 V / DC 250 V, размер 10x38, aM - характеристика моторная только против короткого замыкания, без Cd/Pb","10 / -",8.0000000000000002E-3,6.0000000000000001E-3,1.66,{"$f":"VLOOKUP(B3852,#REF!,3,FALSE)","v":{"$error":"#REF!"}}]
["Varius","Varius Fuse","LP6","OEZ:40759","PVA10 0,5A aM","Плавкая вставка","Un AC 500 V / DC 250 V, размер 10x38, aM - характеристика моторная только против короткого замыкания, без Cd/Pb","10 / -",8.0000000000000002E-3,6.0000000000000001E-3,1.64,{"$f":"VLOOKUP(B3853,#REF!,3,FALSE)","v":{"$error":"#REF!"}}]
["Varius","Varius Fuse","LP6","OEZ:40760","PVA10 1A aM","Плавкая вставка","Un AC 500 V / DC 250 V, размер 10x38, aM - характеристика моторная только против короткого замыкания, без Cd/Pb","10 / -",8.0000000000000002E-3,6.0000000000000001E-3,1.49,{"$f":"VLOOKUP(B3854,#REF!,3,FALSE)","v":{"$error":"#REF!"}}]
["Varius","Varius Fuse","LP6","OEZ:40761","PVA10 2A aM","Плавкая вставка","Un AC 500 V / DC 250 V, размер 10x38, aM - характеристика моторная только против короткого замыкания, без Cd/Pb","10 / -",8.0000000000000002E-3,6.0000000000000001E-3,1.19,{"$f":"VLOOKUP(B3855,#REF!,3,FALSE)","v":{"$error":"#REF!"}}]
["Varius","Varius Fuse","LP6","OEZ:40762","PVA10 4A aM","Плавкая вставка","Un AC 500 V / DC 250 V, размер 10x38, aM - характеристика моторная только против короткого замыкания, без Cd/Pb","10 / -",8.0000000000000002E-3,6.0000000000000001E-3,1.07,{"$f":"VLOOKUP(B3856,#REF!,3,FALSE)","v":{"$error":"#REF!"}}]
["Varius","Varius Fuse","LP6","OEZ:40763","PVA10 6A aM","Плавкая вставка","Un AC 500 V / DC 250 V, размер 10x38, aM - характеристика моторная только против короткого замыкания, без Cd/Pb","10 / -",8.0000000000000002E-3,6.0000000000000001E-3,1.07,{"$f":"VLOOKUP(B3857,#REF!,3,FALSE)","v":{"$error":"#REF!"}}]
["Varius","Varius Fuse","LP6","OEZ:40764","PVA10 8A aM","Плавкая вставка","Un AC 500 V / DC 250 V, размер 10x38, aM - характеристика моторная только против короткого замыкания, без Cd/Pb","10 / -",8.0000000000000002E-3,6.0000000000000001E-3,1.07,{"$f":"VLOOKUP(B3858,#REF!,3,FALSE)","v":{"$error":"#REF!"}}]
["Varius","Varius Fuse","LP6","OEZ:40765","PVA10 10A aM","Плавкая вставка","Un AC 500 V / DC 250 V, размер 10x38, aM - характеристика моторная только против короткого замыкания, без Cd/Pb","10 / -",8.0000000000000002E-3,6.0000000000000001E-3,1.07,{"$f":"VLOOKUP(B3859,#REF!,3,FALSE)","v":{"$error":"#REF!"}}]
["Varius","Varius Fuse","LP6","OEZ:40766","PVA10 12A aM","Плавкая вставка","Un AC 500 V / DC 250 V, размер 10x38, aM - характеристика моторная только против короткого замыкания, без Cd/Pb","10 / -",8.0000000000000002E-3,6.0000000000000001E-3,1.07,{"$f":"VLOOKUP(B3860,#REF!,3,FALSE)","v":{"$error":"#REF!"}}]
["Varius","Varius Fuse","LP6","OEZ:06704","PV10 16A aM","Плавкая вставка","Un AC 500 V / DC 250 V, размер 10×38, aM - характеристика моторная только против короткого замыкания, без Cd/Pb","20 / -",0.01,6.0000000000000001E-3,1.07,{"$f":"VLOOKUP(B3861,#REF!,3,FALSE)","v":{"$error":"#REF!"}}]
["Varius","Varius Fuse","LP6","OEZ:06706","PV10 20A aM","Плавкая вставка","Un AC 400 V / DC 250 V, размер 10×38, aM - характеристика моторная только против короткого замыкания, без Cd/Pb","20 / -",0.01,6.0000000000000001E-3,1.07,{"$f":"VLOOKUP(B3862,#REF!,3,FALSE)","v":{"$error":"#REF!"}}]
["Varius","Varius Fuse","LP6","OEZ:06708","PV10 25A aM","Плавкая вставка","Un AC 400 V / DC 250 V, размер 10×38, aM - характеристика моторная только против короткого замыкания, без Cd/Pb","20 / -",0.01,6.0000000000000001E-3,1.07,{"$f":"VLOOKUP(B3863,#REF!,3,FALSE)","v":{"$error":"#REF!"}}]
["Varius","Varius Fuse","LP6","OEZ:06710","PV10 32A aM","Плавкая вставка","Un AC 400 V / DC 250 V, размер 10×38, aM - характеристика моторная только против короткого замыкания, без Cd/Pb","20 / -",0.01,6.0000000000000001E-3,2.0799999999999996,{"$f":"VLOOKUP(B3864,#REF!,3,FALSE)","v":{"$error":"#REF!"}}]
[null,null,null,"Level  4","PV14 - Плавкие вставки типоразмера 14x51"]
["Varius","Varius Fuse","LP6","OEZ:06714","PV14 2A gG","Плавкая вставка","Un AC 690 V / DC 250 V, размер 14×51, gG - характеристика для общего применения, без Cd/Pb","10 / -",0.02,1.4E-2,2.4699999999999998,{"$f":"VLOOKUP(B3866,#REF!,3,FALSE)","v":{"$error":"#REF!"}}]
["Varius","Varius Fuse","LP6","OEZ:06716","PV14 4A gG","Плавкая вставка","Un AC 690 V / DC 250 V, размер 14×51, gG - характеристика для общего применения, без Cd/Pb","10 / -",0.02,1.4E-2,2.44,{"$f":"VLOOKUP(B3867,#REF!,3,FALSE)","v":{"$error":"#REF!"}}]
["Varius","Varius Fuse","LP6","OEZ:06718","PV14 6A gG","Плавкая вставка","Un AC 690 V / DC 250 V, размер 14×51, gG - характеристика для общего применения, без Cd/Pb","10 / -",0.02,1.4E-2,1.96,{"$f":"VLOOKUP(B3868,#REF!,3,FALSE)","v":{"$error":"#REF!"}}]
["Varius","Varius Fuse","LP6","OEZ:06720","PV14 8A gG","Плавкая вставка","Un AC 690 V / DC 250 V, размер 14×51, gG - характеристика для общего применения, без Cd/Pb","10 / -",0.02,1.4E-2,1.9,{"$f":"VLOOKUP(B3869,#REF!,3,FALSE)","v":{"$error":"#REF!"}}]
["Varius","Varius Fuse","LP6","OEZ:06722","PV14 10A gG","Плавкая вставка","Un AC 690 V / DC 250 V, размер 14×51, gG - характеристика для общего применения, без Cd/Pb","10 / -",2.5000000000000001E-2,1.4E-2,1.78,{"$f":"VLOOKUP(B3870,#REF!,3,FALSE)","v":{"$error":"#REF!"}}]
["Varius","Varius Fuse","LP6","OEZ:06724","PV14 12A gG","Плавкая вставка","Un AC 690 V / DC 250 V, размер 14×51, gG - характеристика для общего применения, без Cd/Pb","10 / -",0.02,1.4E-2,1.9,{"$f":"VLOOKUP(B3871,#REF!,3,FALSE)","v":{"$error":"#REF!"}}]
["Varius","Varius Fuse","LP6","OEZ:06726","PV14 16A gG","Плавкая вставка","Un AC 690 V / DC 250 V, размер 14×51, gG - характеристика для общего применения, без Cd/Pb","10 / -",0.02,1.4E-2,1.78,{"$f":"VLOOKUP(B3872,#REF!,3,FALSE)","v":{"$error":"#REF!"}}]
["Varius","Varius Fuse","LP6","OEZ:06728","PV14 20A gG","Плавкая вставка","Un AC 690 V / DC 250 V, размер 14×51, gG - характеристика для общего применения, без Cd/Pb","10 / -",2.5000000000000001E-2,1.4E-2,1.78,{"$f":"VLOOKUP(B3873,#REF!,3,FALSE)","v":{"$error":"#REF!"}}]
["Varius","Varius Fuse","LP6","OEZ:06730","PV14 25A gG","Плавкая вставка","Un AC 690 V / DC 250 V, размер 14×51, gG - характеристика для общего применения, без Cd/Pb","10 / -",2.5000000000000001E-2,1.4E-2,1.78,{"$f":"VLOOKUP(B3874,#REF!,3,FALSE)","v":{"$error":"#REF!"}}]
["Varius","Varius Fuse","LP6","OEZ:06732","PV14 32A gG","Плавкая вставка","Un AC 690 V / DC 250 V, размер 14×51, gG - характеристика для общего применения, без Cd/Pb","10 / -",2.5000000000000001E-2,1.4E-2,1.78,{"$f":"VLOOKUP(B3875,#REF!,3,FALSE)","v":{"$error":"#REF!"}}]
["Varius","Varius Fuse","LP6","OEZ:06734","PV14 40A gG","Плавкая вставка","Un AC 500 V / DC 250 V, размер 14×51, gG - характеристика для общего применения, без Cd/Pb","10 / -",2.5999999999999999E-2,1.4E-2,1.78,{"$f":"VLOOKUP(B3876,#REF!,3,FALSE)","v":{"$error":"#REF!"}}]
["Varius","Varius Fuse","LP6","OEZ:06736","PV14 50A gG","Плавкая вставка","Un AC 500 V / DC 250 V, размер 14×51, gG - характеристика для общего применения, без Cd/Pb","10 / -",2.5999999999999999E-2,1.4E-2,2.94,{"$f":"VLOOKUP(B3877,#REF!,3,FALSE)","v":{"$error":"#REF!"}}]
["Varius","Varius Fuse","LP6","OEZ:06738","PV14 63A gG","Плавкая вставка","Un AC 500 V / DC 250 V, размер 14×51, gG - характеристика для общего применения, без Cd/Pb","10 / -",2.5999999999999999E-2,1.4E-2,2.94,{"$f":"VLOOKUP(B3878,#REF!,3,FALSE)","v":{"$error":"#REF!"}}]
["Varius","Varius Fuse","LP6","OEZ:06711","PV14 0,25A aM","Плавкая вставка","Un AC 690 V / DC 250 V, размер 14×51, aM - характеристика моторная только против короткого замыкания, без Cd/Pb","10 / -",0.02,1.4E-2,2.6399999999999997,{"$f":"VLOOKUP(B3879,#REF!,3,FALSE)","v":{"$error":"#REF!"}}]
["Varius","Varius Fuse","LP6","OEZ:06712","PV14 0,5A aM","Плавкая вставка","Un AC 690 V / DC 250 V, размер 14×51, aM - характеристика моторная только против короткого замыкания, без Cd/Pb","10 / -",0.02,1.4E-2,2.6399999999999997,{"$f":"VLOOKUP(B3880,#REF!,3,FALSE)","v":{"$error":"#REF!"}}]
["Varius","Varius Fuse","LP6","OEZ:06713","PV14 1A aM","Плавкая вставка","Un AC 690 V / DC 250 V, размер 14×51, aM - характеристика моторная только против короткого замыкания, без Cd/Pb","10 / -",0.02,1.4E-2,2.4099999999999997,{"$f":"VLOOKUP(B3881,#REF!,3,FALSE)","v":{"$error":"#REF!"}}]
["Varius","Varius Fuse","LP6","OEZ:06715","PV14 2A aM","Плавкая вставка","Un AC 690 V / DC 250 V, размер 14×51, aM - характеристика моторная только против короткого замыкания, без Cd/Pb","10 / -",0.02,1.4E-2,2.3499999999999996,{"$f":"VLOOKUP(B3882,#REF!,3,FALSE)","v":{"$error":"#REF!"}}]
["Varius","Varius Fuse","LP6","OEZ:06717","PV14 4A aM","Плавкая вставка","Un AC 690 V / DC 250 V, размер 14×51, aM - характеристика моторная только против короткого замыкания, без Cd/Pb","10 / -",0.02,1.4E-2,2.3499999999999996,{"$f":"VLOOKUP(B3883,#REF!,3,FALSE)","v":{"$error":"#REF!"}}]
["Varius","Varius Fuse","LP6","OEZ:06719","PV14 6A aM","Плавкая вставка","Un AC 690 V / DC 250 V, размер 14×51, aM - характеристика моторная только против короткого замыкания, без Cd/Pb","10 / -",0.02,1.4E-2,2.3499999999999996,{"$f":"VLOOKUP(B3884,#REF!,3,FALSE)","v":{"$error":"#REF!"}}]
["Varius","Varius Fuse","LP6","OEZ:06721","PV14 8A aM","Плавкая вставка","Un AC 690 V / DC 250 V, размер 14×51, aM - характеристика моторная только против короткого замыкания, без Cd/Pb","10 / -",0.02,1.4E-2,2.3499999999999996,{"$f":"VLOOKUP(B3885,#REF!,3,FALSE)","v":{"$error":"#REF!"}}]
["Varius","Varius Fuse","LP6","OEZ:06723","PV14 10A aM","Плавкая вставка","Un AC 690 V / DC 250 V, размер 14×51, aM - характеристика моторная только против короткого замыкания, без Cd/Pb","10 / -",0.02,1.4E-2,2.3499999999999996,{"$f":"VLOOKUP(B3886,#REF!,3,FALSE)","v":{"$error":"#REF!"}}]
["Varius","Varius Fuse","LP6","OEZ:06725","PV14 12A aM","Плавкая вставка","Un AC 690 V / DC 250 V, размер 14×51, aM - характеристика моторная только против короткого замыкания, без Cd/Pb","10 / -",0.02,1.4E-2,2.3499999999999996,{"$f":"VLOOKUP(B3887,#REF!,3,FALSE)","v":{"$error":"#REF!"}}]
["Varius","Varius Fuse","LP6","OEZ:06727","PV14 16A aM","Плавкая вставка","Un AC 500 V / DC 250 V, размер 14×51, aM - характеристика моторная только против короткого замыкания, без Cd/Pb","10 / -",0.02,1.4E-2,2.0799999999999996,{"$f":"VLOOKUP(B3888,#REF!,3,FALSE)","v":{"$error":"#REF!"}}]
["Varius","Varius Fuse","LP6","OEZ:06729","PV14 20A aM","Плавкая вставка","Un AC 500 V / DC 250 V, размер 14×51, aM - характеристика моторная только против короткого замыкания, без Cd/Pb","10 / -",0.02,1.4E-2,2.0799999999999996,{"$f":"VLOOKUP(B3889,#REF!,3,FALSE)","v":{"$error":"#REF!"}}]
["Varius","Varius Fuse","LP6","OEZ:06731","PV14 25A aM","Плавкая вставка","Un AC 500 V / DC 250 V, размер 14×51, aM - характеристика моторная только против короткого замыкания, без Cd/Pb","10 / -",0.02,1.4E-2,2.0799999999999996,{"$f":"VLOOKUP(B3890,#REF!,3,FALSE)","v":{"$error":"#REF!"}}]
["Varius","Varius Fuse","LP6","OEZ:06733","PV14 32A aM","Плавкая вставка","Un AC 500 V / DC 250 V, размер 14×51, aM - характеристика моторная только против короткого замыкания, без Cd/Pb","10 / -",0.02,1.4E-2,2.0799999999999996,{"$f":"VLOOKUP(B3891,#REF!,3,FALSE)","v":{"$error":"#REF!"}}]
["Varius","Varius Fuse","LP6","OEZ:06735","PV14 40A aM","Плавкая вставка","Un AC 500 V / DC 250 V, размер 14×51, aM - характеристика моторная только против короткого замыкания, без Cd/Pb","10 / -",0.02,1.4E-2,2.0799999999999996,{"$f":"VLOOKUP(B3892,#REF!,3,FALSE)","v":{"$error":"#REF!"}}]
["Varius","Varius Fuse","LP6","OEZ:06737","PV14 50A aM","Плавкая вставка","Un AC 400 V / DC 250 V, размер 14×51, aM - характеристика моторная только против короткого замыкания, без Cd/Pb","10 / -",0.02,1.4E-2,2.0799999999999996,{"$f":"VLOOKUP(B3893,#REF!,3,FALSE)","v":{"$error":"#REF!"}}]
["Varius","Varius Fuse","LP6","OEZ:06739","PV14 63A aM","Плавкая вставка","Un AC 400 V / DC 250 V, размер 14×51, aM - характеристика моторная только против короткого замыкания, без Cd/Pb","10 / -",0.02,1.4E-2,3.32,{"$f":"VLOOKUP(B3894,#REF!,3,FALSE)","v":{"$error":"#REF!"}}]
[null,null,null,"Level  4","PV22 - Плавкие вставки типоразмера 22x58"]
["Varius","Varius Fuse","LP6","OEZ:06740","PV22 16A gG","Плавкая вставка","Un AC 690 V / DC 250 V, размер 22×58, gG - характеристика для общего применения, без Cd/Pb","10 / -",5.3999999999999999E-2,3.5000000000000003E-2,2.82,{"$f":"VLOOKUP(B3896,#REF!,3,FALSE)","v":{"$error":"#REF!"}}]
["Varius","Varius Fuse","LP6","OEZ:06742","PV22 20A gG","Плавкая вставка","Un AC 690 V / DC 250 V, размер 22×58, gG - характеристика для общего применения, без Cd/Pb","10 / -",5.3999999999999999E-2,3.5000000000000003E-2,2.44,{"$f":"VLOOKUP(B3897,#REF!,3,FALSE)","v":{"$error":"#REF!"}}]
["Varius","Varius Fuse","LP6","OEZ:06744","PV22 25A gG","Плавкая вставка","Un AC 690 V / DC 250 V, размер 22×58, gG - характеристика для общего применения, без Cd/Pb","10 / -",5.3999999999999999E-2,3.5000000000000003E-2,2.44,{"$f":"VLOOKUP(B3898,#REF!,3,FALSE)","v":{"$error":"#REF!"}}]
["Varius","Varius Fuse","LP6","OEZ:06746","PV22 32A gG","Плавкая вставка","Un AC 690 V / DC 250 V, размер 22×58, gG - характеристика для общего применения, без Cd/Pb","10 / -",5.3999999999999999E-2,3.5000000000000003E-2,2.44,{"$f":"VLOOKUP(B3899,#REF!,3,FALSE)","v":{"$error":"#REF!"}}]
["Varius","Varius Fuse","LP6","OEZ:06748","PV22 40A gG","Плавкая вставка","Un AC 690 V / DC 250 V, размер 22×58, gG - характеристика для общего применения, без Cd/Pb","10 / -",5.3999999999999999E-2,3.5000000000000003E-2,2.44,{"$f":"VLOOKUP(B3900,#REF!,3,FALSE)","v":{"$error":"#REF!"}}]
["Varius","Varius Fuse","LP6","OEZ:06750","PV22 50A gG","Плавкая вставка","Un AC 690 V / DC 250 V, размер 22×58, gG - характеристика для общего применения, без Cd/Pb","10 / -",5.3999999999999999E-2,3.5000000000000003E-2,2.44,{"$f":"VLOOKUP(B3901,#REF!,3,FALSE)","v":{"$error":"#REF!"}}]
["Varius","Varius Fuse","LP6","OEZ:06752","PV22 63A gG","Плавкая вставка","Un AC 500 V / DC 250 V, размер 22×58, gG - характеристика для общего применения, без Cd/Pb","10 / -",5.3999999999999999E-2,3.5000000000000003E-2,2.82,{"$f":"VLOOKUP(B3902,#REF!,3,FALSE)","v":{"$error":"#REF!"}}]
["Varius","Varius Fuse","LP6","OEZ:06754","PV22 80A gG","Плавкая вставка","Un AC 500 V / DC 250 V, размер 22×58, gG - характеристика для общего применения, без Cd/Pb","10 / -",5.3999999999999999E-2,3.5000000000000003E-2,2.82,{"$f":"VLOOKUP(B3903,#REF!,3,FALSE)","v":{"$error":"#REF!"}}]
["Varius","Varius Fuse","LP6","OEZ:06756","PV22 100A gG","Плавкая вставка","Un AC 500 V / DC 250 V, размер 22×58, gG - характеристика для общего применения, без Cd/Pb","10 / -",5.3999999999999999E-2,3.5000000000000003E-2,2.82,{"$f":"VLOOKUP(B3904,#REF!,3,FALSE)","v":{"$error":"#REF!"}}]
["Varius","Varius Fuse","LP6","OEZ:18271","PV22 125A gG","Плавкая вставка","Un AC 500 V / DC 250 V, размер 22×58, gG - характеристика для общего применения, без Cd/Pb","10 / -",5.3999999999999999E-2,3.5000000000000003E-2,3.4099999999999997,{"$f":"VLOOKUP(B3905,#REF!,3,FALSE)","v":{"$error":"#REF!"}}]
["Varius","Varius Fuse","LP6","OEZ:06741","PV22 16A aM","Плавкая вставка","Un AC 690 V / DC 250 V, размер 22×58, aM - характеристика моторная только против короткого замыкания, без Cd/Pb","10 / -",5.3999999999999999E-2,3.5000000000000003E-2,2.88,{"$f":"VLOOKUP(B3906,#REF!,3,FALSE)","v":{"$error":"#REF!"}}]
["Varius","Varius Fuse","LP6","OEZ:06743","PV22 20A aM","Плавкая вставка","Un AC 690 V / DC 250 V, размер 22×58, aM - характеристика моторная только против короткого замыкания, без Cd/Pb","10 / -",5.3999999999999999E-2,3.5000000000000003E-2,2.88,{"$f":"VLOOKUP(B3907,#REF!,3,FALSE)","v":{"$error":"#REF!"}}]
["Varius","Varius Fuse","LP6","OEZ:06745","PV22 25A aM","Плавкая вставка","Un AC 690 V / DC 250 V, размер 22×58, aM - характеристика моторная только против короткого замыкания, без Cd/Pb","10 / -",5.3999999999999999E-2,3.5000000000000003E-2,2.88,{"$f":"VLOOKUP(B3908,#REF!,3,FALSE)","v":{"$error":"#REF!"}}]
["Varius","Varius Fuse","LP6","OEZ:06747","PV22 32A aM","Плавкая вставка","Un AC 690 V / DC 250 V, размер 22×58, aM - характеристика моторная только против короткого замыкания, без Cd/Pb","10 / -",5.3999999999999999E-2,3.5000000000000003E-2,2.88,{"$f":"VLOOKUP(B3909,#REF!,3,FALSE)","v":{"$error":"#REF!"}}]
["Varius","Varius Fuse","LP6","OEZ:06749","PV22 40A aM","Плавкая вставка","Un AC 690 V / DC 250 V, размер 22×58, aM - характеристика моторная только против короткого замыкания, без Cd/Pb","10 / -",5.3999999999999999E-2,3.5000000000000003E-2,2.88,{"$f":"VLOOKUP(B3910,#REF!,3,FALSE)","v":{"$error":"#REF!"}}]
["Varius","Varius Fuse","LP6","OEZ:06751","PV22 50A aM","Плавкая вставка","Un AC 690 V / DC 250 V, размер 22×58, aM - характеристика моторная только против короткого замыкания, без Cd/Pb","10 / -",5.3999999999999999E-2,3.5000000000000003E-2,3.1799999999999997,{"$f":"VLOOKUP(B3911,#REF!,3,FALSE)","v":{"$error":"#REF!"}}]
["Varius","Varius Fuse","LP6","OEZ:06753","PV22 63A aM","Плавкая вставка","Un AC 500 V / DC 250 V, размер 22×58, aM - характеристика моторная только против короткого замыкания, без Cd/Pb","10 / -",5.3999999999999999E-2,3.5000000000000003E-2,3.5599999999999996,{"$f":"VLOOKUP(B3912,#REF!,3,FALSE)","v":{"$error":"#REF!"}}]
["Varius","Varius Fuse","LP6","OEZ:06755","PV22 80A aM","Плавкая вставка","Un AC 500 V / DC 250 V, размер 22×58, aM - характеристика моторная только против короткого замыкания, без Cd/Pb","10 / -",5.3999999999999999E-2,3.5000000000000003E-2,3.8,{"$f":"VLOOKUP(B3913,#REF!,3,FALSE)","v":{"$error":"#REF!"}}]
["Varius","Varius Fuse","LP6","OEZ:06757","PV22 100A aM","Плавкая вставка","Un AC 500 V / DC 250 V, размер 22×58, aM - характеристика моторная только против короткого замыкания, без Cd/Pb","10 / -",5.3999999999999999E-2,3.5000000000000003E-2,3.8899999999999997,{"$f":"VLOOKUP(B3914,#REF!,3,FALSE)","v":{"$error":"#REF!"}}]
["Varius","Varius Fuse","LP6","OEZ:06758","PV22 125A aM","Плавкая вставка","Un AC 400 V / DC 250 V, размер 22×58, aM - характеристика моторная только против короткого замыкания, без Cd/Pb","10 / -",5.3999999999999999E-2,3.5000000000000003E-2,4.2699999999999996,{"$f":"VLOOKUP(B3915,#REF!,3,FALSE)","v":{"$error":"#REF!"}}]
[null,null,null,"Level  3","PNA - Ножевые плавкие вставки до 500 V AC"]
[null,null,null,"Level  4","PNA000 - Плавкие вставки типоразмера 000"]
["Varius","Varius Fuse","LP4","OEZ:40477","PNA000 6A gG","Плавкая вставка","Un AC 500 V / DC 250 V, размер 000, gG - характеристика для общего применения, без Cd/Pb","3 / 60",0.13,8.8999999999999996E-2,2.4899999999999998,{"$f":"VLOOKUP(B3918,#REF!,3,FALSE)","v":{"$error":"#REF!"}}]
["Varius","Varius Fuse","LP4","OEZ:40478","PNA000 10A gG","Плавкая вставка","Un AC 500 V / DC 250 V, размер 000, gG - характеристика для общего применения, без Cd/Pb","3 / 60",0.13,8.8999999999999996E-2,2.4699999999999998,{"$f":"VLOOKUP(B3919,#REF!,3,FALSE)","v":{"$error":"#REF!"}}]
["Varius","Varius Fuse","LP4","OEZ:40479","PNA000 16A gG","Плавкая вставка","Un AC 500 V / DC 250 V, размер 000, gG - характеристика для общего применения, без Cd/Pb","3 / 60",0.13,8.8999999999999996E-2,2.4699999999999998,{"$f":"VLOOKUP(B3920,#REF!,3,FALSE)","v":{"$error":"#REF!"}}]
["Varius","Varius Fuse","LP4","OEZ:40480","PNA000 20A gG","Плавкая вставка","Un AC 500 V / DC 250 V, размер 000, gG - характеристика для общего применения, без Cd/Pb","3 / 60",0.13,8.8999999999999996E-2,2.44,{"$f":"VLOOKUP(B3921,#REF!,3,FALSE)","v":{"$error":"#REF!"}}]
["Varius","Varius Fuse","LP4","OEZ:40481","PNA000 25A gG","Плавкая вставка","Un AC 500 V / DC 250 V, размер 000, gG - характеристика для общего применения, без Cd/Pb","3 / 60",0.13,8.8999999999999996E-2,2.44,{"$f":"VLOOKUP(B3922,#REF!,3,FALSE)","v":{"$error":"#REF!"}}]
["Varius","Varius Fuse","LP4","OEZ:40482","PNA000 32A gG","Плавкая вставка","Un AC 500 V / DC 250 V, размер 000, gG - характеристика для общего применения, без Cd/Pb","3 / 60",0.13,8.8999999999999996E-2,2.44,{"$f":"VLOOKUP(B3923,#REF!,3,FALSE)","v":{"$error":"#REF!"}}]
["Varius","Varius Fuse","LP4","OEZ:40483","PNA000 35A gG","Плавкая вставка","Un AC 500 V / DC 250 V, размер 000, gG - характеристика для общего применения, без Cd/Pb","3 / 60",0.13,8.8999999999999996E-2,2.44,{"$f":"VLOOKUP(B3924,#REF!,3,FALSE)","v":{"$error":"#REF!"}}]
["Varius","Varius Fuse","LP4","OEZ:40484","PNA000 40A gG","Плавкая вставка","Un AC 500 V / DC 250 V, размер 000, gG - характеристика для общего применения, без Cd/Pb","3 / 60",0.13,8.8999999999999996E-2,2.44,{"$f":"VLOOKUP(B3925,#REF!,3,FALSE)","v":{"$error":"#REF!"}}]
["Varius","Varius Fuse","LP4","OEZ:40485","PNA000 50A gG","Плавкая вставка","Un AC 500 V / DC 250 V, размер 000, gG - характеристика для общего применения, без Cd/Pb","3 / 60",0.13,8.8999999999999996E-2,2.44,{"$f":"VLOOKUP(B3926,#REF!,3,FALSE)","v":{"$error":"#REF!"}}]
["Varius","Varius Fuse","LP4","OEZ:40486","PNA000 63A gG","Плавкая вставка","Un AC 500 V / DC 250 V, размер 000, gG - характеристика для общего применения, без Cd/Pb","3 / 60",0.13,8.8999999999999996E-2,2.44,{"$f":"VLOOKUP(B3927,#REF!,3,FALSE)","v":{"$error":"#REF!"}}]
["Varius","Varius Fuse","LP4","OEZ:40487","PNA000 80A gG","Плавкая вставка","Un AC 500 V / DC 250 V, размер 000, gG - характеристика для общего применения, без Cd/Pb","3 / 60",0.13,8.8999999999999996E-2,2.5799999999999996,{"$f":"VLOOKUP(B3928,#REF!,3,FALSE)","v":{"$error":"#REF!"}}]
["Varius","Varius Fuse","LP4","OEZ:40488","PNA000 100A gG","Плавкая вставка","Un AC 500 V / DC 250 V, размер 000, gG - характеристика для общего применения, без Cd/Pb","3 / 60",0.13,8.8999999999999996E-2,2.5799999999999996,{"$f":"VLOOKUP(B3929,#REF!,3,FALSE)","v":{"$error":"#REF!"}}]
["Varius","Varius Fuse","LP4","OEZ:40489","PNA000 125A gG","Плавкая вставка","Un AC 500 V / DC 250 V, размер 000, gG - характеристика для общего применения, без Cd/Pb","3 / 60",0.13,8.8999999999999996E-2,9.129999999999999,{"$f":"VLOOKUP(B3930,#REF!,3,FALSE)","v":{"$error":"#REF!"}}]
["Varius","Varius Fuse","LP4","OEZ:40490","PNA000 160A gG","Плавкая вставка","Un AC 400 V / DC 250 V, размер 000, gG - характеристика для общего применения, без Cd/Pb","3 / 60",0.13,8.8999999999999996E-2,9.129999999999999,{"$f":"VLOOKUP(B3931,#REF!,3,FALSE)","v":{"$error":"#REF!"}}]
["Varius","Varius Fuse","LP4","OEZ:40491","PNA000 6A aM","Плавкая вставка","Un AC 500 V / DC 250 V, размер 000, aM - характеристика моторная только против короткого замыкания, без Cd/Pb","3 / 60",0.125,8.8999999999999996E-2,3.38,{"$f":"VLOOKUP(B3932,#REF!,3,FALSE)","v":{"$error":"#REF!"}}]
["Varius","Varius Fuse","LP4","OEZ:40492","PNA000 10A aM","Плавкая вставка","Un AC 500 V / DC 250 V, размер 000, aM - характеристика моторная только против короткого замыкания, без Cd/Pb","3 / 60",0.125,8.8999999999999996E-2,3.38,{"$f":"VLOOKUP(B3933,#REF!,3,FALSE)","v":{"$error":"#REF!"}}]
["Varius","Varius Fuse","LP4","OEZ:40494","PNA000 16A aM","Плавкая вставка","Un AC 500 V / DC 250 V, размер 000, aM - характеристика моторная, только против короткого замыкания, без Cd/Pb","3 / 60",0.125,8.8999999999999996E-2,3.38,{"$f":"VLOOKUP(B3934,#REF!,3,FALSE)","v":{"$error":"#REF!"}}]
["Varius","Varius Fuse","LP4","OEZ:40495","PNA000 20A aM","Плавкая вставка","Un AC 500 V / DC 250 V, размер 000, aM - характеристика моторная, только против короткого замыкания, без Cd/Pb","3 / 60",0.125,8.8999999999999996E-2,3.38,{"$f":"VLOOKUP(B3935,#REF!,3,FALSE)","v":{"$error":"#REF!"}}]
["Varius","Varius Fuse","LP4","OEZ:40496","PNA000 25A aM","Плавкая вставка","Un AC 500 V / DC 250 V, размер 000, aM - характеристика моторная, только против короткого замыкания, без Cd/Pb","3 / 60",0.125,8.8999999999999996E-2,3.38,{"$f":"VLOOKUP(B3936,#REF!,3,FALSE)","v":{"$error":"#REF!"}}]
["Varius","Varius Fuse","LP4","OEZ:40497","PNA000 32A aM","Плавкая вставка","Un AC 500 V / DC 250 V, размер 000, aM - характеристика моторная, только против короткого замыкания, без Cd/Pb","3 / 60",0.125,8.8999999999999996E-2,3.38,{"$f":"VLOOKUP(B3937,#REF!,3,FALSE)","v":{"$error":"#REF!"}}]
["Varius","Varius Fuse","LP4","OEZ:40498","PNA000 40A aM","Плавкая вставка","Un AC 500 V / DC 250 V, размер 000, aM - характеристика моторная, только против короткого замыкания, без Cd/Pb","3 / 60",0.125,8.8999999999999996E-2,3.38,{"$f":"VLOOKUP(B3938,#REF!,3,FALSE)","v":{"$error":"#REF!"}}]
["Varius","Varius Fuse","LP4","OEZ:40499","PNA000 50A aM","Плавкая вставка","Un AC 500 V / DC 250 V, размер 000, aM - характеристика моторная, только против короткого замыкания, без Cd/Pb","3 / 60",0.125,8.8999999999999996E-2,3.38,{"$f":"VLOOKUP(B3939,#REF!,3,FALSE)","v":{"$error":"#REF!"}}]
["Varius","Varius Fuse","LP4","OEZ:40500","PNA000 63A aM","Плавкая вставка","Un AC 500 V / DC 250 V, размер 000, aM - характеристика моторная, только против короткого замыкания, без Cd/Pb","3 / 60",0.125,8.8999999999999996E-2,3.7699999999999996,{"$f":"VLOOKUP(B3940,#REF!,3,FALSE)","v":{"$error":"#REF!"}}]
["Varius","Varius Fuse","LP4","OEZ:40501","PNA000 80A aM","Плавкая вставка","Un AC 500 V / DC 250 V, размер 000, aM - характеристика моторная, только против короткого замыкания, без Cd/Pb","3 / 60",0.125,8.8999999999999996E-2,3.7699999999999996,{"$f":"VLOOKUP(B3941,#REF!,3,FALSE)","v":{"$error":"#REF!"}}]
["Varius","Varius Fuse","LP4","OEZ:40502","PNA000 100A aM","Плавкая вставка","Un AC 500 V / DC 250 V, размер 000, aM - характеристика моторная, только против короткого замыкания, без Cd/Pb","3 / 60",0.13,8.8999999999999996E-2,4.3,{"$f":"VLOOKUP(B3942,#REF!,3,FALSE)","v":{"$error":"#REF!"}}]
[null,null,null,"Level  4","PNA00 - Плавкие вставки типоразмера 00"]
["Varius","Varius Fuse","LP4","OEZ:40513","PNA00 125A gG","Плавкая вставка","Un AC 500 V / DC 250 V, размер 00, gG - характеристика для общего применения, без Cd/Pb","3 / 60",0.21,0.14599999999999999,3.71,{"$f":"VLOOKUP(B3944,#REF!,3,FALSE)","v":{"$error":"#REF!"}}]
["Varius","Varius Fuse","LP4","OEZ:40514","PNA00 160A gG","Плавкая вставка","Un AC 500 V / DC 250 V, размер 00, gG - характеристика для общего применения, без Cd/Pb","3 / 60",0.21,0.14599999999999999,3.8299999999999996,{"$f":"VLOOKUP(B3945,#REF!,3,FALSE)","v":{"$error":"#REF!"}}]
["Varius","Varius Fuse","LP4","OEZ:40515","PNA00 100A aM","Плавкая вставка","Un AC 500 V / DC 250 V, размер 00, aM - характеристика моторная только против короткого замыкания, без Cd/Pb","3 / 60",0.21,0.14599999999999999,3.5599999999999996,{"$f":"VLOOKUP(B3946,#REF!,3,FALSE)","v":{"$error":"#REF!"}}]
["Varius","Varius Fuse","LP4","OEZ:40516","PNA00 125A aM","Плавкая вставка","Un AC 500 V / DC 250 V, размер 00, aM - характеристика моторная только против короткого замыкания, без Cd/Pb","3 / 60",0.20200000000000001,0.14599999999999999,4.6899999999999995,{"$f":"VLOOKUP(B3947,#REF!,3,FALSE)","v":{"$error":"#REF!"}}]
["Varius","Varius Fuse","LP4","OEZ:40517","PNA00 160A aM","Плавкая вставка","Un AC 500 V / DC 250 V, размер 00, aM - характеристика моторная только против короткого замыкания, без Cd/Pb","3 / 60",0.20200000000000001,0.14599999999999999,9.76,{"$f":"VLOOKUP(B3948,#REF!,3,FALSE)","v":{"$error":"#REF!"}}]
[null,null,null,"Level  4","PNA1 - Плавкие вставки типоразмера 1"]
["Varius","Varius Fuse","LP4","OEZ:40428","PNA1 16A gG","Плавкая вставка","Un AC 500 V / DC 440 V, размер 1, gG - характеристика для общего применения, без Cd/Pb","3 / 30",0.30199999999999999,0.27300000000000002,4.45,{"$f":"VLOOKUP(B3950,#REF!,3,FALSE)","v":{"$error":"#REF!"}}]
["Varius","Varius Fuse","LP4","OEZ:40429","PNA1 20A gG","Плавкая вставка","Un AC 500 V / DC 440 V, размер 1, gG - характеристика для общего применения, без Cd/Pb","3 / 30",0.30199999999999999,0.27300000000000002,4.45,{"$f":"VLOOKUP(B3951,#REF!,3,FALSE)","v":{"$error":"#REF!"}}]
["Varius","Varius Fuse","LP4","OEZ:40430","PNA1 25A gG","Плавкая вставка","Un AC 500 V / DC 440 V, размер 1, gG - характеристика для общего применения, без Cd/Pb","3 / 30",0.30199999999999999,0.27300000000000002,4.45,{"$f":"VLOOKUP(B3952,#REF!,3,FALSE)","v":{"$error":"#REF!"}}]
["Varius","Varius Fuse","LP4","OEZ:40431","PNA1 32A gG","Плавкая вставка","Un AC 500 V / DC 440 V, размер 1, gG - характеристика для общего применения, без Cd/Pb","3 / 30",0.30199999999999999,0.27300000000000002,4.45,{"$f":"VLOOKUP(B3953,#REF!,3,FALSE)","v":{"$error":"#REF!"}}]
["Varius","Varius Fuse","LP4","OEZ:40432","PNA1 35A gG","Плавкая вставка","Un AC 500 V / DC 440 V, размер 1, gG - характеристика для общего применения, без Cd/Pb","3 / 30",0.30199999999999999,0.27300000000000002,4.45,{"$f":"VLOOKUP(B3954,#REF!,3,FALSE)","v":{"$error":"#REF!"}}]
["Varius","Varius Fuse","LP4","OEZ:40433","PNA1 40A gG","Плавкая вставка","Un AC 500 V / DC 440 V, размер 1, gG - характеристика для общего применения, без Cd/Pb","3 / 30",0.30199999999999999,0.27300000000000002,4.45,{"$f":"VLOOKUP(B3955,#REF!,3,FALSE)","v":{"$error":"#REF!"}}]
["Varius","Varius Fuse","LP4","OEZ:40434","PNA1 50A gG","Плавкая вставка","Un AC 500 V / DC 440 V, размер 1, gG - характеристика для общего применения, без Cd/Pb","3 / 30",0.30199999999999999,0.27300000000000002,4.0999999999999996,{"$f":"VLOOKUP(B3956,#REF!,3,FALSE)","v":{"$error":"#REF!"}}]
["Varius","Varius Fuse","LP4","OEZ:40435","PNA1 63A gG","Плавкая вставка","Un AC 500 V / DC 440 V, размер 1, gG - характеристика для общего применения, без Cd/Pb","3 / 30",0.30199999999999999,0.27300000000000002,4.0999999999999996,{"$f":"VLOOKUP(B3957,#REF!,3,FALSE)","v":{"$error":"#REF!"}}]
["Varius","Varius Fuse","LP4","OEZ:40436","PNA1 80A gG","Плавкая вставка","Un AC 500 V / DC 440 V, размер 1, gG - характеристика для общего применения, без Cd/Pb","3 / 30",0.30199999999999999,0.27300000000000002,4.0999999999999996,{"$f":"VLOOKUP(B3958,#REF!,3,FALSE)","v":{"$error":"#REF!"}}]
["Varius","Varius Fuse","LP4","OEZ:40437","PNA1 100A gG","Плавкая вставка","Un AC 500 V / DC 440 V, размер 1, gG - характеристика для общего применения, без Cd/Pb","3 / 30",0.30199999999999999,0.27300000000000002,4.0999999999999996,{"$f":"VLOOKUP(B3959,#REF!,3,FALSE)","v":{"$error":"#REF!"}}]
["Varius","Varius Fuse","LP4","OEZ:40438","PNA1 125A gG","Плавкая вставка","Un AC 500 V / DC 440 V, размер 1, gG - характеристика для общего применения, без Cd/Pb","3 / 30",0.30199999999999999,0.27300000000000002,4.3,{"$f":"VLOOKUP(B3960,#REF!,3,FALSE)","v":{"$error":"#REF!"}}]
["Varius","Varius Fuse","LP4","OEZ:40439","PNA1 160A gG","Плавкая вставка","Un AC 500 V / DC 440 V, размер 1, gG - характеристика для общего применения, без Cd/Pb","3 / 30",0.30199999999999999,0.27300000000000002,4.4799999999999995,{"$f":"VLOOKUP(B3961,#REF!,3,FALSE)","v":{"$error":"#REF!"}}]
["Varius","Varius Fuse","LP4","OEZ:40440","PNA1 200A gG","Плавкая вставка","Un AC 500 V / DC 440 V, размер 1, gG - характеристика для общего применения, без Cd/Pb","3 / 30",0.44500000000000001,0.41199999999999998,10.709999999999999,{"$f":"VLOOKUP(B3962,#REF!,3,FALSE)","v":{"$error":"#REF!"}}]
["Varius","Varius Fuse","LP4","OEZ:40441","PNA1 224A gG","Плавкая вставка","Un AC 500 V / DC 440 V, размер 1, gG - характеристика для общего применения, без Cd/Pb","3 / 30",0.44500000000000001,0.41199999999999998,10.94,{"$f":"VLOOKUP(B3963,#REF!,3,FALSE)","v":{"$error":"#REF!"}}]
["Varius","Varius Fuse","LP4","OEZ:40442","PNA1 250A gG","Плавкая вставка","Un AC 500 V / DC 440 V, размер 1, gG - характеристика для общего применения, без Cd/Pb","3 / 30",0.44500000000000001,0.41199999999999998,10.94,{"$f":"VLOOKUP(B3964,#REF!,3,FALSE)","v":{"$error":"#REF!"}}]
["Varius","Varius Fuse","LP4","OEZ:40443","PNA1 63A aM","Плавкая вставка","Un AC 690 V / DC 250 V, размер 1, aM - характеристика моторная только против короткого замыкания, без Cd/Pb","3 / 30",0.30199999999999999,0.27300000000000002,9.64,{"$f":"VLOOKUP(B3965,#REF!,3,FALSE)","v":{"$error":"#REF!"}}]
["Varius","Varius Fuse","LP4","OEZ:40444","PNA1 80A aM","Плавкая вставка","Un AC 690 V / DC 250 V, размер 1, aM - характеристика моторная только против короткого замыкания, без Cd/Pb","3 / 30",0.30199999999999999,0.27300000000000002,9.64,{"$f":"VLOOKUP(B3966,#REF!,3,FALSE)","v":{"$error":"#REF!"}}]
["Varius","Varius Fuse","LP4","OEZ:40445","PNA1 100A aM","Плавкая вставка","Un AC 690 V / DC 250 V, размер 1, aM - характеристика моторная только против короткого замыкания, без Cd/Pb","3 / 30",0.45200000000000001,0.27300000000000002,9.64,{"$f":"VLOOKUP(B3967,#REF!,3,FALSE)","v":{"$error":"#REF!"}}]
["Varius","Varius Fuse","LP4","OEZ:40446","PNA1 125A aM","Плавкая вставка","Un AC 690 V / DC 250 V, размер 1, aM - характеристика моторная только против короткого замыкания, без Cd/Pb","3 / 30",0.46500000000000002,0.45700000000000002,10.56,{"$f":"VLOOKUP(B3968,#REF!,3,FALSE)","v":{"$error":"#REF!"}}]
["Varius","Varius Fuse","LP4","OEZ:40447","PNA1 160A aM","Плавкая вставка","Un AC 690 V / DC 250 V, размер 1, aM - характеристика моторная только против короткого замыкания, без Cd/Pb","3 / 30",0.46500000000000002,0.45700000000000002,10.879999999999999,{"$f":"VLOOKUP(B3969,#REF!,3,FALSE)","v":{"$error":"#REF!"}}]
["Varius","Varius Fuse","LP4","OEZ:40448","PNA1 200A aM","Плавкая вставка","Un AC 690 V / DC 250 V, размер 1, aM - характеристика моторная только против короткого замыкания, без Cd/Pb","3 / 30",0.46500000000000002,0.45700000000000002,11.83,{"$f":"VLOOKUP(B3970,#REF!,3,FALSE)","v":{"$error":"#REF!"}}]
["Varius","Varius Fuse","LP4","OEZ:40449","PNA1 250A aM","Плавкая вставка","Un AC 690 V / DC 250 V, размер 1, aM - характеристика моторная только против короткого замыкания, без Cd/Pb","3 / 30",0.46500000000000002,0.45700000000000002,12.66,{"$f":"VLOOKUP(B3971,#REF!,3,FALSE)","v":{"$error":"#REF!"}}]
[null,null,null,"Level  4","PNA2 - Плавкие вставки типоразмера 2"]
["Varius","Varius Fuse","LP4","OEZ:40386","PNA2 35A gG","Плавкая вставка","Un AC 500 V / DC 440 V, размер 2, gG - характеристика для общего применения, без Cd/Pb","3 / 30",0.46800000000000003,0.51700000000000002,13.549999999999999,{"$f":"VLOOKUP(B3973,#REF!,3,FALSE)","v":{"$error":"#REF!"}}]
["Varius","Varius Fuse","LP4","OEZ:40387","PNA2 40A gG","Плавкая вставка","Un AC 500 V / DC 440 V, размер 2, gG - характеристика для общего применения, без Cd/Pb","3 / 30",0.46800000000000003,0.51700000000000002,13.549999999999999,{"$f":"VLOOKUP(B3974,#REF!,3,FALSE)","v":{"$error":"#REF!"}}]
["Varius","Varius Fuse","LP4","OEZ:40388","PNA2 50A gG","Плавкая вставка","Un AC 500 V / DC 440 V, размер 2, gG - характеристика для общего применения, без Cd/Pb","3 / 30",0.46800000000000003,0.51700000000000002,13.549999999999999,{"$f":"VLOOKUP(B3975,#REF!,3,FALSE)","v":{"$error":"#REF!"}}]
["Varius","Varius Fuse","LP4","OEZ:40389","PNA2 63A gG","Плавкая вставка","Un AC 500 V / DC 440 V, размер 2, gG - характеристика для общего применения, без Cd/Pb","3 / 30",0.46800000000000003,0.51700000000000002,13.549999999999999,{"$f":"VLOOKUP(B3976,#REF!,3,FALSE)","v":{"$error":"#REF!"}}]
["Varius","Varius Fuse","LP4","OEZ:40390","PNA2 80A gG","Плавкая вставка","Un AC 500 V / DC 440 V, размер 2, gG - характеристика для общего применения, без Cd/Pb","3 / 80",0.46800000000000003,0.51700000000000002,13.549999999999999,{"$f":"VLOOKUP(B3977,#REF!,3,FALSE)","v":{"$error":"#REF!"}}]
["Varius","Varius Fuse","LP4","OEZ:40391","PNA2 100A gG","Плавкая вставка","Un AC 500 V / DC 440 V, размер 2, gG - характеристика для общего применения, без Cd/Pb","3 / 30",0.46800000000000003,0.51700000000000002,13.549999999999999,{"$f":"VLOOKUP(B3978,#REF!,3,FALSE)","v":{"$error":"#REF!"}}]
["Varius","Varius Fuse","LP4","OEZ:40392","PNA2 125A gG","Плавкая вставка","Un AC 500 V / DC 440 V, размер 2, gG - характеристика для общего применения, без Cd/Pb","3 / 30",0.46800000000000003,0.51700000000000002,13.549999999999999,{"$f":"VLOOKUP(B3979,#REF!,3,FALSE)","v":{"$error":"#REF!"}}]
["Varius","Varius Fuse","LP4","OEZ:40393","PNA2 160A gG","Плавкая вставка","Un AC 500 V / DC 440 V, размер 2, gG - характеристика для общего применения, без Cd/Pb","3 / 30",0.46800000000000003,0.51700000000000002,13.549999999999999,{"$f":"VLOOKUP(B3980,#REF!,3,FALSE)","v":{"$error":"#REF!"}}]
["Varius","Varius Fuse","LP4","OEZ:40394","PNA2 200A gG","Плавкая вставка","Un AC 500 V / DC 440 V, размер 2, gG - характеристика для общего применения, без Cd/Pb","3 / 30",0.46800000000000003,0.51700000000000002,13.61,{"$f":"VLOOKUP(B3981,#REF!,3,FALSE)","v":{"$error":"#REF!"}}]
["Varius","Varius Fuse","LP4","OEZ:40395","PNA2 224A gG","Плавкая вставка","Un AC 500 V / DC 440 V, размер 2, gG - характеристика для общего применения, без Cd/Pb","3 / 30",0.46800000000000003,0.51700000000000002,13.85,{"$f":"VLOOKUP(B3982,#REF!,3,FALSE)","v":{"$error":"#REF!"}}]
["Varius","Varius Fuse","LP4","OEZ:40396","PNA2 250A gG","Плавкая вставка","Un AC 500 V / DC 440 V, размер 2, gG - характеристика для общего применения, без Cd/Pb","3 / 30",0.46800000000000003,0.51700000000000002,13.879999999999999,{"$f":"VLOOKUP(B3983,#REF!,3,FALSE)","v":{"$error":"#REF!"}}]
["Varius","Varius Fuse","LP4","OEZ:40397","PNA2 315A gG","Плавкая вставка","Un AC 500 V / DC 440 V, размер 2, gG - характеристика для общего применения, без Cd/Pb","3 / 15",0.66,0.65,14.68,{"$f":"VLOOKUP(B3984,#REF!,3,FALSE)","v":{"$error":"#REF!"}}]
["Varius","Varius Fuse","LP4","OEZ:40398","PNA2 350A gG","Плавкая вставка","Un AC 500 V / DC 440 V, размер 2, gG - характеристика для общего применения, без Cd/Pb","3 / 15",0.66,0.65,14.74,{"$f":"VLOOKUP(B3985,#REF!,3,FALSE)","v":{"$error":"#REF!"}}]
["Varius","Varius Fuse","LP4","OEZ:40399","PNA2 400A gG","Плавкая вставка","Un AC 500 V / DC 440 V, размер 2, gG - характеристика для общего применения, без Cd/Pb","3 / 15",0.66,0.65,15.48,{"$f":"VLOOKUP(B3986,#REF!,3,FALSE)","v":{"$error":"#REF!"}}]
["Varius","Varius Fuse","LP4","OEZ:40400","PNA2 125A aM","Плавкая вставка","Un AC 690 V / DC 250 V, размер 2, aM - характеристика моторная только против короткого замыкания, без Cd/Pb","3 / 30",0.46,0.51700000000000002,14.77,{"$f":"VLOOKUP(B3987,#REF!,3,FALSE)","v":{"$error":"#REF!"}}]
["Varius","Varius Fuse","LP4","OEZ:40401","PNA2 160A aM","Плавкая вставка","Un AC 690 V / DC 250 V, размер 2, aM - характеристика моторная только против короткого замыкания, без Cd/Pb","3 / 30",0.46,0.51700000000000002,14.77,{"$f":"VLOOKUP(B3988,#REF!,3,FALSE)","v":{"$error":"#REF!"}}]
["Varius","Varius Fuse","LP4","OEZ:40402","PNA2 200A aM","Плавкая вставка","Un AC 690 V / DC 250 V, размер 2, aM - характеристика моторная только против короткого замыкания, без Cd/Pb","3 / 30",0.46,0.51700000000000002,14.77,{"$f":"VLOOKUP(B3989,#REF!,3,FALSE)","v":{"$error":"#REF!"}}]
["Varius","Varius Fuse","LP4","OEZ:40403","PNA2 250A aM","Плавкая вставка","Un AC 690 V / DC 250 V, размер 2, aM - характеристика моторная только против короткого замыкания, без Cd/Pb","3 / 30",0.46,0.51700000000000002,14.77,{"$f":"VLOOKUP(B3990,#REF!,3,FALSE)","v":{"$error":"#REF!"}}]
["Varius","Varius Fuse","LP4","OEZ:40404","PNA2 315A aM","Плавкая вставка","Un AC 690 V / DC 250 V, размер 2, aM - характеристика моторная только против короткого замыкания, без Cd/Pb","3 / 15",0.68500000000000005,0.65,16.190000000000001,{"$f":"VLOOKUP(B3991,#REF!,3,FALSE)","v":{"$error":"#REF!"}}]
["Varius","Varius Fuse","LP4","OEZ:40405","PNA2 400A aM","Плавкая вставка","Un AC 690 V / DC 250 V, размер 2, aM - характеристика моторная только против короткого замыкания, без Cd/Pb","3 / 15",0.68500000000000005,0.65,16.48,{"$f":"VLOOKUP(B3992,#REF!,3,FALSE)","v":{"$error":"#REF!"}}]
[null,null,null,"Level  4","PNA3 - Плавкие вставки типоразмера 3"]
["Varius","Varius Fuse","LP4","OEZ:40356","PNA3 200A gG","Плавкая вставка","Un AC 500 V / DC 440 V, размер 3, gG - характеристика для общего применения, без Cd/Pb","3 / 15",0.66,0.86099999999999999,13.34,{"$f":"VLOOKUP(B3994,#REF!,3,FALSE)","v":{"$error":"#REF!"}}]
["Varius","Varius Fuse","LP4","OEZ:40357","PNA3 224A gG","Плавкая вставка","Un AC 500 V / DC 440 V, размер 3, gG - характеристика для общего применения, без Cd/Pb","3 / 15",0.66,0.86099999999999999,13.549999999999999,{"$f":"VLOOKUP(B3995,#REF!,3,FALSE)","v":{"$error":"#REF!"}}]
["Varius","Varius Fuse","LP4","OEZ:40358","PNA3 250A gG","Плавкая вставка","Un AC 500 V / DC 440 V, размер 3, gG - характеристика для общего применения, без Cd/Pb","3 / 15",0.66,0.86099999999999999,13.549999999999999,{"$f":"VLOOKUP(B3996,#REF!,3,FALSE)","v":{"$error":"#REF!"}}]
["Varius","Varius Fuse","LP4","OEZ:40359","PNA3 315A gG","Плавкая вставка","Un AC 500 V / DC 440 V, размер 3, gG - характеристика для общего применения, без Cd/Pb","3 / 15",0.66,0.86099999999999999,13.91,{"$f":"VLOOKUP(B3997,#REF!,3,FALSE)","v":{"$error":"#REF!"}}]
["Varius","Varius Fuse","LP4","OEZ:40360","PNA3 350A gG","Плавкая вставка","Un AC 500 V / DC 440 V, размер 3, gG - характеристика для общего применения, без Cd/Pb","3 / 15",0.66,0.86099999999999999,13.94,{"$f":"VLOOKUP(B3998,#REF!,3,FALSE)","v":{"$error":"#REF!"}}]
["Varius","Varius Fuse","LP4","OEZ:40361","PNA3 400A gG","Плавкая вставка","Un AC 500 V / DC 440 V, размер 3, gG - характеристика для общего применения, без Cd/Pb","3 / 15",0.66,0.86099999999999999,14.65,{"$f":"VLOOKUP(B3999,#REF!,3,FALSE)","v":{"$error":"#REF!"}}]
["Varius","Varius Fuse","LP4","OEZ:07137","PN3 500A gG","Плавкая вставка","Un AC 500 V / DC 250 V, размер 3, gG - характеристика для общего применения, без Cd/Pb","3 / 12",0.97099999999999997,1.3759999999999999,28.610000000000003,{"$f":"VLOOKUP(B4000,#REF!,3,FALSE)","v":{"$error":"#REF!"}}]
["Varius","Varius Fuse","LP4","OEZ:07140","PN3 630A gG","Плавкая вставка","Un AC 500 V / DC 250 V, размер 3, gG - характеристика для общего применения, без Cd/Pb","3 / 12",0.97099999999999997,1.3759999999999999,29.790000000000003,{"$f":"VLOOKUP(B4001,#REF!,3,FALSE)","v":{"$error":"#REF!"}}]
["Varius","Varius Fuse","LP4","OEZ:40364","PNA3 315A aM","Плавкая вставка","Un AC 690 V / DC 250 V, размер 3, aM - характеристика моторная только против короткого замыкания, без Cd/Pb","3 / 15",0.66,0.95099999999999996,15.629999999999999,{"$f":"VLOOKUP(B4002,#REF!,3,FALSE)","v":{"$error":"#REF!"}}]
["Varius","Varius Fuse","LP4","OEZ:40365","PNA3 400A aM","Плавкая вставка","Un AC 690 V / DC 250 V, размер 3, aM - характеристика моторная только против короткого замыкания, без Cd/Pb","3 / 15",0.66,0.95099999999999996,31.78,{"$f":"VLOOKUP(B4003,#REF!,3,FALSE)","v":{"$error":"#REF!"}}]
["Varius","Varius Fuse","LP4","OEZ:40366","PNA3 500A aM","Плавкая вставка","Un AC 690 V / DC 250 V, размер 3, aM - характеристика моторная только против короткого замыкания, без Cd/Pb","3 / 12",1,0.86099999999999999,32.489999999999995,{"$f":"VLOOKUP(B4004,#REF!,3,FALSE)","v":{"$error":"#REF!"}}]
["Varius","Varius Fuse","LP4","OEZ:40367","PNA3 630A aM","Плавкая вставка","Un AC 690 V / DC 250 V, размер 3, aM - характеристика моторная только против короткого замыкания, без Cd/Pb","3 / 12",1,0.86099999999999999,32.489999999999995,{"$f":"VLOOKUP(B4005,#REF!,3,FALSE)","v":{"$error":"#REF!"}}]
[null,null,null,"Level  4","PN4a - Плавкие вставки типоразмера 4a"]
["Varius","Varius Fuse","LP4","OEZ:34386","PN4a 630A gG","Плавкая вставка","Un AC 500 V / DC 250 V, размер 4a, gG - характеристика для общего применения","1 / -",2.8,1.681,69.13000000000001,{"$f":"VLOOKUP(B4007,#REF!,3,FALSE)","v":{"$error":"#REF!"}}]
["Varius","Varius Fuse","LP4","OEZ:34387","PN4a 800A gG","Плавкая вставка","Un AC 500 V / DC 250 V, размер 4a, gG - характеристика для общего применения","1 / -",2.8,1.681,69.13000000000001,{"$f":"VLOOKUP(B4008,#REF!,3,FALSE)","v":{"$error":"#REF!"}}]
["Varius","Varius Fuse","LP4","OEZ:34388","PN4a 1000A gG","Плавкая вставка","Un AC 500 V / DC 250 V, размер 4a, gG - характеристика для общего применения","1 / -",2.8,1.681,69.13000000000001,{"$f":"VLOOKUP(B4009,#REF!,3,FALSE)","v":{"$error":"#REF!"}}]
["Varius","Varius Fuse","LP4","OEZ:34389","PN4a 1250A gG","Плавкая вставка","Un AC 500 V / DC 250 V, размер 4a, gG - характеристика для общего применения","1 / -",2.85,1.681,70.460000000000008,{"$f":"VLOOKUP(B4010,#REF!,3,FALSE)","v":{"$error":"#REF!"}}]
["Varius","Varius Fuse","LP4","OEZ:34390","PN4a 1600A gG","Плавкая вставка","Un AC 500 V / DC 250 V, размер 4a, gG - характеристика для общего применения","1 / -",2.85,1.681,74.02000000000001,{"$f":"VLOOKUP(B4011,#REF!,3,FALSE)","v":{"$error":"#REF!"}}]
[null,null,null,"Level  3","PHNA - Ножевые плавкие вставки до 690 V AC"]
[null,null,null,"Level  4","PHNA000 - Плавкие вставки типоразмера 000"]
["Varius","Varius Fuse","LP4","OEZ:40503","PHNA000 6A gG","Плавкая вставка","Un AC 690 V / DC 250 V, размер 000, gG - характеристика для общего применения, без Cd/Pb","3 / 60",0.13,8.8999999999999996E-2,4.51,{"$f":"VLOOKUP(B4014,#REF!,3,FALSE)","v":{"$error":"#REF!"}}]
["Varius","Varius Fuse","LP4","OEZ:40504","PHNA000 10A gG","Плавкая вставка","Un AC 690 V / DC 250 V, размер 000, gG - характеристика для общего применения, без Cd/Pb","3 / 60",0.13,8.8999999999999996E-2,4.51,{"$f":"VLOOKUP(B4015,#REF!,3,FALSE)","v":{"$error":"#REF!"}}]
["Varius","Varius Fuse","LP4","OEZ:40505","PHNA000 16A gG","Плавкая вставка","Un AC 690 V / DC 250 V, размер 000, gG - характеристика для общего применения, без Cd/Pb","3 / 60",0.13,8.8999999999999996E-2,4.51,{"$f":"VLOOKUP(B4016,#REF!,3,FALSE)","v":{"$error":"#REF!"}}]
["Varius","Varius Fuse","LP4","OEZ:40506","PHNA000 20A gG","Плавкая вставка","Un AC 690 V / DC 250 V, размер 000, gG - характеристика для общего применения, без Cd/Pb","3 / 60",0.13,8.8999999999999996E-2,4.51,{"$f":"VLOOKUP(B4017,#REF!,3,FALSE)","v":{"$error":"#REF!"}}]
["Varius","Varius Fuse","LP4","OEZ:40507","PHNA000 25A gG","Плавкая вставка","Un AC 690 V / DC 250 V, размер 000, gG - характеристика для общего применения, без Cd/Pb","3 / 60",0.13,8.8999999999999996E-2,4.51,{"$f":"VLOOKUP(B4018,#REF!,3,FALSE)","v":{"$error":"#REF!"}}]
["Varius","Varius Fuse","LP4","OEZ:40508","PHNA000 32A gG","Плавкая вставка","Un AC 690 V / DC 250 V, размер 000, gG - характеристика для общего применения, без Cd/Pb","3 / 60",0.13,8.8999999999999996E-2,4.51,{"$f":"VLOOKUP(B4019,#REF!,3,FALSE)","v":{"$error":"#REF!"}}]
["Varius","Varius Fuse","LP4","OEZ:40509","PHNA000 35A gG","Плавкая вставка","Un AC 690 V / DC 250 V, размер 000, gG - характеристика для общего применения, без Cd/Pb","3 / 60",0.13,8.8999999999999996E-2,4.51,{"$f":"VLOOKUP(B4020,#REF!,3,FALSE)","v":{"$error":"#REF!"}}]
["Varius","Varius Fuse","LP4","OEZ:40510","PHNA000 40A gG","Плавкая вставка","Un AC 690 V / DC 250 V, размер 000, gG - характеристика для общего применения, без Cd/Pb","3 / 60",0.13,8.8999999999999996E-2,4.51,{"$f":"VLOOKUP(B4021,#REF!,3,FALSE)","v":{"$error":"#REF!"}}]
["Varius","Varius Fuse","LP4","OEZ:40511","PHNA000 50A gG","Плавкая вставка","Un AC 690 V / DC 250 V, размер 000, gG - характеристика для общего применения, без Cd/Pb","3 / 60",0.13,8.8999999999999996E-2,4.51,{"$f":"VLOOKUP(B4022,#REF!,3,FALSE)","v":{"$error":"#REF!"}}]
[null,null,null,"Level  4","PHNA00 - Плавкие вставки типоразмера 00"]
["Varius","Varius Fuse","LP4","OEZ:40518","PHNA00 80A gG","Плавкая вставка","Un AC 690 V / DC 250 V, размер 00, gG - характеристика для общего применения, без Cd/Pb","3 / 60",0.21,0.14599999999999999,4.51,{"$f":"VLOOKUP(B4024,#REF!,3,FALSE)","v":{"$error":"#REF!"}}]
["Varius","Varius Fuse","LP4","OEZ:40519","PHNA00 100A gG","Плавкая вставка","Un AC 690 V / DC 250 V, размер 00, gG - характеристика для общего применения, без Cd/Pb","3 / 60",0.21,0.14599999999999999,4.51,{"$f":"VLOOKUP(B4025,#REF!,3,FALSE)","v":{"$error":"#REF!"}}]
[null,null,null,"Level  4","PHNA1 - Плавкие вставки типоразмера 1"]
["Varius","Varius Fuse","LP4","OEZ:40450","PHNA1 50A gG","Плавкая вставка","Un AC 690 V / DC 440 V, размер 1, gG - характеристика для общего применения, без Cd/Pb","3 / 30",0.30199999999999999,0.27300000000000002,9.129999999999999,{"$f":"VLOOKUP(B4027,#REF!,3,FALSE)","v":{"$error":"#REF!"}}]
["Varius","Varius Fuse","LP4","OEZ:40451","PHNA1 63A gG","Плавкая вставка","Un AC 690 V / DC 440 V, размер 1, gG - характеристика для общего применения, без Cd/Pb","3 / 30",0.30199999999999999,0.27300000000000002,9.129999999999999,{"$f":"VLOOKUP(B4028,#REF!,3,FALSE)","v":{"$error":"#REF!"}}]
["Varius","Varius Fuse","LP4","OEZ:40452","PHNA1 80A gG","Плавкая вставка","Un AC 690 V / DC 440 V, размер 1, gG - характеристика для общего применения, без Cd/Pb","3 / 30",0.30199999999999999,0.27300000000000002,9.129999999999999,{"$f":"VLOOKUP(B4029,#REF!,3,FALSE)","v":{"$error":"#REF!"}}]
["Varius","Varius Fuse","LP4","OEZ:40453","PHNA1 100A gG","Плавкая вставка","Un AC 690 V / DC 440 V, размер 1, gG - характеристика для общего применения, без Cd/Pb","3 / 30",0.30199999999999999,0.27300000000000002,9.129999999999999,{"$f":"VLOOKUP(B4030,#REF!,3,FALSE)","v":{"$error":"#REF!"}}]
["Varius","Varius Fuse","LP4","OEZ:40454","PHNA1 125A gG","Плавкая вставка","Un AC 690 V / DC 440 V, размер 1, gG - характеристика для общего применения, без Cd/Pb","3 / 30",0.30199999999999999,0.27300000000000002,9.129999999999999,{"$f":"VLOOKUP(B4031,#REF!,3,FALSE)","v":{"$error":"#REF!"}}]
["Varius","Varius Fuse","LP4","OEZ:40455","PHNA1 160A gG","Плавкая вставка","Un AC 690 V / DC 440 V, размер 1, gG - характеристика для общего применения, без Cd/Pb","3 / 30",0.30199999999999999,0.27300000000000002,9.129999999999999,{"$f":"VLOOKUP(B4032,#REF!,3,FALSE)","v":{"$error":"#REF!"}}]
["Varius","Varius Fuse","LP4","OEZ:40456","PHNA1 200A gG","Плавкая вставка","Un AC 690 V / DC 440 V, размер 1, gG - характеристика для общего применения, без Cd/Pb","3 / 30",0.44500000000000001,0.41199999999999998,10.91,{"$f":"VLOOKUP(B4033,#REF!,3,FALSE)","v":{"$error":"#REF!"}}]
[null,null,null,"Level  4","PHNA2 - Плавкие вставки типоразмера 2"]
["Varius","Varius Fuse","LP4","OEZ:40406","PHNA2 100A gG","Плавкая вставка","Un AC 690 V / DC 440 V, размер 2, gG - характеристика для общего применения, без Cd/Pb","3 / 30",0.44,0.51700000000000002,13.4,{"$f":"VLOOKUP(B4035,#REF!,3,FALSE)","v":{"$error":"#REF!"}}]
["Varius","Varius Fuse","LP4","OEZ:40407","PHNA2 125A gG","Плавкая вставка","Un AC 690 V / DC 440 V, размер 2, gG - характеристика для общего применения, без Cd/Pb","3 / 30",0.44,0.51700000000000002,13.49,{"$f":"VLOOKUP(B4036,#REF!,3,FALSE)","v":{"$error":"#REF!"}}]
["Varius","Varius Fuse","LP4","OEZ:40408","PHNA2 160A gG","Плавкая вставка","Un AC 690 V / DC 440 V, размер 2, gG - характеристика для общего применения, без Cd/Pb","3 / 30",0.44,0.51700000000000002,13.49,{"$f":"VLOOKUP(B4037,#REF!,3,FALSE)","v":{"$error":"#REF!"}}]
["Varius","Varius Fuse","LP4","OEZ:40409","PHNA2 200A gG","Плавкая вставка","Un AC 690 V / DC 440 V, размер 2, gG - характеристика для общего применения, без Cd/Pb","3 / 30",0.44,0.51700000000000002,13.82,{"$f":"VLOOKUP(B4038,#REF!,3,FALSE)","v":{"$error":"#REF!"}}]
["Varius","Varius Fuse","LP4","OEZ:40410","PHNA2 224A gG","Плавкая вставка","Un AC 690 V / DC 440 V, размер 2, gG - характеристика для общего применения, без Cd/Pb","3 / 30",0.66,0.43,16.720000000000002,{"$f":"VLOOKUP(B4039,#REF!,3,FALSE)","v":{"$error":"#REF!"}}]
["Varius","Varius Fuse","LP4","OEZ:40411","PHNA2 250A gG","Плавкая вставка","Un AC 690 V / DC 440 V, размер 2, gG - характеристика для общего применения, без Cd/Pb","3 / 30",0.68,0.65,16.84,{"$f":"VLOOKUP(B4040,#REF!,3,FALSE)","v":{"$error":"#REF!"}}]
["Varius","Varius Fuse","LP4","OEZ:40412","PHNA2 315A gG","Плавкая вставка","Un AC 690 V / DC 440 V, размер 2, gG - характеристика для общего применения, без Cd/Pb","3 / 15",0.68,0.65,18.170000000000002,{"$f":"VLOOKUP(B4041,#REF!,3,FALSE)","v":{"$error":"#REF!"}}]
[null,null,null,"Level  4","PHNA3 - Плавкие вставки типоразмера 3"]
["Varius","Varius Fuse","LP4","OEZ:40368","PHNA3 250A gG","Плавкая вставка","Un AC 690 V / DC 440 V, размер 3, gG - характеристика для общего применения, без Cd/Pb","3 / 15",0.69199999999999995,0.86099999999999999,19.66,{"$f":"VLOOKUP(B4043,#REF!,3,FALSE)","v":{"$error":"#REF!"}}]
["Varius","Varius Fuse","LP4","OEZ:40369","PHNA3 315A gG","Плавкая вставка","Un AC 690 V / DC 440 V, размер 3, gG - характеристика для общего применения, без Cd/Pb","3 / 15",0.69199999999999995,0.86099999999999999,24.610000000000003,{"$f":"VLOOKUP(B4044,#REF!,3,FALSE)","v":{"$error":"#REF!"}}]
["Varius","Varius Fuse","LP4","OEZ:40370","PHNA3 350A gG","Плавкая вставка","Un AC 690 V / DC 440 V, размер 3, gG - характеристика для общего применения, без Cd/Pb","3 / 15",0.96799999999999997,0.95099999999999996,24.610000000000003,{"$f":"VLOOKUP(B4045,#REF!,3,FALSE)","v":{"$error":"#REF!"}}]
["Varius","Varius Fuse","LP4","OEZ:40371","PHNA3 400A gG","Плавкая вставка","Un AC 690 V / DC 440 V, размер 3, gG - характеристика для общего применения, без Cd/Pb","3 / 15",0.96799999999999997,0.95099999999999996,24.610000000000003,{"$f":"VLOOKUP(B4046,#REF!,3,FALSE)","v":{"$error":"#REF!"}}]
["Varius","Varius Fuse","LP4","OEZ:40372","PHNA3 500A gG","Плавкая вставка","Un AC 690 V / DC 440 V, размер 3, gG - характеристика для общего применения, без Cd/Pb","3 / 12",0.96799999999999997,0.95099999999999996,32.76,{"$f":"VLOOKUP(B4047,#REF!,3,FALSE)","v":{"$error":"#REF!"}}]
[null,null,null,"Level  4","PHN4a - Плавкие вставки типоразмера 4a"]
["Varius","Varius Fuse","LP4","OEZ:34391","PHN4a 630A gG","Плавкая вставка","Un AC 690 V / DC 250 V, размер 4a, gG - характеристика для общего применения","1 / -",2,1.681,76.33,{"$f":"VLOOKUP(B4049,#REF!,3,FALSE)","v":{"$error":"#REF!"}}]
["Varius","Varius Fuse","LP4","OEZ:34392","PHN4a 800A gG","Плавкая вставка","Un AC 690 V / DC 250 V, размер 4a, gG - характеристика для общего применения","1 / -",2,1.681,76.33,{"$f":"VLOOKUP(B4050,#REF!,3,FALSE)","v":{"$error":"#REF!"}}]
["Varius","Varius Fuse","LP4","OEZ:34393","PHN4a 1000A gG","Плавкая вставка","Un AC 690 V / DC 250 V, размер 4a, gG - характеристика для общего применения","1 / -",2,1.681,88.81,{"$f":"VLOOKUP(B4051,#REF!,3,FALSE)","v":{"$error":"#REF!"}}]
[null,null,null,"Level  3","PLN_gTR - Ножевые плавкие вставки"]
[null,null,null,"Level  3","ZP, TM4a - Короткозамыкающие соединители"]
["Varius","Varius OPVP","LP5","OEZ:13197","ZPV10","Короткозамыкающий соединитель","для OPV.10","10 / -",8.0000000000000002E-3,0.02,1.78,{"$f":"VLOOKUP(B4054,#REF!,3,FALSE)","v":{"$error":"#REF!"}}]
["Varius","Varius OPVP","LP5","OEZ:13198","ZPV14","Короткозамыкающий соединитель","для OPV.14","10 / -",1.7000000000000001E-2,0.02,3.1199999999999997,{"$f":"VLOOKUP(B4055,#REF!,3,FALSE)","v":{"$error":"#REF!"}}]
["Varius","Varius OPVP","LP5","OEZ:13199","ZPV22","Короткозамыкающий соединитель","для OPV.22","10 / -",4.7E-2,0.02,4.9799999999999995,{"$f":"VLOOKUP(B4056,#REF!,3,FALSE)","v":{"$error":"#REF!"}}]
["Varius","Varius OPVP","LP5","OEZ:08609","ZPT22","Короткозамыкающий соединитель","для OPT22","10 / -",9.8000000000000004E-2,8.3000000000000004E-2,7.92,{"$f":"VLOOKUP(B4057,#REF!,3,FALSE)","v":{"$error":"#REF!"}}]
["Varius","Varius Fuse","LP3","OEZ:06401","ZP000","Короткозамыкающий соединитель","In 160 A, размер 000, для 000, 00","3 / 36",8.8999999999999996E-2,0.126,6.2299999999999995,{"$f":"VLOOKUP(B4058,#REF!,3,FALSE)","v":{"$error":"#REF!"}}]
["Varius","Varius Fuse","LP3","OEZ:06402","ZP1","Короткозамыкающий соединитель","In 250 A, размер 1","3 / 30",0.17,0.224,8.129999999999999,{"$f":"VLOOKUP(B4059,#REF!,3,FALSE)","v":{"$error":"#REF!"}}]
["Varius","Varius Fuse","LP3","OEZ:06403","ZP2","Короткозамыкающий соединитель","In 400 A, размер 2","3 / 27",0.218,0.27300000000000002,10.11,{"$f":"VLOOKUP(B4060,#REF!,3,FALSE)","v":{"$error":"#REF!"}}]
["Varius","Varius Fuse","LP3","OEZ:06404","ZP3","Короткозамыкающий соединитель","In 630 A, размер 3","3 / 27",0.28999999999999998,0.33,12.57,{"$f":"VLOOKUP(B4061,#REF!,3,FALSE)","v":{"$error":"#REF!"}}]
["Varius","Varius Fuse","LP3","OEZ:10442","ZP3/1000","Короткозамыкающий соединитель","In 1000 A, размер 3","3 / -",0.35,0.25700000000000001,17.610000000000003,{"$f":"VLOOKUP(B4062,#REF!,3,FALSE)","v":{"$error":"#REF!"}}]
["Varius","Varius Fuse","LP3","OEZ:10446","TM4a/1250A","Короткозамыкающий соединитель","In 1250 A, размер 4a","1 / -",1.585,3.15,78.050000000000011,{"$f":"VLOOKUP(B4063,#REF!,3,FALSE)","v":{"$error":"#REF!"}}]
["Varius","Varius Fuse","LP3","OEZ:14801","TM4a/1600A","Короткозамыкающий соединитель","In 1600 A, размер 4a","1 / -",1.605,3.15,171.38,{"$f":"VLOOKUP(B4064,#REF!,3,FALSE)","v":{"$error":"#REF!"}}]
[null,null,null,"Level  3","VL - Сигнальные контакты"]
["Varius","Varius Fuse","LP3","OEZ:06528","VL50","Сигнальный контакт","для дистанционной сигнализации состояния предохранителей","1 / -",1.4999999999999999E-2,9.4E-2,7.77,{"$f":"VLOOKUP(B4066,#REF!,3,FALSE)","v":{"$error":"#REF!"}}]
[null,null,null,"Level  3","MD-M3 - Электронная сигнализация состояния предохранителей"]
["Varius","Varius OPVP","LP5","OEZ:38614","MD-M3","Электронная сигнализация состояния предохранителей","для дистанционной сигнализации состояния предохранителей","1 / -",0.15,0.30399999999999999,96.78,{"$f":"VLOOKUP(B4068,#REF!,3,FALSE)","v":{"$error":"#REF!"}}]
[null,null,null,"Level  3","D1PH, DP, DPM, KV - Предохранительные ручки"]
["Varius","Varius Fuse","LP3","OEZ:06405","D1PH","Предохранительная ручка","с боковинами, для 1-полюсных оснований предохранителей без перегородок","1 / -",0.52,2.3660000000000001,11.53,{"$f":"VLOOKUP(B4070,#REF!,3,FALSE)","v":{"$error":"#REF!"}}]
["Varius","Varius Fuse","LP3","OEZ:07372","DP","Предохранительная ручка","согласно IEC60269, для 1-полюсных/3-полюсных оснований предохранителей с перегородками","1 / -",0.2,1.9830000000000001,11.86,{"$f":"VLOOKUP(B4071,#REF!,3,FALSE)","v":{"$error":"#REF!"}}]
["Varius","Varius Fuse","LP3","OEZ:07373","DPM","Предохранительная ручка","с защитным рукавом для повышения безопасности обслуживания","1 / -",0.52,3.36,64.180000000000007,{"$f":"VLOOKUP(B4072,#REF!,3,FALSE)","v":{"$error":"#REF!"}}]
["Varius","Varius OPVP","LP5","OEZ:06687","KV","Клещи для цилиндрических предохранителей","для PVA10, PV10, PV14, PV22","1 / -",0.02,0.26900000000000002,3.44,{"$f":"VLOOKUP(B4073,#REF!,3,FALSE)","v":{"$error":"#REF!"}}]
[null,null,null,"Level  2","Плавкие вставки для защиты полупроводников"]
[null,null,null,"Level  3","PV5, PC10, PT2 - Цилиндрические плавкие вставки"]
[null,null,null,"Level  4","PV510 - Плавкие вставки для защиты полупроводников до AC 690 V (цилиндрические)"]
["Varius","Varius Fuse","LP7","OEZ:15200","PV510 6A gR","Плавкая вставка","Un AC 690 V / DC 440 V, размер 10×38, gR - характеристика для защиты полупроводников, без Cd/Pb","20 / -",0.01,6.0000000000000001E-3,4.87,{"$f":"VLOOKUP(B4077,#REF!,3,FALSE)","v":{"$error":"#REF!"}}]
["Varius","Varius Fuse","LP7","OEZ:15202","PV510 10A gR","Плавкая вставка","Un AC 690 V / DC 440 V, размер 10×38, gR - характеристика для защиты полупроводников, без Cd/Pb","20 / -",0.01,6.0000000000000001E-3,4.87,{"$f":"VLOOKUP(B4078,#REF!,3,FALSE)","v":{"$error":"#REF!"}}]
["Varius","Varius Fuse","LP7","OEZ:15203","PV510 12A gR","Плавкая вставка","Un AC 690 V / DC 440 V, размер 10×38, gR - характеристика для защиты полупроводников, без Cd/Pb","20 / -",0.01,6.0000000000000001E-3,4.87,{"$f":"VLOOKUP(B4079,#REF!,3,FALSE)","v":{"$error":"#REF!"}}]
["Varius","Varius Fuse","LP7","OEZ:15204","PV510 16A gR","Плавкая вставка","Un AC 690 V / DC 440 V, размер 10×38, gR - характеристика для защиты полупроводников, без Cd/Pb","20 / -",0.01,6.0000000000000001E-3,4.87,{"$f":"VLOOKUP(B4080,#REF!,3,FALSE)","v":{"$error":"#REF!"}}]
["Varius","Varius Fuse","LP7","OEZ:15205","PV510 20A gR","Плавкая вставка","Un AC 690 V / DC 250 V, размер 10×38, gR - характеристика для защиты полупроводников, без Cd/Pb","20 / -",0.01,6.0000000000000001E-3,5.0999999999999996,{"$f":"VLOOKUP(B4081,#REF!,3,FALSE)","v":{"$error":"#REF!"}}]
["Varius","Varius Fuse","LP7","OEZ:15206","PV510 25A gR","Плавкая вставка","Un AC 690 V / DC 250 V, размер 10×38, gR - характеристика для защиты полупроводников, без Cd/Pb","20 / -",0.01,6.0000000000000001E-3,5.0999999999999996,{"$f":"VLOOKUP(B4082,#REF!,3,FALSE)","v":{"$error":"#REF!"}}]
["Varius","Varius Fuse","LP7","OEZ:15207","PV510 32A gR","Плавкая вставка","Un AC 690 V / DC 250 V, размер 10×38, gR - характеристика для защиты полупроводников, без Cd/Pb","20 / -",0.01,6.0000000000000001E-3,5.13,{"$f":"VLOOKUP(B4083,#REF!,3,FALSE)","v":{"$error":"#REF!"}}]
[null,null,null,"Level  4","PV514 - Плавкие вставки для защиты полупроводников до AC 690 V (цилиндрические)"]
["Varius","Varius Fuse","LP7","OEZ:08660","PV514 6A gR","Плавкая вставка","Un AC 690 V / DC 700 V, размер 14×51, gR - характеристика для защиты полупроводников, без Cd/Pb","10 / -",0.03,1.4E-2,6.56,{"$f":"VLOOKUP(B4085,#REF!,3,FALSE)","v":{"$error":"#REF!"}}]
["Varius","Varius Fuse","LP7","OEZ:08670","PV514 10A gR","Плавкая вставка","Un AC 690 V / DC 700 V, размер 14×51, gR - характеристика для защиты полупроводников, без Cd/Pb","10 / -",0.03,1.4E-2,6.56,{"$f":"VLOOKUP(B4086,#REF!,3,FALSE)","v":{"$error":"#REF!"}}]
["Varius","Varius Fuse","LP7","OEZ:08664","PV514 16A gR","Плавкая вставка","Un AC 690 V / DC 600 V, размер 14×51, gR - характеристика для защиты полупроводников, без Cd/Pb","10 / -",0.03,1.4E-2,6.56,{"$f":"VLOOKUP(B4087,#REF!,3,FALSE)","v":{"$error":"#REF!"}}]
["Varius","Varius Fuse","LP7","OEZ:08665","PV514 20A gR","Плавкая вставка","Un AC 690 V / DC 600 V, размер 14×51, gR - характеристика для защиты полупроводников, без Cd/Pb","10 / -",0.03,1.4E-2,7.21,{"$f":"VLOOKUP(B4088,#REF!,3,FALSE)","v":{"$error":"#REF!"}}]
["Varius","Varius Fuse","LP7","OEZ:08666","PV514 25A gR","Плавкая вставка","Un AC 690 V / DC 600 V, размер 14×51, gR - характеристика для защиты полупроводников, без Cd/Pb","10 / -",0.03,1.4E-2,7.21,{"$f":"VLOOKUP(B4089,#REF!,3,FALSE)","v":{"$error":"#REF!"}}]
["Varius","Varius Fuse","LP7","OEZ:08667","PV514 32A gR","Плавкая вставка","Un AC 690 V / DC 600 V, размер 14×51, gR - характеристика для защиты полупроводников, без Cd/Pb","10 / -",0.03,1.4E-2,7.21,{"$f":"VLOOKUP(B4090,#REF!,3,FALSE)","v":{"$error":"#REF!"}}]
["Varius","Varius Fuse","LP7","OEZ:08669","PV514 40A gR","Плавкая вставка","Un AC 690 V / DC 440 V, размер 14×51, gR - характеристика для защиты полупроводников, без Cd/Pb","10 / -",0.03,1.4E-2,7.21,{"$f":"VLOOKUP(B4091,#REF!,3,FALSE)","v":{"$error":"#REF!"}}]
["Varius","Varius Fuse","LP7","OEZ:08661","PV514 50A gR","Плавкая вставка","Un AC 690 V / DC 250 V, размер 14×51, gR - характеристика для защиты полупроводников, без Cd/Pb","10 / -",0.03,1.4E-2,7.21,{"$f":"VLOOKUP(B4092,#REF!,3,FALSE)","v":{"$error":"#REF!"}}]
["Varius","Varius Fuse","LP7","OEZ:08662","PV514 63A aR","Плавкая вставка","Un AC 690 V / DC 250 V, размер 14×51, aR - характеристика для защиты полупроводников только против короткого замыкания, без Cd/Pb","10 / -",0.03,1.4E-2,7.77,{"$f":"VLOOKUP(B4093,#REF!,3,FALSE)","v":{"$error":"#REF!"}}]
[null,null,null,"Level  4","PV522 - Плавкие вставки для защиты полупроводников до AC 690 V (цилиндрические)"]
["Varius","Varius Fuse","LP7","OEZ:13790","PV522 25A gR","Плавкая вставка","Un AC 690 V / DC 700 V, размер 22×58, gR - характеристика для защиты полупроводников, без Cd/Pb","10 / -",0.06,3.5000000000000003E-2,8.9599999999999991,{"$f":"VLOOKUP(B4095,#REF!,3,FALSE)","v":{"$error":"#REF!"}}]
["Varius","Varius Fuse","LP7","OEZ:13791","PV522 32A gR","Плавкая вставка","Un AC 690 V / DC 600 V, размер 22×58, gR - характеристика для защиты полупроводников, без Cd/Pb","10 / -",0.06,3.5000000000000003E-2,8.9599999999999991,{"$f":"VLOOKUP(B4096,#REF!,3,FALSE)","v":{"$error":"#REF!"}}]
["Varius","Varius Fuse","LP7","OEZ:13792","PV522 40A gR","Плавкая вставка","Un AC 690 V / DC 440 V, размер 22×58, gR - характеристика для защиты полупроводников, без Cd/Pb","10 / -",0.06,3.5000000000000003E-2,8.9599999999999991,{"$f":"VLOOKUP(B4097,#REF!,3,FALSE)","v":{"$error":"#REF!"}}]
["Varius","Varius Fuse","LP7","OEZ:13793","PV522 50A gR","Плавкая вставка","Un AC 690 V / DC 250 V, размер 22×58, gR - характеристика для защиты полупроводников, без Cd/Pb","10 / -",0.06,3.5000000000000003E-2,8.9599999999999991,{"$f":"VLOOKUP(B4098,#REF!,3,FALSE)","v":{"$error":"#REF!"}}]
["Varius","Varius Fuse","LP7","OEZ:13794","PV522 63A gR","Плавкая вставка","Un AC 690 V / DC 250 V, размер 22×58, gR - характеристика для защиты полупроводников, без Cd/Pb","10 / -",0.06,3.5000000000000003E-2,9.879999999999999,{"$f":"VLOOKUP(B4099,#REF!,3,FALSE)","v":{"$error":"#REF!"}}]
["Varius","Varius Fuse","LP7","OEZ:13795","PV522 80A gR","Плавкая вставка","Un AC 690 V / DC 250 V, размер 22×58, gR - характеристика для защиты полупроводников, без Cd/Pb","10 / -",0.06,3.5000000000000003E-2,10.879999999999999,{"$f":"VLOOKUP(B4100,#REF!,3,FALSE)","v":{"$error":"#REF!"}}]
["Varius","Varius Fuse","LP7","OEZ:13796","PV522 100A gR","Плавкая вставка","Un AC 690 V / DC 250 V, размер 22×58, gR - характеристика для защиты полупроводников, без Cd/Pb","10 / -",0.06,3.5000000000000003E-2,10.879999999999999,{"$f":"VLOOKUP(B4101,#REF!,3,FALSE)","v":{"$error":"#REF!"}}]
["Varius","Varius Fuse","LP7","OEZ:13797","PV522 125A aR","Плавкая вставка","Un AC 690 V / DC 250 V, размер 22×58, aR - характеристика для защиты полупроводников только против короткого замыкания, без Cd/Pb","10 / -",0.06,3.5000000000000003E-2,12.51,{"$f":"VLOOKUP(B4102,#REF!,3,FALSE)","v":{"$error":"#REF!"}}]
[null,null,null,"Level  4","PC10 - Плавкие вставки для защиты фотовольтаичных систем"]
["Varius","Varius Fuse","LP7","OEZ:41235","PC10 2A gPV","Плавкая вставка","Un DC 1000 V, размер 10x38, gPV- характеристика для защиты фотовольтаичных систем, без Cd/Pb","20 / -",8.9999999999999993E-3,6.0000000000000001E-3,6.38,{"$f":"VLOOKUP(B4104,#REF!,3,FALSE)","v":{"$error":"#REF!"}}]
["Varius","Varius Fuse","LP7","OEZ:41236","PC10 4A gPV","Плавкая вставка","Un DC 1000 V, размер 10x38, gPV- характеристика для защиты фотовольтаичных систем, без Cd/Pb","20 / -",8.9999999999999993E-3,6.0000000000000001E-3,6.38,{"$f":"VLOOKUP(B4105,#REF!,3,FALSE)","v":{"$error":"#REF!"}}]
["Varius","Varius Fuse","LP7","OEZ:41237","PC10 6A gPV","Плавкая вставка","Un DC 1000 V, размер 10x38, gPV- характеристика для защиты фотовольтаичных систем, без Cd/Pb","20 / -",8.9999999999999993E-3,6.0000000000000001E-3,4.7799999999999994,{"$f":"VLOOKUP(B4106,#REF!,3,FALSE)","v":{"$error":"#REF!"}}]
["Varius","Varius Fuse","LP7","OEZ:41238","PC10 8A gPV","Плавкая вставка","Un DC 1000 V, размер 10x38, gPV- характеристика для защиты фотовольтаичных систем, без Cd/Pb","20 / -",8.9999999999999993E-3,6.0000000000000001E-3,4.7799999999999994,{"$f":"VLOOKUP(B4107,#REF!,3,FALSE)","v":{"$error":"#REF!"}}]
["Varius","Varius Fuse","LP7","OEZ:41239","PC10 10A gPV","Плавкая вставка","Un DC 1000 V, размер 10x38, gPV- характеристика для защиты фотовольтаичных систем, без Cd/Pb","20 / -",8.9999999999999993E-3,6.0000000000000001E-3,4.7799999999999994,{"$f":"VLOOKUP(B4108,#REF!,3,FALSE)","v":{"$error":"#REF!"}}]
["Varius","Varius Fuse","LP7","OEZ:41240","PC10 12A gPV","Плавкая вставка","Un DC 1000 V, размер 10x38, gPV- характеристика для защиты фотовольтаичных систем, без Cd/Pb","20 / -",8.9999999999999993E-3,6.0000000000000001E-3,4.7799999999999994,{"$f":"VLOOKUP(B4109,#REF!,3,FALSE)","v":{"$error":"#REF!"}}]
["Varius","Varius Fuse","LP7","OEZ:41241","PC10 16A gPV","Плавкая вставка","Un DC 1000 V, размер 10x38, gPV- характеристика для защиты фотовольтаичных систем, без Cd/Pb","20 / -",8.9999999999999993E-3,6.0000000000000001E-3,5.0999999999999996,{"$f":"VLOOKUP(B4110,#REF!,3,FALSE)","v":{"$error":"#REF!"}}]
["Varius","Varius Fuse","LP7","OEZ:41242","PC10 20A gPV","Плавкая вставка","Un DC 1000 V, размер 10x38, gPV- характеристика для защиты фотовольтаичных систем, без Cd/Pb","20 / -",8.9999999999999993E-3,6.0000000000000001E-3,5.13,{"$f":"VLOOKUP(B4111,#REF!,3,FALSE)","v":{"$error":"#REF!"}}]
[null,null,null,"Level  4","PT - Плавкие вставки для транспортных аппликаций"]
["Varius","Varius Fuse","LP7","OEZ:08601","PT22 1A gR/gS","Плавкая вставка","Un AC 1500 V / DC 1000 V, размер 22x127, gR - характеристика для защиты полупроводников, gS - характеристика для защиты полупроводников и кабелей, без Cd/Pb","5 / -",9.6000000000000002E-2,8.3000000000000004E-2,10.68,{"$f":"VLOOKUP(B4113,#REF!,3,FALSE)","v":{"$error":"#REF!"}}]
["Varius","Varius Fuse","LP7","OEZ:08598","PT22 2A gR/gS","Плавкая вставка","Un AC 1500 V / DC 1000 V, размер 22x127, gR - характеристика для защиты полупроводников, gS - характеристика для защиты полупроводников и кабелей, без Cd/Pb","5 / -",9.6000000000000002E-2,8.3000000000000004E-2,10.68,{"$f":"VLOOKUP(B4114,#REF!,3,FALSE)","v":{"$error":"#REF!"}}]
["Varius","Varius Fuse","LP7","OEZ:08342","PT22 4A gR/gS","Плавкая вставка","Un AC 1500 V / DC 1000 V, размер 22x127, gR - характеристика для защиты полупроводников, gS - характеристика для защиты полупроводников и кабелей, без Cd/Pb","5 / -",9.6000000000000002E-2,8.3000000000000004E-2,10.68,{"$f":"VLOOKUP(B4115,#REF!,3,FALSE)","v":{"$error":"#REF!"}}]
["Varius","Varius Fuse","LP7","OEZ:08341","PT22 6A gR/gS","Плавкая вставка","Un AC 1500 V / DC 1000 V, размер 22x127, gR - характеристика для защиты полупроводников, gS - характеристика для защиты полупроводников и кабелей, без Cd/Pb","5 / -",9.6000000000000002E-2,8.3000000000000004E-2,10.68,{"$f":"VLOOKUP(B4116,#REF!,3,FALSE)","v":{"$error":"#REF!"}}]
["Varius","Varius Fuse","LP7","OEZ:08340","PT22 10A gR/gS","Плавкая вставка","Un AC 1500 V / DC 1000 V, размер 22x127, gR - характеристика для защиты полупроводников, gS - характеристика для защиты полупроводников и кабелей, без Cd/Pb","5 / -",9.6000000000000002E-2,8.3000000000000004E-2,12.28,{"$f":"VLOOKUP(B4117,#REF!,3,FALSE)","v":{"$error":"#REF!"}}]
["Varius","Varius Fuse","LP7","OEZ:08339","PT22 16A gR/gS","Плавкая вставка","Un AC 1500 V / DC 1000 V, размер 22x127, gR - характеристика для защиты полупроводников, gS - характеристика для защиты полупроводников и кабелей, без Cd/Pb","5 / -",9.6000000000000002E-2,8.3000000000000004E-2,13.14,{"$f":"VLOOKUP(B4118,#REF!,3,FALSE)","v":{"$error":"#REF!"}}]
["Varius","Varius Fuse","LP7","OEZ:08338","PT22 20A gR/gS","Плавкая вставка","Un AC 1500 V / DC 1000 V, размер 22x127, gR - характеристика для защиты полупроводников, gS - характеристика для защиты полупроводников и кабелей, без Cd/Pb","5 / -",9.6000000000000002E-2,8.3000000000000004E-2,13.67,{"$f":"VLOOKUP(B4119,#REF!,3,FALSE)","v":{"$error":"#REF!"}}]
["Varius","Varius Fuse","LP7","OEZ:08668","PT22 25A gR/gS","Плавкая вставка","Un AC 1500 V / DC 1000 V, размер 22x127, gR - характеристика для защиты полупроводников, gS - характеристика для защиты полупроводников и кабелей, без Cd/Pb","5 / -",9.6000000000000002E-2,8.3000000000000004E-2,15.51,{"$f":"VLOOKUP(B4120,#REF!,3,FALSE)","v":{"$error":"#REF!"}}]
["Varius","Varius Fuse","LP7","OEZ:08663","PT22 32A gR/gS","Плавкая вставка","Un AC 1500 V / DC 1000 V, размер 22x127, gR - характеристика для защиты полупроводников, gS - характеристика для защиты полупроводников и кабелей, без Cd/Pb","5 / -",9.6000000000000002E-2,8.3000000000000004E-2,16.810000000000002,{"$f":"VLOOKUP(B4121,#REF!,3,FALSE)","v":{"$error":"#REF!"}}]
["Varius","Varius Fuse","LP7","OEZ:08337","PT22 40A gR","Плавкая вставка","Un AC 1500 V / DC 1000 V, размер 22x127, gR - характеристика для защиты полупроводников, без Cd/Pb","5 / -",9.6000000000000002E-2,8.3000000000000004E-2,17.55,{"$f":"VLOOKUP(B4122,#REF!,3,FALSE)","v":{"$error":"#REF!"}}]
["Varius","Varius Fuse","LP7","OEZ:08343","PT22 50A aR","Плавкая вставка","Un AC 1500 V / DC 1000 V, размер 22x127, aR - характеристика для защиты полупроводников только против короткого замыкания, без Cd/Pb","5 / -",9.6000000000000002E-2,8.3000000000000004E-2,18.940000000000001,{"$f":"VLOOKUP(B4123,#REF!,3,FALSE)","v":{"$error":"#REF!"}}]
[null,null,null,"Level  3","P51 - Ножевые плавкие вставки"]
[null,null,null,"Level  4","P51R06 - Плавкие вставки для защиты полупроводников до AC 690 V (ножевые)"]
["Varius","Varius Fuse","LP7","OEZ:06632","P51R06 6A gR","Плавкая вставка для защиты полупроводников","Un AC 690 V / DC 440 V, размер 000, gR - характеристика для защиты полупроводников, ножевое исполнение, без Cd/Pb","3 / -",0.13700000000000001,0.114,17.430000000000003,{"$f":"VLOOKUP(B4126,#REF!,3,FALSE)","v":{"$error":"#REF!"}}]
["Varius","Varius Fuse","LP7","OEZ:06633","P51R06 10A gR","Плавкая вставка для защиты полупроводников","Un AC 690 V / DC 440 V, размер 000, gR - характеристика для защиты полупроводников, ножевое исполнение, без Cd/Pb","3 / -",0.13700000000000001,0.114,17.760000000000002,{"$f":"VLOOKUP(B4127,#REF!,3,FALSE)","v":{"$error":"#REF!"}}]
["Varius","Varius Fuse","LP7","OEZ:06634","P51R06 16A gR","Плавкая вставка для защиты полупроводников","Un AC 690 V / DC 440 V, размер 000, gR - характеристика для защиты полупроводников, ножевое исполнение, без Cd/Pb","3 / -",0.13700000000000001,0.114,17.970000000000002,{"$f":"VLOOKUP(B4128,#REF!,3,FALSE)","v":{"$error":"#REF!"}}]
["Varius","Varius Fuse","LP7","OEZ:06635","P51R06 20A gR","Плавкая вставка для защиты полупроводников","Un AC 690 V / DC 440 V, размер 000, gR - характеристика для защиты полупроводников, ножевое исполнение, без Cd/Pb","3 / -",0.13700000000000001,0.114,18.680000000000003,{"$f":"VLOOKUP(B4129,#REF!,3,FALSE)","v":{"$error":"#REF!"}}]
["Varius","Varius Fuse","LP7","OEZ:06636","P51R06 25A gR","Плавкая вставка для защиты полупроводников","Un AC 690 V / DC 440 V, размер 000, gR - характеристика для защиты полупроводников, ножевое исполнение, без Cd/Pb","3 / -",0.13700000000000001,0.114,19.600000000000001,{"$f":"VLOOKUP(B4130,#REF!,3,FALSE)","v":{"$error":"#REF!"}}]
["Varius","Varius Fuse","LP7","OEZ:06637","P51R06 32A gR","Плавкая вставка для защиты полупроводников","Un AC 690 V / DC 440 V, размер 000, gR - характеристика для защиты полупроводников, ножевое исполнение, без Cd/Pb","3 / -",0.13700000000000001,0.114,19.600000000000001,{"$f":"VLOOKUP(B4131,#REF!,3,FALSE)","v":{"$error":"#REF!"}}]
["Varius","Varius Fuse","LP7","OEZ:06638","P51R06 40A gR","Плавкая вставка для защиты полупроводников","Un AC 690 V / DC 440 V, размер 000, gR - характеристика для защиты полупроводников, ножевое исполнение, без Cd/Pb","3 / -",0.13700000000000001,0.114,22.23,{"$f":"VLOOKUP(B4132,#REF!,3,FALSE)","v":{"$error":"#REF!"}}]
["Varius","Varius Fuse","LP7","OEZ:06639","P51R06 50A gR","Плавкая вставка для защиты полупроводников","Un AC 690 V / DC 440 V, размер 000, gR - характеристика для защиты полупроводников, ножевое исполнение, без Cd/Pb","3 / -",0.13700000000000001,0.114,24.28,{"$f":"VLOOKUP(B4133,#REF!,3,FALSE)","v":{"$error":"#REF!"}}]
["Varius","Varius Fuse","LP7","OEZ:06640","P51R06 63A gR","Плавкая вставка для защиты полупроводников","Un AC 690 V / DC 440 V, размер 000, gR - характеристика для защиты полупроводников, ножевое исполнение, без Cd/Pb","3 / -",0.13700000000000001,0.114,24.28,{"$f":"VLOOKUP(B4134,#REF!,3,FALSE)","v":{"$error":"#REF!"}}]
["Varius","Varius Fuse","LP7","OEZ:06641","P51R06 80A aR","Плавкая вставка для защиты полупроводников","Un AC 690 V / DC 440 V, размер 000, aR - характеристика для защиты полупроводников только против короткого замыкания, ножевое исполнение, без Cd/Pb","3 / -",0.13700000000000001,0.114,24.96,{"$f":"VLOOKUP(B4135,#REF!,3,FALSE)","v":{"$error":"#REF!"}}]
["Varius","Varius Fuse","LP7","OEZ:06642","P51R06 100A aR","Плавкая вставка для защиты полупроводников","Un AC 690 V / DC 440 V, размер 000, aR - характеристика для защиты полупроводников только против короткого замыкания, ножевое исполнение, без Cd/Pb","3 / -",0.13700000000000001,0.114,24.96,{"$f":"VLOOKUP(B4136,#REF!,3,FALSE)","v":{"$error":"#REF!"}}]
["Varius","Varius Fuse","LP7","OEZ:06643","P51R06 125A aR","Плавкая вставка для защиты полупроводников","Un AC 690 V / DC 440 V, размер 000, aR - характеристика для защиты полупроводников только против короткого замыкания, ножевое исполнение, без Cd/Pb","3 / -",0.13700000000000001,0.114,26.89,{"$f":"VLOOKUP(B4137,#REF!,3,FALSE)","v":{"$error":"#REF!"}}]
["Varius","Varius Fuse","LP7","OEZ:06644","P51R06 160A aR","Плавкая вставка для защиты полупроводников","Un AC 500 V / DC 440 V, размер 000, aR - характеристика для защиты полупроводников только против короткого замыкания, ножевое исполнение, без Cd/Pb","3 / -",0.13700000000000001,0.114,34.18,{"$f":"VLOOKUP(B4138,#REF!,3,FALSE)","v":{"$error":"#REF!"}}]
[null,null,null,"Level  4","P51U06 - Плавкие вставки для защиты полупроводников до AC 690 V (ножевые)"]
["Varius","Varius Fuse","LP7","OEZ:10558","P51U06 63A gR","Плавкая вставка для защиты полупроводников","Un AC 690 V / DC 440 V, размер 1, gR - характеристика для защиты полупроводников, ножевое исполнение, без Cd/Pb","3 / -",0.44,0.44500000000000001,30.650000000000002,{"$f":"VLOOKUP(B4140,#REF!,3,FALSE)","v":{"$error":"#REF!"}}]
["Varius","Varius Fuse","LP7","OEZ:10559","P51U06 80A gR","Плавкая вставка для защиты полупроводников","Un AC 690 V / DC 440 V, размер 1, gR - характеристика для защиты полупроводников, ножевое исполнение, без Cd/Pb","3 / -",0.44,0.44500000000000001,32.11,{"$f":"VLOOKUP(B4141,#REF!,3,FALSE)","v":{"$error":"#REF!"}}]
["Varius","Varius Fuse","LP7","OEZ:10560","P51U06 100A aR","Плавкая вставка для защиты полупроводников","Un AC 690 V / DC 440 V, размер 1, aR - характеристика для защиты полупроводников только против короткого замыкания, ножевое исполнение, без Cd/Pb","3 / -",0.44,0.44500000000000001,33.619999999999997,{"$f":"VLOOKUP(B4142,#REF!,3,FALSE)","v":{"$error":"#REF!"}}]
["Varius","Varius Fuse","LP7","OEZ:10561","P51U06 125A aR","Плавкая вставка для защиты полупроводников","Un AC 690 V / DC 440 V, размер 1, aR - характеристика для защиты полупроводников только против короткого замыкания, ножевое исполнение, без Cd/Pb","3 / -",0.44,0.44500000000000001,36.08,{"$f":"VLOOKUP(B4143,#REF!,3,FALSE)","v":{"$error":"#REF!"}}]
["Varius","Varius Fuse","LP7","OEZ:11201","P51U06 160A aR","Плавкая вставка для защиты полупроводников","Un AC 690 V / DC 440 V, размер 1, aR - характеристика для защиты полупроводников только против короткого замыкания, ножевое исполнение, без Cd/Pb","3 / -",0.44,0.44500000000000001,41.059999999999995,{"$f":"VLOOKUP(B4144,#REF!,3,FALSE)","v":{"$error":"#REF!"}}]
["Varius","Varius Fuse","LP7","OEZ:11202","P51U06 200A aR","Плавкая вставка для защиты полупроводников","Un AC 690 V / DC 440 V, размер 1, aR - характеристика для защиты полупроводников только против короткого замыкания, ножевое исполнение, без Cd/Pb","3 / -",0.44,0.44500000000000001,45.739999999999995,{"$f":"VLOOKUP(B4145,#REF!,3,FALSE)","v":{"$error":"#REF!"}}]
["Varius","Varius Fuse","LP7","OEZ:11203","P51U06 250A aR","Плавкая вставка для защиты полупроводников","Un AC 690 V / DC 440 V, размер 1, aR - характеристика для защиты полупроводников только против короткого замыкания, ножевое исполнение, без Cd/Pb","3 / -",0.44,0.44500000000000001,50.419999999999995,{"$f":"VLOOKUP(B4146,#REF!,3,FALSE)","v":{"$error":"#REF!"}}]
["Varius","Varius Fuse","LP7","OEZ:11204","P51U06 315A aR","Плавкая вставка для защиты полупроводников","Un AC 690 V / DC 440 V, размер 1, aR - характеристика для защиты полупроводников только против короткого замыкания, ножевое исполнение, без Cd/Pb","3 / -",0.44,0.44500000000000001,57.36,{"$f":"VLOOKUP(B4147,#REF!,3,FALSE)","v":{"$error":"#REF!"}}]
[null,null,null,"Level  4","P51V06 - Плавкие вставки для защиты полупроводников до AC 690 V (ножевые)"]
["Varius","Varius Fuse","LP7","OEZ:35990","P51V06 250A aR","Плавкая вставка для защиты полупроводников","Un AC 690 V / DC 440 V, размер 2, aR - характеристика для защиты полупроводников только против короткого замыкания, ножевое исполнение, без Cd/Pb","3 / -",0.54,0.621,52.05,{"$f":"VLOOKUP(B4149,#REF!,3,FALSE)","v":{"$error":"#REF!"}}]
["Varius","Varius Fuse","LP7","OEZ:35991","P51V06 315A aR","Плавкая вставка для защиты полупроводников","Un AC 690 V / DC 440 V, размер 2, aR - характеристика для защиты полупроводников только против короткого замыкания, ножевое исполнение, без Cd/Pb","3 / -",0.54,0.621,62.46,{"$f":"VLOOKUP(B4150,#REF!,3,FALSE)","v":{"$error":"#REF!"}}]
["Varius","Varius Fuse","LP7","OEZ:35992","P51V06 350A aR","Плавкая вставка для защиты полупроводников","Un AC 690 V / DC 440 V, размер 2, aR - характеристика для защиты полупроводников только против короткого замыкания, ножевое исполнение, без Cd/Pb","3 / -",0.54,0.621,72.740000000000009,{"$f":"VLOOKUP(B4151,#REF!,3,FALSE)","v":{"$error":"#REF!"}}]
["Varius","Varius Fuse","LP7","OEZ:35993","P51V06 400A aR","Плавкая вставка для защиты полупроводников","Un AC 690 V / DC 440 V, размер 2, aR - характеристика для защиты полупроводников только против короткого замыкания, ножевое исполнение, без Cd/Pb","3 / -",0.54,0.621,79.440000000000012,{"$f":"VLOOKUP(B4152,#REF!,3,FALSE)","v":{"$error":"#REF!"}}]
["Varius","Varius Fuse","LP7","OEZ:35994","P51V06 450A aR","Плавкая вставка для защиты полупроводников","Un AC 690 V / DC 440 V, размер 2, aR - характеристика для защиты полупроводников только против короткого замыкания, ножевое исполнение, без Cd/Pb","3 / -",0.54,0.621,83.92,{"$f":"VLOOKUP(B4153,#REF!,3,FALSE)","v":{"$error":"#REF!"}}]
["Varius","Varius Fuse","LP7","OEZ:35995","P51V06 500A aR","Плавкая вставка для защиты полупроводников","Un AC 690 V / DC 440 V, размер 2, aR - характеристика для защиты полупроводников только против короткого замыкания, ножевое исполнение, без Cd/Pb","3 / -",0.54,0.621,91.86,{"$f":"VLOOKUP(B4154,#REF!,3,FALSE)","v":{"$error":"#REF!"}}]
["Varius","Varius Fuse","LP7","OEZ:35996","P51V06 550A aR","Плавкая вставка для защиты полупроводников","Un AC 690 V / DC 440 V, размер 2, aR - характеристика для защиты полупроводников только против короткого замыкания, ножевое исполнение, без Cd/Pb","3 / -",0.54,0.621,97.52000000000001,{"$f":"VLOOKUP(B4155,#REF!,3,FALSE)","v":{"$error":"#REF!"}}]
["Varius","Varius Fuse","LP7","OEZ:35997","P51V06 630A aR","Плавкая вставка для защиты полупроводников","Un AC 690 V / DC 440 V, размер 2, aR - характеристика для защиты полупроводников только против короткого замыкания, ножевое исполнение, без Cd/Pb","3 / -",0.54,0.621,100.54,{"$f":"VLOOKUP(B4156,#REF!,3,FALSE)","v":{"$error":"#REF!"}}]
[null,null,null,"Level  4","OD-P51 - Принадлежности"]
["Varius","Varius Fuse","LP3","OEZ:06528","VL50","Сигнальный контакт","для дистанционной сигнализации состояния предохранителей","1 / -",1.4999999999999999E-2,9.4E-2,7.77,{"$f":"VLOOKUP(B4158,#REF!,3,FALSE)","v":{"$error":"#REF!"}}]
[null,null,null,"Level  3","P40, P50 - Плавкие вставки с резьбовыми соединениями"]
[null,null,null,"Level  4","P50K06 - Плавкие вставки для защиты полупроводников"]
["Varius","Varius Fuse","LP7","OEZ:06593","P50K06 10A gR","Плавкая вставка для защиты полупроводников","Un AC 690 V / DC 440 V, gR - характеристика для защиты полупроводников, для винтов M6, без Cd/Pb","3 / 84",0.06,5.2999999999999999E-2,11.799999999999999,{"$f":"VLOOKUP(B4161,#REF!,3,FALSE)","v":{"$error":"#REF!"}}]
["Varius","Varius Fuse","LP7","OEZ:06594","P50K06 16A gR","Плавкая вставка для защиты полупроводников","Un AC 690 V / DC 440 V, gR - характеристика для защиты полупроводников, для винтов M6, без Cd/Pb","3 / 84",0.06,5.2999999999999999E-2,11.799999999999999,{"$f":"VLOOKUP(B4162,#REF!,3,FALSE)","v":{"$error":"#REF!"}}]
["Varius","Varius Fuse","LP7","OEZ:06595","P50K06 20A gR","Плавкая вставка для защиты полупроводников","Un AC 690 V / DC 440 V, gR - характеристика для защиты полупроводников, для винтов M6, без Cd/Pb","3 / 84",0.06,5.2999999999999999E-2,11.799999999999999,{"$f":"VLOOKUP(B4163,#REF!,3,FALSE)","v":{"$error":"#REF!"}}]
["Varius","Varius Fuse","LP7","OEZ:06596","P50K06 25A gR","Плавкая вставка для защиты полупроводников","Un AC 690 V / DC 440 V, gR - характеристика для защиты полупроводников, для винтов M6, без Cd/Pb","3 / 84",0.06,5.2999999999999999E-2,11.799999999999999,{"$f":"VLOOKUP(B4164,#REF!,3,FALSE)","v":{"$error":"#REF!"}}]
["Varius","Varius Fuse","LP7","OEZ:06597","P50K06 32A gR","Плавкая вставка для защиты полупроводников","Un AC 690 V / DC 440 V, gR - характеристика для защиты полупроводников, для винтов M6, без Cd/Pb","3 / 84",0.06,5.2999999999999999E-2,12.959999999999999,{"$f":"VLOOKUP(B4165,#REF!,3,FALSE)","v":{"$error":"#REF!"}}]
["Varius","Varius Fuse","LP7","OEZ:06598","P50K06 40A gR","Плавкая вставка для защиты полупроводников","Un AC 690 V / DC 440 V, gR - характеристика для защиты полупроводников, для винтов M6, без Cd/Pb","3 / 84",0.06,5.2999999999999999E-2,13.19,{"$f":"VLOOKUP(B4166,#REF!,3,FALSE)","v":{"$error":"#REF!"}}]
["Varius","Varius Fuse","LP7","OEZ:06599","P50K06 50A gR","Плавкая вставка для защиты полупроводников","Un AC 690 V / DC 440 V, gR - характеристика для защиты полупроводников, для винтов M6, без Cd/Pb","3 / 84",0.06,5.2999999999999999E-2,13.76,{"$f":"VLOOKUP(B4167,#REF!,3,FALSE)","v":{"$error":"#REF!"}}]
[null,null,null,"Level  4","P50N06 - Плавкие вставки для защиты полупроводников до AC 690 V (с резьбовыми соединениями)"]
["Varius","Varius Fuse","LP7","OEZ:06608","P50N06 25A gR","Плавкая вставка для защиты полупроводников","Un AC 690 V / DC 440 V, gR - характеристика для защиты полупроводников, для винты M8, без Cd/Pb","3 / 60",0.13,0.13200000000000001,14.44,{"$f":"VLOOKUP(B4169,#REF!,3,FALSE)","v":{"$error":"#REF!"}}]
["Varius","Varius Fuse","LP7","OEZ:06609","P50N06 32A gR","Плавкая вставка для защиты полупроводников","Un AC 690 V / DC 440 V, gR - характеристика для защиты полупроводников, для винты M8, без Cd/Pb","3 / 60",0.13,0.13200000000000001,14.44,{"$f":"VLOOKUP(B4170,#REF!,3,FALSE)","v":{"$error":"#REF!"}}]
["Varius","Varius Fuse","LP7","OEZ:06610","P50N06 40A gR","Плавкая вставка для защиты полупроводников","Un AC 690 V / DC 440 V, gR - характеристика для защиты полупроводников, для винты M8, без Cd/Pb","3 / 60",0.13,0.13200000000000001,14.44,{"$f":"VLOOKUP(B4171,#REF!,3,FALSE)","v":{"$error":"#REF!"}}]
["Varius","Varius Fuse","LP7","OEZ:06611","P50N06 50A gR","Плавкая вставка для защиты полупроводников","Un AC 690 V / DC 440 V, gR - характеристика для защиты полупроводников, для винты M8, без Cd/Pb","3 / 60",0.13,0.13200000000000001,14.44,{"$f":"VLOOKUP(B4172,#REF!,3,FALSE)","v":{"$error":"#REF!"}}]
["Varius","Varius Fuse","LP7","OEZ:06612","P50N06 63A gR","Плавкая вставка для защиты полупроводников","Un AC 690 V / DC 440 V, gR - характеристика для защиты полупроводников, для винты M8, без Cd/Pb","3 / 60",0.13,0.13200000000000001,15.27,{"$f":"VLOOKUP(B4173,#REF!,3,FALSE)","v":{"$error":"#REF!"}}]
["Varius","Varius Fuse","LP7","OEZ:06613","P50N06 80A aR","Плавкая вставка для защиты полупроводников","Un AC 690 V / DC 440 V, aR - характеристика для защиты полупроводников только против короткого замыкания, для винты M8, без Cd/Pb","3 / 60",0.13,0.13200000000000001,15.629999999999999,{"$f":"VLOOKUP(B4174,#REF!,3,FALSE)","v":{"$error":"#REF!"}}]
["Varius","Varius Fuse","LP7","OEZ:06614","P50N06 100A aR","Плавкая вставка для защиты полупроводников","Un AC 690 V / DC 440 V, aR - характеристика для защиты полупроводников только против короткого замыкания, для винты M8, без Cd/Pb","3 / 60",0.13,0.13200000000000001,18.170000000000002,{"$f":"VLOOKUP(B4175,#REF!,3,FALSE)","v":{"$error":"#REF!"}}]
["Varius","Varius Fuse","LP7","OEZ:06615","P50N06 125A aR","Плавкая вставка для защиты полупроводников","Un AC 690 V / DC 240 V, aR - характеристика для защиты полупроводников только против короткого замыкания, для винты M8, без Cd/Pb","3 / 60",0.13,0.13200000000000001,17.110000000000003,{"$f":"VLOOKUP(B4176,#REF!,3,FALSE)","v":{"$error":"#REF!"}}]
[null,null,null,"Level  4","P50R06 - Плавкие вставки для защиты полупроводников до AC 690 V (с резьбовыми соединениями)"]
["Varius","Varius Fuse","LP7","OEZ:06618","P50R06 16A gR","Плавкая вставка для защиты полупроводников","Un AC 690 V / DC 440 V, gR - характеристика для защиты полупроводников, луженые контакты для винты M8, без Cd/Pb","3 / -",0.13,0.14799999999999999,20.46,{"$f":"VLOOKUP(B4178,#REF!,3,FALSE)","v":{"$error":"#REF!"}}]
["Varius","Varius Fuse","LP7","OEZ:06619","P50R06 20A gR","Плавкая вставка для защиты полупроводников","Un AC 690 V / DC 440 V, gR - характеристика для защиты полупроводников, луженые контакты для винты M8, без Cd/Pb","3 / -",0.13,0.14799999999999999,20.46,{"$f":"VLOOKUP(B4179,#REF!,3,FALSE)","v":{"$error":"#REF!"}}]
["Varius","Varius Fuse","LP7","OEZ:06620","P50R06 25A gR","Плавкая вставка для защиты полупроводников","Un AC 690 V / DC 440 V, gR - характеристика для защиты полупроводников, луженые контакты для винты M8, без Cd/Pb","3 / -",0.13,0.14799999999999999,20.46,{"$f":"VLOOKUP(B4180,#REF!,3,FALSE)","v":{"$error":"#REF!"}}]
["Varius","Varius Fuse","LP7","OEZ:06621","P50R06 32A gR","Плавкая вставка для защиты полупроводников","Un AC 690 V / DC 440 V, gR - характеристика для защиты полупроводников, луженые контакты для винты M8, без Cd/Pb","3 / -",0.13,0.14799999999999999,20.46,{"$f":"VLOOKUP(B4181,#REF!,3,FALSE)","v":{"$error":"#REF!"}}]
["Varius","Varius Fuse","LP7","OEZ:06622","P50R06 40A gR","Плавкая вставка для защиты полупроводников","Un AC 690 V / DC 440 V, gR - характеристика для защиты полупроводников, луженые контакты для винты M8, без Cd/Pb","3 / -",0.13,0.14799999999999999,23.270000000000003,{"$f":"VLOOKUP(B4182,#REF!,3,FALSE)","v":{"$error":"#REF!"}}]
["Varius","Varius Fuse","LP7","OEZ:06623","P50R06 50A gR","Плавкая вставка для защиты полупроводников","Un AC 690 V / DC 440 V, gR - характеристика для защиты полупроводников, луженые контакты для винты M8, без Cd/Pb","3 / -",0.13,0.14799999999999999,25.790000000000003,{"$f":"VLOOKUP(B4183,#REF!,3,FALSE)","v":{"$error":"#REF!"}}]
["Varius","Varius Fuse","LP7","OEZ:06624","P50R06 63A gR","Плавкая вставка для защиты полупроводников","Un AC 690 V / DC 440 V, gR - характеристика для защиты полупроводников, луженые контакты для винты M8, без Cd/Pb","3 / -",0.13,0.14799999999999999,26.21,{"$f":"VLOOKUP(B4184,#REF!,3,FALSE)","v":{"$error":"#REF!"}}]
["Varius","Varius Fuse","LP7","OEZ:06625","P50R06 80A aR","Плавкая вставка для защиты полупроводников","Un AC 690 V / DC 440 V, aR - характеристика для защиты полупроводников только против короткого замыкания, луженые контакты для винты M8, без Cd/Pb","3 / -",0.13,0.14799999999999999,26.62,{"$f":"VLOOKUP(B4185,#REF!,3,FALSE)","v":{"$error":"#REF!"}}]
["Varius","Varius Fuse","LP7","OEZ:06626","P50R06 100A aR","Плавкая вставка для защиты полупроводников","Un AC 690 V / DC 440 V, aR - характеристика для защиты полупроводников только против короткого замыкания, луженые контакты для винты M8, без Cd/Pb","3 / -",0.13,0.14799999999999999,26.62,{"$f":"VLOOKUP(B4186,#REF!,3,FALSE)","v":{"$error":"#REF!"}}]
["Varius","Varius Fuse","LP7","OEZ:06627","P50R06 125A aR","Плавкая вставка для защиты полупроводников","Un AC 690 V / DC 440 V, aR - характеристика для защиты полупроводников только против короткого замыкания, луженые контакты для винты M8, без Cd/Pb","3 / -",0.13,0.14799999999999999,28.900000000000002,{"$f":"VLOOKUP(B4187,#REF!,3,FALSE)","v":{"$error":"#REF!"}}]
["Varius","Varius Fuse","LP7","OEZ:06628","P50R06 160A aR","Плавкая вставка для защиты полупроводников","Un AC 500 V / DC 440 V, aR - характеристика для защиты полупроводников только против короткого замыкания, луженые контакты для винты M8, без Cd/Pb","3 / -",0.13,0.14799999999999999,37.35,{"$f":"VLOOKUP(B4188,#REF!,3,FALSE)","v":{"$error":"#REF!"}}]
[null,null,null,"Level  4","P50T06 - Плавкие вставки для защиты полупроводников до AC 690 V (с резьбовыми соединениями)"]
["Varius","Varius Fuse","LP7","OEZ:06646","P50T06 10A gR","Плавкая вставка для защиты полупроводников","Un AC 690 V / DC 440 V, gR - характеристика для защиты полупроводников, луженые контакты для винты M10, без Cd/Pb","3 / -",0.23,0.23200000000000001,20.930000000000003,{"$f":"VLOOKUP(B4190,#REF!,3,FALSE)","v":{"$error":"#REF!"}}]
["Varius","Varius Fuse","LP7","OEZ:06647","P50T06 16A gR","Плавкая вставка для защиты полупроводников","Un AC 690 V / DC 440 V, gR - характеристика для защиты полупроводников, луженые контакты для винты M10, без Cd/Pb","3 / -",0.23,0.23200000000000001,20.930000000000003,{"$f":"VLOOKUP(B4191,#REF!,3,FALSE)","v":{"$error":"#REF!"}}]
["Varius","Varius Fuse","LP7","OEZ:06648","P50T06 20A gR","Плавкая вставка для защиты полупроводников","Un AC 690 V / DC 440 V, gR - характеристика для защиты полупроводников, луженые контакты для винты M10, без Cd/Pb","3 / -",0.23,0.23200000000000001,22.62,{"$f":"VLOOKUP(B4192,#REF!,3,FALSE)","v":{"$error":"#REF!"}}]
["Varius","Varius Fuse","LP7","OEZ:06649","P50T06 25A gR","Плавкая вставка для защиты полупроводников","Un AC 690 V / DC 440 V, gR - характеристика для защиты полупроводников, луженые контакты для винты M10, без Cd/Pb","3 / -",0.23,0.23200000000000001,22.740000000000002,{"$f":"VLOOKUP(B4193,#REF!,3,FALSE)","v":{"$error":"#REF!"}}]
["Varius","Varius Fuse","LP7","OEZ:06650","P50T06 32A gR","Плавкая вставка для защиты полупроводников","Un AC 690 V / DC 440 V, gR - характеристика для защиты полупроводников, луженые контакты для винты M10, без Cd/Pb","3 / -",0.23,0.23100000000000001,22.71,{"$f":"VLOOKUP(B4194,#REF!,3,FALSE)","v":{"$error":"#REF!"}}]
["Varius","Varius Fuse","LP7","OEZ:06651","P50T06 40A gR","Плавкая вставка для защиты полупроводников","Un AC 690 V / DC 440 V, gR - характеристика для защиты полупроводников, луженые контакты для винты M10, без Cd/Pb","3 / -",0.23,0.23200000000000001,26.41,{"$f":"VLOOKUP(B4195,#REF!,3,FALSE)","v":{"$error":"#REF!"}}]
["Varius","Varius Fuse","LP7","OEZ:06652","P50T06 50A gR","Плавкая вставка для защиты полупроводников","Un AC 690 V / DC 440 V, gR - характеристика для защиты полупроводников, луженые контакты для винты M10, без Cd/Pb","3 / -",0.23,0.23200000000000001,26.41,{"$f":"VLOOKUP(B4196,#REF!,3,FALSE)","v":{"$error":"#REF!"}}]
["Varius","Varius Fuse","LP7","OEZ:06653","P50T06 63A gR","Плавкая вставка для защиты полупроводников","Un AC 690 V / DC 440 V, gR - характеристика для защиты полупроводников, луженые контакты для винты M10, без Cd/Pb","3 / -",0.23,0.23200000000000001,28.67,{"$f":"VLOOKUP(B4197,#REF!,3,FALSE)","v":{"$error":"#REF!"}}]
["Varius","Varius Fuse","LP7","OEZ:06654","P50T06 80A gR","Плавкая вставка для защиты полупроводников","Un AC 690 V / DC 440 V, gR - характеристика для защиты полупроводников, луженые контакты для винты M10, без Cd/Pb","3 / -",0.23,0.23200000000000001,29.5,{"$f":"VLOOKUP(B4198,#REF!,3,FALSE)","v":{"$error":"#REF!"}}]
["Varius","Varius Fuse","LP7","OEZ:06655","P50T06 100A gR","Плавкая вставка для защиты полупроводников","Un AC 690 V / DC 440 V, gR - характеристика для защиты полупроводников, луженые контакты для винты M10, без Cd/Pb","3 / -",0.23,0.23200000000000001,30.360000000000003,{"$f":"VLOOKUP(B4199,#REF!,3,FALSE)","v":{"$error":"#REF!"}}]
["Varius","Varius Fuse","LP7","OEZ:06656","P50T06 125A aR","Плавкая вставка для защиты полупроводников","Un AC 690 V / DC 440 V, aR - характеристика для защиты полупроводников только против короткого замыкания, луженые контакты для винты M10, без Cd/Pb","3 / -",0.23,0.23200000000000001,34.33,{"$f":"VLOOKUP(B4200,#REF!,3,FALSE)","v":{"$error":"#REF!"}}]
["Varius","Varius Fuse","LP7","OEZ:06657","P50T06 160A aR","Плавкая вставка для защиты полупроводников","Un AC 690 V / DC 440 V, aR - характеристика для защиты полупроводников только против короткого замыкания, луженые контакты для винты M10, без Cd/Pb","3 / -",0.23,0.23200000000000001,37.35,{"$f":"VLOOKUP(B4201,#REF!,3,FALSE)","v":{"$error":"#REF!"}}]
["Varius","Varius Fuse","LP7","OEZ:06658","P50T06 200A aR","Плавкая вставка для защиты полупроводников","Un AC 690 V / DC 440 V, aR - характеристика для защиты полупроводников только против короткого замыкания, луженые контакты для винты M10, без Cd/Pb","3 / -",0.23,0.23200000000000001,40.61,{"$f":"VLOOKUP(B4202,#REF!,3,FALSE)","v":{"$error":"#REF!"}}]
["Varius","Varius Fuse","LP7","OEZ:06659","P50T06 250A aR","Плавкая вставка для защиты полупроводников","Un AC 690 V / DC 440 V, aR - характеристика для защиты полупроводников только против короткого замыкания, луженые контакты для винты M10, без Cd/Pb","3 / -",0.23,0.23200000000000001,52.589999999999996,{"$f":"VLOOKUP(B4203,#REF!,3,FALSE)","v":{"$error":"#REF!"}}]
["Varius","Varius Fuse","LP7","OEZ:06660","P50T06 315A aR","Плавкая вставка для защиты полупроводников","Un AC 690 V / DC 440 V, aR - характеристика для защиты полупроводников только против короткого замыкания, луженые контакты для винты M10, без Cd/Pb","3 / -",0.23,0.23200000000000001,52.589999999999996,{"$f":"VLOOKUP(B4204,#REF!,3,FALSE)","v":{"$error":"#REF!"}}]
["Varius","Varius Fuse","LP7","OEZ:06661","P50T06 350A aR","Плавкая вставка для защиты полупроводников","Un AC 690 V / DC 440 V, aR - характеристика для защиты полупроводников только против короткого замыкания, луженые контакты для винты M10, без Cd/Pb","3 / -",0.23,0.23200000000000001,54.449999999999996,{"$f":"VLOOKUP(B4205,#REF!,3,FALSE)","v":{"$error":"#REF!"}}]
["Varius","Varius Fuse","LP7","OEZ:06662","P50T06 400A aR","Плавкая вставка для защиты полупроводников","Un AC 690 V / DC 440 V, aR - характеристика для защиты полупроводников только против короткого замыкания, луженые контакты для винты M10, без Cd/Pb","3 / -",0.23,0.23200000000000001,57.269999999999996,{"$f":"VLOOKUP(B4206,#REF!,3,FALSE)","v":{"$error":"#REF!"}}]
[null,null,null,"Level  4","P50U06 - Плавкие вставки для защиты полупроводников до AC 690 V (с резьбовыми соединениями)"]
["Varius","Varius Fuse","LP7","OEZ:11875","P50U06 100A aR","Плавкая вставка для защиты полупроводников","Un AC 690 V / DC 440 V, aR - характеристика для защиты полупроводников только против короткого замыкания, для винтов M10, посеребренные контакты, без Cd/Pb","3 / -",0.39,0.44400000000000001,35.69,{"$f":"VLOOKUP(B4208,#REF!,3,FALSE)","v":{"$error":"#REF!"}}]
["Varius","Varius Fuse","LP7","OEZ:11876","P50U06 125A aR","Плавкая вставка для защиты полупроводников","Un AC 690 V / DC 440 V, aR - характеристика для защиты полупроводников только против короткого замыкания, для винтов M10, посеребренные контакты, без Cd/Pb","3 / -",0.39,0.44400000000000001,39.07,{"$f":"VLOOKUP(B4209,#REF!,3,FALSE)","v":{"$error":"#REF!"}}]
["Varius","Varius Fuse","LP7","OEZ:11877","P50U06 160A aR","Плавкая вставка для защиты полупроводников","Un AC 690 V / DC 440 V, aR - характеристика для защиты полупроводников только против короткого замыкания, для винтов M10, посеребренные контакты, без Cd/Pb","3 / -",0.39,0.44400000000000001,42.75,{"$f":"VLOOKUP(B4210,#REF!,3,FALSE)","v":{"$error":"#REF!"}}]
["Varius","Varius Fuse","LP7","OEZ:11878","P50U06 200A aR","Плавкая вставка для защиты полупроводников","Un AC 690 V / DC 440 V, aR - характеристика для защиты полупроводников только против короткого замыкания, для винтов M10, посеребренные контакты, без Cd/Pb","3 / -",0.39,0.44400000000000001,44.26,{"$f":"VLOOKUP(B4211,#REF!,3,FALSE)","v":{"$error":"#REF!"}}]
["Varius","Varius Fuse","LP7","OEZ:10546","P50U06 250A aR","Плавкая вставка для защиты полупроводников","Un AC 690 V / DC 440 V, aR - характеристика для защиты полупроводников только против короткого замыкания, для винтов M10, посеребренные контакты, без Cd/Pb","3 / -",0.39,0.44400000000000001,49.47,{"$f":"VLOOKUP(B4212,#REF!,3,FALSE)","v":{"$error":"#REF!"}}]
["Varius","Varius Fuse","LP7","OEZ:10547","P50U06 315A aR","Плавкая вставка для защиты полупроводников","Un AC 690 V / DC 440 V, aR - характеристика для защиты полупроводников только против короткого замыкания, для винтов M10, посеребренные контакты, без Cd/Pb","3 / -",0.39,0.44400000000000001,59.199999999999996,{"$f":"VLOOKUP(B4213,#REF!,3,FALSE)","v":{"$error":"#REF!"}}]
["Varius","Varius Fuse","LP7","OEZ:10548","P50U06 350A aR","Плавкая вставка для защиты полупроводников","Un AC 690 V / DC 440 V, aR - характеристика для защиты полупроводников только против короткого замыкания, для винтов M10, посеребренные контакты, без Cd/Pb","3 / -",0.39,0.44400000000000001,62.839999999999996,{"$f":"VLOOKUP(B4214,#REF!,3,FALSE)","v":{"$error":"#REF!"}}]
["Varius","Varius Fuse","LP7","OEZ:10549","P50U06 400A aR","Плавкая вставка для защиты полупроводников","Un AC 690 V / DC 440 V, aR - характеристика для защиты полупроводников только против короткого замыкания, для винтов M10, посеребренные контакты, без Cd/Pb","3 / -",0.39,0.44400000000000001,70.52000000000001,{"$f":"VLOOKUP(B4215,#REF!,3,FALSE)","v":{"$error":"#REF!"}}]
["Varius","Varius Fuse","LP7","OEZ:11879","P50U06 450A aR","Плавкая вставка для защиты полупроводников","Un AC 690 V / DC 440 V, aR - характеристика для защиты полупроводников только против короткого замыкания, для винтов M10, посеребренные контакты, без Cd/Pb","3 / -",0.39,0.44400000000000001,72.210000000000008,{"$f":"VLOOKUP(B4216,#REF!,3,FALSE)","v":{"$error":"#REF!"}}]
["Varius","Varius Fuse","LP7","OEZ:10550","P50U06 500A aR","Плавкая вставка для защиты полупроводников","Un AC 690 V / DC 440 V, aR - характеристика для защиты полупроводников только против короткого замыкания, для винтов M10, посеребренные контакты, без Cd/Pb","3 / -",0.39,0.44400000000000001,72.210000000000008,{"$f":"VLOOKUP(B4217,#REF!,3,FALSE)","v":{"$error":"#REF!"}}]
["Varius","Varius Fuse","LP7","OEZ:11880","P50U06 550A aR","Плавкая вставка для защиты полупроводников","Un AC 690 V / DC 440 V, aR - характеристика для защиты полупроводников только против короткого замыкания, для винтов M10, посеребренные контакты, без Cd/Pb","3 / -",0.39,0.44400000000000001,74.760000000000005,{"$f":"VLOOKUP(B4218,#REF!,3,FALSE)","v":{"$error":"#REF!"}}]
["Varius","Varius Fuse","LP7","OEZ:10551","P50U06 630A aR","Плавкая вставка для защиты полупроводников","Un AC 690 V / DC 440 V, aR - характеристика для защиты полупроводников только против короткого замыкания, для винтов M10, посеребренные контакты, без Cd/Pb","3 / -",0.39,0.44400000000000001,79.08,{"$f":"VLOOKUP(B4219,#REF!,3,FALSE)","v":{"$error":"#REF!"}}]
[null,null,null,"Level  4","P52U06 - Плавкие вставки для защиты полупроводников до AC 690 V (с резьбовыми соединениями)"]
["Varius","Varius Fuse","LP7","OEZ:14836","P52U06 100A aR DIN110","Плавкая вставка для защиты полупроводников","Un AC 690 V / DC 440 V, aR - характеристика для защиты полупроводников только против короткого замыкания, расстояние 110 mm, для винтов M10, посеребренные контакты, без Cd/Pb","3 / -",0.43,0.56200000000000006,37.47,{"$f":"VLOOKUP(B4221,#REF!,3,FALSE)","v":{"$error":"#REF!"}}]
["Varius","Varius Fuse","LP7","OEZ:14837","P52U06 125A aR DIN110","Плавкая вставка для защиты полупроводников","Un AC 690 V / DC 440 V, aR - характеристика для защиты полупроводников только против короткого замыкания, расстояние 110 mm, для винтов M10, посеребренные контакты, без Cd/Pb","3 / -",0.43,0.56200000000000006,40.85,{"$f":"VLOOKUP(B4222,#REF!,3,FALSE)","v":{"$error":"#REF!"}}]
["Varius","Varius Fuse","LP7","OEZ:14838","P52U06 160A aR DIN110","Плавкая вставка для защиты полупроводников","Un AC 690 V / DC 440 V, aR - характеристика для защиты полупроводников только против короткого замыкания, расстояние 110 mm, для винтов M10, посеребренные контакты, без Cd/Pb","3 / -",0.43,0.56200000000000006,44.55,{"$f":"VLOOKUP(B4223,#REF!,3,FALSE)","v":{"$error":"#REF!"}}]
["Varius","Varius Fuse","LP7","OEZ:11886","P52U06 200A aR DIN110","Плавкая вставка для защиты полупроводников","Un AC 690 V / DC 440 V, aR - характеристика для защиты полупроводников только против короткого замыкания, расстояние 110 mm, для винтов M10, посеребренные контакты, без Cd/Pb","3 / -",0.43,0.56200000000000006,46.07,{"$f":"VLOOKUP(B4224,#REF!,3,FALSE)","v":{"$error":"#REF!"}}]
["Varius","Varius Fuse","LP7","OEZ:10552","P52U06 250A aR DIN110","Плавкая вставка для защиты полупроводников","Un AC 690 V / DC 440 V, aR - характеристика для защиты полупроводников только против короткого замыкания, расстояние 110 mm, для винтов M10, посеребренные контакты, без Cd/Pb","3 / -",0.43,0.56200000000000006,51.22,{"$f":"VLOOKUP(B4225,#REF!,3,FALSE)","v":{"$error":"#REF!"}}]
["Varius","Varius Fuse","LP7","OEZ:10553","P52U06 315A aR DIN110","Плавкая вставка для защиты полупроводников","Un AC 690 V / DC 440 V, aR - характеристика для защиты полупроводников только против короткого замыкания, расстояние 110 mm, для винтов M10, посеребренные контакты, без Cd/Pb","3 / -",0.43,0.56200000000000006,60.97,{"$f":"VLOOKUP(B4226,#REF!,3,FALSE)","v":{"$error":"#REF!"}}]
["Varius","Varius Fuse","LP7","OEZ:10554","P52U06 350A aR DIN110","Плавкая вставка для защиты полупроводников","Un AC 690 V / DC 440 V, aR - характеристика для защиты полупроводников только против короткого замыкания, расстояние 110 mm, для винтов M10, посеребренные контакты, без Cd/Pb","3 / -",0.43,0.56200000000000006,64.62,{"$f":"VLOOKUP(B4227,#REF!,3,FALSE)","v":{"$error":"#REF!"}}]
["Varius","Varius Fuse","LP7","OEZ:10555","P52U06 400A aR DIN110","Плавкая вставка для защиты полупроводников","Un AC 690 V / DC 440 V, aR - характеристика для защиты полупроводников только против короткого замыкания, расстояние 110 mm, для винтов M10, посеребренные контакты, без Cd/Pb","3 / -",0.43,0.56200000000000006,72.27000000000001,{"$f":"VLOOKUP(B4228,#REF!,3,FALSE)","v":{"$error":"#REF!"}}]
["Varius","Varius Fuse","LP7","OEZ:14839","P52U06 450A aR DIN110","Плавкая вставка для защиты полупроводников","Un AC 690 V / DC 440 V, aR - характеристика для защиты полупроводников только против короткого замыкания, расстояние 110 mm, для винтов M10, посеребренные контакты, без Cd/Pb","3 / -",0.43,0.56200000000000006,74.050000000000011,{"$f":"VLOOKUP(B4229,#REF!,3,FALSE)","v":{"$error":"#REF!"}}]
["Varius","Varius Fuse","LP7","OEZ:10556","P52U06 500A aR DIN110","Плавкая вставка для защиты полупроводников","Un AC 690 V / DC 440 V, aR - характеристика для защиты полупроводников только против короткого замыкания, расстояние 110 mm, для винтов M10, посеребренные контакты, без Cd/Pb","3 / -",0.43,0.56200000000000006,74.050000000000011,{"$f":"VLOOKUP(B4230,#REF!,3,FALSE)","v":{"$error":"#REF!"}}]
["Varius","Varius Fuse","LP7","OEZ:14840","P52U06 550A aR DIN110","Плавкая вставка для защиты полупроводников","Un AC 690 V / DC 440 V, aR - характеристика для защиты полупроводников только против короткого замыкания, расстояние 110 mm, для винтов M10, посеребренные контакты, без Cd/Pb","3 / -",0.43,0.56200000000000006,76.540000000000006,{"$f":"VLOOKUP(B4231,#REF!,3,FALSE)","v":{"$error":"#REF!"}}]
["Varius","Varius Fuse","LP7","OEZ:10557","P52U06 630A aR DIN110","Плавкая вставка для защиты полупроводников","Un AC 690 V / DC 440 V, aR - характеристика для защиты полупроводников только против короткого замыкания, расстояние 110 mm, для винтов M10, посеребренные контакты, без Cd/Pb","3 / -",0.43,0.56200000000000006,80.83,{"$f":"VLOOKUP(B4232,#REF!,3,FALSE)","v":{"$error":"#REF!"}}]
[null,null,null,"Level  4","P40U10 - Плавкие вставки для защиты полупроводников до AC 1 000 V (с резьбовыми соединениями)"]
["Varius","Varius Fuse","LP7","OEZ:09013","P40U10 32A gR","Плавкая вставка для защиты полупроводников","Un AC 1000 V / DC 600 V, gR - характеристика для защиты полупроводников, для винты M10, без Cd/Pb","3 / -",0.55000000000000004,1.1850000000000001,31.900000000000002,{"$f":"VLOOKUP(B4234,#REF!,3,FALSE)","v":{"$error":"#REF!"}}]
["Varius","Varius Fuse","LP7","OEZ:09014","P40U10 40A gR","Плавкая вставка для защиты полупроводников","Un AC 1000 V / DC 600 V, gR - характеристика для защиты полупроводников, для винты M10, без Cd/Pb","3 / -",0.55000000000000004,1.1850000000000001,31.900000000000002,{"$f":"VLOOKUP(B4235,#REF!,3,FALSE)","v":{"$error":"#REF!"}}]
["Varius","Varius Fuse","LP7","OEZ:09015","P40U10 50A gR","Плавкая вставка для защиты полупроводников","Un AC 1000 V / DC 600 V, gR - характеристика для защиты полупроводников, для винты M10, без Cd/Pb","3 / -",0.55000000000000004,1.1850000000000001,32.19,{"$f":"VLOOKUP(B4236,#REF!,3,FALSE)","v":{"$error":"#REF!"}}]
["Varius","Varius Fuse","LP7","OEZ:09016","P40U10 63A gR","Плавкая вставка для защиты полупроводников","Un AC 1000 V / DC 600 V, gR - характеристика для защиты полупроводников, для винты M10, без Cd/Pb","3 / -",0.55000000000000004,1.1850000000000001,32.61,{"$f":"VLOOKUP(B4237,#REF!,3,FALSE)","v":{"$error":"#REF!"}}]
["Varius","Varius Fuse","LP7","OEZ:06548","P40U10 80A aR","Плавкая вставка для защиты полупроводников","Un AC 1000 V / DC 600 V, aR - характеристика для защиты полупроводников только против короткого замыкания, для винты M10, без Cd/Pb","3 / -",0.55000000000000004,1.1850000000000001,34.449999999999996,{"$f":"VLOOKUP(B4238,#REF!,3,FALSE)","v":{"$error":"#REF!"}}]
["Varius","Varius Fuse","LP7","OEZ:13501","P40U10 100A aR","Плавкая вставка для защиты полупроводников","Un AC 1000 V / DC 600 V, aR - характеристика для защиты полупроводников только против короткого замыкания, для винты M10, без Cd/Pb","3 / -",0.55000000000000004,1.1850000000000001,38.18,{"$f":"VLOOKUP(B4239,#REF!,3,FALSE)","v":{"$error":"#REF!"}}]
["Varius","Varius Fuse","LP7","OEZ:06551","P40U10 125A aR","Плавкая вставка для защиты полупроводников","Un AC 1000 V / DC 600 V, aR - характеристика для защиты полупроводников только против короткого замыкания, для винты M10, без Cd/Pb","3 / -",0.55000000000000004,1.1850000000000001,40.97,{"$f":"VLOOKUP(B4240,#REF!,3,FALSE)","v":{"$error":"#REF!"}}]
["Varius","Varius Fuse","LP7","OEZ:06553","P40U10 160A aR","Плавкая вставка для защиты полупроводников","Un AC 1000 V / DC 600 V, aR - характеристика для защиты полупроводников только против короткого замыкания, для винты M10, без Cd/Pb","3 / -",0.55000000000000004,1.1850000000000001,42.78,{"$f":"VLOOKUP(B4241,#REF!,3,FALSE)","v":{"$error":"#REF!"}}]
["Varius","Varius Fuse","LP7","OEZ:06555","P40U10 200A aR","Плавкая вставка для защиты полупроводников","Un AC 1000 V / DC 600 V, aR - характеристика для защиты полупроводников только против короткого замыкания, для винты M10, без Cd/Pb","3 / -",0.55000000000000004,1.1850000000000001,44.82,{"$f":"VLOOKUP(B4242,#REF!,3,FALSE)","v":{"$error":"#REF!"}}]
["Varius","Varius Fuse","LP7","OEZ:06557","P40U10 250A aR","Плавкая вставка для защиты полупроводников","Un AC 1000 V / DC 600 V, aR - характеристика для защиты полупроводников только против короткого замыкания, для винты M10, без Cd/Pb","3 / -",0.55000000000000004,1.1850000000000001,48.379999999999995,{"$f":"VLOOKUP(B4243,#REF!,3,FALSE)","v":{"$error":"#REF!"}}]
["Varius","Varius Fuse","LP7","OEZ:06559","P40U10 315A aR","Плавкая вставка для защиты полупроводников","Un AC 1000 V / DC 600 V, aR - характеристика для защиты полупроводников только против короткого замыкания, для винты M10, без Cd/Pb","3 / -",0.55000000000000004,1.1850000000000001,56.94,{"$f":"VLOOKUP(B4244,#REF!,3,FALSE)","v":{"$error":"#REF!"}}]
["Varius","Varius Fuse","LP7","OEZ:11245","P40U10 350A aR","Плавкая вставка для защиты полупроводников","Un AC 1000 V / DC 600 V, aR - характеристика для защиты полупроводников только против короткого замыкания, для винты M10, без Cd/Pb","3 / -",0.55000000000000004,1.1850000000000001,59.489999999999995,{"$f":"VLOOKUP(B4245,#REF!,3,FALSE)","v":{"$error":"#REF!"}}]
["Varius","Varius Fuse","LP7","OEZ:06561","P40U10 400A aR","Плавкая вставка для защиты полупроводников","Un AC 1000 V / DC 600 V, aR - характеристика для защиты полупроводников только против короткого замыкания, для винты M10, без Cd/Pb","3 / -",0.55000000000000004,1.1850000000000001,63.489999999999995,{"$f":"VLOOKUP(B4246,#REF!,3,FALSE)","v":{"$error":"#REF!"}}]
["Varius","Varius Fuse","LP7","OEZ:11835","P40U10S 32A gR","Плавкая вставка для защиты полупроводников","Un AC 1000 V / DC 600 V, gR - характеристика для защиты полупроводников, для винты M10, без Cd/Pb","3 / -",0.55000000000000004,1.1850000000000001,42.66,{"$f":"VLOOKUP(B4247,#REF!,3,FALSE)","v":{"$error":"#REF!"}}]
["Varius","Varius Fuse","LP7","OEZ:11834","P40U10S 40A gR","Плавкая вставка для защиты полупроводников","Un AC 1000 V / DC 600 V, gR - характеристика для защиты полупроводников, для винты M10, без Cd/Pb","3 / -",0.55000000000000004,1.1850000000000001,42.66,{"$f":"VLOOKUP(B4248,#REF!,3,FALSE)","v":{"$error":"#REF!"}}]
["Varius","Varius Fuse","LP7","OEZ:11833","P40U10S 50A gR","Плавкая вставка для защиты полупроводников","Un AC 1000 V / DC 600 V, gR - характеристика для защиты полупроводников, для винты M10, без Cd/Pb","3 / -",0.55000000000000004,1.1850000000000001,42.949999999999996,{"$f":"VLOOKUP(B4249,#REF!,3,FALSE)","v":{"$error":"#REF!"}}]
["Varius","Varius Fuse","LP7","OEZ:11832","P40U10S 63A gR","Плавкая вставка для защиты полупроводников","Un AC 1000 V / DC 600 V, gR - характеристика для защиты полупроводников, для винты M10, без Cd/Pb","3 / -",0.55000000000000004,1.1850000000000001,43.309999999999995,{"$f":"VLOOKUP(B4250,#REF!,3,FALSE)","v":{"$error":"#REF!"}}]
["Varius","Varius Fuse","LP7","OEZ:06549","P40U10S 80A aR","Плавкая вставка для защиты полупроводников","Un AC 1000 V / DC 600 V, aR - характеристика для защиты полупроводников только против короткого замыкания, для винты M10, без Cd/Pb","3 / -",0.55000000000000004,1.1850000000000001,45.18,{"$f":"VLOOKUP(B4251,#REF!,3,FALSE)","v":{"$error":"#REF!"}}]
["Varius","Varius Fuse","LP7","OEZ:06550","P40U10S 100A aR","Плавкая вставка для защиты полупроводников","Un AC 1000 V / DC 600 V, aR - характеристика для защиты полупроводников только против короткого замыкания, для винты M10, без Cd/Pb","3 / -",0.55000000000000004,1.1850000000000001,48.85,{"$f":"VLOOKUP(B4252,#REF!,3,FALSE)","v":{"$error":"#REF!"}}]
["Varius","Varius Fuse","LP7","OEZ:06552","P40U10S 125A aR","Плавкая вставка для защиты полупроводников","Un AC 1000 V / DC 600 V, aR - характеристика для защиты полупроводников только против короткого замыкания, для винты M10, без Cd/Pb","3 / -",0.55000000000000004,1.1850000000000001,51.64,{"$f":"VLOOKUP(B4253,#REF!,3,FALSE)","v":{"$error":"#REF!"}}]
["Varius","Varius Fuse","LP7","OEZ:06554","P40U10S 160A aR","Плавкая вставка для защиты полупроводников","Un AC 1000 V / DC 600 V, aR - характеристика для защиты полупроводников только против короткого замыкания, для винты M10, без Cd/Pb","3 / -",0.55000000000000004,1.1850000000000001,53.51,{"$f":"VLOOKUP(B4254,#REF!,3,FALSE)","v":{"$error":"#REF!"}}]
["Varius","Varius Fuse","LP7","OEZ:06556","P40U10S 200A aR","Плавкая вставка для защиты полупроводников","Un AC 1000 V / DC 600 V, aR - характеристика для защиты полупроводников только против короткого замыкания, для винты M10, без Cd/Pb","3 / -",0.55000000000000004,1.1850000000000001,55.55,{"$f":"VLOOKUP(B4255,#REF!,3,FALSE)","v":{"$error":"#REF!"}}]
["Varius","Varius Fuse","LP7","OEZ:06558","P40U10S 250A aR","Плавкая вставка для защиты полупроводников","Un AC 1000 V / DC 600 V, aR - характеристика для защиты полупроводников только против короткого замыкания, для винты M10, без Cd/Pb","3 / -",0.55000000000000004,1.1850000000000001,59.14,{"$f":"VLOOKUP(B4256,#REF!,3,FALSE)","v":{"$error":"#REF!"}}]
["Varius","Varius Fuse","LP7","OEZ:06560","P40U10S 315A aR","Плавкая вставка для защиты полупроводников","Un AC 1000 V / DC 600 V, aR - характеристика для защиты полупроводников только против короткого замыкания, для винты M10, без Cd/Pb","3 / -",0.55000000000000004,1.1850000000000001,67.67,{"$f":"VLOOKUP(B4257,#REF!,3,FALSE)","v":{"$error":"#REF!"}}]
["Varius","Varius Fuse","LP7","OEZ:13749","P40U10S 350A aR","Плавкая вставка для защиты полупроводников","Un AC 1000 V / DC 600 V, aR - характеристика для защиты полупроводников только против короткого замыкания, для винты M10, без Cd/Pb","3 / -",0.55000000000000004,1.1850000000000001,70.160000000000011,{"$f":"VLOOKUP(B4258,#REF!,3,FALSE)","v":{"$error":"#REF!"}}]
["Varius","Varius Fuse","LP7","OEZ:06562","P40U10S 400A aR","Плавкая вставка для защиты полупроводников","Un AC 1000 V / DC 600 V, aR - характеристика для защиты полупроводников только против короткого замыкания, для винты M10, без Cd/Pb","3 / -",0.55000000000000004,1.1850000000000001,75.11,{"$f":"VLOOKUP(B4259,#REF!,3,FALSE)","v":{"$error":"#REF!"}}]
[null,null,null,"Level  4","P50U10 - Плавкие вставки для защиты полупроводников до AC 1 000 V (с резьбовыми соединениями)"]
["Varius","Varius Fuse","LP7","OEZ:08677","P50U10 400A aR","Плавкая вставка для защиты полупроводников","Un AC 1000 V / DC 600 V, aR - характеристика для защиты полупроводников только против короткого замыкания, для винтов M10, без Cd/Pb","3 / -",0.55000000000000004,1.177,78.850000000000009,{"$f":"VLOOKUP(B4261,#REF!,3,FALSE)","v":{"$error":"#REF!"}}]
["Varius","Varius Fuse","LP7","OEZ:08657","P50U10 450A aR","Плавкая вставка для защиты полупроводников","Un AC 1000 V / DC 600 V, aR - характеристика для защиты полупроводников только против короткого замыкания, для винтов M10, без Cd/Pb","3 / -",0.55000000000000004,1.177,78.850000000000009,{"$f":"VLOOKUP(B4262,#REF!,3,FALSE)","v":{"$error":"#REF!"}}]
["Varius","Varius Fuse","LP7","OEZ:08654","P50U10 500A aR","Плавкая вставка для защиты полупроводников","Un AC 1000 V / DC 600 V, aR - характеристика для защиты полупроводников только против короткого замыкания, для винтов M10, без Cd/Pb","3 / -",0.55000000000000004,1.177,78.850000000000009,{"$f":"VLOOKUP(B4263,#REF!,3,FALSE)","v":{"$error":"#REF!"}}]
["Varius","Varius Fuse","LP7","OEZ:08655","P50U10 550A aR","Плавкая вставка для защиты полупроводников","Un AC 1000 V / DC 600 V, aR - характеристика для защиты полупроводников только против короткого замыкания, для винтов M10, без Cd/Pb","3 / -",0.55000000000000004,1.177,81.690000000000012,{"$f":"VLOOKUP(B4264,#REF!,3,FALSE)","v":{"$error":"#REF!"}}]
["Varius","Varius Fuse","LP7","OEZ:08656","P50U10 630A aR","Плавкая вставка для защиты полупроводников","Un AC 1000 V / DC 600 V, aR - характеристика для защиты полупроводников только против короткого замыкания, для винтов M10, без Cd/Pb","3 / -",0.55000000000000004,1.177,90.440000000000012,{"$f":"VLOOKUP(B4265,#REF!,3,FALSE)","v":{"$error":"#REF!"}}]
["Varius","Varius Fuse","LP7","OEZ:20519","P50U10S 400A aR","Плавкая вставка для защиты полупроводников","Un AC 1000 V / DC 600 V, aR - характеристика для защиты полупроводников только против короткого замыкания, для винтов M10, без Cd/Pb","3 / -",0.55000000000000004,1.177,88.240000000000009,{"$f":"VLOOKUP(B4266,#REF!,3,FALSE)","v":{"$error":"#REF!"}}]
["Varius","Varius Fuse","LP7","OEZ:08680","P50U10S 450A aR","Плавкая вставка для защиты полупроводников","Un AC 1000 V / DC 600 V, aR - характеристика для защиты полупроводников только против короткого замыкания, для винтов M10, без Cd/Pb","3 / -",0.55000000000000004,1.177,88.240000000000009,{"$f":"VLOOKUP(B4267,#REF!,3,FALSE)","v":{"$error":"#REF!"}}]
["Varius","Varius Fuse","LP7","OEZ:08681","P50U10S 500A aR","Плавкая вставка для защиты полупроводников","Un AC 1000 V / DC 600 V, aR - характеристика для защиты полупроводников только против короткого замыкания, для винтов M10, без Cd/Pb","3 / -",0.55000000000000004,1.177,88.240000000000009,{"$f":"VLOOKUP(B4268,#REF!,3,FALSE)","v":{"$error":"#REF!"}}]
["Varius","Varius Fuse","LP7","OEZ:17515","P50U10S 550A aR","Плавкая вставка для защиты полупроводников","Un AC 1000 V / DC 600 V, aR - характеристика для защиты полупроводников только против короткого замыкания, для винтов M10, без Cd/Pb","3 / -",0.55000000000000004,1.177,92.27000000000001,{"$f":"VLOOKUP(B4269,#REF!,3,FALSE)","v":{"$error":"#REF!"}}]
["Varius","Varius Fuse","LP7","OEZ:08571","P50U10S 630A aR","Плавкая вставка для защиты полупроводников","Un AC 1000 V / DC 600 V, aR - характеристика для защиты полупроводников только против короткого замыкания, для винтов M10, без Cd/Pb","3 / -",0.55000000000000004,1.177,103.27000000000001,{"$f":"VLOOKUP(B4270,#REF!,3,FALSE)","v":{"$error":"#REF!"}}]
[null,null,null,"Level  4","P50V10 - Плавкие вставки для защиты полупроводников до AC 1 000 V (с резьбовыми соединениями)"]
["Varius","Varius Fuse","LP7","OEZ:08682","P50V10 700A aR","Плавкая вставка для защиты полупроводников","Un AC 1000 V / DC 600 V, aR - характеристика для защиты полупроводников только против короткого замыкания, для винтов M10, без Cd/Pb","3 / -",0.73,1.177,120.64,{"$f":"VLOOKUP(B4272,#REF!,3,FALSE)","v":{"$error":"#REF!"}}]
["Varius","Varius Fuse","LP7","OEZ:08683","P50V10S 700A aR","Плавкая вставка для защиты полупроводников","Un AC 1000 V / DC 600 V, aR - характеристика для защиты полупроводников только против короткого замыкания, для винтов M10, без Cd/Pb","3 / -",0.73,1.177,130.12,{"$f":"VLOOKUP(B4273,#REF!,3,FALSE)","v":{"$error":"#REF!"}}]
[null,null,null,"Level  4","P50V16 - Плавкие вставки для защиты полупроводников до AC 1 800 V (с резьбовыми соединениями)"]
["Varius","Varius Fuse","LP7","OEZ:10522","P50V16 40A gR","Плавкая вставка для защиты полупроводников","Un AC 1500 V / DC 1100 V, gR - характеристика для защиты полупроводников, для винтов M10, без Cd/Pb","1 / -",1.25,0.81499999999999995,76.95,{"$f":"VLOOKUP(B4275,#REF!,3,FALSE)","v":{"$error":"#REF!"}}]
["Varius","Varius Fuse","LP7","OEZ:15570","P50V16 50A gR","Плавкая вставка для защиты полупроводников","Un AC 1500 V / DC 1100 V, gR - характеристика для защиты полупроводников, для винтов M10, без Cd/Pb","1 / -",1.25,0.81499999999999995,77.45,{"$f":"VLOOKUP(B4276,#REF!,3,FALSE)","v":{"$error":"#REF!"}}]
["Varius","Varius Fuse","LP7","OEZ:15571","P50V16 63A gR","Плавкая вставка для защиты полупроводников","Un AC 1500 V / DC 1100 V, gR - характеристика для защиты полупроводников, для винтов M10, без Cd/Pb","1 / -",1.25,0.81499999999999995,79.5,{"$f":"VLOOKUP(B4277,#REF!,3,FALSE)","v":{"$error":"#REF!"}}]
["Varius","Varius Fuse","LP7","OEZ:15572","P50V16 80A aR","Плавкая вставка для защиты полупроводников","Un AC 1500 V / DC 1100 V, aR - характеристика для защиты полупроводников только против короткого замыкания, для винтов M10, без Cd/Pb","1 / -",1.25,0.81499999999999995,79.800000000000011,{"$f":"VLOOKUP(B4278,#REF!,3,FALSE)","v":{"$error":"#REF!"}}]
["Varius","Varius Fuse","LP7","OEZ:14900","P50V16 100A aR","Плавкая вставка для защиты полупроводников","Un AC 1500 V / DC 1100 V, aR - характеристика для защиты полупроводников только против короткого замыкания, для винтов M10, без Cd/Pb","1 / -",1.25,0.81499999999999995,81.63000000000001,{"$f":"VLOOKUP(B4279,#REF!,3,FALSE)","v":{"$error":"#REF!"}}]
["Varius","Varius Fuse","LP7","OEZ:10523","P50V16 125A aR","Плавкая вставка для защиты полупроводников","Un AC 1500 V / DC 1100 V, aR - характеристика для защиты полупроводников только против короткого замыкания, для винтов M10, без Cd/Pb","1 / -",1.25,0.81499999999999995,84.27000000000001,{"$f":"VLOOKUP(B4280,#REF!,3,FALSE)","v":{"$error":"#REF!"}}]
["Varius","Varius Fuse","LP7","OEZ:10459","P50V16 160A aR","Плавкая вставка для защиты полупроводников","Un AC 1500 V / DC 1100 V, aR - характеристика для защиты полупроводников только против короткого замыкания, для винтов M10, без Cd/Pb","1 / -",1.25,0.81499999999999995,89.550000000000011,{"$f":"VLOOKUP(B4281,#REF!,3,FALSE)","v":{"$error":"#REF!"}}]
["Varius","Varius Fuse","LP7","OEZ:10524","P50V16 200A aR","Плавкая вставка для защиты полупроводников","Un AC 1500 V / DC 1100 V, aR - характеристика для защиты полупроводников только против короткого замыкания, для винтов M10, без Cd/Pb","1 / -",1.25,0.81499999999999995,98.53,{"$f":"VLOOKUP(B4282,#REF!,3,FALSE)","v":{"$error":"#REF!"}}]
["Varius","Varius Fuse","LP7","OEZ:10525","P50V16 250A aR","Плавкая вставка для защиты полупроводников","Un AC 1500 V / DC 1100 V, aR - характеристика для защиты полупроводников только против короткого замыкания, для винтов M10, без Cd/Pb","1 / -",1.25,0.81499999999999995,111.60000000000001,{"$f":"VLOOKUP(B4283,#REF!,3,FALSE)","v":{"$error":"#REF!"}}]
["Varius","Varius Fuse","LP7","OEZ:11285","P50V16 315A aR","Плавкая вставка для защиты полупроводников","Un AC 1500 V / DC 1100 V, aR - характеристика для защиты полупроводников только против короткого замыкания, для винтов M10, без Cd/Pb","1 / -",1.25,0.81499999999999995,124.46000000000001,{"$f":"VLOOKUP(B4284,#REF!,3,FALSE)","v":{"$error":"#REF!"}}]
["Varius","Varius Fuse","LP7","OEZ:11866","P50V16 400A aR","Плавкая вставка для защиты полупроводников","Un AC 1500 V / DC 1000 V, aR - характеристика для защиты полупроводников только против короткого замыкания, для винтов M10, без Cd/Pb","1 / -",1.25,0.81499999999999995,147.94,{"$f":"VLOOKUP(B4285,#REF!,3,FALSE)","v":{"$error":"#REF!"}}]
["Varius","Varius Fuse","LP7","OEZ:11817","P50V16 500A aR","Плавкая вставка для защиты полупроводников","Un AC 1500 V / DC 1000 V, aR - характеристика для защиты полупроводников только против короткого замыкания, для винтов M10, без Cd/Pb","1 / -",1.25,0.81499999999999995,177.31,{"$f":"VLOOKUP(B4286,#REF!,3,FALSE)","v":{"$error":"#REF!"}}]
["Varius","Varius Fuse","LP7","OEZ:08415","P50V16 630A aR","Плавкая вставка для защиты полупроводников","Un AC 1500 V / DC 1000 V, aR - характеристика для защиты полупроводников только против короткого замыкания, для винтов M10, без Cd/Pb","1 / -",1.25,0.81499999999999995,179.59,{"$f":"VLOOKUP(B4287,#REF!,3,FALSE)","v":{"$error":"#REF!"}}]
["Varius","Varius Fuse","LP7","OEZ:10468","P50V16MP 630A aR","Плавкая вставка для защиты полупроводников","Un AC 1500 V / DC 1000 V, aR - характеристика для защиты полупроводников только против короткого замыкания, для винтов M10, без Cd/Pb","1 / -",1.25,0.94199999999999995,206.17999999999998,{"$f":"VLOOKUP(B4288,#REF!,3,FALSE)","v":{"$error":"#REF!"}}]
["Varius","Varius Fuse","LP7","OEZ:17734","P50V16S 40A gR","Плавкая вставка для защиты полупроводников","Un AC 1500 V / DC 1100 V, gR - характеристика для защиты полупроводников, для винтов M10, без Cd/Pb","1 / -",1.26,0.97499999999999998,161.81,{"$f":"VLOOKUP(B4289,#REF!,3,FALSE)","v":{"$error":"#REF!"}}]
["Varius","Varius Fuse","LP7","OEZ:34285","P50V16S 63A gR","Плавкая вставка для защиты полупроводников","Un AC 1500 V / DC 1100 V, gR - характеристика для защиты полупроводников, для винтов M10, без Cd/Pb","1 / -",1.26,0.97499999999999998,163.26,{"$f":"VLOOKUP(B4290,#REF!,3,FALSE)","v":{"$error":"#REF!"}}]
["Varius","Varius Fuse","LP7","OEZ:13744","P50V16S 100A aR","Плавкая вставка для защиты полупроводников","Un AC 1500 V / DC 1100 V, aR - характеристика для защиты полупроводников только против короткого замыкания, для винтов M10, без Cd/Pb","1 / -",1.26,0.97499999999999998,169.98999999999998,{"$f":"VLOOKUP(B4291,#REF!,3,FALSE)","v":{"$error":"#REF!"}}]
["Varius","Varius Fuse","LP7","OEZ:10515","P50V16S 125A aR","Плавкая вставка для защиты полупроводников","Un AC 1500 V / DC 1100 V, aR - характеристика для защиты полупроводников только против короткого замыкания, для винтов M10, без Cd/Pb","1 / -",1.26,0.97499999999999998,174.64,{"$f":"VLOOKUP(B4292,#REF!,3,FALSE)","v":{"$error":"#REF!"}}]
["Varius","Varius Fuse","LP7","OEZ:10460","P50V16S 160A aR","Плавкая вставка для защиты полупроводников","Un AC 1500 V / DC 1100 V, aR - характеристика для защиты полупроводников только против короткого замыкания, для винтов M10, без Cd/Pb","1 / -",1.26,0.97499999999999998,183.17999999999998,{"$f":"VLOOKUP(B4293,#REF!,3,FALSE)","v":{"$error":"#REF!"}}]
["Varius","Varius Fuse","LP7","OEZ:10514","P50V16S 200A aR","Плавкая вставка для защиты полупроводников","Un AC 1500 V / DC 1100 V, aR - характеристика для защиты полупроводников только против короткого замыкания, для винтов M10, без Cd/Pb","1 / -",1.26,0.97499999999999998,196.16,{"$f":"VLOOKUP(B4294,#REF!,3,FALSE)","v":{"$error":"#REF!"}}]
["Varius","Varius Fuse","LP7","OEZ:10477","P50V16S 250A aR","Плавкая вставка для защиты полупроводников","Un AC 1500 V / DC 1100 V, aR - характеристика для защиты полупроводников только против короткого замыкания, для винтов M10, без Cd/Pb","1 / -",1.26,0.97499999999999998,210.29999999999998,{"$f":"VLOOKUP(B4295,#REF!,3,FALSE)","v":{"$error":"#REF!"}}]
["Varius","Varius Fuse","LP7","OEZ:13625","P50V16S 315A aR","Плавкая вставка для защиты полупроводников","Un AC 1500 V / DC 1100 V, aR - характеристика для защиты полупроводников только против короткого замыкания, для винтов M10, без Cd/Pb","1 / -",1.26,0.97499999999999998,217.03,{"$f":"VLOOKUP(B4296,#REF!,3,FALSE)","v":{"$error":"#REF!"}}]
["Varius","Varius Fuse","LP7","OEZ:14907","P50V16S 400A aR","Плавкая вставка для защиты полупроводников","Un AC 1500 V / DC 1000 V, aR - характеристика для защиты полупроводников только против короткого замыкания, для винтов M10, без Cd/Pb","1 / -",1.26,0.97499999999999998,233.54,{"$f":"VLOOKUP(B4297,#REF!,3,FALSE)","v":{"$error":"#REF!"}}]
["Varius","Varius Fuse","LP7","OEZ:13700","P50V16S 500A aR","Плавкая вставка для защиты полупроводников","Un AC 1500 V / DC 1000 V, aR - характеристика для защиты полупроводников только против короткого замыкания, для винтов M10, без Cd/Pb","1 / -",1.26,0.97499999999999998,234.92999999999998,{"$f":"VLOOKUP(B4298,#REF!,3,FALSE)","v":{"$error":"#REF!"}}]
["Varius","Varius Fuse","LP7","OEZ:13701","P50V16S 630A aR","Плавкая вставка для защиты полупроводников","Un AC 1500 V / DC 1000 V, aR - характеристика для защиты полупроводников только против короткого замыкания, для винтов M10, без Cd/Pb","1 / -",1.26,0.97499999999999998,236.41,{"$f":"VLOOKUP(B4299,#REF!,3,FALSE)","v":{"$error":"#REF!"}}]
[null,null,null,"Level  4","P50V30 - Плавкие вставки для защиты полупроводников до DC 3 000 V (с резьбовыми соединениями)"]
["Varius","Varius Fuse","LP7","OEZ:11295","P50V30 315A aR","Плавкая вставка для защиты полупроводников","Un DC 3000 V, aR - характеристика для защиты полупроводников только против короткого замыкания, транспортные аппликации, без Cd/Pb","1 / -",2.65,1.6439999999999999,355.36,{"$f":"VLOOKUP(B4301,#REF!,3,FALSE)","v":{"$error":"#REF!"}}]
[null,null,null,"Level  4","OD-P50 - Принадлежности"]
[null,null,null,"Level  5","S4, VL50 - Дистанционные сигнализации состояния предохранителей"]
["Varius","Varius Fuse","LP7","OEZ:06522","S41","Сигнализационное оборудование","Un AC 690 V, длина 61,5 mm, для P50U06, P52U06","1 / -",6.0000000000000001E-3,7.0000000000000001E-3,7.39,{"$f":"VLOOKUP(B4304,#REF!,3,FALSE)","v":{"$error":"#REF!"}}]
["Varius","Varius Fuse","LP7","OEZ:06578","S42","Сигнализационное оборудование","Un AC 1000 V, длина 93 mm, для P40U10, P50U10, P50V10","1 / -",8.0000000000000002E-3,1.0999999999999999E-2,7.62,{"$f":"VLOOKUP(B4305,#REF!,3,FALSE)","v":{"$error":"#REF!"}}]
["Varius","Varius Fuse","LP7","OEZ:10450","S43","Сигнализационное оборудование","Un AC 1800 V, длина 150,5 mm, для P50V16","1 / -",1.0999999999999999E-2,1.2E-2,8.75,{"$f":"VLOOKUP(B4306,#REF!,3,FALSE)","v":{"$error":"#REF!"}}]
["Varius","Varius Fuse","LP7","OEZ:11890","S-P50U06","Дистанционная сигнализация","перекидной контакт для P50U06 и P52U06","1 / -",5.0000000000000001E-3,0.01,8.39,{"$f":"VLOOKUP(B4307,#REF!,3,FALSE)","v":{"$error":"#REF!"}}]
["Varius","Varius Fuse","LP7","OEZ:06526","586523Z00","Держатель","для S41, S42 и S43","1 / -",3.0000000000000001E-3,1E-3,1.25,{"$f":"VLOOKUP(B4308,#REF!,3,FALSE)","v":{"$error":"#REF!"}}]
["Varius","Varius Fuse","LP7","OEZ:06527","586506Z00","Держатель","для S41, S42 и S43","1 / -",1E-3,2E-3,1.04,{"$f":"VLOOKUP(B4309,#REF!,3,FALSE)","v":{"$error":"#REF!"}}]
["Varius","Varius Fuse","LP7","OEZ:18620","VL41F","Сигнальный контакт","для дистанционной сигнализации состояния предохранителей","1 / -",0.02,6.7000000000000004E-2,10.02,{"$f":"VLOOKUP(B4310,#REF!,3,FALSE)","v":{"$error":"#REF!"}}]
[null,null,null,"Level  5","CS-P5 - Переходные зажимы"]
["Varius","Varius Fuse","LP7","OEZ:06535","CS-P5-1","Переходный зажим","для замены предохранителей P2. и P3. предохранителями P50., P40.","1 / -",2.5999999999999999E-2,1.2E-2,2.9099999999999997,{"$f":"VLOOKUP(B4312,#REF!,3,FALSE)","v":{"$error":"#REF!"}}]
["Varius","Varius Fuse","LP7","OEZ:06536","CS-P5-2","Переходный зажим","для замены предохранителей P2. и P3. предохранителями P50., P40.","1 / -",4.8000000000000001E-2,1.2E-2,3.1199999999999997,{"$f":"VLOOKUP(B4313,#REF!,3,FALSE)","v":{"$error":"#REF!"}}]
["Varius","Varius Fuse","LP7","OEZ:06537","CS-P5-3","Переходный зажим","для замены предохранителей P2. и P3. предохранителями P50., P40.","1 / -",0.04,1.7000000000000001E-2,3.1199999999999997,{"$f":"VLOOKUP(B4314,#REF!,3,FALSE)","v":{"$error":"#REF!"}}]
["Varius","Varius Fuse","LP7","OEZ:06539","CS-P5-4","Переходный зажим","для замены предохранителей P2. и P3. предохранителями P50., P40.","1 / -",2.5999999999999999E-2,3.3000000000000002E-2,2.8499999999999996,{"$f":"VLOOKUP(B4315,#REF!,3,FALSE)","v":{"$error":"#REF!"}}]
["Varius","Varius Fuse","LP7","OEZ:06540","CS-P5-5","Переходный зажим","для замены предохранителей P2. и P3. предохранителями P50., P40.","1 / -",4.8000000000000001E-2,3.3000000000000002E-2,3.3499999999999996,{"$f":"VLOOKUP(B4316,#REF!,3,FALSE)","v":{"$error":"#REF!"}}]
["Varius","Varius Fuse","LP7","OEZ:06541","CS-P5-6","Переходный зажим","для замены предохранителей P2. и P3. предохранителями P50., P40.","1 / -",0.06,3.3000000000000002E-2,3.32,{"$f":"VLOOKUP(B4317,#REF!,3,FALSE)","v":{"$error":"#REF!"}}]
["Varius","Varius Fuse","LP7","OEZ:06542","CS-P5-7","Переходный зажим","для замены предохранителей P2. и P3. предохранителями P50., P40.","1 / -",3.5999999999999997E-2,4.3999999999999997E-2,3.2399999999999998,{"$f":"VLOOKUP(B4318,#REF!,3,FALSE)","v":{"$error":"#REF!"}}]
["Varius","Varius Fuse","LP7","OEZ:06543","CS-P5-8","Переходный зажим","для замены предохранителей P2. и P3. предохранителями P50., P40.","1 / -",0.06,4.3999999999999997E-2,5.99,{"$f":"VLOOKUP(B4319,#REF!,3,FALSE)","v":{"$error":"#REF!"}}]
["Varius","Varius Fuse","LP7","OEZ:06544","CS-P5-9","Переходный зажим","для замены предохранителей P2. и P3. предохранителями P50., P40.","1 / -",0.03,3.7999999999999999E-2,5.3999999999999995,{"$f":"VLOOKUP(B4320,#REF!,3,FALSE)","v":{"$error":"#REF!"}}]
["Varius","Varius Fuse","LP7","OEZ:06545","CS-P5-10","Переходный зажим","для замены предохранителей P2. и P3. предохранителями P50., P40.","1 / -",0.08,3.7999999999999999E-2,6.08,{"$f":"VLOOKUP(B4321,#REF!,3,FALSE)","v":{"$error":"#REF!"}}]
["Varius","Varius Fuse","LP7","OEZ:06546","CS-P5-11","Переходный зажим","для замены предохранителей P2. и P3. предохранителями P50., P40.","1 / -",4.5999999999999999E-2,3.7999999999999999E-2,5.49,{"$f":"VLOOKUP(B4322,#REF!,3,FALSE)","v":{"$error":"#REF!"}}]
["Varius","Varius Fuse","LP7","OEZ:06547","CS-P5-12","Переходный зажим","для замены предохранителей P2. и P3. предохранителями P50., P40.","1 / -",0.06,3.7999999999999999E-2,6.26,{"$f":"VLOOKUP(B4323,#REF!,3,FALSE)","v":{"$error":"#REF!"}}]
["Varius","Varius Fuse","LP7","OEZ:06538","CS-P5-13","Переходный зажим","для замены предохранителей P2. и P3. предохранителями P50., P40.","1 / -",5.8000000000000003E-2,2.1999999999999999E-2,3.4699999999999998,{"$f":"VLOOKUP(B4324,#REF!,3,FALSE)","v":{"$error":"#REF!"}}]
["Varius","Varius Fuse","LP7","OEZ:11838","CS-P5-14","Переходный зажим","для замены предохранителей P2. и P3. предохранителями P50., P40.","1 / -",4.5999999999999999E-2,2.1999999999999999E-2,3.3499999999999996,{"$f":"VLOOKUP(B4325,#REF!,3,FALSE)","v":{"$error":"#REF!"}}]
["Varius","Varius Fuse","LP7","OEZ:11839","CS-P5-15","Переходный зажим","для замены предохранителей P2. и P3. предохранителями P50., P40.","1 / -",0.04,1.0999999999999999E-2,4.45,{"$f":"VLOOKUP(B4326,#REF!,3,FALSE)","v":{"$error":"#REF!"}}]
[null,null,null,"Level  2","Основания и держатели предохранителей"]
[null,null,null,"Level  3","SPB, SPF - Основания предохранителей"]
[null,null,null,"Level  4","SPB - Однополюсные основания предохранителей с пластмассовым основанием"]
["Varius","Varius Fuse","LP3","OEZ:11853","SPB00 SS","Основание предохранителя","1-полюс. исполнение, M8 - зажимные винты ввернуты","3 / 30",0.157,0.38300000000000001,5.87,{"$f":"VLOOKUP(B4330,#REF!,3,FALSE)","v":{"$error":"#REF!"}}]
["Varius","Varius Fuse","LP3","OEZ:11855","SPB00 SV","Основание предохранителя","1-полюс. исполнение, комбинация : M8 - зажимный винт и V-вывод","3 / 30",0.157,0.502,5.96,{"$f":"VLOOKUP(B4331,#REF!,3,FALSE)","v":{"$error":"#REF!"}}]
["Varius","Varius Fuse","LP3","OEZ:17231","SPB00 VV","Основание предохранителя","1-полюс. исполнение, зажимы V-выводами ( без зажима )","3 / 30",0.11600000000000001,0.502,6.7,{"$f":"VLOOKUP(B4332,#REF!,3,FALSE)","v":{"$error":"#REF!"}}]
["Varius","Varius Fuse","LP3","OEZ:15805","SPB00 HH","Основание предохранителя","1-полюс. исполнение, комбинация : H-зажим и H-зажим","3 / 30",0.157,0.38300000000000001,5.81,{"$f":"VLOOKUP(B4333,#REF!,3,FALSE)","v":{"$error":"#REF!"}}]
["Varius","Varius Fuse","LP3","OEZ:10462","SPB1 SS","Основание предохранителя","1-полюс. исполнение, M10 - зажимные винты ввернуты","3 / 15",0.36,1.3080000000000001,13.14,{"$f":"VLOOKUP(B4334,#REF!,3,FALSE)","v":{"$error":"#REF!"}}]
["Varius","Varius Fuse","LP3","OEZ:10463","SPB1 SW","Основание предохранителя","1-полюс. исполнение, комбинация : M10 - зажимный винт и V-вывод","3 / 15",0.36,1.3080000000000001,13.73,{"$f":"VLOOKUP(B4335,#REF!,3,FALSE)","v":{"$error":"#REF!"}}]
["Varius","Varius Fuse","LP3","OEZ:09409","SPB1 WW","Основание предохранителя","1-полюс. исполнение, зажимы V-выводами ( без зажима )","3 / 15",0.36,1.3080000000000001,13.73,{"$f":"VLOOKUP(B4336,#REF!,3,FALSE)","v":{"$error":"#REF!"}}]
["Varius","Varius Fuse","LP3","OEZ:10464","SPB2 SS","Основание предохранителя","1-полюс. исполнение, M10 - зажимные винты ввернуты","3 / 15",0.42,1.597,16.48,{"$f":"VLOOKUP(B4337,#REF!,3,FALSE)","v":{"$error":"#REF!"}}]
["Varius","Varius Fuse","LP3","OEZ:10465","SPB2 SW","Основание предохранителя","1-полюс. исполнение, комбинация : M10 - зажимный винт и V-вывод","3 / 15",0.42,1.597,16.130000000000003,{"$f":"VLOOKUP(B4338,#REF!,3,FALSE)","v":{"$error":"#REF!"}}]
["Varius","Varius Fuse","LP3","OEZ:09412","SPB2 WW","Основание предохранителя","1-полюс. исполнение, зажимы V-выводами ( без зажима )","3 / 15",0.42,1.597,15.45,{"$f":"VLOOKUP(B4339,#REF!,3,FALSE)","v":{"$error":"#REF!"}}]
[null,null,null,"Level  4","S3PB - Трехполюсные основания предохранителей с пластмассовым основанием"]
["Varius","Varius Fuse","LP3","OEZ:11859","S3PB00 SS","Основание предохранителя","3-полюсное исполнение, M8 - зажимные винты ввернуты","1 / 10",0.5,1.7290000000000001,22.92,{"$f":"VLOOKUP(B4341,#REF!,3,FALSE)","v":{"$error":"#REF!"}}]
["Varius","Varius Fuse","LP3","OEZ:11862","S3PB00 SV","Основание предохранителя","3-полюсное исполнение, комбинация : M8 - зажимный винт и V-вывод","1 / -",0.5,1.901,26.09,{"$f":"VLOOKUP(B4342,#REF!,3,FALSE)","v":{"$error":"#REF!"}}]
["Varius","Varius Fuse","LP3","OEZ:11861","S3PB00 VV","Основание предохранителя","3-полюсное исполнение, зажимы V-выводами ( без зажима )","1 / -",0.5,1.901,26.770000000000003,{"$f":"VLOOKUP(B4343,#REF!,3,FALSE)","v":{"$error":"#REF!"}}]
["Varius","Varius Fuse","LP3","OEZ:15803","S3PB00 HH","Основание предохранителя","3-полюсное исполнение, комбинация : H-зажим и H-зажим","1 / 10",0.56999999999999995,1.7290000000000001,26.09,{"$f":"VLOOKUP(B4344,#REF!,3,FALSE)","v":{"$error":"#REF!"}}]
["Varius","Varius Fuse","LP3","OEZ:07358","S3PB1 SS","Основание предохранителя","3-полюсное исполнение, M10 - зажимные винты ввернуты","1 / 10",1.2,4.3490000000000002,46.39,{"$f":"VLOOKUP(B4345,#REF!,3,FALSE)","v":{"$error":"#REF!"}}]
["Varius","Varius Fuse","LP3","OEZ:07362","S3PB1 SW","Основание предохранителя","3-полюсное исполнение, комбинация : M10 - зажимный винт и V-вывод","1 / -",1.2,4.3,43.93,{"$f":"VLOOKUP(B4346,#REF!,3,FALSE)","v":{"$error":"#REF!"}}]
["Varius","Varius Fuse","LP3","OEZ:07361","S3PB1 WW","Основание предохранителя","3-полюсное исполнение, зажимы V-выводами ( без зажима )","1 / -",1.2,4.3,43.809999999999995,{"$f":"VLOOKUP(B4347,#REF!,3,FALSE)","v":{"$error":"#REF!"}}]
["Varius","Varius Fuse","LP3","OEZ:07365","S3PB2 SS","Основание предохранителя","3-полюсное исполнение, M10 - зажимные винты ввернуты","1 / -",1.4,6.0579999999999998,58.04,{"$f":"VLOOKUP(B4348,#REF!,3,FALSE)","v":{"$error":"#REF!"}}]
["Varius","Varius Fuse","LP3","OEZ:07369","S3PB2 SW","Основание предохранителя","3-полюсное исполнение, комбинация : M10 - зажимный винт и V-вывод","1 / -",1.4,6.0579999999999998,59.73,{"$f":"VLOOKUP(B4349,#REF!,3,FALSE)","v":{"$error":"#REF!"}}]
["Varius","Varius Fuse","LP3","OEZ:07368","S3PB2 WW","Основание предохранителя","3-полюсное исполнение, зажимы V-выводами ( без зажима )","1 / -",1.4,6.0579999999999998,54.989999999999995,{"$f":"VLOOKUP(B4350,#REF!,3,FALSE)","v":{"$error":"#REF!"}}]
[null,null,null,"Level  4","SPF - Однополюсные основания предохранителей со стальным основанием"]
["Varius","Varius Fuse","LP3","OEZ:11848","SPF00 --","Основание предохранителя","1-полюс. исполнение, зажимы с опрессованными гайками, M8- винты приложены","3 / 30",0.28000000000000003,0.38300000000000001,9.07,{"$f":"VLOOKUP(B4352,#REF!,3,FALSE)","v":{"$error":"#REF!"}}]
["Varius","Varius Fuse","LP3","OEZ:07393","SPF1 SS","Основание предохранителя","1-полюс. исполнение, M10 - зажимные винты ввернуты","3 / 15",0.7,1.3,16.190000000000001,{"$f":"VLOOKUP(B4353,#REF!,3,FALSE)","v":{"$error":"#REF!"}}]
["Varius","Varius Fuse","LP3","OEZ:07401","SPF2 SS","Основание предохранителя","1-полюс. исполнение, M10 - зажимные винты ввернуты","3 / 15",0.72,1.5960000000000001,19,{"$f":"VLOOKUP(B4354,#REF!,3,FALSE)","v":{"$error":"#REF!"}}]
["Varius","Varius Fuse","LP3","OEZ:07408","SPF3 SS","Основание предохранителя","1-полюс. исполнение, M10 - зажимные винты ввернуты","3 / 15",0.87,1.873,22.41,{"$f":"VLOOKUP(B4355,#REF!,3,FALSE)","v":{"$error":"#REF!"}}]
[null,null,null,"Level  4","SP - Специальные основания предохранителей"]
[null,null,null,"Level  4","OD-SP - Принадлежности"]
[null,null,null,"Level  5","CS-SP-3 - Зажимы"]
["Varius","Varius Fuse","LP3","OEZ:07353","CS-SP-3P","P-зажим (комплет 3 шт.)","накладные зажимы для 2×(1-50 mm2) Cu/Al, комплект 3 шт.","1 / -",2.5000000000000001E-2,0.16,5.01,{"$f":"VLOOKUP(B4359,#REF!,3,FALSE)","v":{"$error":"#REF!"}}]
["Varius","Varius Fuse","LP3","OEZ:16862","CS-SP-3H","H-зажим (комплет 3 шт.)","накладные зажимы для 2×(2,5-50 mm2) Cu/Al, комплект 3 шт.","1 / -",0.01,0.161,1.61,{"$f":"VLOOKUP(B4360,#REF!,3,FALSE)","v":{"$error":"#REF!"}}]
[null,null,null,"Level  5","K - Крышки контактов"]
["Varius","Varius Fuse","LP3","OEZ:07892","K00","Крышка контактов","для SPB00, SPF00, S3PB00, комплект 2 шт.","1 / -",1.2E-2,0.624,1.61,{"$f":"VLOOKUP(B4362,#REF!,3,FALSE)","v":{"$error":"#REF!"}}]
["Varius","Varius Fuse","LP3","OEZ:07364","K1","Крышка контактов","для SPB1, SPF1, S3PB1, комплект 2 шт.","1 / -",1.9E-2,1.1879999999999999,3.1199999999999997,{"$f":"VLOOKUP(B4363,#REF!,3,FALSE)","v":{"$error":"#REF!"}}]
["Varius","Varius Fuse","LP3","OEZ:07371","K2","Крышка контактов","для SPB2, SPF2, S3PB2, комплект 2 шт.","1 / -",2.5000000000000001E-2,1.1879999999999999,3.09,{"$f":"VLOOKUP(B4364,#REF!,3,FALSE)","v":{"$error":"#REF!"}}]
[null,null,null,"Level  5","PK-S - Крайние перегородки"]
["Varius","Varius Fuse","LP3","OEZ:10418","PK-SPB00/168","Крайняя перегородка","для SPB00","1 / -",3.4000000000000002E-2,0.29599999999999999,1.01,{"$f":"VLOOKUP(B4366,#REF!,3,FALSE)","v":{"$error":"#REF!"}}]
["Varius","Varius Fuse","LP3","OEZ:09600","PK-S3PB00/168","Крайняя перегородка","для S3PB00","1 / -",3.5000000000000003E-2,3.7999999999999999E-2,2.5799999999999996,{"$f":"VLOOKUP(B4367,#REF!,3,FALSE)","v":{"$error":"#REF!"}}]
["Varius","Varius Fuse","LP3","OEZ:09601","PK-S3PB1/230","Крайняя перегородка","для SPB1, S3PB1","1 / -",5.8999999999999997E-2,0.29199999999999998,5.01,{"$f":"VLOOKUP(B4368,#REF!,3,FALSE)","v":{"$error":"#REF!"}}]
["Varius","Varius Fuse","LP3","OEZ:07370","PK-S3PB2/230","Крайняя перегородка","для SPB2, S3PB2","1 / -",7.0000000000000007E-2,0.29199999999999998,5.37,{"$f":"VLOOKUP(B4369,#REF!,3,FALSE)","v":{"$error":"#REF!"}}]
[null,null,null,"Level  5","48, 58 - V-зажимы и крышки для них"]
["Varius","Varius Fuse","LP3","OEZ:07383","4836 N-S","V-зажим","sm 25-120 mm2, se 25-120 mm2, rm 16-95 mm2, re 16-95 mm2, шестигран","1 / -",4.1000000000000002E-2,2.1999999999999999E-2,3.1199999999999997,{"$f":"VLOOKUP(B4371,#REF!,3,FALSE)","v":{"$error":"#REF!"}}]
["Varius","Varius Fuse","LP3","OEZ:38778","4835","V-зажим","sm 35-95 mm2, se 50-95 mm2, rm 10-50 mm2, re 10-50 mm2, шестигран, с изоляционной крышкой","1 / -",4.4999999999999998E-2,0.17599999999999999,6.38,{"$f":"VLOOKUP(B4372,#REF!,3,FALSE)","v":{"$error":"#REF!"}}]
["Varius","Varius Fuse","LP3","OEZ:20479","5845","V-зажим","sm 35-240 mm2, se 35-300 mm2, rm 16-185 mm2, re 16-240 mm2, шестигран","1 / -",7.9000000000000001E-2,3.7999999999999999E-2,3.1799999999999997,{"$f":"VLOOKUP(B4373,#REF!,3,FALSE)","v":{"$error":"#REF!"}}]
["Varius","Varius Fuse","LP3","OEZ:07382","5836-2x70","V-зажим","sm 2× 25-120 mm2, se 2× 25-120 mm2, rm 2× 16-95 mm2, re 2× 16-95 mm2, шестигран","1 / -",7.8E-2,2.9000000000000001E-2,6.97,{"$f":"VLOOKUP(B4374,#REF!,3,FALSE)","v":{"$error":"#REF!"}}]
["Varius","Varius Fuse","LP3","OEZ:07386","5837-2x240","V-зажим","sm 2× 70-240 mm2, se 2× 95-300 mm2, rm 2× 50-120 mm2, re 2× 70-150 mm2, шестигран","1 / -",0.16700000000000001,6.5000000000000002E-2,8.7799999999999994,{"$f":"VLOOKUP(B4375,#REF!,3,FALSE)","v":{"$error":"#REF!"}}]
["Varius","Varius Fuse","LP3","OEZ:00021","4834SK","Изоляционная крышка хомута","для 5845","1 / -",8.9999999999999993E-3,9.4E-2,1.1300000000000001,{"$f":"VLOOKUP(B4376,#REF!,3,FALSE)","v":{"$error":"#REF!"}}]
[null,null,null,"Level  5","V, W, WD - Переходные зажимы"]
["Varius","Varius Fuse","LP3","OEZ:07387","V8","Переходный зажим","из винта M8 на V-вывод, для 4836 N-S, 5836-2×70","15 / -",0.03,8.9999999999999993E-3,2.38,{"$f":"VLOOKUP(B4378,#REF!,3,FALSE)","v":{"$error":"#REF!"}}]
["Varius","Varius Fuse","LP3","OEZ:13146","V10","Переходный зажим","из винта M10 на V-вывод, для 4836 N-S, 5836-2×70","15 / -",0.03,8.9999999999999993E-3,2.38,{"$f":"VLOOKUP(B4379,#REF!,3,FALSE)","v":{"$error":"#REF!"}}]
["Varius","Varius Fuse","LP3","OEZ:07388","W10","Переходный зажим","из винта M10 на V-вывод, для 5845, 5837-2×240","12 / -",4.2000000000000003E-2,1.0999999999999999E-2,3.1199999999999997,{"$f":"VLOOKUP(B4380,#REF!,3,FALSE)","v":{"$error":"#REF!"}}]
["Varius","Varius Fuse","LP3","OEZ:07389","W12","Переходный зажим","из винта M12 на V-вывод, для 5845, 5837-2×240","12 / -",4.2000000000000003E-2,1.0999999999999999E-2,3.09,{"$f":"VLOOKUP(B4381,#REF!,3,FALSE)","v":{"$error":"#REF!"}}]
["Varius","Varius Fuse","LP3","OEZ:08749","WD8-1","Переходный зажим","из винта 1×M8 на V-вывод 2×240 mm2 (SPF00, SPB00), для 5845, 5837-2×240","12 / -",0.11,3.5000000000000003E-2,6.4399999999999995,{"$f":"VLOOKUP(B4382,#REF!,3,FALSE)","v":{"$error":"#REF!"}}]
["Varius","Varius Fuse","LP3","OEZ:08750","WD10-1","Переходный зажим","из винта 1×M10 на V-вывод 2×240 mm2 (SPF1, SPF2, SPF3, SPB1, SPB2), для 5845, 5837-2×240","12 / -",0.1,3.5000000000000003E-2,6.38,{"$f":"VLOOKUP(B4383,#REF!,3,FALSE)","v":{"$error":"#REF!"}}]
["Varius","Varius Fuse","LP3","OEZ:08751","WD8-2","Переходный зажим","из винта 2×M8 на V-вывод 2×240 mm2 (2×SPF00, 2×SPB00), для 5845, 5837-2×240","12 / -",0.11,3.5000000000000003E-2,6.1099999999999994,{"$f":"VLOOKUP(B4384,#REF!,3,FALSE)","v":{"$error":"#REF!"}}]
["Varius","Varius Fuse","LP3","OEZ:08752","WD10-2","Переходный зажим","из винта 2×M10 на V-вывод 2×240 mm2 (2×SPF1, 2×SPF2, 2×SPB1, 2×SPB2), для 5845, 5837-2×240","12 / -",0.12,3.5000000000000003E-2,6.5299999999999994,{"$f":"VLOOKUP(B4385,#REF!,3,FALSE)","v":{"$error":"#REF!"}}]
["Varius","Varius Fuse","LP3","OEZ:08753","WD8-3","Переходный зажим","из винта 3×M8 на V-вывод 2×240 mm2 (S3PB00, 3×SPF00, 3×SPB00), для 5845, 5837-2×240","6 / -",0.13,4.5999999999999999E-2,7.71,{"$f":"VLOOKUP(B4386,#REF!,3,FALSE)","v":{"$error":"#REF!"}}]
["Varius","Varius Fuse","LP3","OEZ:08754","WD10-3","Переходный зажим","из винта 3×M10 на V-вывод 2×240 mm2 (S3PB1, 3×SPF1, 3×SPF2, 3×SPB1, 3×SPB2), для 5845, 5837-2×240","12 / -",0.16,6.8000000000000005E-2,9.73,{"$f":"VLOOKUP(B4387,#REF!,3,FALSE)","v":{"$error":"#REF!"}}]
[null,null,null,"Level  5","SNB, SNF - Нулевые мостики"]
["Varius","Varius Fuse","LP3","OEZ:07412","SNB00 MM","Нулевой мостик","In 160 A, 1-полюс. исполнение, пластмассовое основание, запрессовочные гайки M8, винты ввернуты","3 / 30",0.14000000000000001,0.39900000000000002,7.1499999999999995,{"$f":"VLOOKUP(B4389,#REF!,3,FALSE)","v":{"$error":"#REF!"}}]
["Varius","Varius Fuse","LP3","OEZ:11868","SNB00 VV","Нулевой мостик","In 160 A, 1-полюс. исполнение, пластмассовое основание, зажимы V-выводами (bez třmenů)","3 / 30",0.14000000000000001,0.52100000000000002,7.5,{"$f":"VLOOKUP(B4390,#REF!,3,FALSE)","v":{"$error":"#REF!"}}]
["Varius","Varius Fuse","LP3","OEZ:15576","SNB00 MV","Нулевой мостик","In 160 A, 1-полюс. исполнение, пластмассовое основание, комбинация : запрессовочная гайка M8 и V-вывод","3 / 30",0.11700000000000001,0.52100000000000002,7.33,{"$f":"VLOOKUP(B4391,#REF!,3,FALSE)","v":{"$error":"#REF!"}}]
["Varius","Varius Fuse","LP3","OEZ:10406","SNF1","Нулевой мостик","In 250 A, 1-полюс. исполнение, стальное основание, без зажимных винтов M10","3 / -",0.57999999999999996,0.65700000000000003,13.43,{"$f":"VLOOKUP(B4392,#REF!,3,FALSE)","v":{"$error":"#REF!"}}]
["Varius","Varius Fuse","LP3","OEZ:10407","SNF2","Нулевой мостик","In 400 A, 1-полюс. исполнение, стальное основание, без зажимных винтов M10","3 / -",0.61,0.73599999999999999,17.37,{"$f":"VLOOKUP(B4393,#REF!,3,FALSE)","v":{"$error":"#REF!"}}]
[null,null,null,"Level  3","SP40, SP50 - Держатели предохранителей"]
[null,null,null,"Level  4","SP40, SP50 - Держатели предохранителей"]
["Varius","Varius Fuse","LP7","OEZ:06529","SP40K06","Держатель предохранителей","для P50K06","3 / -",0.2,0.18,5.0999999999999996,{"$f":"VLOOKUP(B4396,#REF!,3,FALSE)","v":{"$error":"#REF!"}}]
["Varius","Varius Fuse","LP7","OEZ:06530","SP40T06","Держатель предохранителей","для P50N06, P50R06","3 / -",0.35,0.39800000000000002,6.38,{"$f":"VLOOKUP(B4397,#REF!,3,FALSE)","v":{"$error":"#REF!"}}]
["Varius","Varius Fuse","LP7","OEZ:10449","SP41T06","Держатель предохранителей","для P50T06","3 / -",0.39,0.40100000000000002,6.38,{"$f":"VLOOKUP(B4398,#REF!,3,FALSE)","v":{"$error":"#REF!"}}]
["Varius","Varius Fuse","LP7","OEZ:14131","SP50U06","Держатель предохранителей","для P50U06","3 / -",0.52,0.77900000000000003,18.440000000000001,{"$f":"VLOOKUP(B4399,#REF!,3,FALSE)","v":{"$error":"#REF!"}}]
["Varius","Varius Fuse","LP7","OEZ:06532","SP50U10","Держатель предохранителей","для P52U06, P40U10, P50U10","3 / -",0.59,0.99099999999999999,17.55,{"$f":"VLOOKUP(B4400,#REF!,3,FALSE)","v":{"$error":"#REF!"}}]
["Varius","Varius Fuse","LP7","OEZ:06533","SP50V10","Держатель предохранителей","для P50V10","3 / -",0.6,0.99099999999999999,16.96,{"$f":"VLOOKUP(B4401,#REF!,3,FALSE)","v":{"$error":"#REF!"}}]
["Varius","Varius Fuse","LP7","OEZ:10461","SP50X16","Держатель предохранителей","для P50V16","3 / -",0.7,1.5169999999999999,18.12,{"$f":"VLOOKUP(B4402,#REF!,3,FALSE)","v":{"$error":"#REF!"}}]
[null,null,null,"Level  4","CS-P50TUV-2PS... - параллельное присоединение предохранителей"]
["Varius","Varius Fuse","LP7","OEZ:15585","CS-P50TUV-2PS800","Зажим для пары параллельно присоединенных плавких вставок","до 800 A","5 / -",0.16500000000000001,0.2,29.35,{"$f":"VLOOKUP(B4404,#REF!,3,FALSE)","v":{"$error":"#REF!"}}]
["Varius","Varius Fuse","LP7","OEZ:15586","CS-P50TUV-2PS1000","Зажим для пары параллельно присоединенных плавких вставок","до 1000 A","5 / -",0.221,0.2,31.220000000000002,{"$f":"VLOOKUP(B4405,#REF!,3,FALSE)","v":{"$error":"#REF!"}}]
["Varius","Varius Fuse","LP7","OEZ:15587","CS-P50TUV-2PS1250","Зажим для пары параллельно присоединенных плавких вставок","до 1250 A","5 / -",0.27700000000000002,0.21,42.809999999999995,{"$f":"VLOOKUP(B4406,#REF!,3,FALSE)","v":{"$error":"#REF!"}}]
["Varius","Varius Fuse","LP7","OEZ:15588","CS-P50TUV-2PS1600","Зажим для пары параллельно присоединенных плавких вставок","до 1600 A","5 / -",0.33200000000000002,0.21,50.36,{"$f":"VLOOKUP(B4407,#REF!,3,FALSE)","v":{"$error":"#REF!"}}]
[null,null,null,"Level  2","Высоковольтные предохранители"]
[null,null,null,"Level  3","PL45, PM45, PQ45 - Высоковольтные плавкие вставки"]
[null,null,null,"Level  4","PL45 - Высоковольтные плавкие вставки 10/12 kV"]
["Varius","Varius Fuse HV","LP7","OEZ:14807","PL45 6,3A","Высоковольтная плавкая вставка","Un 10/12 kV, I1 63 kA","1 / -",1.7,1.9,68.89,{"$f":"VLOOKUP(B4411,#REF!,3,FALSE)","v":{"$error":"#REF!"}}]
["Varius","Varius Fuse HV","LP7","OEZ:14808","PL45 10A","Высоковольтная плавкая вставка","Un 10/12 kV, I1 63 kA","1 / -",1.7,1.9,58.46,{"$f":"VLOOKUP(B4412,#REF!,3,FALSE)","v":{"$error":"#REF!"}}]
["Varius","Varius Fuse HV","LP7","OEZ:14809","PL45 16A","Высоковольтная плавкая вставка","Un 10/12 kV, I1 63 kA","1 / -",1.7,1.9,60.559999999999995,{"$f":"VLOOKUP(B4413,#REF!,3,FALSE)","v":{"$error":"#REF!"}}]
["Varius","Varius Fuse HV","LP7","OEZ:14810","PL45 20A","Высоковольтная плавкая вставка","Un 10/12 kV, I1 63 kA","1 / -",1.7,1.9,62.72,{"$f":"VLOOKUP(B4414,#REF!,3,FALSE)","v":{"$error":"#REF!"}}]
["Varius","Varius Fuse HV","LP7","OEZ:14811","PL45 25A","Высоковольтная плавкая вставка","Un 10/12 kV, I1 63 kA","1 / -",1.7,1.9,63.35,{"$f":"VLOOKUP(B4415,#REF!,3,FALSE)","v":{"$error":"#REF!"}}]
["Varius","Varius Fuse HV","LP7","OEZ:14812","PL45 31,5A","Высоковольтная плавкая вставка","Un 10/12 kV, I1 63 kA","1 / -",1.7,1.9,65.570000000000007,{"$f":"VLOOKUP(B4416,#REF!,3,FALSE)","v":{"$error":"#REF!"}}]
["Varius","Varius Fuse HV","LP7","OEZ:14813","PL45 40A","Высоковольтная плавкая вставка","Un 10/12 kV, I1 63 kA","1 / -",1.7,1.9,66.61,{"$f":"VLOOKUP(B4417,#REF!,3,FALSE)","v":{"$error":"#REF!"}}]
["Varius","Varius Fuse HV","LP7","OEZ:14814","PL45 50A","Высоковольтная плавкая вставка","Un 10/12 kV, I1 63 kA","1 / -",1.7,1.9,94.56,{"$f":"VLOOKUP(B4418,#REF!,3,FALSE)","v":{"$error":"#REF!"}}]
["Varius","Varius Fuse HV","LP7","OEZ:14815","PL45 63A","Высоковольтная плавкая вставка","Un 10/12 kV, I1 63 kA","1 / -",1.7,1.9,121.59,{"$f":"VLOOKUP(B4419,#REF!,3,FALSE)","v":{"$error":"#REF!"}}]
["Varius","Varius Fuse HV","LP7","OEZ:14816","PL45 80A","Высоковольтная плавкая вставка","Un 10/12 kV, I1 63 kA","1 / -",3.3,2.68,162.04999999999998,{"$f":"VLOOKUP(B4420,#REF!,3,FALSE)","v":{"$error":"#REF!"}}]
["Varius","Varius Fuse HV","LP7","OEZ:14817","PL45 100A","Высоковольтная плавкая вставка","Un 10/12 kV, I1 63 kA","1 / -",3.3,2.68,194.44,{"$f":"VLOOKUP(B4421,#REF!,3,FALSE)","v":{"$error":"#REF!"}}]
[null,null,null,"Level  4","PM45 - Высоковольтные плавкие вставки 22/25 kV"]
["Varius","Varius Fuse HV","LP7","OEZ:14818","PM45 6,3A","Высоковольтная плавкая вставка","Un 22/25 kV, I1 50 kA","1 / -",2.5,2.82,67.910000000000011,{"$f":"VLOOKUP(B4423,#REF!,3,FALSE)","v":{"$error":"#REF!"}}]
["Varius","Varius Fuse HV","LP7","OEZ:14819","PM45 10A","Высоковольтная плавкая вставка","Un 22/25 kV, I1 50 kA","1 / -",2.5,2.82,67.910000000000011,{"$f":"VLOOKUP(B4424,#REF!,3,FALSE)","v":{"$error":"#REF!"}}]
["Varius","Varius Fuse HV","LP7","OEZ:14820","PM45 16A","Высоковольтная плавкая вставка","Un 22/25 kV, I1 50 kA","1 / -",2.5,2.82,62.489999999999995,{"$f":"VLOOKUP(B4425,#REF!,3,FALSE)","v":{"$error":"#REF!"}}]
["Varius","Varius Fuse HV","LP7","OEZ:14821","PM45 20A","Высоковольтная плавкая вставка","Un 22/25 kV, I1 50 kA","1 / -",2.5,2.82,65.87,{"$f":"VLOOKUP(B4426,#REF!,3,FALSE)","v":{"$error":"#REF!"}}]
["Varius","Varius Fuse HV","LP7","OEZ:14822","PM45 25A","Высоковольтная плавкая вставка","Un 22/25 kV, I1 50 kA","1 / -",2.5,2.82,70.430000000000007,{"$f":"VLOOKUP(B4427,#REF!,3,FALSE)","v":{"$error":"#REF!"}}]
["Varius","Varius Fuse HV","LP7","OEZ:14823","PM45 31,5A","Высоковольтная плавкая вставка","Un 22/25 kV, I1 50 kA","1 / -",2.5,2.82,74.910000000000011,{"$f":"VLOOKUP(B4428,#REF!,3,FALSE)","v":{"$error":"#REF!"}}]
["Varius","Varius Fuse HV","LP7","OEZ:14824","PM45 40A","Высоковольтная плавкая вставка","Un 22/25 kV, I1 50 kA","1 / -",2.5,2.82,80.98,{"$f":"VLOOKUP(B4429,#REF!,3,FALSE)","v":{"$error":"#REF!"}}]
["Varius","Varius Fuse HV","LP7","OEZ:14825","PM45 50A","Высоковольтная плавкая вставка","Un 22/25 kV, I1 50 kA","1 / -",2.5,3.97,104.07000000000001,{"$f":"VLOOKUP(B4430,#REF!,3,FALSE)","v":{"$error":"#REF!"}}]
["Varius","Varius Fuse HV","LP7","OEZ:14826","PM45 63A","Высоковольтная плавкая вставка","Un 22/25 kV, I1 50 kA","1 / -",3.7,3.97,115.63000000000001,{"$f":"VLOOKUP(B4431,#REF!,3,FALSE)","v":{"$error":"#REF!"}}]
["Varius","Varius Fuse HV","LP7","OEZ:14428","PM45 80A","Высоковольтная плавкая вставка","Un 22/25 kV, I1 50 kA","1 / -",5.0999999999999996,3.42,137.41999999999999,{"$f":"VLOOKUP(B4432,#REF!,3,FALSE)","v":{"$error":"#REF!"}}]
["Varius","Varius Fuse HV","LP7","OEZ:14429","PM45 100A","Высоковольтная плавкая вставка","Un 22/25 kV, I1 50 kA","1 / -",5.0999999999999996,4.0599999999999996,161.89999999999998,{"$f":"VLOOKUP(B4433,#REF!,3,FALSE)","v":{"$error":"#REF!"}}]
[null,null,null,"Level  4","PQ45 - Высоковольтные плавкие вставки 35/38,5 kV"]
["Varius","Varius Fuse HV","LP7","OEZ:14827","PQ45 6,3A","Высоковольтная плавкая вставка","Un 35/38,5 kV, I1 35,5 kA","1 / -",2.9,3.39,115.63000000000001,{"$f":"VLOOKUP(B4435,#REF!,3,FALSE)","v":{"$error":"#REF!"}}]
["Varius","Varius Fuse HV","LP7","OEZ:14828","PQ45 10A","Высоковольтная плавкая вставка","Un 35/38,5 kV, I1 35,5 kA","1 / -",2.9,3.39,121.38000000000001,{"$f":"VLOOKUP(B4436,#REF!,3,FALSE)","v":{"$error":"#REF!"}}]
["Varius","Varius Fuse HV","LP7","OEZ:14829","PQ45 16A","Высоковольтная плавкая вставка","Un 35/38,5 kV, I1 35,5 kA","1 / -",2.9,3.39,127.19000000000001,{"$f":"VLOOKUP(B4437,#REF!,3,FALSE)","v":{"$error":"#REF!"}}]
["Varius","Varius Fuse HV","LP7","OEZ:14830","PQ45 20A","Высоковольтная плавкая вставка","Un 35/38,5 kV, I1 35,5 kA","1 / -",2.9,3.39,127.19000000000001,{"$f":"VLOOKUP(B4438,#REF!,3,FALSE)","v":{"$error":"#REF!"}}]
["Varius","Varius Fuse HV","LP7","OEZ:14831","PQ45 25A","Высоковольтная плавкая вставка","Un 35/38,5 kV, I1 35,5 kA","1 / -",2.9,3.39,133,{"$f":"VLOOKUP(B4439,#REF!,3,FALSE)","v":{"$error":"#REF!"}}]
["Varius","Varius Fuse HV","LP7","OEZ:14832","PQ45 31,5A","Высоковольтная плавкая вставка","Un 35/38,5 kV, I1 35,5 kA","1 / -",6.25,4.49,184.98999999999998,{"$f":"VLOOKUP(B4440,#REF!,3,FALSE)","v":{"$error":"#REF!"}}]
["Varius","Varius Fuse HV","LP7","OEZ:14833","PQ45 40A","Высоковольтная плавкая вставка","Un 35/38,5 kV, I1 35,5 kA","1 / -",6.25,4.79,218.04,{"$f":"VLOOKUP(B4441,#REF!,3,FALSE)","v":{"$error":"#REF!"}}]
["Varius","Varius Fuse HV","LP7","OEZ:14834","PQ45 50A","Высоковольтная плавкая вставка","Un 35/38,5 kV, I1 35,5 kA","1 / -",6.25,4.79,230.16,{"$f":"VLOOKUP(B4442,#REF!,3,FALSE)","v":{"$error":"#REF!"}}]
[null,null,null,"Level  1","Коммутационные и управляющие приборы Conteo"]
[null,null,null,"Level  2","Контакторы и реле защиты двигателя"]
[null,null,null,"Level  3","ST, SC - Контакторы"]
[null,null,null,"Level  4","ST, SC - Контакторы"]
[null,null,null,"Level  5","ST12 - Типоразмер 12"]
["Conteo","Conteo ST, SR, SM","LC1","OEZ:37860","ST123-7-A024-10","Контактор","3 kW / 400 V / 50 Hz / AC-3, Ie 7 A / AC-3, Uc AC 24 V, 1x NO, размер 12, 3-полюс","1 / -",0.2,0.246,21.23,{"$f":"VLOOKUP(B4448,#REF!,3,FALSE)","v":{"$error":"#REF!"}}]
["Conteo","Conteo ST, SR, SM","LC1","OEZ:37861","ST123-7-A230-10","Контактор","3 kW / 400 V / 50 Hz / AC-3, Ie 7 A / AC-3, Uc AC 230 V, 1x NO, размер 12, 3-полюс","1 / -",0.2,0.246,21.46,{"$f":"VLOOKUP(B4449,#REF!,3,FALSE)","v":{"$error":"#REF!"}}]
["Conteo","Conteo ST, SR, SM","LC1","OEZ:37862","ST123-9-A024-10","Контактор","4 kW / 400 V / 50 Hz / AC-3, Ie 9 A / AC-3, Uc AC 24 V, 1x NO, размер 12, 3-полюс","1 / -",0.2,0.246,23.060000000000002,{"$f":"VLOOKUP(B4450,#REF!,3,FALSE)","v":{"$error":"#REF!"}}]
["Conteo","Conteo ST, SR, SM","LC1","OEZ:37863","ST123-9-A230-10","Контактор","4 kW / 400 V / 50 Hz / AC-3, Ie 9 A / AC-3, Uc AC 230 V, 1x NO, размер 12, 3-полюс","1 / -",0.2,0.246,22.740000000000002,{"$f":"VLOOKUP(B4451,#REF!,3,FALSE)","v":{"$error":"#REF!"}}]
["Conteo","Conteo ST, SR, SM","LC1","OEZ:37864","ST123-12-A024-10","Контактор","5,5 kW / 400 V / 50 Hz / AC-3, Ie 12 A / AC-3, Uc AC 24 V, 1x NO, размер 12, 3-полюс","1 / -",0.2,0.246,28.25,{"$f":"VLOOKUP(B4452,#REF!,3,FALSE)","v":{"$error":"#REF!"}}]
["Conteo","Conteo ST, SR, SM","LC1","OEZ:37865","ST123-12-A230-10","Контактор","5,5 kW / 400 V / 50 Hz / AC-3, Ie 12 A / AC-3, Uc AC 230 V, 1x NO, размер 12, 3-полюс","1 / -",0.2,0.246,28.84,{"$f":"VLOOKUP(B4453,#REF!,3,FALSE)","v":{"$error":"#REF!"}}]
[null,null,null,"Level  5","ST25, 3RT10 - Типоразмер 25"]
["Conteo","Conteo ST, SR, SM","LC1","OEZ:38472","ST253-12-A024","Контактор","5,5 kW / 400 V / 50 Hz / AC-3, Ie 12 A / AC-3, Uc AC 24 V, размер 25, 3-полюс","1 / -",0.35,0.41399999999999998,25.17,{"$f":"VLOOKUP(B4455,#REF!,3,FALSE)","v":{"$error":"#REF!"}}]
["Conteo","Conteo ST, SR, SM","LC1","OEZ:38466","ST253-12-A230","Контактор","5,5 kW / 400 V / 50 Hz / AC-3, Ie 12 A / AC-3, Uc AC 230 V, размер 25, 3-полюс","1 / -",0.35,0.41399999999999998,27.66,{"$f":"VLOOKUP(B4456,#REF!,3,FALSE)","v":{"$error":"#REF!"}}]
["Conteo","Conteo ST, SR, SM","LC1","OEZ:37866","ST253-17-A024","Контактор","7,5 kW / 400 V / 50 Hz / AC-3, Ie 17 A / AC-3, Uc AC 24 V, размер 25, 3-полюс","1 / -",0.35,0.41399999999999998,36.58,{"$f":"VLOOKUP(B4457,#REF!,3,FALSE)","v":{"$error":"#REF!"}}]
["Conteo","Conteo ST, SR, SM","LC1","OEZ:37867","ST253-17-A230","Контактор","7,5 kW / 400 V / 50 Hz / AC-3, Ie 17 A / AC-3, Uc AC 230 V, размер 25, 3-полюс","1 / -",0.35,0.41399999999999998,37.769999999999996,{"$f":"VLOOKUP(B4458,#REF!,3,FALSE)","v":{"$error":"#REF!"}}]
["Conteo","Conteo ST, SR, SM","LC1","OEZ:37868","ST253-25-A024","Контактор","11 kW / 400 V / 50 Hz / AC-3, Ie 25 A / AC-3, Uc AC 24 V, размер 25, 3-полюс","1 / -",0.35,0.41399999999999998,51.58,{"$f":"VLOOKUP(B4459,#REF!,3,FALSE)","v":{"$error":"#REF!"}}]
["Conteo","Conteo ST, SR, SM","LC1","OEZ:37869","ST253-25-A230","Контактор","11 kW / 400 V / 50 Hz / AC-3, Ie 25 A / AC-3, Uc AC 230 V, размер 25, 3-полюс","1 / -",0.35,0.41399999999999998,52.589999999999996,{"$f":"VLOOKUP(B4460,#REF!,3,FALSE)","v":{"$error":"#REF!"}}]
[null,null,null,"Level  5","ST50, 3RT10 - Типоразмер 50"]
["Conteo","Conteo ST, SR, SM","LC1","OEZ:37870","ST503-32-A024","Контактор","15 kW / 400 V / 50 Hz / AC-3, Ie 32 A / AC-3, Uc AC 24 V, размер 50, 3-полюс","1 / -",0.85,0.90700000000000003,73.63000000000001,{"$f":"VLOOKUP(B4462,#REF!,3,FALSE)","v":{"$error":"#REF!"}}]
["Conteo","Conteo ST, SR, SM","LC1","OEZ:37871","ST503-32-A230","Контактор","15 kW / 400 V / 50 Hz / AC-3, Ie 32 A / AC-3, Uc AC 230 V, размер 50, 3-полюс","1 / -",0.85,0.90700000000000003,76.86,{"$f":"VLOOKUP(B4463,#REF!,3,FALSE)","v":{"$error":"#REF!"}}]
["Conteo","Conteo ST, SR, SM","LC1","OEZ:37872","ST503-40-A024","Контактор","18,5 kW / 400 V / 50 Hz / AC-3, Ie 40 A / AC-3, Uc AC 24 V, размер 50, 3-полюс","1 / -",0.85,0.90700000000000003,82.910000000000011,{"$f":"VLOOKUP(B4464,#REF!,3,FALSE)","v":{"$error":"#REF!"}}]
["Conteo","Conteo ST, SR, SM","LC1","OEZ:37873","ST503-40-A230","Контактор","18,5 kW / 400 V / 50 Hz / AC-3, Ie 40 A / AC-3, Uc AC 230 V, размер 50, 3-полюс","1 / -",0.85,0.90700000000000003,85.190000000000012,{"$f":"VLOOKUP(B4465,#REF!,3,FALSE)","v":{"$error":"#REF!"}}]
["Conteo","Conteo ST, SR, SM","LC1","OEZ:37874","ST503-50-A024","Контактор","22 kW / 400 V / 50 Hz / AC-3, Ie 50 A / AC-3, Uc AC 24 V, размер 50, 3-полюс","1 / -",0.85,0.90700000000000003,109.76,{"$f":"VLOOKUP(B4466,#REF!,3,FALSE)","v":{"$error":"#REF!"}}]
["Conteo","Conteo ST, SR, SM","LC1","OEZ:37875","ST503-50-A230","Контактор","22 kW / 400 V / 50 Hz / AC-3, Ie 50 A / AC-3, Uc AC 230 V, размер 50, 3-полюс","1 / -",0.85,0.90700000000000003,111.78,{"$f":"VLOOKUP(B4467,#REF!,3,FALSE)","v":{"$error":"#REF!"}}]
[null,null,null,"Level  5","ST100, 3RT10 - Типоразмер 100"]
["Conteo","Conteo ST, SR, SM","LC1","OEZ:37876","ST1003-65-A024","Контактор","30 kW / 400 V / 50 Hz / AC-3, Ie 65 A / AC-3, Uc AC 24 V, размер 100, 3-полюс","1 / -",1.8,2.1509999999999998,155.85,{"$f":"VLOOKUP(B4469,#REF!,3,FALSE)","v":{"$error":"#REF!"}}]
["Conteo","Conteo ST, SR, SM","LC1","OEZ:37877","ST1003-65-A230","Контактор","30 kW / 400 V / 50 Hz / AC-3, Ie 65 A / AC-3, Uc AC 230 V, размер 100, 3-полюс","1 / -",1.8,2.1509999999999998,158.98999999999998,{"$f":"VLOOKUP(B4470,#REF!,3,FALSE)","v":{"$error":"#REF!"}}]
["Conteo","Conteo ST, SR, SM","LC1","OEZ:37878","ST1003-80-A024","Контактор","37 kW / 400 V / 50 Hz / AC-3, Ie 80 A / AC-3, Uc AC 24 V, размер 100, 3-полюс","1 / -",1.8,2.1509999999999998,188.07,{"$f":"VLOOKUP(B4471,#REF!,3,FALSE)","v":{"$error":"#REF!"}}]
["Conteo","Conteo ST, SR, SM","LC1","OEZ:37879","ST1003-80-A230","Контактор","37 kW / 400 V / 50 Hz / AC-3, Ie 80 A / AC-3, Uc AC 230 V, размер 100, 3-полюс","1 / -",1.8,2.1509999999999998,191.75,{"$f":"VLOOKUP(B4472,#REF!,3,FALSE)","v":{"$error":"#REF!"}}]
["Conteo","Conteo ST, SR, SM","LC1","OEZ:37880","ST1003-95-A024","Контактор","45 kW / 400 V / 50 Hz / AC-3, Ie 95 A / AC-3, Uc AC 24 V, размер 100, 3-полюс","1 / -",1.8,2.1509999999999998,238.60999999999999,{"$f":"VLOOKUP(B4473,#REF!,3,FALSE)","v":{"$error":"#REF!"}}]
["Conteo","Conteo ST, SR, SM","LC1","OEZ:37881","ST1003-95-A230","Контактор","45 kW / 400 V / 50 Hz / AC-3, Ie 95 A / AC-3, Uc AC 230 V, размер 100, 3-полюс","1 / -",1.8,2.1509999999999998,248.14999999999998,{"$f":"VLOOKUP(B4474,#REF!,3,FALSE)","v":{"$error":"#REF!"}}]
[null,null,null,"Level  5","SC12 - Типоразмер 12"]
["Conteo","Conteo ST, SR, SM","LC1","OEZ:37882","SC123-8-A230","Контактор","5 ÷ 12,5 kvar / 400 V / 50/60 Hz / AC-6b, Uc AC 230 V, 1x NO, 1x NC, размер 12, 3-полюс","1 / -",0.28000000000000003,0.66500000000000004,64.260000000000005,{"$f":"VLOOKUP(B4476,#REF!,3,FALSE)","v":{"$error":"#REF!"}}]
["Conteo","Conteo ST, SR, SM","LC1","OEZ:37883","SC123-8-A024","Контактор","5 ÷ 12,5 kvar / 400 V / 50/60 Hz / AC-6b, Uc AC 24 V, 1x NO, 1x NC, размер 12, 3-полюс","1 / -",0.28000000000000003,0.66500000000000004,64.260000000000005,{"$f":"VLOOKUP(B4477,#REF!,3,FALSE)","v":{"$error":"#REF!"}}]
[null,null,null,"Level  5","SC25 - Типоразмер 25"]
["Conteo","Conteo ST, SR, SM","LC1","OEZ:37884","SC253-15-A230","Контактор","6 ÷ 25 kvar / 400 V / 50/60 Hz / AC-6b, Uc AC 230 V, 1x NO, размер 25, 3-полюс","1 / -",0.44,0.749,99.300000000000011,{"$f":"VLOOKUP(B4479,#REF!,3,FALSE)","v":{"$error":"#REF!"}}]
["Conteo","Conteo ST, SR, SM","LC1","OEZ:37885","SC253-15-A024","Контактор","6 ÷ 25 kvar / 400 V / 50/60 Hz / AC-6b, Uc AC 24 V, 1x NO, размер 25, 3-полюс","1 / -",0.44,0.749,99.300000000000011,{"$f":"VLOOKUP(B4480,#REF!,3,FALSE)","v":{"$error":"#REF!"}}]
[null,null,null,"Level  5","SC100 - Типоразмер 100"]
["Conteo","Conteo ST, SR, SM","LC1","OEZ:37886","SC1003-30-A230","Контактор","5 ÷ 50 kvar / 400 V / 50/60 Hz / AC-6b, Uc AC 230 V, 1x NO, размер 100, 3-полюс","1 / -",2.04,3.1960000000000002,208.14,{"$f":"VLOOKUP(B4482,#REF!,3,FALSE)","v":{"$error":"#REF!"}}]
["Conteo","Conteo ST, SR, SM","LC1","OEZ:37887","SC1003-30-A024","Контактор","5 ÷ 50 kvar / 400 V / 50/60 Hz / AC-6b, Uc AC 24 V, 1x NO, размер 100, 3-полюс","1 / -",2.04,3.1960000000000002,208.14,{"$f":"VLOOKUP(B4483,#REF!,3,FALSE)","v":{"$error":"#REF!"}}]
[null,null,null,"Level  4","OD-ST - Принадлежности"]
[null,null,null,"Level  5","PS-ST - Выключатели"]
["Conteo","Conteo ST, SR, SM","LC1","OEZ:37888","PS-ST12X-C11","Выключатель","1x NO, 1x NC, для ST12, передний монтаж","1 / -",0.05,0.105,5.7,{"$f":"VLOOKUP(B4486,#REF!,3,FALSE)","v":{"$error":"#REF!"}}]
["Conteo","Conteo ST, SR, SM","LC1","OEZ:37889","PS-ST12X-C22","Выключатель","2x NO, 2x NC, для ST12, передний монтаж","1 / -",0.06,0.105,9.4599999999999991,{"$f":"VLOOKUP(B4487,#REF!,3,FALSE)","v":{"$error":"#REF!"}}]
["Conteo","Conteo ST, SR, SM","LC1","OEZ:37890","PS-ST100X-C22","Выключатель","2x NO, 2x NC, для ST25, ST50, ST100, передний монтаж","1 / -",7.4999999999999997E-2,0.15,9.82,{"$f":"VLOOKUP(B4488,#REF!,3,FALSE)","v":{"$error":"#REF!"}}]
["Conteo","Conteo ST, SR, SM","LC1","OEZ:37891","PS-ST100X-C10","Выключатель","1x NO, для ST25, ST50, ST100, передний монтаж","10 / -",0.02,2.9000000000000001E-2,3.4099999999999997,{"$f":"VLOOKUP(B4489,#REF!,3,FALSE)","v":{"$error":"#REF!"}}]
["Conteo","Conteo ST, SR, SM","LC1","OEZ:37892","PS-ST100X-C01","Выключатель","1x NC, для ST25, ST50, ST100, передний монтаж","10 / -",0.02,2.9000000000000001E-2,3.32,{"$f":"VLOOKUP(B4490,#REF!,3,FALSE)","v":{"$error":"#REF!"}}]
["Conteo","Conteo ST, SR, SM","LC1","OEZ:37893","PS-ST100X-B11","Выключатель","1x NO, 1x NC, для ST25, ST50, ST100, боковой монтаж","1 / -",0.05,0.13900000000000001,8.99,{"$f":"VLOOKUP(B4491,#REF!,3,FALSE)","v":{"$error":"#REF!"}}]
[null,null,null,"Level  5","OD-ST - Ограничители перенапряжения"]
["Conteo","Conteo ST, SR, SM","LC1","OEZ:37894","OD-ST12X-VA-X024","Ограничитель перенапряжения","Uc AC 24 ÷ 48 V, для ST12","1 / -",0.01,1.7999999999999999E-2,6.17,{"$f":"VLOOKUP(B4493,#REF!,3,FALSE)","v":{"$error":"#REF!"}}]
["Conteo","Conteo ST, SR, SM","LC1","OEZ:37895","OD-ST12X-VA-X230","Ограничитель перенапряжения","Uc AC 127 ÷ 240 V, для ST12","1 / -",0.01,1.7999999999999999E-2,6.17,{"$f":"VLOOKUP(B4494,#REF!,3,FALSE)","v":{"$error":"#REF!"}}]
["Conteo","Conteo ST, SR, SM","LC1","OEZ:37897","OD-ST100X-VA-X024","Ограничитель перенапряжения","Uc AC 24 ÷ 48 V, для ST25, ST50, ST100","1 / -",2.5000000000000001E-2,2.3E-2,7.68,{"$f":"VLOOKUP(B4495,#REF!,3,FALSE)","v":{"$error":"#REF!"}}]
["Conteo","Conteo ST, SR, SM","LC1","OEZ:37898","OD-ST100X-VA-X230","Ограничитель перенапряжения","Uc AC 127 ÷ 240 V, для ST25, ST50, ST100","1 / -",2.5000000000000001E-2,2.3E-2,8.19,{"$f":"VLOOKUP(B4496,#REF!,3,FALSE)","v":{"$error":"#REF!"}}]
[null,null,null,"Level  5","MB-ST, 3RA - Механические блокировки"]
["Conteo","Conteo ST, SR, SM","LC1","OEZ:38355","MB-ST12X-01","Механическая блокировка","боковой монтаж, для ST12","10 / -",0.01,0.05,2.1999999999999997,{"$f":"VLOOKUP(B4498,#REF!,3,FALSE)","v":{"$error":"#REF!"}}]
["Conteo","Conteo ST, SR, SM","LC1","OEZ:38356","MB-ST100X-01","Механическая блокировка","передний монтаж, для ST25, ST50, ST100","1 / -",0.05,0.14000000000000001,10.44,{"$f":"VLOOKUP(B4499,#REF!,3,FALSE)","v":{"$error":"#REF!"}}]
[null,null,null,"Level  3","SR - Реле защиты двигателя"]
[null,null,null,"Level  4","SR - Реле защиты двигателя"]
[null,null,null,"Level  5","SR12 - Типоразмер 12"]
["Conteo","Conteo ST, SR, SM","LC1","OEZ:37945","SR123-0,16","Реле максимального тока","0,04 kW / 400 V / 50 Hz, In 0,16 A, диапазон настройки 0,11 ÷ 0,16 A, размер 12","1 / -",0.15,0.42,33.909999999999997,{"$f":"VLOOKUP(B4503,#REF!,3,FALSE)","v":{"$error":"#REF!"}}]
["Conteo","Conteo ST, SR, SM","LC1","OEZ:37946","SR123-0,25","Реле максимального тока","0,06 kW / 400 V / 50 Hz, In 0,25 A, диапазон настройки 0,18 ÷ 0,25 A, размер 12","1 / -",0.15,0.42,33.909999999999997,{"$f":"VLOOKUP(B4504,#REF!,3,FALSE)","v":{"$error":"#REF!"}}]
["Conteo","Conteo ST, SR, SM","LC1","OEZ:37947","SR123-0,4","Реле максимального тока","0,09 kW / 400 V / 50 Hz, In 0,4 A, диапазон настройки 0,28 ÷ 0,4 A, размер 12","1 / -",0.15,0.42,33.909999999999997,{"$f":"VLOOKUP(B4505,#REF!,3,FALSE)","v":{"$error":"#REF!"}}]
["Conteo","Conteo ST, SR, SM","LC1","OEZ:37948","SR123-0,63","Реле максимального тока","0,18 kW / 400 V / 50 Hz, In 0,63 A, диапазон настройки 0,45 ÷ 0,63 A, размер 12","1 / -",0.15,0.42,33.909999999999997,{"$f":"VLOOKUP(B4506,#REF!,3,FALSE)","v":{"$error":"#REF!"}}]
["Conteo","Conteo ST, SR, SM","LC1","OEZ:38467","SR123-0,8","Реле максимального тока","0,18 kW / 400 V / 50 Hz, In 0,8 A, диапазон настройки 0,55 ÷ 0,8 A, размер 12","1 / -",0.15,0.42,32.96,{"$f":"VLOOKUP(B4507,#REF!,3,FALSE)","v":{"$error":"#REF!"}}]
["Conteo","Conteo ST, SR, SM","LC1","OEZ:37949","SR123-1","Реле максимального тока","0,25 kW / 400 V / 50 Hz, In 1 A, диапазон настройки 0,7 ÷ 1 A, размер 12","1 / -",0.15,0.42,34.18,{"$f":"VLOOKUP(B4508,#REF!,3,FALSE)","v":{"$error":"#REF!"}}]
["Conteo","Conteo ST, SR, SM","LC1","OEZ:37950","SR123-1,6","Реле максимального тока","0,55 kW / 400 V / 50 Hz, In 1,6 A, диапазон настройки 1,1 ÷ 1,6 A, размер 12","1 / -",0.15,0.42,33.909999999999997,{"$f":"VLOOKUP(B4509,#REF!,3,FALSE)","v":{"$error":"#REF!"}}]
["Conteo","Conteo ST, SR, SM","LC1","OEZ:38468","SR123-2","Реле максимального тока","0,75 kW / 400 V / 50 Hz, In 2 A, диапазон настройки 1,4 ÷ 2 A, размер 12","1 / -",0.15,0.42,32.96,{"$f":"VLOOKUP(B4510,#REF!,3,FALSE)","v":{"$error":"#REF!"}}]
["Conteo","Conteo ST, SR, SM","LC1","OEZ:37951","SR123-2,5","Реле максимального тока","0,75 kW / 400 V / 50 Hz, In 2,5 A, диапазон настройки 1,8 ÷ 2,5 A, размер 12","1 / -",0.15,0.42,33.909999999999997,{"$f":"VLOOKUP(B4511,#REF!,3,FALSE)","v":{"$error":"#REF!"}}]
["Conteo","Conteo ST, SR, SM","LC1","OEZ:37952","SR123-4","Реле максимального тока","1,5 kW / 400 V / 50 Hz, In 4 A, диапазон настройки 2,8 ÷ 4 A, размер 12","1 / -",0.15,0.42,33.909999999999997,{"$f":"VLOOKUP(B4512,#REF!,3,FALSE)","v":{"$error":"#REF!"}}]
["Conteo","Conteo ST, SR, SM","LC1","OEZ:37953","SR123-6,3","Реле максимального тока","2,2 kW / 400 V / 50 Hz, In 6,3 A, диапазон настройки 4,5 ÷ 6,3 A, размер 12","1 / -",0.15,0.42,33.909999999999997,{"$f":"VLOOKUP(B4513,#REF!,3,FALSE)","v":{"$error":"#REF!"}}]
["Conteo","Conteo ST, SR, SM","LC1","OEZ:37954","SR123-10","Реле максимального тока","4 kW / 400 V / 50 Hz, In 10 A, диапазон настройки 7 ÷ 10 A, размер 12","1 / -",0.15,0.42,33.909999999999997,{"$f":"VLOOKUP(B4514,#REF!,3,FALSE)","v":{"$error":"#REF!"}}]
["Conteo","Conteo ST, SR, SM","LC1","OEZ:37955","SR123-12","Реле максимального тока","5,5 kW / 400 V / 50 Hz, In 12 A, диапазон настройки 9 ÷ 12 A, размер 12","1 / -",0.15,0.42,33.909999999999997,{"$f":"VLOOKUP(B4515,#REF!,3,FALSE)","v":{"$error":"#REF!"}}]
[null,null,null,"Level  5","SR25 - Типоразмер 25"]
["Conteo","Conteo ST, SR, SM","LC1","OEZ:37956","SR253-10","Реле максимального тока","4 kW / 400 V / 50 Hz, In 10 A, диапазон настройки 7 ÷ 10 A, размер 25","1 / -",0.19,0.51,40.32,{"$f":"VLOOKUP(B4517,#REF!,3,FALSE)","v":{"$error":"#REF!"}}]
["Conteo","Conteo ST, SR, SM","LC1","OEZ:37957","SR253-12,5","Реле максимального тока","5,5 kW / 400 V / 50 Hz, In 12,5 A, диапазон настройки 9 ÷ 12,5 A, размер 25","1 / -",0.19,0.51,40.32,{"$f":"VLOOKUP(B4518,#REF!,3,FALSE)","v":{"$error":"#REF!"}}]
["Conteo","Conteo ST, SR, SM","LC1","OEZ:37958","SR253-16","Реле максимального тока","7,5 kW / 400 V / 50 Hz, In 16 A, диапазон настройки 11 ÷ 16 A, размер 25","1 / -",0.19,0.51,40.32,{"$f":"VLOOKUP(B4519,#REF!,3,FALSE)","v":{"$error":"#REF!"}}]
["Conteo","Conteo ST, SR, SM","LC1","OEZ:37959","SR253-20","Реле максимального тока","7,5 kW / 400 V / 50 Hz, In 20 A, диапазон настройки 14 ÷ 20 A, размер 25","1 / -",0.19,0.51,40.32,{"$f":"VLOOKUP(B4520,#REF!,3,FALSE)","v":{"$error":"#REF!"}}]
["Conteo","Conteo ST, SR, SM","LC1","OEZ:37960","SR253-25","Реле максимального тока","11 kW / 400 V / 50 Hz, In 25 A, диапазон настройки 20 ÷ 25 A, размер 25","1 / -",0.19,0.51,40.32,{"$f":"VLOOKUP(B4521,#REF!,3,FALSE)","v":{"$error":"#REF!"}}]
[null,null,null,"Level  5","SR50 - Типоразмер 50"]
["Conteo","Conteo ST, SR, SM","LC1","OEZ:37961","SR503-32","Реле максимального тока","15 kW / 400 V / 50 Hz, In 32 A, диапазон настройки 22 ÷ 32 A, размер 50","1 / -",0.32,0.64900000000000002,63.699999999999996,{"$f":"VLOOKUP(B4523,#REF!,3,FALSE)","v":{"$error":"#REF!"}}]
["Conteo","Conteo ST, SR, SM","LC1","OEZ:37962","SR503-40","Реле максимального тока","18,5 kW / 400 V / 50 Hz, In 40 A, диапазон настройки 28 ÷ 40 A, размер 50","1 / -",0.32,0.64900000000000002,65.010000000000005,{"$f":"VLOOKUP(B4524,#REF!,3,FALSE)","v":{"$error":"#REF!"}}]
["Conteo","Conteo ST, SR, SM","LC1","OEZ:37963","SR503-50","Реле максимального тока","22 kW / 400 V / 50 Hz, In 50 A, диапазон настройки 40 ÷ 50 A, размер 50","1 / -",0.32,0.64900000000000002,88.81,{"$f":"VLOOKUP(B4525,#REF!,3,FALSE)","v":{"$error":"#REF!"}}]
[null,null,null,"Level  5","SR100 - Типоразмер 100"]
["Conteo","Conteo ST, SR, SM","LC1","OEZ:37964","SR1003-63","Реле максимального тока","30 kW / 400 V / 50 Hz, In 63 A, диапазон настройки 45 ÷ 63 A, размер 100","1 / -",0.55000000000000004,1.1120000000000001,93.9,{"$f":"VLOOKUP(B4527,#REF!,3,FALSE)","v":{"$error":"#REF!"}}]
["Conteo","Conteo ST, SR, SM","LC1","OEZ:37965","SR1003-75","Реле максимального тока","37 kW / 400 V / 50 Hz, In 75 A, диапазон настройки 57 ÷ 75 A, размер 100","1 / -",0.55000000000000004,1.1120000000000001,93.9,{"$f":"VLOOKUP(B4528,#REF!,3,FALSE)","v":{"$error":"#REF!"}}]
["Conteo","Conteo ST, SR, SM","LC1","OEZ:37966","SR1003-90","Реле максимального тока","45 kW / 400 V / 50 Hz, In 90 A, диапазон настройки 70 ÷ 90 A, размер 100","1 / -",0.55000000000000004,1.1120000000000001,112.4,{"$f":"VLOOKUP(B4529,#REF!,3,FALSE)","v":{"$error":"#REF!"}}]
["Conteo","Conteo ST, SR, SM","LC1","OEZ:37967","SR1003-100","Реле максимального тока","45 kW / 400 V / 50 Hz, In 100 A, диапазон настройки 80 ÷ 100 A, размер 100","1 / -",0.55000000000000004,1.1120000000000001,137.53,{"$f":"VLOOKUP(B4530,#REF!,3,FALSE)","v":{"$error":"#REF!"}}]
[null,null,null,"Level  4","OD-SR - Принадлежности"]
["Conteo","Conteo ST, SR, SM","LC1","OEZ:37968","OD-SR123-ADA1","Адаптер","для SR12","1 / -",0.06,0.41399999999999998,7.56,{"$f":"VLOOKUP(B4532,#REF!,3,FALSE)","v":{"$error":"#REF!"}}]
["Conteo","Conteo ST, SR, SM","LC1","OEZ:37969","OD-SR253-ADA1","Адаптер","для SR25","1 / -",0.08,0.51,9.16,{"$f":"VLOOKUP(B4533,#REF!,3,FALSE)","v":{"$error":"#REF!"}}]
["Conteo","Conteo ST, SR, SM","LC1","OEZ:37970","OD-SR503-ADA1","Адаптер","для SR50","1 / -",0.18,1.1459999999999999,12.16,{"$f":"VLOOKUP(B4534,#REF!,3,FALSE)","v":{"$error":"#REF!"}}]
["Conteo","Conteo ST, SR, SM","LC1","OEZ:37971","OD-SR1003-ADA1","Адаптер","для SR100","1 / -",0.28000000000000003,1.242,15.57,{"$f":"VLOOKUP(B4535,#REF!,3,FALSE)","v":{"$error":"#REF!"}}]
[null,null,null,"Level  2","Автоматические выключатели защиты двигателя"]
[null,null,null,"Level  3","SM - Автоматические выключатели защиты двигателя промышленные"]
[null,null,null,"Level  4","SM12- Типоразмер 12"]
["Conteo","Conteo ST, SR, SM","LC1","OEZ:37900","SM123-0,16","Автоматический выключатель защиты двигателя","0,04 kW / 400 V / 50 Hz, In 0,16 A, диапазон настройки 0,11 ÷ 0,16 A, размер 12","1 / -",0.23,0.42,34.36,{"$f":"VLOOKUP(B4539,#REF!,3,FALSE)","v":{"$error":"#REF!"}}]
["Conteo","Conteo ST, SR, SM","LC1","OEZ:37901","SM123-0,25","Автоматический выключатель защиты двигателя","0,06 kW / 400 V / 50 Hz, In 0,25 A, диапазон настройки 0,18 ÷ 0,25 A, размер 12","1 / -",0.23300000000000001,0.42,34.36,{"$f":"VLOOKUP(B4540,#REF!,3,FALSE)","v":{"$error":"#REF!"}}]
["Conteo","Conteo ST, SR, SM","LC1","OEZ:37902","SM123-0,4","Автоматический выключатель защиты двигателя","0,09 kW / 400 V / 50 Hz, In 0,4 A, диапазон настройки 0,28 ÷ 0,4 A, размер 12","1 / -",0.23499999999999999,0.42,35.01,{"$f":"VLOOKUP(B4541,#REF!,3,FALSE)","v":{"$error":"#REF!"}}]
["Conteo","Conteo ST, SR, SM","LC1","OEZ:37903","SM123-0,63","Автоматический выключатель защиты двигателя","0,18 kW / 400 V / 50 Hz, In 0,63 A, диапазон настройки 0,45 ÷ 0,63 A, размер 12","1 / -",0.23300000000000001,0.42,34.919999999999995,{"$f":"VLOOKUP(B4542,#REF!,3,FALSE)","v":{"$error":"#REF!"}}]
["Conteo","Conteo ST, SR, SM","LC1","OEZ:37904","SM123-1","Автоматический выключатель защиты двигателя","0,25 kW / 400 V / 50 Hz, In 1 A, диапазон настройки 0,7 ÷ 1 A, размер 12","1 / -",0.23300000000000001,0.42,38.419999999999995,{"$f":"VLOOKUP(B4543,#REF!,3,FALSE)","v":{"$error":"#REF!"}}]
["Conteo","Conteo ST, SR, SM","LC1","OEZ:37905","SM123-1,6","Автоматический выключатель защиты двигателя","0,55 kW / 400 V / 50 Hz, In 1,6 A, диапазон настройки 1,1 ÷ 1,6 A, размер 12","1 / -",0.23300000000000001,0.42,38.629999999999995,{"$f":"VLOOKUP(B4544,#REF!,3,FALSE)","v":{"$error":"#REF!"}}]
["Conteo","Conteo ST, SR, SM","LC1","OEZ:37906","SM123-2,5","Автоматический выключатель защиты двигателя","0,75 kW / 400 V / 50 Hz, In 2,5 A, диапазон настройки 1,8 ÷ 2,5 A, размер 12","1 / -",0.28100000000000003,0.42,39.22,{"$f":"VLOOKUP(B4545,#REF!,3,FALSE)","v":{"$error":"#REF!"}}]
["Conteo","Conteo ST, SR, SM","LC1","OEZ:37907","SM123-4","Автоматический выключатель защиты двигателя","1,5 kW / 400 V / 50 Hz, In 4 A, диапазон настройки 2,8 ÷ 4 A, размер 12","1 / -",0.28100000000000003,0.42,39.659999999999997,{"$f":"VLOOKUP(B4546,#REF!,3,FALSE)","v":{"$error":"#REF!"}}]
["Conteo","Conteo ST, SR, SM","LC1","OEZ:37908","SM123-6,3","Автоматический выключатель защиты двигателя","2,2 kW / 400 V / 50 Hz, In 6,3 A, диапазон настройки 4,5 ÷ 6,3 A, размер 12","1 / -",0.28799999999999998,0.42,39.96,{"$f":"VLOOKUP(B4547,#REF!,3,FALSE)","v":{"$error":"#REF!"}}]
["Conteo","Conteo ST, SR, SM","LC1","OEZ:37909","SM123-10","Автоматический выключатель защиты двигателя","4 kW / 400 V / 50 Hz, In 10 A, диапазон настройки 7 ÷ 10 A, размер 12","1 / -",0.28399999999999997,0.42,45.269999999999996,{"$f":"VLOOKUP(B4548,#REF!,3,FALSE)","v":{"$error":"#REF!"}}]
["Conteo","Conteo ST, SR, SM","LC1","OEZ:37910","SM123-12","Автоматический выключатель защиты двигателя","5,5 kW / 400 V / 50 Hz, In 12 A, диапазон настройки 9 ÷ 12 A, размер 12","1 / -",0.28000000000000003,0.42,47.37,{"$f":"VLOOKUP(B4549,#REF!,3,FALSE)","v":{"$error":"#REF!"}}]
[null,null,null,"Level  4","SM25 - Типоразмер 25"]
["Conteo","Conteo ST, SR, SM","LC1","OEZ:38462","SM253-2,5","Автоматический выключатель защиты двигателя","0,75 kW / 400 V / 50 Hz, In 2,5 A, диапазон настройки 1,8 ÷ 2,5 A, размер 25","1 / -",0.35699999999999998,0.51,42.86,{"$f":"VLOOKUP(B4551,#REF!,3,FALSE)","v":{"$error":"#REF!"}}]
["Conteo","Conteo ST, SR, SM","LC1","OEZ:38463","SM253-4","Автоматический выключатель защиты двигателя","1,5 kW / 400 V / 50 Hz, In 4 A, диапазон настройки 2,8 ÷ 4 A, размер 25","1 / -",0.35399999999999998,0.51,39.93,{"$f":"VLOOKUP(B4552,#REF!,3,FALSE)","v":{"$error":"#REF!"}}]
["Conteo","Conteo ST, SR, SM","LC1","OEZ:38464","SM253-6,3","Автоматический выключатель защиты двигателя","2,2 kW / 400 V / 50 Hz, In 6,3 A, диапазон настройки 4,5 ÷ 6,3 A, размер 25","1 / -",0.35699999999999998,0.51,42.83,{"$f":"VLOOKUP(B4553,#REF!,3,FALSE)","v":{"$error":"#REF!"}}]
["Conteo","Conteo ST, SR, SM","LC1","OEZ:37911","SM253-10","Автоматический выключатель защиты двигателя","4 kW / 400 V / 50 Hz, In 10 A, диапазон настройки 7 ÷ 10 A, размер 25","1 / -",0.36099999999999999,0.51,47.489999999999995,{"$f":"VLOOKUP(B4554,#REF!,3,FALSE)","v":{"$error":"#REF!"}}]
["Conteo","Conteo ST, SR, SM","LC1","OEZ:37912","SM253-12,5","Автоматический выключатель защиты двигателя","5,5 kW / 400 V / 50 Hz, In 12,5 A, диапазон настройки 9 ÷ 12,5 A, размер 25","1 / -",0.35799999999999998,0.51,47.73,{"$f":"VLOOKUP(B4555,#REF!,3,FALSE)","v":{"$error":"#REF!"}}]
["Conteo","Conteo ST, SR, SM","LC1","OEZ:37913","SM253-16","Автоматический выключатель защиты двигателя","7,5 kW / 400 V / 50 Hz, In 16 A, диапазон настройки 11 ÷ 16 A, размер 25","1 / -",0.36599999999999999,0.51,47.28,{"$f":"VLOOKUP(B4556,#REF!,3,FALSE)","v":{"$error":"#REF!"}}]
["Conteo","Conteo ST, SR, SM","LC1","OEZ:37914","SM253-20","Автоматический выключатель защиты двигателя","7,5 kW / 400 V / 50 Hz, In 20 A, диапазон настройки 14 ÷ 20 A, размер 25","1 / -",0.36299999999999999,0.51,53.589999999999996,{"$f":"VLOOKUP(B4557,#REF!,3,FALSE)","v":{"$error":"#REF!"}}]
["Conteo","Conteo ST, SR, SM","LC1","OEZ:37915","SM253-25","Автоматический выключатель защиты двигателя","11 kW / 400 V / 50 Hz, In 25 A, диапазон настройки 20 ÷ 25 A, размер 25","1 / -",0.36399999999999999,0.51,65.210000000000008,{"$f":"VLOOKUP(B4558,#REF!,3,FALSE)","v":{"$error":"#REF!"}}]
[null,null,null,"Level  4","SM50 - Типоразмер 50"]
["Conteo","Conteo ST, SR, SM","LC1","OEZ:38465","SM503-25","Автоматический выключатель защиты двигателя","11 kW / 400 V / 50 Hz, In 25 A, диапазон настройки 18 ÷ 25 A, размер 50","1 / -",1.0309999999999999,1.528,101.7,{"$f":"VLOOKUP(B4560,#REF!,3,FALSE)","v":{"$error":"#REF!"}}]
["Conteo","Conteo ST, SR, SM","LC1","OEZ:37916","SM503-32","Автоматический выключатель защиты двигателя","15 kW / 400 V / 50 Hz, In 32 A, диапазон настройки 22 ÷ 32 A, размер 50","1 / -",1.028,1.528,121,{"$f":"VLOOKUP(B4561,#REF!,3,FALSE)","v":{"$error":"#REF!"}}]
["Conteo","Conteo ST, SR, SM","LC1","OEZ:37917","SM503-40","Автоматический выключатель защиты двигателя","18,5 kW / 400 V / 50 Hz, In 40 A, диапазон настройки 28 ÷ 40 A, размер 50","1 / -",1.0469999999999999,1.528,140.22999999999999,{"$f":"VLOOKUP(B4562,#REF!,3,FALSE)","v":{"$error":"#REF!"}}]
["Conteo","Conteo ST, SR, SM","LC1","OEZ:37918","SM503-50","Автоматический выключатель защиты двигателя","22 kW / 400 V / 50 Hz, In 50 A, диапазон настройки 40 ÷ 50 A, размер 50","1 / -",1.0269999999999999,1.528,157.57,{"$f":"VLOOKUP(B4563,#REF!,3,FALSE)","v":{"$error":"#REF!"}}]
[null,null,null,"Level  4","SM100 - Типоразмер 100"]
["Conteo","Conteo ST, SR, SM","LC1","OEZ:37919","SM1003-63","Автоматический выключатель защиты двигателя","30 kW / 400 V / 50 Hz, In 63 A, диапазон настройки 45 ÷ 63 A, размер 100","1 / -",2.2469999999999999,2.5019999999999998,167.14,{"$f":"VLOOKUP(B4565,#REF!,3,FALSE)","v":{"$error":"#REF!"}}]
["Conteo","Conteo ST, SR, SM","LC1","OEZ:37920","SM1003-75","Автоматический выключатель защиты двигателя","37 kW / 400 V / 50 Hz, In 75 A, диапазон настройки 57 ÷ 75 A, размер 100","1 / -",2.2530000000000001,2.5019999999999998,186.38,{"$f":"VLOOKUP(B4566,#REF!,3,FALSE)","v":{"$error":"#REF!"}}]
["Conteo","Conteo ST, SR, SM","LC1","OEZ:37921","SM1003-90","Автоматический выключатель защиты двигателя","45 kW / 400 V / 50 Hz, In 90 A, диапазон настройки 70 ÷ 90 A, размер 100","1 / -",2.2799999999999998,2.5019999999999998,197.67,{"$f":"VLOOKUP(B4567,#REF!,3,FALSE)","v":{"$error":"#REF!"}}]
["Conteo","Conteo ST, SR, SM","LC1","OEZ:37922","SM1003-100","Автоматический выключатель защиты двигателя","45 kW / 400 V / 50 Hz, In 100 A, диапазон настройки 80 ÷ 100 A, размер 100","1 / -",2.2949999999999999,2.5019999999999998,219.42999999999998,{"$f":"VLOOKUP(B4568,#REF!,3,FALSE)","v":{"$error":"#REF!"}}]
[null,null,null,"Level  4","OD-SM - Принадлежности"]
[null,null,null,"Level  5","PS-SM - Выключатели"]
["Conteo","Conteo ST, SR, SM","LC1","OEZ:37925","PS-SM-C11","Выключатель","1x NO, 1x NC, для SM12, SM25, SM50, SM100, передний монтаж","10 / -",1.7999999999999999E-2,2.4E-2,7.3599999999999994,{"$f":"VLOOKUP(B4571,#REF!,3,FALSE)","v":{"$error":"#REF!"}}]
["Conteo","Conteo ST, SR, SM","LC1","OEZ:37926","PS-SM-C20","Выключатель","2x NO, для SM12, SM25, SM50, SM100, передний монтаж","10 / -",1.7999999999999999E-2,2.4E-2,7.33,{"$f":"VLOOKUP(B4572,#REF!,3,FALSE)","v":{"$error":"#REF!"}}]
["Conteo","Conteo ST, SR, SM","LC1","OEZ:37927","PS-SM-B11","Выключатель","1x NO, 1x NC, для SM12, SM25, SM50, SM100, боковой монтаж","2 / -",4.4999999999999998E-2,0.155,7.3599999999999994,{"$f":"VLOOKUP(B4573,#REF!,3,FALSE)","v":{"$error":"#REF!"}}]
["Conteo","Conteo ST, SR, SM","LC1","OEZ:37928","NS-SM-11","Сигнальный выключатель","1x NO, 1x NC, для SM25, SM50, SM100, боковой монтаж","1 / -",9.4E-2,0.32200000000000001,14.11,{"$f":"VLOOKUP(B4574,#REF!,3,FALSE)","v":{"$error":"#REF!"}}]
[null,null,null,"Level  5","SP-SM, 3RV - Расцепители минимального напряжения"]
["Conteo","Conteo ST, SR, SM","LC1","OEZ:37929","SP-SM-A230","Расцепитель минимального напряжения","Uc AC 230 V","1 / -",0.13100000000000001,0.32200000000000001,22,{"$f":"VLOOKUP(B4576,#REF!,3,FALSE)","v":{"$error":"#REF!"}}]
["Conteo","Conteo ST, SR, SM","LC1","OEZ:37930","SP-SM-A400","Расцепитель минимального напряжения","Uc AC 400 V","1 / -",0.129,0.32200000000000001,22,{"$f":"VLOOKUP(B4577,#REF!,3,FALSE)","v":{"$error":"#REF!"}}]
[null,null,null,"Level  5","SV-SM - независимые расцепители"]
["Conteo","Conteo ST, SR, SM","LC1","OEZ:37931","SV-SM-X024","Независимый расцепитель","Uc AC/DC 20 ÷ 24 V","1 / -",0.13300000000000001,0.32200000000000001,22,{"$f":"VLOOKUP(B4579,#REF!,3,FALSE)","v":{"$error":"#REF!"}}]
["Conteo","Conteo ST, SR, SM","LC1","OEZ:37932","SV-SM-X230","Независимый расцепитель","Uc AC/DC 210 ÷ 240 V","1 / -",0.13,0.32200000000000001,22,{"$f":"VLOOKUP(B4580,#REF!,3,FALSE)","v":{"$error":"#REF!"}}]
["Conteo","Conteo ST, SR, SM","LC1","OEZ:37933","SV-SM-X400","Независимый расцепитель","Uc AC/DC 350 ÷ 415 V","1 / -",0.129,0.32200000000000001,22,{"$f":"VLOOKUP(B4581,#REF!,3,FALSE)","v":{"$error":"#REF!"}}]
[null,null,null,"Level  5","CS-SM - Соединительные рейки"]
["Conteo","Conteo ST, SR, SM","LC1","OEZ:37934","CS-SM253-2","Соединительная рейка","для SM12 a SM25, количество выводов 2","10 / -",4.3999999999999997E-2,4.0000000000000001E-3,7.06,{"$f":"VLOOKUP(B4583,#REF!,3,FALSE)","v":{"$error":"#REF!"}}]
["Conteo","Conteo ST, SR, SM","LC1","OEZ:37935","CS-SM253-3","Соединительная рейка","для SM12 a SM25, количество выводов 3","10 / -",7.0999999999999994E-2,6.0000000000000001E-3,8.69,{"$f":"VLOOKUP(B4584,#REF!,3,FALSE)","v":{"$error":"#REF!"}}]
["Conteo","Conteo ST, SR, SM","LC1","OEZ:37936","CS-SM253-4","Соединительная рейка","для SM12 a SM25, количество выводов 4","10 / -",9.9000000000000005E-2,8.0000000000000002E-3,9.58,{"$f":"VLOOKUP(B4585,#REF!,3,FALSE)","v":{"$error":"#REF!"}}]
["Conteo","Conteo ST, SR, SM","LC1","OEZ:37937","CS-SM253-5","Соединительная рейка","для SM12 a SM25, количество выводов 5","10 / -",0.124,2.5000000000000001E-2,10.73,{"$f":"VLOOKUP(B4586,#REF!,3,FALSE)","v":{"$error":"#REF!"}}]
[null,null,null,"Level  5","CS-SM-_-NB - Блоки питания"]
["Conteo","Conteo ST, SR, SM","LC1","OEZ:37938","CS-SM123-NB","Блок питания","для SM12","10 / -",0.04,3.2000000000000001E-2,6.97,{"$f":"VLOOKUP(B4588,#REF!,3,FALSE)","v":{"$error":"#REF!"}}]
["Conteo","Conteo ST, SR, SM","LC1","OEZ:37939","CS-SM253-NB","Блок питания","для SM25","10 / -",4.1000000000000002E-2,3.2000000000000001E-2,7.47,{"$f":"VLOOKUP(B4589,#REF!,3,FALSE)","v":{"$error":"#REF!"}}]
[null,null,null,"Level  5","OD-SM- Соединительные модули"]
["Conteo","Conteo ST, SR, SM","LC1","OEZ:38351","OD-SM12X-PM1","Соединительный модуль","для SM12-ST12, исполнение AC/DC","1 / -",2.7E-2,0.23400000000000001,3.3499999999999996,{"$f":"VLOOKUP(B4591,#REF!,3,FALSE)","v":{"$error":"#REF!"}}]
["Conteo","Conteo ST, SR, SM","LC1","OEZ:38352","OD-SM25X-PM1","Соединительный модуль","для SM25-ST25, исполнение AC","1 / -",3.6999999999999998E-2,0.3,4.93,{"$f":"VLOOKUP(B4592,#REF!,3,FALSE)","v":{"$error":"#REF!"}}]
["Conteo","Conteo ST, SR, SM","LC1","OEZ:38353","OD-SM50X-PM1","Соединительный модуль","для SM50-ST50, исполнение AC","1 / -",4.2000000000000003E-2,0.28000000000000003,10.049999999999999,{"$f":"VLOOKUP(B4593,#REF!,3,FALSE)","v":{"$error":"#REF!"}}]
["Conteo","Conteo ST, SR, SM","LC1","OEZ:38354","OD-SM100X-PM1","Соединительный модуль","для SM100-ST100, исполнение AC","1 / -",0.09,0.56999999999999995,11.36,{"$f":"VLOOKUP(B4594,#REF!,3,FALSE)","v":{"$error":"#REF!"}}]
[null,null,null,"Level  5","OD-SM- Изоляционные кожухи"]
["Conteo","Conteo ST, SR, SM","LC1","OEZ:37940","OD-SM123-K51","Изоляционный корпус","IP55, для SM12","1 / -",0.34200000000000003,2.6520000000000001,13.17,{"$f":"VLOOKUP(B4596,#REF!,3,FALSE)","v":{"$error":"#REF!"}}]
["Conteo","Conteo ST, SR, SM","LC1","OEZ:37941","OD-SM253-K52","Изоляционный корпус","IP55, для SM25","1 / -",0.38100000000000001,1.9890000000000001,13.22,{"$f":"VLOOKUP(B4597,#REF!,3,FALSE)","v":{"$error":"#REF!"}}]
["Conteo","Conteo ST, SR, SM","LC1","OEZ:37942","OD-SM253-K53","Изоляционный корпус","IP55, для SM25","1 / -",0.372,1.9890000000000001,15.799999999999999,{"$f":"VLOOKUP(B4598,#REF!,3,FALSE)","v":{"$error":"#REF!"}}]
["Conteo","Conteo ST, SR, SM","LC1","OEZ:37943","OD-SM123-TL","Кнопка для аварийной остановки","деблокировка поворотом","1 / -",0.108,0.30399999999999999,14.53,{"$f":"VLOOKUP(B4599,#REF!,3,FALSE)","v":{"$error":"#REF!"}}]
["Conteo","Conteo ST, SR, SM","LC1","OEZ:37944","OD-SM123-UV","Вставка для запирания","для висячего замка","1 / -",7.3999999999999996E-2,0.2,5.7299999999999995,{"$f":"VLOOKUP(B4600,#REF!,3,FALSE)","v":{"$error":"#REF!"}}]
["Conteo","Conteo ST, SR, SM","LC1","OEZ:37924","OD-SM-S-X400","Сигнальная лампа","Uc AC 380 ÷ 415 V","1 / -",2.5999999999999999E-2,0.2,8.0399999999999991,{"$f":"VLOOKUP(B4601,#REF!,3,FALSE)","v":{"$error":"#REF!"}}]
["Conteo","Conteo ST, SR, SM","LC1","OEZ:37923","OD-SM-S-X230","Сигнальная лампа","Uc AC 220 ÷ 240 V","1 / -",2.5999999999999999E-2,0.2,8.0399999999999991,{"$f":"VLOOKUP(B4602,#REF!,3,FALSE)","v":{"$error":"#REF!"}}]
[null,null,null,"Level  3","SM1E - Автоматические выключатели защиты двигателя экономичные"]
[null,null,null,"Level  4","SM1E - Автоматические выключатели защиты двигателя"]
["Conteo","Conteo SM1E","LC3","OEZ:39257","SM1E-0,16","Автоматический выключатель защиты двигателя","In 0,1 A ÷ 0,16 A","1 / -",0.22600000000000001,0.44800000000000001,28.82,{"$f":"VLOOKUP(B4605,#REF!,3,FALSE)","v":{"$error":"#REF!"}}]
["Conteo","Conteo SM1E","LC3","OEZ:39258","SM1E-0,25","Автоматический выключатель защиты двигателя","In 0,16 A ÷ 0,25 A","1 / -",0.22700000000000001,0.44800000000000001,28.82,{"$f":"VLOOKUP(B4606,#REF!,3,FALSE)","v":{"$error":"#REF!"}}]
["Conteo","Conteo SM1E","LC3","OEZ:39259","SM1E-0,4","Автоматический выключатель защиты двигателя","In 0,25 A ÷ 0,4 A","1 / -",0.22800000000000001,0.44800000000000001,28.82,{"$f":"VLOOKUP(B4607,#REF!,3,FALSE)","v":{"$error":"#REF!"}}]
["Conteo","Conteo SM1E","LC3","OEZ:39260","SM1E-0,63","Автоматический выключатель защиты двигателя","In 0,4 A ÷ 0,63 A","1 / -",0.22900000000000001,0.44800000000000001,28.82,{"$f":"VLOOKUP(B4608,#REF!,3,FALSE)","v":{"$error":"#REF!"}}]
["Conteo","Conteo SM1E","LC3","OEZ:39261","SM1E-1","Автоматический выключатель защиты двигателя","In 0,63 A ÷ 1 A","1 / -",0.22900000000000001,0.44800000000000001,28.82,{"$f":"VLOOKUP(B4609,#REF!,3,FALSE)","v":{"$error":"#REF!"}}]
["Conteo","Conteo SM1E","LC3","OEZ:39262","SM1E-1,6","Автоматический выключатель защиты двигателя","In 1 A ÷ 1,6 A","1 / -",0.23,0.44800000000000001,28.400000000000002,{"$f":"VLOOKUP(B4610,#REF!,3,FALSE)","v":{"$error":"#REF!"}}]
["Conteo","Conteo SM1E","LC3","OEZ:39263","SM1E-2,5","Автоматический выключатель защиты двигателя","In 1,6 A ÷ 2,5 A","1 / -",0.26500000000000001,0.44800000000000001,28.400000000000002,{"$f":"VLOOKUP(B4611,#REF!,3,FALSE)","v":{"$error":"#REF!"}}]
["Conteo","Conteo SM1E","LC3","OEZ:39264","SM1E-4","Автоматический выключатель защиты двигателя","In 2,5 A ÷ 4 A","1 / -",0.26500000000000001,0.44800000000000001,28.400000000000002,{"$f":"VLOOKUP(B4612,#REF!,3,FALSE)","v":{"$error":"#REF!"}}]
["Conteo","Conteo SM1E","LC3","OEZ:39265","SM1E-6,3","Автоматический выключатель защиты двигателя","In 4 A ÷ 6,3 A","1 / -",0.26900000000000002,0.44800000000000001,28.400000000000002,{"$f":"VLOOKUP(B4613,#REF!,3,FALSE)","v":{"$error":"#REF!"}}]
["Conteo","Conteo SM1E","LC3","OEZ:39266","SM1E-10","Автоматический выключатель защиты двигателя","In 6,3 A ÷ 10 A","1 / -",0.26500000000000001,0.44800000000000001,30.62,{"$f":"VLOOKUP(B4614,#REF!,3,FALSE)","v":{"$error":"#REF!"}}]
["Conteo","Conteo SM1E","LC3","OEZ:39267","SM1E-16","Автоматический выключатель защиты двигателя","In 10 A ÷ 16 A","1 / -",0.26700000000000002,0.44800000000000001,30.62,{"$f":"VLOOKUP(B4615,#REF!,3,FALSE)","v":{"$error":"#REF!"}}]
["Conteo","Conteo SM1E","LC3","OEZ:39268","SM1E-20","Автоматический выключатель защиты двигателя","In 16 A ÷ 20 A","1 / -",0.26600000000000001,0.44800000000000001,34.33,{"$f":"VLOOKUP(B4616,#REF!,3,FALSE)","v":{"$error":"#REF!"}}]
["Conteo","Conteo SM1E","LC3","OEZ:39269","SM1E-25","Автоматический выключатель защиты двигателя","In 20 A ÷ 25 A","1 / -",0.26800000000000002,0.44800000000000001,39.04,{"$f":"VLOOKUP(B4617,#REF!,3,FALSE)","v":{"$error":"#REF!"}}]
["Conteo","Conteo SM1E","LC3","OEZ:39311","SM1E-1,6-IP55","Автоматический выключатель защиты двигателя","In 1 A ÷ 1,6 A, изоляционный кожух IP55","1 / -",0.48199999999999998,1.2849999999999999,36.82,{"$f":"VLOOKUP(B4618,#REF!,3,FALSE)","v":{"$error":"#REF!"}}]
["Conteo","Conteo SM1E","LC3","OEZ:39312","SM1E-2,5-IP55","Автоматический выключатель защиты двигателя","In 1,6 A ÷ 2,5 A, изоляционный кожух IP55","1 / -",0.51600000000000001,1.2849999999999999,36.82,{"$f":"VLOOKUP(B4619,#REF!,3,FALSE)","v":{"$error":"#REF!"}}]
["Conteo","Conteo SM1E","LC3","OEZ:39313","SM1E-4-IP55","Автоматический выключатель защиты двигателя","In 2,5 A ÷ 4 A, изоляционный кожух IP55","1 / -",0.53200000000000003,1.2849999999999999,36.82,{"$f":"VLOOKUP(B4620,#REF!,3,FALSE)","v":{"$error":"#REF!"}}]
["Conteo","Conteo SM1E","LC3","OEZ:39314","SM1E-6,3-IP55","Автоматический выключатель защиты двигателя","In 4 A ÷ 6,3 A, изоляционный кожух IP55","1 / -",0.52100000000000002,1.2849999999999999,36.82,{"$f":"VLOOKUP(B4621,#REF!,3,FALSE)","v":{"$error":"#REF!"}}]
["Conteo","Conteo SM1E","LC3","OEZ:39315","SM1E-10-IP55","Автоматический выключатель защиты двигателя","In 6,3 A ÷ 10 A, изоляционный кожух IP55","1 / -",0.51700000000000002,1.2849999999999999,39.04,{"$f":"VLOOKUP(B4622,#REF!,3,FALSE)","v":{"$error":"#REF!"}}]
[null,null,null,"Level  4","OD-SM1E - Принадлежности"]
[null,null,null,"Level  5","PS-SM1E - Выключатели"]
["Conteo","Conteo SM1E","LC3","OEZ:39270","PS-SM1E-B11","Выключатель","1x NO, 1x NC, боковой монтаж","1 / -",3.4000000000000002E-2,0.19800000000000001,6.7299999999999995,{"$f":"VLOOKUP(B4625,#REF!,3,FALSE)","v":{"$error":"#REF!"}}]
["Conteo","Conteo SM1E","LC3","OEZ:39271","PS-SM1E-B20","Выключатель","2x NO, боковой монтаж","1 / -",3.4000000000000002E-2,0.19800000000000001,6.7299999999999995,{"$f":"VLOOKUP(B4626,#REF!,3,FALSE)","v":{"$error":"#REF!"}}]
["Conteo","Conteo SM1E","LC3","OEZ:39283","PS-SM1E-C11","Выключатель","1x NO, 1x NC, передний монтаж","1 / -",1.9E-2,0.13500000000000001,13.14,{"$f":"VLOOKUP(B4627,#REF!,3,FALSE)","v":{"$error":"#REF!"}}]
[null,null,null,"Level  5","SP-SM1E - Расцепители минимального напряжения"]
["Conteo","Conteo SM1E","LC3","OEZ:39275","SP-SM1E-A230","Расцепитель минимального напряжения","Uc AC 230 V","1 / -",6.3E-2,0.13500000000000001,13.31,{"$f":"VLOOKUP(B4629,#REF!,3,FALSE)","v":{"$error":"#REF!"}}]
["Conteo","Conteo SM1E","LC3","OEZ:39276","SP-SM1E-A400","Расцепитель минимального напряжения","Uc AC 400 V","1 / -",6.3E-2,0.13500000000000001,13.31,{"$f":"VLOOKUP(B4630,#REF!,3,FALSE)","v":{"$error":"#REF!"}}]
[null,null,null,"Level  5","SV-SM1E - независимые расцепители"]
["Conteo","Conteo SM1E","LC3","OEZ:39277","SV-SM1E-A024","Независимый расцепитель","Uc AC 24 V","1 / -",6.3E-2,0.13500000000000001,13.31,{"$f":"VLOOKUP(B4632,#REF!,3,FALSE)","v":{"$error":"#REF!"}}]
["Conteo","Conteo SM1E","LC3","OEZ:39280","SV-SM1E-A230","Независимый расцепитель","Uc AC 230 V","1 / -",6.3E-2,0.13500000000000001,13.31,{"$f":"VLOOKUP(B4633,#REF!,3,FALSE)","v":{"$error":"#REF!"}}]
["Conteo","Conteo SM1E","LC3","OEZ:39281","SV-SM1E-A400","Независимый расцепитель","Uc AC 400 V","1 / -",6.3E-2,0.13500000000000001,13.31,{"$f":"VLOOKUP(B4634,#REF!,3,FALSE)","v":{"$error":"#REF!"}}]
[null,null,null,"Level  5","G-3L - Соединительные рейки"]
["Conteo","Conteo SM1E","LC3","OEZ:00182","G-3L-MS-M2","Соединительная рейка","для 2x SM1E","1 / -",2.8000000000000001E-2,5.5E-2,6.41,{"$f":"VLOOKUP(B4636,#REF!,3,FALSE)","v":{"$error":"#REF!"}}]
["Conteo","Conteo SM1E","LC3","OEZ:00183","G-3L-MS-M3","Соединительная рейка","для 3x SM1E","1 / -",0.05,8.2000000000000003E-2,8.16,{"$f":"VLOOKUP(B4637,#REF!,3,FALSE)","v":{"$error":"#REF!"}}]
["Conteo","Conteo SM1E","LC3","OEZ:00184","G-3L-MS-M4","Соединительная рейка","для 4x SM1E","1 / -",7.2999999999999995E-2,0.11,12.04,{"$f":"VLOOKUP(B4638,#REF!,3,FALSE)","v":{"$error":"#REF!"}}]
[null,null,null,"Level  5","ESB - Блоки питания"]
["Conteo","Conteo SM1E","LC3","OEZ:18350","ESB-G-MS2","Блок питания","для SM1E","1 / -",4.2999999999999997E-2,0.06,5.16,{"$f":"VLOOKUP(B4640,#REF!,3,FALSE)","v":{"$error":"#REF!"}}]
[null,null,null,"Level  5","OD-SM1E - Изоляционные кожухи"]
["Conteo","Conteo SM1E","LC3","OEZ:39284","OD-SM1E-K41","Изоляционный корпус","IP41, настенный монтаж","1 / -",0.25600000000000001,1.2849999999999999,7.71,{"$f":"VLOOKUP(B4642,#REF!,3,FALSE)","v":{"$error":"#REF!"}}]
["Conteo","Conteo SM1E","LC3","OEZ:39285","OD-SM1E-K55","Изоляционный корпус","IP55, настенный монтаж","1 / -",0.26600000000000001,1.2849999999999999,8.42,{"$f":"VLOOKUP(B4643,#REF!,3,FALSE)","v":{"$error":"#REF!"}}]
["Conteo","Conteo SM1E","LC3","OEZ:39288","OD-SM1E-TL","Кнопка для аварийной остановки","деблокировка поворотом","1 / -",5.3999999999999999E-2,0.47,10.17,{"$f":"VLOOKUP(B4644,#REF!,3,FALSE)","v":{"$error":"#REF!"}}]
["Conteo","Conteo SM1E","LC3","OEZ:39289","OD-SM1E-TLK","Кнопка для аварийной остановки","деблокировка ключом","1 / -",5.3999999999999999E-2,0.60099999999999998,14.2,{"$f":"VLOOKUP(B4645,#REF!,3,FALSE)","v":{"$error":"#REF!"}}]
["Conteo","Conteo SM1E","LC3","OEZ:39290","OD-SM1E-UV","Вставка для запирания","стандартное исполнение","1 / -",9.8000000000000004E-2,0.35,6.3199999999999994,{"$f":"VLOOKUP(B4646,#REF!,3,FALSE)","v":{"$error":"#REF!"}}]
["Conteo","Conteo SM1E","LC3","OEZ:39293","OD-SM1E-SE-A230","Сигнальная лампа","Uc AC 230 V, зеленый цвет","1 / -",6.0000000000000001E-3,0.01,8.42,{"$f":"VLOOKUP(B4647,#REF!,3,FALSE)","v":{"$error":"#REF!"}}]
["Conteo","Conteo SM1E","LC3","OEZ:39294","OD-SM1E-SE-A400","Сигнальная лампа","Uc AC 400 V, зеленый цвет","1 / -",6.0000000000000001E-3,0.01,8.42,{"$f":"VLOOKUP(B4648,#REF!,3,FALSE)","v":{"$error":"#REF!"}}]
["Conteo","Conteo SM1E","LC3","OEZ:39295","OD-SM1E-SG-A230","Сигнальная лампа","Uc AC 230 V, белый цвет","1 / -",6.0000000000000001E-3,0.01,8.42,{"$f":"VLOOKUP(B4649,#REF!,3,FALSE)","v":{"$error":"#REF!"}}]
["Conteo","Conteo SM1E","LC3","OEZ:39296","OD-SM1E-SG-A400","Сигнальная лампа","Uc AC 400 V, белый цвет","1 / -",6.0000000000000001E-3,0.01,8.42,{"$f":"VLOOKUP(B4650,#REF!,3,FALSE)","v":{"$error":"#REF!"}}]
["Conteo","Conteo SM1E","LC3","OEZ:39297","OD-SM1E-SC-A230","Сигнальная лампа","Uc AC 230 V, красный цвет","1 / -",6.0000000000000001E-3,0.01,8.42,{"$f":"VLOOKUP(B4651,#REF!,3,FALSE)","v":{"$error":"#REF!"}}]
["Conteo","Conteo SM1E","LC3","OEZ:39298","OD-SM1E-SC-A400","Сигнальная лампа","Uc AC 400 V, красный цвет","1 / -",6.0000000000000001E-3,0.01,8.42,{"$f":"VLOOKUP(B4652,#REF!,3,FALSE)","v":{"$error":"#REF!"}}]
["Conteo","Conteo SM1E","LC3","OEZ:39292","OD-SM1E-NL","Соединение рабочего провода","стандартное исполнение","1 / -",0.01,0.104,1.81,{"$f":"VLOOKUP(B4653,#REF!,3,FALSE)","v":{"$error":"#REF!"}}]
["Conteo","Conteo SM1E","LC3","OEZ:39291","OD-SM1E-M","Клавишная мембрана","стандартное исполнение","1 / -",1.2E-2,8.3000000000000004E-2,2.88,{"$f":"VLOOKUP(B4654,#REF!,3,FALSE)","v":{"$error":"#REF!"}}]
["Conteo","Conteo SM1E","LC3","OEZ:39282","OD-SM1E-PV","Пластиковая втулка","2 шт., IP55, настенный монтаж","1 / -",1.6E-2,0.13,2.1999999999999997,{"$f":"VLOOKUP(B4655,#REF!,3,FALSE)","v":{"$error":"#REF!"}}]
[null,null,null,"Level  1","Распределительные щиты и шкафы Distri"]
[null,null,null,"Level  2","Распределительные щиты DistriTon"]
[null,null,null,"Level  3","RZA - Металлопластиковые щиты (IP30)"]
[null,null,null,"Level  4","RZA - Встраиваемые щиты"]
["Distri","Distri","LR1","OEZ:42599","RZA-Z-1S14 (RZA-1N14)","Распределительный щит","для скрытого монтажа непрозрачная дверца из листовой стали, количество рядов 1, количество модулей в ряду 14, степень защиты IP30, PE+N, белый цвет, материал : сталь-пластик","1 / 6",2.2400000000000002,13.82,42.39,{"$f":"VLOOKUP(B4660,#REF!,3,FALSE)","v":{"$error":"#REF!"}}]
["Distri","Distri","LR1","OEZ:42600","RZA-Z-2S28 (RZA-2N28)","Распределительный щит","для скрытого монтажа непрозрачная дверца из листовой стали, количество рядов 2, количество модулей в ряду 14, степень защиты IP30, PE+N, белый цвет, материал : сталь-пластик","1 / 6",3.16,19.39,52.62,{"$f":"VLOOKUP(B4661,#REF!,3,FALSE)","v":{"$error":"#REF!"}}]
["Distri","Distri","LR1","OEZ:42601","RZA-Z-3S42 (RZA-3N42)","Распределительный щит","для скрытого монтажа непрозрачная дверца из листовой стали, количество рядов 3, количество модулей в ряду 14, степень защиты IP30, PE+N, белый цвет, материал : сталь-пластик","1 / 3",4.38,26.81,76.240000000000009,{"$f":"VLOOKUP(B4662,#REF!,3,FALSE)","v":{"$error":"#REF!"}}]
["Distri","Distri","LR1","OEZ:42602","RZA-Z-4S56 (RZA-4N56)","Распределительный щит","для скрытого монтажа непрозрачная дверца из листовой стали, количество рядов 4, количество модулей в ряду 14, степень защиты IP30, PE+N, белый цвет, материал : сталь-пластик","1 / 3",5.23,32.380000000000003,89.13000000000001,{"$f":"VLOOKUP(B4663,#REF!,3,FALSE)","v":{"$error":"#REF!"}}]
[null,null,null,"Level  4","RZA_H - Встраиваемые щиты для полых стен"]
["Distri","Distri","LR1","OEZ:42603","RZA-Z-1S14-H (RZA-1N14-H)","Распределительный щит","для скрытого монтажа , 850°C непрозрачная дверца из листовой стали, количество рядов 1, количество модулей в ряду 14, степень защиты IP30, PE+N, белый цвет, материал : сталь-пластик","1 / 6",2.2400000000000002,13.82,61.15,{"$f":"VLOOKUP(B4665,#REF!,3,FALSE)","v":{"$error":"#REF!"}}]
["Distri","Distri","LR1","OEZ:42604","RZA-Z-2S28-H (RZA-2N28-H)","Распределительный щит","для скрытого монтажа , 850°C непрозрачная дверца из листовой стали, количество рядов 2, количество модулей в ряду 14, степень защиты IP30, PE+N, белый цвет, материал : сталь-пластик","1 / 6",3.16,19.39,75.910000000000011,{"$f":"VLOOKUP(B4666,#REF!,3,FALSE)","v":{"$error":"#REF!"}}]
["Distri","Distri","LR1","OEZ:42605","RZA-Z-3S42-H (RZA-3N42-H)","Распределительный щит","для скрытого монтажа , 850°C непрозрачная дверца из листовой стали, количество рядов 3, количество модулей в ряду 14, степень защиты IP30, PE+N, белый цвет, материал : сталь-пластик","1 / 3",4.38,26.81,110,{"$f":"VLOOKUP(B4667,#REF!,3,FALSE)","v":{"$error":"#REF!"}}]
["Distri","Distri","LR1","OEZ:42606","RZA-Z-4S56-H (RZA-4N56-H)","Распределительный щит","для скрытого монтажа , 850°C непрозрачная дверца из листовой стали, количество рядов 4, количество модулей в ряду 14, степень защиты IP30, PE+N, белый цвет, материал : сталь-пластик","1 / 3",5.23,32.380000000000003,128.57999999999998,{"$f":"VLOOKUP(B4668,#REF!,3,FALSE)","v":{"$error":"#REF!"}}]
[null,null,null,"Level  4","RZA_IT - Встраиваемые щиты данных"]
["Distri","Distri","LR1","OEZ:44578","RZA-Z-3S14-IT2","Распределительный щит","для скрытого монтажа непрозрачная дверца из листовой стали, количество рядов 1, количество модулей в ряду 14, степень защиты IP30, белый цвет, материал : сталь-пластик, 2x приборная панель, 1x соединительный комплект, без передней крышки","1 / 3",3.74,26.454999999999998,79.88000000000001,{"$f":"VLOOKUP(B4670,#REF!,3,FALSE)","v":{"$error":"#REF!"}}]
[null,null,null,"Level  4","PD-RA - Принадлежности"]
["Distri","Distri","LR1","OEZ:42613","PD-RA-UZA (PD-RZA-UZA)","Замок","количество ключей 2, для RZA","1 / -",2.1999999999999999E-2,3.5000000000000003E-2,16.690000000000001,{"$f":"VLOOKUP(B4672,#REF!,3,FALSE)","v":{"$error":"#REF!"}}]
["Distri","Distri","LR1","OEZ:42616","PD-RA-DHA (PD-RZA-DHA)","Крепеж","для монтажа на строительные (гипсокартонные) листы или в полые стены, комплект, 4 шт., для RZA","1 / -",4.4999999999999998E-2,0.09,3.8899999999999997,{"$f":"VLOOKUP(B4673,#REF!,3,FALSE)","v":{"$error":"#REF!"}}]
["Distri","Distri","LR1","OEZ:42618","PD-RA-KPE17 (PD-RZA-KPE17)","Крышкa","для блока зажимов, PE 13 x 6 mm2 + 4 x 16 mm2, для RZA","1 / -",0.01,5.1999999999999998E-2,0.45,{"$f":"VLOOKUP(B4674,#REF!,3,FALSE)","v":{"$error":"#REF!"}}]
["Distri","Distri","LR1","OEZ:42619","PD-RA-KN17 (PD-RZA-KN17)","Крышкa","для блока зажимов, N 13 x 6 mm2 + 4 x 16 mm2, для RZA","1 / -",0.01,5.1999999999999998E-2,0.45,{"$f":"VLOOKUP(B4675,#REF!,3,FALSE)","v":{"$error":"#REF!"}}]
["Distri","Distri","LR1","OEZ:40601","PD-RA-ZAS-B (PD-R-ZAS-B)","Заглушка","ширина 6 модулей, белый цвет, для прорези 45 mm","1 / -",1.2E-2,1.08,6.5,{"$f":"VLOOKUP(B4676,#REF!,3,FALSE)","v":{"$error":"#REF!"}}]
["Distri","Distri","LR1","OEZ:42615","PD-RA-SPCA (PD-RZA-SPCA)","Монтажный комплект","для горизонтального и вертикального присоединение распределительных шкафов, комплект, 2 шт., для RZA","1 / -",0.02,9.8000000000000004E-2,0.95,{"$f":"VLOOKUP(B4677,#REF!,3,FALSE)","v":{"$error":"#REF!"}}]
["Distri","Distri","LR1","OEZ:42612","PD-RA-SB5N (PD-RZA-SB5N)","Блок зажимов","N 5 x 6 mm2, для RZA","1 / -",2.3E-2,3.5000000000000003E-2,3.6199999999999997,{"$f":"VLOOKUP(B4678,#REF!,3,FALSE)","v":{"$error":"#REF!"}}]
["Distri","Distri","LR1","OEZ:42607","PD-RA-SB17PE17N (PD-RZA-SB17PE17N)","Блок зажимов","PE 13 x 6 mm2 + 4 x 16 mm2, N 13 x 6 mm2 + 4 x 16 mm2, для RZA","1 / -",0.15,0.17399999999999999,7.92,{"$f":"VLOOKUP(B4679,#REF!,3,FALSE)","v":{"$error":"#REF!"}}]
["Distri","Distri","LR1","OEZ:42608","PD-RA-SB24PE (PD-RZA-SB24PE)","Блок зажимов","PE 18 x 6 mm2 + 6 x 16 mm2, для RZA","1 / -",0.1,0.17399999999999999,6.7,{"$f":"VLOOKUP(B4680,#REF!,3,FALSE)","v":{"$error":"#REF!"}}]
["Distri","Distri","LR1","OEZ:42609","PD-RA-SB24N (PD-RZA-SB24N)","Блок зажимов","N 18 x 6 mm2 + 6 x 16 mm2, для RZA","1 / -",0.1,0.17399999999999999,6.7,{"$f":"VLOOKUP(B4681,#REF!,3,FALSE)","v":{"$error":"#REF!"}}]
["Distri","Distri","LR1","OEZ:42610","PD-RA-SB34PE (PD-RZA-SB34PE)","Блок зажимов","PE 28 x 6 mm2 + 6 x 16 mm2, для RZA","1 / -",0.15,0.17399999999999999,7.9799999999999995,{"$f":"VLOOKUP(B4682,#REF!,3,FALSE)","v":{"$error":"#REF!"}}]
["Distri","Distri","LR1","OEZ:42611","PD-RA-SB34N (PD-RZA-SB34N)","Блок зажимов","N 28 x 6 mm2 + 6 x 16 mm2, для RZA","1 / -",0.15,0.17399999999999999,7.9799999999999995,{"$f":"VLOOKUP(B4683,#REF!,3,FALSE)","v":{"$error":"#REF!"}}]
[null,null,null,"Level  4","ND-RA - Запасные части"]
["Distri","Distri","LR1","OEZ:45683","ND-RA-DR1S14","дверца и передняя рама","полный комплект дверцы с передней рамой, ( включая затвор, петли и болты для крепления к основанию ), для RZA-Z-1S14","1 / -",1.105,6.2270000000000003,22.150000000000002,{"$f":"VLOOKUP(B4685,#REF!,3,FALSE)","v":{"$error":"#REF!"}}]
["Distri","Distri","LR1","OEZ:45684","ND-RA-DR2S28","дверца и передняя рама","полный комплект дверцы с передней рамой, ( включая затвор, петли и болты для крепления к основанию ), для RZA-Z-2S28","1 / -",1.512,8.7829999999999995,25.580000000000002,{"$f":"VLOOKUP(B4686,#REF!,3,FALSE)","v":{"$error":"#REF!"}}]
["Distri","Distri","LR1","OEZ:45685","ND-RA-DR3S42","дверца и передняя рама","полный комплект дверцы с передней рамой, ( включая затвор, петли и болты для крепления к основанию ), для RZA-Z-3S42","1 / -",1.9850000000000001,12.209,30.150000000000002,{"$f":"VLOOKUP(B4687,#REF!,3,FALSE)","v":{"$error":"#REF!"}}]
["Distri","Distri","LR1","OEZ:45686","ND-RA-DR4S56","дверца и передняя рама","полный комплект дверцы с передней рамой, ( включая затвор, петли и болты для крепления к основанию ), для RZA-Z-4S56","1 / -",2.3639999999999999,14.763999999999999,37.03,{"$f":"VLOOKUP(B4688,#REF!,3,FALSE)","v":{"$error":"#REF!"}}]
["Distri","Distri","LR1","OEZ:45689","ND-RA-PDAP","Петля и палец","петля двери и палец, для RZA","1 / -",2E-3,7.0000000000000007E-2,0.83,{"$f":"VLOOKUP(B4689,#REF!,3,FALSE)","v":{"$error":"#REF!"}}]
["Distri","Distri","LR1","OEZ:42630","ND-RA-UA (ND-RZA-UA)","Запирание","запирание, для RZA","1 / -",1.2E-2,0.04,1.69,{"$f":"VLOOKUP(B4690,#REF!,3,FALSE)","v":{"$error":"#REF!"}}]
["Distri","Distri","LR1","OEZ:42648","ND-RA-SCRZ-2 (ND-RZA-SCRZ-2)","Комплект винтов","винты и держатель для крепления передней рамы, 2 шт., для RZA","1 / -",7.0000000000000001E-3,1.6E-2,1.07,{"$f":"VLOOKUP(B4691,#REF!,3,FALSE)","v":{"$error":"#REF!"}}]
["Distri","Distri","LR1","OEZ:45687","ND-RA-PPIT","Приборная панель","приборная панель, для RZA-Z-3S14-IT2","1 / -",0.11,0.46500000000000002,2.67,{"$f":"VLOOKUP(B4692,#REF!,3,FALSE)","v":{"$error":"#REF!"}}]
["Distri","Distri","LR1","OEZ:42614","PD-RA-4MU (PD-RZA-4MU)","Крепеж","для удобной установки на стену, комплект, 4 шт., для RZA","1 / -",0.02,3.5000000000000003E-2,1.49,{"$f":"VLOOKUP(B4693,#REF!,3,FALSE)","v":{"$error":"#REF!"}}]
["Distri","Distri","LR1","OEZ:42631","ND-RA-KMV1S14 (ND-RZA-KMV1N14)","Передняя крышка","передняя крышка, для RZA-Z-1S14","1 / -",0.189,2.3090000000000002,4.63,{"$f":"VLOOKUP(B4694,#REF!,3,FALSE)","v":{"$error":"#REF!"}}]
["Distri","Distri","LR1","OEZ:42632","ND-RA-KMV2S28 (ND-RZA-KMV2N28)","Передняя крышка","передняя крышка, для RZA-Z-2S28","1 / -",0.254,3.55,5.7,{"$f":"VLOOKUP(B4695,#REF!,3,FALSE)","v":{"$error":"#REF!"}}]
["Distri","Distri","LR1","OEZ:42633","ND-RA-KMV3S42 (ND-RZA-KMV3N42)","Передняя крышка","передняя крышка, для RZA-Z-3S42","1 / -",0.34200000000000003,5.2149999999999999,7.24,{"$f":"VLOOKUP(B4696,#REF!,3,FALSE)","v":{"$error":"#REF!"}}]
["Distri","Distri","LR1","OEZ:42634","ND-RA-KMV4S56 (ND-RZA-KMV4N56)","Передняя крышка","передняя крышка, для RZA-Z-4S56","1 / -",0.40300000000000002,6.4569999999999999,8.24,{"$f":"VLOOKUP(B4697,#REF!,3,FALSE)","v":{"$error":"#REF!"}}]
["Distri","Distri","LR1","OEZ:42621","ND-RA-D1S14 (ND-RZA-D1N14)","Дверца","дверца без запирания и петель, для RZA-Z-1S14","1 / -",0.57899999999999996,0.99,14.709999999999999,{"$f":"VLOOKUP(B4698,#REF!,3,FALSE)","v":{"$error":"#REF!"}}]
["Distri","Distri","LR1","OEZ:42622","ND-RA-D2S28 (ND-RZA-D2N28)","Дверца","дверца без запирания и петель, для RZA-Z-2S28","1 / -",0.86899999999999999,1.476,18.03,{"$f":"VLOOKUP(B4699,#REF!,3,FALSE)","v":{"$error":"#REF!"}}]
["Distri","Distri","LR1","OEZ:42623","ND-RA-D3S42 (ND-RZA-D3N42)","Дверца","дверца без запирания и петель, для RZA-Z-3S42","1 / -",1.19,2.1280000000000001,21.23,{"$f":"VLOOKUP(B4700,#REF!,3,FALSE)","v":{"$error":"#REF!"}}]
["Distri","Distri","LR1","OEZ:42624","ND-RA-D4S56 (ND-RZA-D4N56)","Дверца","дверца без запирания и петель, для RZA-Z-4S56","1 / -",1.452,2.6139999999999999,26.180000000000003,{"$f":"VLOOKUP(B4701,#REF!,3,FALSE)","v":{"$error":"#REF!"}}]
["Distri","Distri","LR1","OEZ:45688","ND-RA-D3S14-IT2","Дверца","перфорированные дверца без запирания и петель, для RZA-Z-3S14-IT2","1 / -",1.2,2.145,21.26,{"$f":"VLOOKUP(B4702,#REF!,3,FALSE)","v":{"$error":"#REF!"}}]
["Distri","Distri","LR1","OEZ:42625","ND-RA-CR1S14 (ND-RZA-CR1N14)","Передняя рама","передняя рама без петель и винтов, для RZA-Z-1S14","1 / -",0.505,4.0250000000000004,13.82,{"$f":"VLOOKUP(B4703,#REF!,3,FALSE)","v":{"$error":"#REF!"}}]
["Distri","Distri","LR1","OEZ:42626","ND-RA-CR2S28 (ND-RZA-CR2N28)","Передняя рама","передняя рама без петель и винтов, для RZA-Z-2S28","1 / -",0.622,5.6859999999999999,16.100000000000001,{"$f":"VLOOKUP(B4704,#REF!,3,FALSE)","v":{"$error":"#REF!"}}]
["Distri","Distri","LR1","OEZ:42627","ND-RA-CR3S42 (ND-RZA-CR3N42)","Передняя рама","передняя рама без петель и винтов, для RZA-Z-3S42","1 / -",0.77400000000000002,7.9139999999999997,19.860000000000003,{"$f":"VLOOKUP(B4705,#REF!,3,FALSE)","v":{"$error":"#REF!"}}]
["Distri","Distri","LR1","OEZ:42628","ND-RA-CR4S56 (ND-RZA-CR4N56)","Передняя рама","передняя рама без петель и винтов, для RZA-Z-4S56","1 / -",0.89100000000000001,9.5760000000000005,25.41,{"$f":"VLOOKUP(B4706,#REF!,3,FALSE)","v":{"$error":"#REF!"}}]
["Distri","Distri","LR1","OEZ:42635","ND-RA-R1S14 (ND-RZA-R1N14)","U рейка","U рейка, для RZA-Z-1S14 и RZA-Z-3S14-IT2","1 / -",9.2999999999999999E-2,7.2999999999999995E-2,1.9,{"$f":"VLOOKUP(B4707,#REF!,3,FALSE)","v":{"$error":"#REF!"}}]
["Distri","Distri","LR1","OEZ:42636","ND-RA-R2S28 (ND-RZA-R2N28)","Монтажная рама","рама \"U\" реек, для RZA-Z-2S28","1 / -",0.27900000000000003,0.496,9.43,{"$f":"VLOOKUP(B4708,#REF!,3,FALSE)","v":{"$error":"#REF!"}}]
["Distri","Distri","LR1","OEZ:42637","ND-RA-R3S42 (ND-RZA-R3N42)","Монтажная рама","рама \"U\" реек, для RZA-Z-3S42","1 / -",0.44700000000000001,0.93300000000000005,13.94,{"$f":"VLOOKUP(B4709,#REF!,3,FALSE)","v":{"$error":"#REF!"}}]
["Distri","Distri","LR1","OEZ:42638","ND-RA-R4S56 (ND-RZA-R4N56)","Монтажная рама","рама \"U\" реек, для RZA-Z-4S56","1 / -",0.61699999999999999,1.3460000000000001,19.12,{"$f":"VLOOKUP(B4710,#REF!,3,FALSE)","v":{"$error":"#REF!"}}]
["Distri","Distri","LR1","OEZ:42639","ND-RA-V1S14 (ND-RZA-V1N14)","Основание","основание, для RZA-Z-1S14","1 / -",0.42199999999999999,9.7469999999999999,8.9599999999999991,{"$f":"VLOOKUP(B4711,#REF!,3,FALSE)","v":{"$error":"#REF!"}}]
["Distri","Distri","LR1","OEZ:42640","ND-RA-V2S28 (ND-RZA-V2N28)","Основание","основание, для RZA-Z-2S28","1 / -",0.57999999999999996,13.951000000000001,11.59,{"$f":"VLOOKUP(B4712,#REF!,3,FALSE)","v":{"$error":"#REF!"}}]
["Distri","Distri","LR1","OEZ:42641","ND-RA-V3S42 (ND-RZA-V3N42)","Основание","основание, для RZA-Z-3S42 и RZA-Z-3S14-IT2","1 / -",0.83,19.587,16.220000000000002,{"$f":"VLOOKUP(B4713,#REF!,3,FALSE)","v":{"$error":"#REF!"}}]
["Distri","Distri","LR1","OEZ:43017","ND-RA-V4S56 (ND-RZA-V4N56)","Основание","основание, для RZA-Z-4S56","1 / -",0.97899999999999998,23.791,18.62,{"$f":"VLOOKUP(B4714,#REF!,3,FALSE)","v":{"$error":"#REF!"}}]
["Distri","Distri","LR1","OEZ:42643","ND-RA-V1S14-H (ND-RZA-V1N14-H)","Основание","основание, для RZA-Z-1S14-H","1 / -",0.42199999999999999,9.7469999999999999,14,{"$f":"VLOOKUP(B4715,#REF!,3,FALSE)","v":{"$error":"#REF!"}}]
["Distri","Distri","LR1","OEZ:42644","ND-RA-V2S28-H (ND-RZA-V2N28-H)","Основание","основание, для RZA-Z-2S28-H","1 / -",0.57999999999999996,13.951000000000001,18.350000000000001,{"$f":"VLOOKUP(B4716,#REF!,3,FALSE)","v":{"$error":"#REF!"}}]
["Distri","Distri","LR1","OEZ:42645","ND-RA-V3S42-H (ND-RZA-V3N42-H)","Основание","основание, для RZA-Z-3S42-H","1 / -",0.83,19.587,26.35,{"$f":"VLOOKUP(B4717,#REF!,3,FALSE)","v":{"$error":"#REF!"}}]
["Distri","Distri","LR1","OEZ:42646","ND-RA-V4S56-H (ND-RZA-V4N56-H)","Основание","основание, для RZA-Z-4S56-H","1 / -",0.97899999999999998,23.791,30.240000000000002,{"$f":"VLOOKUP(B4718,#REF!,3,FALSE)","v":{"$error":"#REF!"}}]
["Distri","Distri","LR1","OEZ:42647","ND-RA-VP (ND-RZA-VP)","проходной изолятор","Проходной изолятор, для RZA","1 / -",6.4000000000000001E-2,0.95899999999999996,1.75,{"$f":"VLOOKUP(B4719,#REF!,3,FALSE)","v":{"$error":"#REF!"}}]
["Distri","Distri","LR1","OEZ:42805","ND-RA-VP-H (ND-RZA-VP-H)","проходной изолятор","Проходной изолятор, для RZA-..-H","1 / -",6.4000000000000001E-2,0.95899999999999996,2.5199999999999996,{"$f":"VLOOKUP(B4720,#REF!,3,FALSE)","v":{"$error":"#REF!"}}]
["Distri","Distri","LR1","OEZ:42650","ND-RA-DPEN34 (ND-RZA-DPEN34)","Держатель","держатель блоков зажимов, для RZA","1 / -",2.3E-2,0.13800000000000001,1.1599999999999999,{"$f":"VLOOKUP(B4721,#REF!,3,FALSE)","v":{"$error":"#REF!"}}]
["Distri","Distri","LR1","OEZ:42651","ND-RA-DN5 (ND-RZA-DN5)","Держатель","держатель блоков зажимов 5 x 6 mm2, для RZA","1 / -",5.0000000000000001E-3,0.02,2.6399999999999997,{"$f":"VLOOKUP(B4722,#REF!,3,FALSE)","v":{"$error":"#REF!"}}]
["Distri","Distri","LR1","OEZ:42652","ND-RA-KN5 (ND-RZA-KN5)","Крышкa","для блока зажимов, N 5 x 6 mm2, для RZA","1 / -",1E-3,8.9999999999999993E-3,4.0699999999999994,{"$f":"VLOOKUP(B4723,#REF!,3,FALSE)","v":{"$error":"#REF!"}}]
["Distri","Distri","LR1","OEZ:42653","ND-RA-SB17 (ND-RZA-SB17)","Блок зажимов","блок зажимов 13 x 6 mm2 + 4 x 16 mm2, для RZA","1 / -",0.05,6.0000000000000001E-3,5.84,{"$f":"VLOOKUP(B4724,#REF!,3,FALSE)","v":{"$error":"#REF!"}}]
["Distri","Distri","LR1","OEZ:42654","ND-RA-SB24 (ND-RZA-SB24)","Блок зажимов","блок зажимов 18 x 6 mm2 + 6 x 16 mm2, для RZA","1 / -",7.3999999999999996E-2,0.01,4.24,{"$f":"VLOOKUP(B4725,#REF!,3,FALSE)","v":{"$error":"#REF!"}}]
["Distri","Distri","LR1","OEZ:42655","ND-RA-SB34 (ND-RZA-SB34)","Блок зажимов","блок зажимов 28 x 6 mm2 + 6 x 16 mm2, для RZA","1 / -",0.10100000000000001,1.2999999999999999E-2,5.67,{"$f":"VLOOKUP(B4726,#REF!,3,FALSE)","v":{"$error":"#REF!"}}]
["Distri","Distri","LR1","OEZ:42656","ND-RA-SB5 (ND-RZA-SB5)","Блок зажимов","блок зажимов 5 x 6 mm2, для RZA","1 / -",1.4999999999999999E-2,2E-3,1.01,{"$f":"VLOOKUP(B4727,#REF!,3,FALSE)","v":{"$error":"#REF!"}}]
["Distri","Distri","LR1","OEZ:42649","ND-RA-SCUZ-2 (ND-RZA-SCUZ-2)","Комплект винтов","винты для крепления рамы \"U\" реек, для RZA","1 / -",2E-3,1.6E-2,0.6,{"$f":"VLOOKUP(B4728,#REF!,3,FALSE)","v":{"$error":"#REF!"}}]
[null,null,null,"Level  3","RZB - Щиты из листовой стали (IP30)"]
[null,null,null,"Level  4","RZB-Z - Встраиваемые щиты"]
["Distri","Distri","LR1","OEZ:44451","RZB-Z-3S72","Распределительный щит","для скрытого монтажа, непрозрачная дверца, количество рядов 3, количество модулей в ряду 24, степень защиты IP30, PE+N, цвет RAL9003, материал : листовая сталь","1 / -",13.5,58.44,220.5,{"$f":"VLOOKUP(B4731,#REF!,3,FALSE)","v":{"$error":"#REF!"}}]
["Distri","Distri","LR1","OEZ:44452","RZB-Z-4S96","Распределительный щит","для скрытого монтажа, непрозрачная дверца, количество рядов 4, количество модулей в ряду 24, степень защиты IP30, PE+N, цвет RAL9003, материал : листовая сталь","1 / -",16.43,71.92,249.13,{"$f":"VLOOKUP(B4732,#REF!,3,FALSE)","v":{"$error":"#REF!"}}]
["Distri","Distri","LR1","OEZ:44453","RZB-Z-5S120","Распределительный щит","для скрытого монтажа, непрозрачная дверца, количество рядов 5, количество модулей в ряду 24, степень защиты IP30, PE+N, цвет RAL9003, материал : листовая сталь","1 / -",19.440000000000001,84.96,307.33999999999997,{"$f":"VLOOKUP(B4733,#REF!,3,FALSE)","v":{"$error":"#REF!"}}]
["Distri","Distri","LR1","OEZ:44454","RZB-Z-6S144","Распределительный щит","для скрытого монтажа, непрозрачная дверца, количество рядов 6, количество модулей в ряду 24, степень защиты IP30, PE+N, цвет RAL9003, материал : листовая сталь","1 / -",22.75,97.99,341.4,{"$f":"VLOOKUP(B4734,#REF!,3,FALSE)","v":{"$error":"#REF!"}}]
["Distri","Distri","LR1","OEZ:44455","RZB-Z-4S132","Распределительный щит","для скрытого монтажа, непрозрачная дверца, количество рядов 4, количество модулей в ряду 33, степень защиты IP30, PE+N, цвет RAL9003, материал : листовая сталь","1 / -",20.5,91.8,294.45,{"$f":"VLOOKUP(B4735,#REF!,3,FALSE)","v":{"$error":"#REF!"}}]
["Distri","Distri","LR1","OEZ:44456","RZB-Z-5S165","Распределительный щит","для скрытого монтажа, непрозрачная дверца, количество рядов 5, количество модулей в ряду 33, степень защиты IP30, PE+N, цвет RAL9003, материал : листовая сталь","1 / -",23.75,109.7,356.57,{"$f":"VLOOKUP(B4736,#REF!,3,FALSE)","v":{"$error":"#REF!"}}]
["Distri","Distri","LR1","OEZ:44457","RZB-Z-6S198","Распределительный щит","для скрытого монтажа, непрозрачная дверца, количество рядов 6, количество модулей в ряду 33, степень защиты IP30, PE+N, цвет RAL9003, материал : листовая сталь","1 / -",27.3,126.45,410.03999999999996,{"$f":"VLOOKUP(B4737,#REF!,3,FALSE)","v":{"$error":"#REF!"}}]
[null,null,null,"Level  4","RZB-N - Настенные щиты"]
["Distri","Distri","LR1","OEZ:44458","RZB-N-3S72","Распределительный щит","для настенного монтажа, непрозрачная дверца, количество рядов 3, количество модулей в ряду 24, степень защиты IP30, PE+N, цвет RAL9003, материал : листовая сталь","1 / -",14.25,58.673999999999999,224.97,{"$f":"VLOOKUP(B4739,#REF!,3,FALSE)","v":{"$error":"#REF!"}}]
["Distri","Distri","LR1","OEZ:44459","RZB-N-4S96","Распределительный щит","для настенного монтажа, непрозрачная дверца, количество рядов 4, количество модулей в ряду 24, степень защиты IP30, PE+N, цвет RAL9003, материал : листовая сталь","1 / -",16.079999999999998,72.534000000000006,287.53999999999996,{"$f":"VLOOKUP(B4740,#REF!,3,FALSE)","v":{"$error":"#REF!"}}]
["Distri","Distri","LR1","OEZ:44460","RZB-N-5S120","Распределительный щит","для настенного монтажа, непрозрачная дверца, количество рядов 5, количество модулей в ряду 24, степень защиты IP30, PE+N, цвет RAL9003, материал : листовая сталь","1 / -",19.649999999999999,86.394000000000005,356.34,{"$f":"VLOOKUP(B4741,#REF!,3,FALSE)","v":{"$error":"#REF!"}}]
["Distri","Distri","LR1","OEZ:44461","RZB-N-6S144","Распределительный щит","для настенного монтажа, непрозрачная дверца, количество рядов 6, количество модулей в ряду 24, степень защиты IP30, PE+N, цвет RAL9003, материал : листовая сталь","1 / -",22.45,100.254,391.05,{"$f":"VLOOKUP(B4742,#REF!,3,FALSE)","v":{"$error":"#REF!"}}]
["Distri","Distri","LR1","OEZ:44462","RZB-N-4S132","Распределительный щит","для настенного монтажа, непрозрачная дверца, количество рядов 4, количество модулей в ряду 33, степень защиты IP30, PE+N, цвет RAL9003, материал : листовая сталь","1 / -",20.75,93.257999999999996,355.77,{"$f":"VLOOKUP(B4743,#REF!,3,FALSE)","v":{"$error":"#REF!"}}]
["Distri","Distri","LR1","OEZ:44463","RZB-N-5S165","Распределительный щит","для настенного монтажа, непрозрачная дверца, количество рядов 5, количество модулей в ряду 33, степень защиты IP30, PE+N, цвет RAL9003, материал : листовая сталь","1 / -",24.35,111.078,419.40999999999997,{"$f":"VLOOKUP(B4744,#REF!,3,FALSE)","v":{"$error":"#REF!"}}]
["Distri","Distri","LR1","OEZ:44464","RZB-N-6S198","Распределительный щит","для настенного монтажа, непрозрачная дверца, количество рядов 6, количество модулей в ряду 33, степень защиты IP30, PE+N, цвет RAL9003, материал : листовая сталь","1 / -",27.6,128.898,479.11,{"$f":"VLOOKUP(B4745,#REF!,3,FALSE)","v":{"$error":"#REF!"}}]
[null,null,null,"Level  4","PD-RB - Принадлежности"]
["Distri","Distri","LR1","OEZ:44465","PD-RB-UZU","Замок","для RZB, Ключ 2 шт., универсальная комбинация","1 / -",6.5000000000000002E-2,0.192,17.55,{"$f":"VLOOKUP(B4747,#REF!,3,FALSE)","v":{"$error":"#REF!"}}]
["Distri","Distri","LR1","OEZ:44467","PD-RB-4MU","Крепеж","комплект 4 шт., для RZB-Z","1 / -",0.14299999999999999,0.192,8.48,{"$f":"VLOOKUP(B4748,#REF!,3,FALSE)","v":{"$error":"#REF!"}}]
["Distri","Distri","LR1","OEZ:44472","PD-RB-SB7N","Блок зажимов","для N, 7 x 16 mm2, изоляционный держатель N","1 / -",4.5999999999999999E-2,0.221,2.8499999999999996,{"$f":"VLOOKUP(B4749,#REF!,3,FALSE)","v":{"$error":"#REF!"}}]
["Distri","Distri","LR1","OEZ:44473","PD-RB-SB25","Блок зажимов","для N, 23 x 16 mm2, 2x 25 mm2, самоклеящаяся лента для надписей N, 2x изоляционный держатель N, соединительный материал для крепления на PD-RB-DS24, 2x самонарезающий винт 3,5 x 9; M5 x 20 (min. M5 x 15), малая головка","1 / -",0.23400000000000001,0.193,11.03,{"$f":"VLOOKUP(B4750,#REF!,3,FALSE)","v":{"$error":"#REF!"}}]
["Distri","Distri","LR1","OEZ:44474","PD-RB-SB30","Блок зажимов","для N, 28 x 16 mm2, 2x 25 mm2, самоклеящаяся лента для надписей N, 2x изоляционный держатель N, соединительный материал для крепления на PD-RB-DS24, 2x самонарезающий винт 3,5 x 9; M5 x 20 (min. M5 x 15), малая головка","1 / -",0.28599999999999998,0.221,13.58,{"$f":"VLOOKUP(B4751,#REF!,3,FALSE)","v":{"$error":"#REF!"}}]
["Distri","Distri","LR1","OEZ:44475","PD-RB-SB40","Блок зажимов","для N, 38 16 mm2, 2x 25 mm2, самоклеящаяся лента для надписей N, 2x изоляционный держатель N, соединительный материал для крепления на PD-RB-DS33, 2x самонарезающий винт 3,5 x 9; M5 x 20 (min. M5 x 15), малая головка","1 / -",0.377,0.27900000000000003,14.26,{"$f":"VLOOKUP(B4752,#REF!,3,FALSE)","v":{"$error":"#REF!"}}]
["Distri","Distri","LR1","OEZ:44476","PD-RB-SB47","Блок зажимов","для PE, 45 x 16 mm2, 2x 25 mm2, самоклеящаяся лента для надписей PE, соединительный материал 2x самонарезающий винт 1x M5 x 20, стальная подкладка 5,3 толщина 4 mm 3 шт.","1 / -",0.32500000000000001,0.40500000000000003,21.200000000000003,{"$f":"VLOOKUP(B4753,#REF!,3,FALSE)","v":{"$error":"#REF!"}}]
["Distri","Distri","LR1","OEZ:44477","PD-RB-SB62","Блок зажимов","для PE, 60 x 16 mm2, 2x 25 mm2, самоклеящаяся лента для надписей PE, соединительный материал 2x самонарезающий винт 1x M5 x 20, стальная подкладка 5,3 толщина 4 mm 3 шт.","1 / -",0.39,0.41399999999999998,24.310000000000002,{"$f":"VLOOKUP(B4754,#REF!,3,FALSE)","v":{"$error":"#REF!"}}]
["Distri","Distri","LR1","OEZ:44478","PD-RB-SB82","Блок зажимов","для PE, 80 x 16 mm2, 2x 25 mm2, самоклеящаяся лента для надписей PE, соединительный материал 2x самонарезающий винт 1x M5 x 20, стальная подкладка 5,3 толщина 4 mm 3 шт.","1 / -",0.52,0.53100000000000003,21.64,{"$f":"VLOOKUP(B4755,#REF!,3,FALSE)","v":{"$error":"#REF!"}}]
["Distri","Distri","LR1","OEZ:44479","PD-RB-DSB24","Держатель","для RZB, количество модулей в ряду 24, держатель для ...-SB25, ...-SB30, 3x PD-RB-SBN7, 2x самонарезающий винт 3,5 x 9","1 / -",0.26,0.28100000000000003,7.06,{"$f":"VLOOKUP(B4756,#REF!,3,FALSE)","v":{"$error":"#REF!"}}]
["Distri","Distri","LR1","OEZ:44480","PD-RB-DSB33","Держатель","для RZB, количество модулей в ряду 33, держатель для ...-SB40, 4x PD-RB-SBN7, 2x самонарезающий винт 3,5 x 9","1 / -",0.377,0.39100000000000001,8.48,{"$f":"VLOOKUP(B4757,#REF!,3,FALSE)","v":{"$error":"#REF!"}}]
["Distri","Distri","LR1","OEZ:44470","PD-RB-DVA4PS","Ящик","пластмасса, прикрепление - самоклеящаяся лента, A4","1 / -",1.2999999999999999E-2,6.5000000000000002E-2,4.0999999999999996,{"$f":"VLOOKUP(B4758,#REF!,3,FALSE)","v":{"$error":"#REF!"}}]
["Distri","Distri","LR1","OEZ:44471","PD-R-ZAS1000-B","Заглушка","ширина 1000 mm ( ширина 55 модулей ), белый цвет, для RZB","1 / -",0.05,0.55000000000000004,21.35,{"$f":"VLOOKUP(B4759,#REF!,3,FALSE)","v":{"$error":"#REF!"}}]
["Distri","Distri","LR1","OEZ:44468","PD-RB-1LEM24","Защита кромок","защита кромок по периметру отверстия для кабелей, ширина 24 модуля в ряду, для 1 максимально открытого отверстия","1 / -",5.8999999999999997E-2,0.75,5.67,{"$f":"VLOOKUP(B4760,#REF!,3,FALSE)","v":{"$error":"#REF!"}}]
["Distri","Distri","LR1","OEZ:44469","PD-RB-1LEM33","Защита кромок","защита кромок по периметру отверстия для кабелей, ширина 33 модуля в ряду, для 1 максимально открытого отверстия","1 / -",7.1999999999999995E-2,0.75,6.64,{"$f":"VLOOKUP(B4761,#REF!,3,FALSE)","v":{"$error":"#REF!"}}]
[null,null,null,"Level  4","ND-RB - Запасные части"]
["Distri","Distri","LR1","OEZ:44481","ND-RB-UR2","Запасная часть","затворы для модульных крышек, комплект 10 шт.","1 / -",0.08,0.75,6.9399999999999995,{"$f":"VLOOKUP(B4763,#REF!,3,FALSE)","v":{"$error":"#REF!"}}]
["Distri","Distri","LR1","OEZ:44482","ND-RB-URZE","Запасная часть","заземляющие шайбы для затворов модульных крышек, комплект 10 шт.","1 / -",8.9999999999999993E-3,0.375,2.4099999999999997,{"$f":"VLOOKUP(B4764,#REF!,3,FALSE)","v":{"$error":"#REF!"}}]
["Distri","Distri","LR1","OEZ:44483","ND-RB-ZASU","Запасная часть","заглушка для отверстия в дверцах вместо замка, для RZB","1 / -",5.0000000000000001E-3,0.05,2.2899999999999996,{"$f":"VLOOKUP(B4765,#REF!,3,FALSE)","v":{"$error":"#REF!"}}]
["Distri","Distri","LR1","OEZ:44484","ND-RBZ-SCRZ-4","Запасная часть","винт для прикрепления рамы дверцы в основание, веерообразная шайба, комплект 4 шт., для RZB","1 / -",2.5999999999999999E-2,0.08,1.1300000000000001,{"$f":"VLOOKUP(B4766,#REF!,3,FALSE)","v":{"$error":"#REF!"}}]
["Distri","Distri","LR1","OEZ:44485","ND-RB-PD","Запасная часть","петля двери для RZB, 1 шт.","1 / -",0.02,0.06,3.1199999999999997,{"$f":"VLOOKUP(B4767,#REF!,3,FALSE)","v":{"$error":"#REF!"}}]
["Distri","Distri","LR1","OEZ:44486","ND-RB-U","Запасная часть","запирание, белый цвет, для RZB","1 / -",0.02,0.19,1.84,{"$f":"VLOOKUP(B4768,#REF!,3,FALSE)","v":{"$error":"#REF!"}}]
["Distri","Distri","LR1","OEZ:44487","ND-RB-ZEM","Запасная часть","заземляющий кабель дверца - основание RZB","1 / -",0.104,0.04,4.0999999999999996,{"$f":"VLOOKUP(B4769,#REF!,3,FALSE)","v":{"$error":"#REF!"}}]
["Distri","Distri","LR1","OEZ:44488","ND-RBZ-D3S72","Запасная часть","дверца для RZB-Z-3S72, заземление, без запирания, без петель","1 / -",2.63,12.792999999999999,26.89,{"$f":"VLOOKUP(B4770,#REF!,3,FALSE)","v":{"$error":"#REF!"}}]
["Distri","Distri","LR1","OEZ:44489","ND-RBZ-D4S96","Запасная часть","дверца для RZB-Z-4S96, заземление, без запирания, без петель","1 / -",3.3679999999999999,16.056000000000001,32.08,{"$f":"VLOOKUP(B4771,#REF!,3,FALSE)","v":{"$error":"#REF!"}}]
["Distri","Distri","LR1","OEZ:44490","ND-RBZ-D5S120","Запасная часть","дверца для RZB-Z-5S120, заземление, без запирания, без петель","1 / -",3.9529999999999998,19.318999999999999,39.46,{"$f":"VLOOKUP(B4772,#REF!,3,FALSE)","v":{"$error":"#REF!"}}]
["Distri","Distri","LR1","OEZ:44491","ND-RBZ-D6S144","Запасная часть","дверца для RZB-Z-6S144, заземление, без запирания, без петель","1 / -",4.5389999999999997,22.582999999999998,43.43,{"$f":"VLOOKUP(B4773,#REF!,3,FALSE)","v":{"$error":"#REF!"}}]
["Distri","Distri","LR1","OEZ:44492","ND-RBZ-D4S132","Запасная часть","дверца для RZB-Z-4S132, заземление, без запирания, без петель","1 / -",4.1550000000000002,28.99,36.879999999999995,{"$f":"VLOOKUP(B4774,#REF!,3,FALSE)","v":{"$error":"#REF!"}}]
["Distri","Distri","LR1","OEZ:44493","ND-RBZ-D5S165","Запасная часть","дверца для RZB-Z-5S165, заземление, без запирания, без петель","1 / -",5.0529999999999999,32.65,42.57,{"$f":"VLOOKUP(B4775,#REF!,3,FALSE)","v":{"$error":"#REF!"}}]
["Distri","Distri","LR1","OEZ:44494","ND-RBZ-D6S198","Запасная часть","дверца для RZB-Z-6S198, заземление, без запирания, без петель","1 / -",5.84,36.31,48.5,{"$f":"VLOOKUP(B4776,#REF!,3,FALSE)","v":{"$error":"#REF!"}}]
["Distri","Distri","LR1","OEZ:44495","ND-RBN-D3S72","Запасная часть","дверца для RZB-N-3S72, заземление, без запирания, без петель","1 / -",2.5329999999999999,13.32,27.84,{"$f":"VLOOKUP(B4777,#REF!,3,FALSE)","v":{"$error":"#REF!"}}]
["Distri","Distri","LR1","OEZ:44496","ND-RBN-D4S96","Запасная часть","дверца для RZB-N-4S96, заземление, без запирания, без петель","1 / -",3.476,16.678000000000001,32.64,{"$f":"VLOOKUP(B4778,#REF!,3,FALSE)","v":{"$error":"#REF!"}}]
["Distri","Distri","LR1","OEZ:44497","ND-RBN-D5S120","Запасная часть","дверца для RZB-N-5S120, заземление, без запирания, без петель","1 / -",4.0830000000000002,20.035,39.869999999999997,{"$f":"VLOOKUP(B4779,#REF!,3,FALSE)","v":{"$error":"#REF!"}}]
["Distri","Distri","LR1","OEZ:44498","ND-RBN-D6S144","Запасная часть","дверца для RZB-N-6S144, заземление, без запирания, без петель","1 / -",4.6890000000000001,23.393000000000001,43.809999999999995,{"$f":"VLOOKUP(B4780,#REF!,3,FALSE)","v":{"$error":"#REF!"}}]
["Distri","Distri","LR1","OEZ:44499","ND-RBN-D4S132","Запасная часть","дверца для RZB-N-4S132, заземление, без запирания, без петель","1 / -",4.2949999999999999,34.881999999999998,43.93,{"$f":"VLOOKUP(B4781,#REF!,3,FALSE)","v":{"$error":"#REF!"}}]
["Distri","Distri","LR1","OEZ:44500","ND-RBN-D5S165","Запасная часть","дверца для RZB-N-5S165, заземление, без запирания, без петель","1 / -",5.1909999999999998,39.261000000000003,48.199999999999996,{"$f":"VLOOKUP(B4782,#REF!,3,FALSE)","v":{"$error":"#REF!"}}]
["Distri","Distri","LR1","OEZ:44501","ND-RBN-D6S198","Запасная часть","дверца для RZB-N-6S198, заземление, без запирания, без петель","1 / -",6,43.639000000000003,53.15,{"$f":"VLOOKUP(B4783,#REF!,3,FALSE)","v":{"$error":"#REF!"}}]
["Distri","Distri","LR1","OEZ:44502","ND-RBZ-CR3S72","Запасная часть","передняя рама для RZB-Z-3S72, без петель, без заземления, без болтов для прикрепления к основанию","1 / -",1.1579999999999999,22.146999999999998,47.07,{"$f":"VLOOKUP(B4784,#REF!,3,FALSE)","v":{"$error":"#REF!"}}]
["Distri","Distri","LR1","OEZ:44503","ND-RBZ-CR4S96","Запасная часть","передняя рама для RZB-Z-4S96, без петель, без заземления, без болтов для прикрепления к основанию","1 / -",1.625,27.105,50.48,{"$f":"VLOOKUP(B4785,#REF!,3,FALSE)","v":{"$error":"#REF!"}}]
["Distri","Distri","LR1","OEZ:44504","ND-RBZ-CR5S120","Запасная часть","передняя рама для RZB-Z-5S120, без петель, без заземления, без болтов для прикрепления к основанию","1 / -",1.76,32.063000000000002,53.15,{"$f":"VLOOKUP(B4786,#REF!,3,FALSE)","v":{"$error":"#REF!"}}]
["Distri","Distri","LR1","OEZ:44505","ND-RBZ-CR6S144","Запасная часть","передняя рама для RZB-Z-6S144, без петель, без заземления, без болтов для прикрепления к основанию","1 / -",1.8959999999999999,37.021999999999998,56.11,{"$f":"VLOOKUP(B4787,#REF!,3,FALSE)","v":{"$error":"#REF!"}}]
["Distri","Distri","LR1","OEZ:44506","ND-RBZ-CR4S132","Запасная часть","передняя рама для RZB-Z-4S132, без петель, без заземления, без болтов для прикрепления к основанию","1 / -",1.7,53.295999999999999,52.589999999999996,{"$f":"VLOOKUP(B4788,#REF!,3,FALSE)","v":{"$error":"#REF!"}}]
["Distri","Distri","LR1","OEZ:44507","ND-RBZ-CR5S165","Запасная часть","передняя рама для RZB-Z-5S165, без петель, без заземления, без болтов для прикрепления к основанию","1 / -",1.9059999999999999,59.59,55.28,{"$f":"VLOOKUP(B4789,#REF!,3,FALSE)","v":{"$error":"#REF!"}}]
["Distri","Distri","LR1","OEZ:44508","ND-RBZ-CR6S198","Запасная часть","передняя рама для RZB-Z-6S198, без петель, без заземления, без болтов для прикрепления к основанию","1 / -",2.0419999999999998,65.885000000000005,57.83,{"$f":"VLOOKUP(B4790,#REF!,3,FALSE)","v":{"$error":"#REF!"}}]
["Distri","Distri","LR1","OEZ:44509","ND-RBZ-KMV24-1","Запасная часть","передняя крышка с прорезью для RZB-Z, ширина 24 модуля в ряду, 1 верхний ряд, включая быстродействующие затворы и заземляющие шайбы","1 / -",1.07,2.4169999999999998,15.12,{"$f":"VLOOKUP(B4791,#REF!,3,FALSE)","v":{"$error":"#REF!"}}]
["Distri","Distri","LR1","OEZ:44510","ND-RBZ-KMV24-2","Запасная часть","передняя крышка с прорезью для RZB-Z, ширина 24 модуля в ряду, 2 нижних ряда, включая быстродействующие затворы и заземляющие шайбы","1 / -",1.47,3.9369999999999998,22.32,{"$f":"VLOOKUP(B4792,#REF!,3,FALSE)","v":{"$error":"#REF!"}}]
["Distri","Distri","LR1","OEZ:44511","ND-RBZ-KMV24-3","Запасная часть","передняя крышка с прорезью для RZB-Z, ширина 24 модуля в ряду, 2 верхних ряда, включая быстродействующие затворы и заземляющие шайбы","1 / -",1.47,4.1619999999999999,24.040000000000003,{"$f":"VLOOKUP(B4793,#REF!,3,FALSE)","v":{"$error":"#REF!"}}]
["Distri","Distri","LR1","OEZ:44512","ND-RBZ-KMV24-4","Запасная часть","передняя крышка с прорезью для RZB-Z, ширина 24 модуля в ряду, 2 средних ряда, включая быстродействующие затворы и заземляющие шайбы","1 / -",1.42,3.3660000000000001,21.91,{"$f":"VLOOKUP(B4794,#REF!,3,FALSE)","v":{"$error":"#REF!"}}]
["Distri","Distri","LR1","OEZ:44513","ND-RBZ-KMV33-1","Запасная часть","передняя крышка с прорезью для RZB-Z, ширина 33 модуля в ряду, 1 верхний ряд, включая быстродействующие затворы и заземляющие шайбы","1 / -",1.04,2.4169999999999998,18.380000000000003,{"$f":"VLOOKUP(B4795,#REF!,3,FALSE)","v":{"$error":"#REF!"}}]
["Distri","Distri","LR1","OEZ:44514","ND-RBZ-KMV33-2","Запасная часть","передняя крышка с прорезью для RZB-Z, ширина 33 модуля в ряду, 2 нижних ряда, включая быстродействующие затворы и заземляющие шайбы","1 / -",1.42,3.9369999999999998,31.51,{"$f":"VLOOKUP(B4796,#REF!,3,FALSE)","v":{"$error":"#REF!"}}]
["Distri","Distri","LR1","OEZ:44515","ND-RBZ-KMV33-3","Запасная часть","передняя крышка с прорезью для RZB-Z, ширина 33 модуля в ряду, 2 верхних ряда, включая быстродействующие затворы и заземляющие шайбы","1 / -",1.47,4.1619999999999999,29.26,{"$f":"VLOOKUP(B4797,#REF!,3,FALSE)","v":{"$error":"#REF!"}}]
["Distri","Distri","LR1","OEZ:44516","ND-RBZ-KMV33-4","Запасная часть","передняя крышка с прорезью для RZB-Z, ширина 33 модуля в ряду, 2 средних ряда, включая быстродействующие затворы и заземляющие шайбы","1 / -",1.42,3.3660000000000001,25.580000000000002,{"$f":"VLOOKUP(B4798,#REF!,3,FALSE)","v":{"$error":"#REF!"}}]
["Distri","Distri","LR1","OEZ:44517","ND-RBN-KMV24-1","Запасная часть","передняя крышка с прорезью для RZB-N, ширина 24 модуля в ряду, 1 верхний ряд, включая быстродействующие затворы и заземляющие шайбы","1 / -",1.0900000000000001,2.581,15.42,{"$f":"VLOOKUP(B4799,#REF!,3,FALSE)","v":{"$error":"#REF!"}}]
["Distri","Distri","LR1","OEZ:44518","ND-RBN-KMV24-2","Запасная часть","передняя крышка с прорезью для RZB-N, ширина 24 модуля в ряду, 2 нижних ряда, включая быстродействующие затворы и заземляющие шайбы","1 / -",1.5,4.1509999999999998,24.75,{"$f":"VLOOKUP(B4800,#REF!,3,FALSE)","v":{"$error":"#REF!"}}]
["Distri","Distri","LR1","OEZ:44519","ND-RBN-KMV24-3","Запасная часть","передняя крышка с прорезью для RZB-N, ширина 24 модуля в ряду, 2 верхних ряда, включая быстродействующие затворы и заземляющие шайбы","1 / -",1.47,4.1109999999999998,22.060000000000002,{"$f":"VLOOKUP(B4801,#REF!,3,FALSE)","v":{"$error":"#REF!"}}]
["Distri","Distri","LR1","OEZ:44520","ND-RBN-KMV24-4","Запасная часть","передняя крышка с прорезью для RZB-N, ширина 24 модуля в ряду, 2 средних ряда, включая быстродействующие затворы и заземляющие шайбы","1 / -",1.42,3.3660000000000001,21.080000000000002,{"$f":"VLOOKUP(B4802,#REF!,3,FALSE)","v":{"$error":"#REF!"}}]
["Distri","Distri","LR1","OEZ:44521","ND-RBN-KMV33-1","Запасная часть","передняя крышка с прорезью для RZB-N, ширина 33 модуля в ряду, 1 верхний ряд, включая быстродействующие затворы и заземляющие шайбы","1 / -",1.34,2.581,19.8,{"$f":"VLOOKUP(B4803,#REF!,3,FALSE)","v":{"$error":"#REF!"}}]
["Distri","Distri","LR1","OEZ:44522","ND-RBN-KMV33-2","Запасная часть","передняя крышка с прорезью для RZB-N, ширина 33 модуля в ряду, 2 нижних ряда, включая быстродействующие затворы и заземляющие шайбы","1 / -",1.89,4.1509999999999998,31.1,{"$f":"VLOOKUP(B4804,#REF!,3,FALSE)","v":{"$error":"#REF!"}}]
["Distri","Distri","LR1","OEZ:44523","ND-RBN-KMV33-3","Запасная часть","передняя крышка с прорезью для RZB-N, ширина 33 модуля в ряду, 2 верхних ряда, включая быстродействующие затворы и заземляющие шайбы","1 / -",1.87,4.1109999999999998,28.84,{"$f":"VLOOKUP(B4805,#REF!,3,FALSE)","v":{"$error":"#REF!"}}]
["Distri","Distri","LR1","OEZ:44524","ND-RBN-KMV33-4","Запасная часть","передняя крышка с прорезью для RZB-N, ширина 33 модуля в ряду, 2 средних ряда, включая быстродействующие затворы и заземляющие шайбы","1 / -",1.5,3.3660000000000001,26.71,{"$f":"VLOOKUP(B4806,#REF!,3,FALSE)","v":{"$error":"#REF!"}}]
[null,null,null,"Level  3","RZG - Пластиковые щиты (IP40)"]
[null,null,null,"Level  4","RZG-N - Настенные щиты"]
[null,null,null,"Level  5","RZG-N - Открывание лравое/левое"]
["Distri","Distri","LR1","OEZ:40578","RZG-N-1S8 (RNG-1N8)","Распределительный щит","для настенного монтажа, непрозрачная дверца, количество рядов 1, количество модулей в ряду 8, степень защиты IP40, PE+N, белый цвет, материал : пластмасса","1 / -",0.94899999999999995,6.46,16.690000000000001,{"$f":"VLOOKUP(B4810,#REF!,3,FALSE)","v":{"$error":"#REF!"}}]
["Distri","Distri","LR1","OEZ:40579","RZG-N-1S14 (RNG-1N14)","Распределительный щит","для настенного монтажа, непрозрачная дверца, количество рядов 1, количество модулей в ряду 14, степень защиты IP40, PE+N, белый цвет, материал : пластмасса","1 / -",1.3819999999999999,9.58,23.060000000000002,{"$f":"VLOOKUP(B4811,#REF!,3,FALSE)","v":{"$error":"#REF!"}}]
["Distri","Distri","LR1","OEZ:40581","RZG-N-2S28 (RNG-2N28)","Распределительный щит","для настенного монтажа, непрозрачная дверца, количество рядов 2, количество модулей в ряду 14, степень защиты IP40, PE+N, белый цвет, материал : пластмасса","1 / -",2.2080000000000002,16.86,35.72,{"$f":"VLOOKUP(B4812,#REF!,3,FALSE)","v":{"$error":"#REF!"}}]
["Distri","Distri","LR1","OEZ:40583","RZG-N-3S42 (RNG-3N42)","Распределительный щит","для настенного монтажа, непрозрачная дверца, количество рядов 3, количество модулей в ряду 14, степень защиты IP40, PE+N, белый цвет, материал : пластмасса","1 / -",2.75,22.75,47.58,{"$f":"VLOOKUP(B4813,#REF!,3,FALSE)","v":{"$error":"#REF!"}}]
["Distri","Distri","LR1","OEZ:40584","RZG-N-4S56 (RNG-4N56)","Распределительный щит","для настенного монтажа, непрозрачная дверца, количество рядов 4, количество модулей в ряду 14, степень защиты IP40, PE+N, белый цвет, материал : пластмасса","1 / -",3.415,26.44,53.769999999999996,{"$f":"VLOOKUP(B4814,#REF!,3,FALSE)","v":{"$error":"#REF!"}}]
["Distri","Distri","LR1","OEZ:40586","RZG-N-1T8 (RNG-1P8)","Распределительный щит","для настенного монтажа, прозрачная дверца, количество рядов 1, количество модулей в ряду 8, степень защиты IP40, PE+N, белый цвет, материал : пластмасса","1 / -",0.96299999999999997,6.46,18.32,{"$f":"VLOOKUP(B4815,#REF!,3,FALSE)","v":{"$error":"#REF!"}}]
["Distri","Distri","LR1","OEZ:40587","RZG-N-1T14 (RNG-1P14)","Распределительный щит","для настенного монтажа, прозрачная дверца, количество рядов 1, количество модулей в ряду 14, степень защиты IP40, PE+N, белый цвет, материал : пластмасса","1 / -",1.4059999999999999,9.58,25.14,{"$f":"VLOOKUP(B4816,#REF!,3,FALSE)","v":{"$error":"#REF!"}}]
["Distri","Distri","LR1","OEZ:40589","RZG-N-2T28 (RNG-2P28)","Распределительный щит","для настенного монтажа, прозрачная дверца, количество рядов 2, количество модулей в ряду 14, степень защиты IP40, PE+N, белый цвет, материал : пластмасса","1 / -",2.2330000000000001,16.86,38.089999999999996,{"$f":"VLOOKUP(B4817,#REF!,3,FALSE)","v":{"$error":"#REF!"}}]
["Distri","Distri","LR1","OEZ:40591","RZG-N-3T42 (RNG-3P42)","Распределительный щит","для настенного монтажа, прозрачная дверца, количество рядов 3, количество модулей в ряду 14, степень защиты IP40, PE+N, белый цвет, материал : пластмасса","1 / -",2.8250000000000002,22.75,50.96,{"$f":"VLOOKUP(B4818,#REF!,3,FALSE)","v":{"$error":"#REF!"}}]
["Distri","Distri","LR1","OEZ:40592","RZG-N-4T56 (RNG-4P56)","Распределительный щит","для настенного монтажа, прозрачная дверца, количество рядов 4, количество модулей в ряду 14, степень защиты IP40, PE+N, белый цвет, материал : пластмасса","1 / -",3.53,26.44,57.739999999999995,{"$f":"VLOOKUP(B4819,#REF!,3,FALSE)","v":{"$error":"#REF!"}}]
[null,null,null,"Level  5","RZG-N - Открывание вверх"]
["Distri","Distri","LR1","OEZ:40577","RZG-N-1S4 (RNG-1N4)","Распределительный щит","для настенного монтажа, непрозрачная дверца, открывание вверх, количество рядов 1, количество модулей в ряду 4, степень защиты IP40, PE+N, белый цвет, материал : пластмасса","1 / -",0.65700000000000003,3.11,13.25,{"$f":"VLOOKUP(B4821,#REF!,3,FALSE)","v":{"$error":"#REF!"}}]
["Distri","Distri","LR1","OEZ:40580","RZG-N-1S18 (RNG-1N18)","Распределительный щит","для настенного монтажа, непрозрачная дверца, открывание вверх, количество рядов 1, количество модулей в ряду 18, степень защиты IP40, PE+N, белый цвет, материал : пластмасса","1 / -",1.415,11,23.69,{"$f":"VLOOKUP(B4822,#REF!,3,FALSE)","v":{"$error":"#REF!"}}]
["Distri","Distri","LR1","OEZ:40582","RZG-N-2S40 (RNG-2N40)","Распределительный щит","для настенного монтажа, непрозрачная дверца, открывание вверх, количество рядов 2, количество модулей в ряду 20, степень защиты IP40, PE+N, белый цвет, материал : пластмасса","1 / -",2.0640000000000001,15.99,36.46,{"$f":"VLOOKUP(B4823,#REF!,3,FALSE)","v":{"$error":"#REF!"}}]
["Distri","Distri","LR1","OEZ:40585","RZG-N-1T4 (RNG-1P4)","Распределительный щит","для настенного монтажа, прозрачная дверца, открывание вверх, количество рядов 1, количество модулей в ряду 4, степень защиты IP40, PE+N, белый цвет, материал : пластмасса","1 / -",0.66300000000000003,3.11,14.29,{"$f":"VLOOKUP(B4824,#REF!,3,FALSE)","v":{"$error":"#REF!"}}]
["Distri","Distri","LR1","OEZ:40588","RZG-N-1T18 (RNG-1P18)","Распределительный щит","для настенного монтажа, прозрачная дверца, открывание вверх, количество рядов 1, количество модулей в ряду 18, степень защиты IP40, PE+N, белый цвет, материал : пластмасса","1 / -",1.4690000000000001,11,26.330000000000002,{"$f":"VLOOKUP(B4825,#REF!,3,FALSE)","v":{"$error":"#REF!"}}]
["Distri","Distri","LR1","OEZ:40590","RZG-N-2T40 (RNG-2P40)","Распределительный щит","для настенного монтажа, прозрачная дверца, открывание вверх, количество рядов 2, количество модулей в ряду 20, степень защиты IP40, PE+N, белый цвет, материал : пластмасса","1 / -",2.0739999999999998,15.99,39.159999999999997,{"$f":"VLOOKUP(B4826,#REF!,3,FALSE)","v":{"$error":"#REF!"}}]
[null,null,null,"Level  4","RZG-Z - Встраиваемые щиты"]
[null,null,null,"Level  5","RZG-Z - Открывание лравое/левое"]
["Distri","Distri","LR1","OEZ:40554","RZG-Z-1S8 (RZG-1N8)","Распределительный щит","для скрытого монтажа, непрозрачная дверца, количество рядов 1, количество модулей в ряду 8, степень защиты IP40, PE+N, белый цвет, материал : пластмасса","1 / -",0.70899999999999996,6.4619999999999997,14.26,{"$f":"VLOOKUP(B4829,#REF!,3,FALSE)","v":{"$error":"#REF!"}}]
["Distri","Distri","LR1","OEZ:40555","RZG-Z-1S14 (RZG-1N14)","Распределительный щит","для скрытого монтажа, непрозрачная дверца, количество рядов 1, количество модулей в ряду 14, степень защиты IP40, PE+N, белый цвет, материал : пластмасса","1 / -",1.3260000000000001,9.5809999999999995,19.150000000000002,{"$f":"VLOOKUP(B4830,#REF!,3,FALSE)","v":{"$error":"#REF!"}}]
["Distri","Distri","LR1","OEZ:40557","RZG-Z-2S28 (RZG-2N28)","Распределительный щит","для скрытого монтажа, непрозрачная дверца, количество рядов 2, количество модулей в ряду 14, степень защиты IP40, PE+N, белый цвет, материал : пластмасса","1 / -",1.9630000000000001,16.863,31.48,{"$f":"VLOOKUP(B4831,#REF!,3,FALSE)","v":{"$error":"#REF!"}}]
["Distri","Distri","LR1","OEZ:40559","RZG-Z-3S42 (RZG-3N42)","Распределительный щит","для скрытого монтажа, непрозрачная дверца, количество рядов 3, количество модулей в ряду 14, степень защиты IP40, PE+N, белый цвет, материал : пластмасса","1 / -",2.5249999999999999,22.751000000000001,46.15,{"$f":"VLOOKUP(B4832,#REF!,3,FALSE)","v":{"$error":"#REF!"}}]
["Distri","Distri","LR1","OEZ:40560","RZG-Z-4S56 (RZG-4N56)","Распределительный щит","для скрытого монтажа, непрозрачная дверца, количество рядов 4, количество модулей в ряду 14, степень защиты IP40, PE+N, белый цвет, материал : пластмасса","1 / -",3.01,26.443999999999999,46.269999999999996,{"$f":"VLOOKUP(B4833,#REF!,3,FALSE)","v":{"$error":"#REF!"}}]
["Distri","Distri","LR1","OEZ:40562","RZG-Z-1T8 (RZG-1P8)","Распределительный щит","для скрытого монтажа, прозрачная дверца, количество рядов 1, количество модулей в ряду 8, степень защиты IP40, PE+N, белый цвет, материал : пластмасса","1 / -",0.83899999999999997,6.4619999999999997,15.89,{"$f":"VLOOKUP(B4834,#REF!,3,FALSE)","v":{"$error":"#REF!"}}]
["Distri","Distri","LR1","OEZ:40563","RZG-Z-1T14 (RZG-1P14)","Распределительный щит","для скрытого монтажа, прозрачная дверца, количество рядов 1, количество модулей в ряду 14, степень защиты IP40, PE+N, белый цвет, материал : пластмасса","1 / -",1.2170000000000001,9.5809999999999995,21.67,{"$f":"VLOOKUP(B4835,#REF!,3,FALSE)","v":{"$error":"#REF!"}}]
["Distri","Distri","LR1","OEZ:40565","RZG-Z-2T28 (RZG-2P28)","Распределительный щит","для скрытого монтажа, прозрачная дверца, количество рядов 2, количество модулей в ряду 14, степень защиты IP40, PE+N, белый цвет, материал : пластмасса","1 / -",2.0329999999999999,16.863,34.57,{"$f":"VLOOKUP(B4836,#REF!,3,FALSE)","v":{"$error":"#REF!"}}]
["Distri","Distri","LR1","OEZ:40567","RZG-Z-3T42 (RZG-3P42)","Распределительный щит","для скрытого монтажа, прозрачная дверца, количество рядов 3, количество модулей в ряду 14, степень защиты IP40, PE+N, белый цвет, материал : пластмасса","1 / -",2.6110000000000002,22.751000000000001,49.71,{"$f":"VLOOKUP(B4837,#REF!,3,FALSE)","v":{"$error":"#REF!"}}]
["Distri","Distri","LR1","OEZ:40568","RZG-Z-4T56 (RZG-4P56)","Распределительный щит","для скрытого монтажа, прозрачная дверца, количество рядов 4, количество модулей в ряду 14, степень защиты IP40, PE+N, белый цвет, материал : пластмасса","1 / -",2.6110000000000002,22.751000000000001,50.36,{"$f":"VLOOKUP(B4838,#REF!,3,FALSE)","v":{"$error":"#REF!"}}]
[null,null,null,"Level  5","RZG-Z - Открывание вверх"]
["Distri","Distri","LR1","OEZ:40553","RZG-Z-1S4 (RZG-1N4)","Распределительный щит","для скрытого монтажа, непрозрачная дверца, открывание вверх, количество рядов 1, количество модулей в ряду 4, степень защиты IP40, PE+N, белый цвет, материал : пластмасса","1 / -",0.48499999999999999,3.234,11.209999999999999,{"$f":"VLOOKUP(B4840,#REF!,3,FALSE)","v":{"$error":"#REF!"}}]
["Distri","Distri","LR1","OEZ:40556","RZG-Z-1S18 (RZG-1N18)","Распределительный щит","для скрытого монтажа, непрозрачная дверца, открывание вверх, количество рядов 1, количество модулей в ряду 18, степень защиты IP40, PE+N, белый цвет, материал : пластмасса","1 / -",1.167,10.045,18.860000000000003,{"$f":"VLOOKUP(B4841,#REF!,3,FALSE)","v":{"$error":"#REF!"}}]
["Distri","Distri","LR1","OEZ:40558","RZG-Z-2S40 (RZG-2N40)","Распределительный щит","для скрытого монтажа, непрозрачная дверца, открывание вверх, количество рядов 2, количество модулей в ряду 20, степень защиты IP40, PE+N, белый цвет, материал : пластмасса","1 / -",1.6759999999999999,14.577,33.229999999999997,{"$f":"VLOOKUP(B4842,#REF!,3,FALSE)","v":{"$error":"#REF!"}}]
["Distri","Distri","LR1","OEZ:40561","RZG-Z-1T4 (RZG-1P4)","Распределительный щит","для скрытого монтажа, прозрачная дверца, открывание вверх, количество рядов 1, количество модулей в ряду 4, степень защиты IP40, PE+N, белый цвет, материал : пластмасса","1 / -",0.49399999999999999,3.234,12.51,{"$f":"VLOOKUP(B4843,#REF!,3,FALSE)","v":{"$error":"#REF!"}}]
["Distri","Distri","LR1","OEZ:40564","RZG-Z-1T18 (RZG-1P18)","Распределительный щит","для скрытого монтажа, прозрачная дверца, открывание вверх, количество рядов 1, количество модулей в ряду 18, степень защиты IP40, PE+N, белый цвет, материал : пластмасса","1 / -",1.1779999999999999,10.045,21.46,{"$f":"VLOOKUP(B4844,#REF!,3,FALSE)","v":{"$error":"#REF!"}}]
["Distri","Distri","LR1","OEZ:40566","RZG-Z-2T40 (RZG-2P40)","Распределительный щит","для скрытого монтажа, прозрачная дверца, открывание вверх, количество рядов 2, количество модулей в ряду 20, степень защиты IP40, PE+N, белый цвет, материал : пластмасса","1 / -",1.681,14.577,36.699999999999996,{"$f":"VLOOKUP(B4845,#REF!,3,FALSE)","v":{"$error":"#REF!"}}]
[null,null,null,"Level  4","RZG-Z_H - Встраиваемые щиты для полых стен"]
["Distri","Distri","LR1","OEZ:40569","RZG-Z-1S14-H (RZV-1N14)","Распределительный щит","для скрытого монтажа , 850°C, непрозрачная дверца, количество рядов 1, количество модулей в ряду 14, степень защиты IP40, PE+N, белый цвет, материал : пластмасса","1 / -",1.401,9.5809999999999995,37,{"$f":"VLOOKUP(B4847,#REF!,3,FALSE)","v":{"$error":"#REF!"}}]
["Distri","Distri","LR1","OEZ:40570","RZG-Z-2S28-H (RZV-2N28)","Распределительный щит","для скрытого монтажа , 850°C, непрозрачная дверца, количество рядов 2, количество модулей в ряду 14, степень защиты IP40, PE+N, белый цвет, материал : пластмасса","1 / -",1.8979999999999999,16.863,75.02000000000001,{"$f":"VLOOKUP(B4848,#REF!,3,FALSE)","v":{"$error":"#REF!"}}]
["Distri","Distri","LR1","OEZ:40571","RZG-Z-3S42-H (RZV-3N42)","Распределительный щит","для скрытого монтажа , 850°C, непрозрачная дверца, количество рядов 3, количество модулей в ряду 14, степень защиты IP40, PE+N, белый цвет, материал : пластмасса","1 / -",2.66,22.751000000000001,86.14,{"$f":"VLOOKUP(B4849,#REF!,3,FALSE)","v":{"$error":"#REF!"}}]
["Distri","Distri","LR1","OEZ:40572","RZG-Z-4S56-H (RZV-4N56)","Распределительный щит","для скрытого монтажа , 850°C, непрозрачная дверца, количество рядов 4, количество модулей в ряду 14, степень защиты IP40, PE+N, белый цвет, материал : пластмасса","1 / -",3.03,26.443999999999999,142.51,{"$f":"VLOOKUP(B4850,#REF!,3,FALSE)","v":{"$error":"#REF!"}}]
["Distri","Distri","LR1","OEZ:40573","RZG-Z-1T14-H (RZV-1P14)","Распределительный щит","для скрытого монтажа , 850°C, прозрачная дверца, количество рядов 1, количество модулей в ряду 14, степень защиты IP40, PE+N, белый цвет, материал : пластмасса","1 / -",1.238,9.5809999999999995,43.129999999999995,{"$f":"VLOOKUP(B4851,#REF!,3,FALSE)","v":{"$error":"#REF!"}}]
["Distri","Distri","LR1","OEZ:40574","RZG-Z-2T28-H (RZV-2P28)","Распределительный щит","для скрытого монтажа , 850°C, прозрачная дверца, количество рядов 2, количество модулей в ряду 14, степень защиты IP40, PE+N, белый цвет, материал : пластмасса","1 / -",1.9330000000000001,16.863,78.61,{"$f":"VLOOKUP(B4852,#REF!,3,FALSE)","v":{"$error":"#REF!"}}]
["Distri","Distri","LR1","OEZ:40575","RZG-Z-3T42-H (RZV-3P42)","Распределительный щит","для скрытого монтажа , 850°C, прозрачная дверца, количество рядов 3, количество модулей в ряду 14, степень защиты IP40, PE+N, белый цвет, материал : пластмасса","1 / -",3.1549999999999998,22.751000000000001,88.070000000000007,{"$f":"VLOOKUP(B4853,#REF!,3,FALSE)","v":{"$error":"#REF!"}}]
["Distri","Distri","LR1","OEZ:40576","RZG-Z-4T56-H (RZV-4P56)","Распределительный щит","для скрытого монтажа , 850°C, прозрачная дверца, количество рядов 4, количество модулей в ряду 14, степень защиты IP40, PE+N, белый цвет, материал : пластмасса","1 / -",3.1749999999999998,26.443999999999999,144.53,{"$f":"VLOOKUP(B4854,#REF!,3,FALSE)","v":{"$error":"#REF!"}}]
[null,null,null,"Level  4","PD-RG - Принадлежности"]
["Distri","Distri","LR1","OEZ:40593","PD-RG-SB5 (PD-RGV-SB5)","Блок зажимов","5 × 6 mm2, для PD-RG-DSB...","1 / -",1.4E-2,6.0000000000000001E-3,2.2899999999999996,{"$f":"VLOOKUP(B4856,#REF!,3,FALSE)","v":{"$error":"#REF!"}}]
["Distri","Distri","LR1","OEZ:40594","PD-RG-SB8 (PD-RGV-SB8)","Блок зажимов","2 × 16 mm2 + 6 × 6 mm2, для PD-RG-DSB...","1 / -",2.5999999999999999E-2,1.2E-2,3.03,{"$f":"VLOOKUP(B4857,#REF!,3,FALSE)","v":{"$error":"#REF!"}}]
["Distri","Distri","LR1","OEZ:40595","PD-RG-SB14 (PD-RGV-SB14)","Блок зажимов","2 × 16 mm2 + 12 × 6 mm2, для PD-RG-DSB...","1 / -",4.1000000000000002E-2,1.9E-2,3.8299999999999996,{"$f":"VLOOKUP(B4858,#REF!,3,FALSE)","v":{"$error":"#REF!"}}]
["Distri","Distri","LR1","OEZ:40599","PD-RG-DSB1-G (PD-RGV-DSB1-G)","Держатель блоков зажимов","для RZG","1 / -",1.4E-2,0.105,1.1000000000000001,{"$f":"VLOOKUP(B4859,#REF!,3,FALSE)","v":{"$error":"#REF!"}}]
["Distri","Distri","LR1","OEZ:40600","PD-RG-DSB2-G (PD-RGV-DSB2-G)","Держатель блоков зажимов","для RZG","1 / -",2.4E-2,0.14699999999999999,1.55,{"$f":"VLOOKUP(B4860,#REF!,3,FALSE)","v":{"$error":"#REF!"}}]
["Distri","Distri","LR1","OEZ:40596","PD-RGZ81428-DH (PD-RG81428-DH)","Крепеж","захваты для полых стен, для RZG-Z-1x8, RZG-Z-1x14, RZG-Z-2x28","1 / -",4.5999999999999999E-2,0.16200000000000001,6.9399999999999995,{"$f":"VLOOKUP(B4861,#REF!,3,FALSE)","v":{"$error":"#REF!"}}]
["Distri","Distri","LR1","OEZ:40597","PD-RGZ42-DH (PD-RG42-DH)","Крепеж","захваты для полых стен, для RZG-Z-3x42","1 / -",0.04,0.16200000000000001,6.9399999999999995,{"$f":"VLOOKUP(B4862,#REF!,3,FALSE)","v":{"$error":"#REF!"}}]
["Distri","Distri","LR1","OEZ:40598","PD-RGZ56-DH (PD-RG56-DH)","Крепеж","захваты для полых стен, для RZG-Z-4x56","1 / -",6.8000000000000005E-2,0.16200000000000001,7.62,{"$f":"VLOOKUP(B4863,#REF!,3,FALSE)","v":{"$error":"#REF!"}}]
["Distri","Distri","LR1","OEZ:40601","PD-RA-ZAS-B (PD-R-ZAS-B)","Заглушка","ширина 6 модулей, белый цвет, для прорези 45 mm","1 / -",1.2E-2,1.08,6.5,{"$f":"VLOOKUP(B4864,#REF!,3,FALSE)","v":{"$error":"#REF!"}}]
[null,null,null,"Level  4","ND-RG - Запасные части"]
["Distri","Distri","LR1","OEZ:41066","ND-RG-CK1ST4 (ND-RG-CK1NP4)","Передняя крышка","передняя крышка, для RZG-.-1.4","1 / -",0.13500000000000001,0.91100000000000003,3.09,{"$f":"VLOOKUP(B4866,#REF!,3,FALSE)","v":{"$error":"#REF!"}}]
["Distri","Distri","LR1","OEZ:41061","ND-RG-CK1ST8 (ND-RG-CK1NP8)","Передняя крышка","передняя крышка, для RZG-.-1.8","1 / -",0.20499999999999999,1.7829999999999999,4.3899999999999997,{"$f":"VLOOKUP(B4867,#REF!,3,FALSE)","v":{"$error":"#REF!"}}]
["Distri","Distri","LR1","OEZ:41062","ND-RG-CK1ST14 (ND-RGV-CK1NP14)","Передняя крышка","передняя крышка, для RZG-.-1.14","1 / -",0.28999999999999998,2.9860000000000002,6.38,{"$f":"VLOOKUP(B4868,#REF!,3,FALSE)","v":{"$error":"#REF!"}}]
["Distri","Distri","LR1","OEZ:41067","ND-RG-CK1ST18 (ND-RG-CK1NP18)","Передняя крышка","передняя крышка, для RZG-.-1.18","1 / -",0.26500000000000001,2.5179999999999998,6.08,{"$f":"VLOOKUP(B4869,#REF!,3,FALSE)","v":{"$error":"#REF!"}}]
["Distri","Distri","LR1","OEZ:41063","ND-RG-CK2ST28 (ND-RGV-CK2NP28)","Передняя крышка","передняя крышка, для RZG-.-2.28","1 / -",0.42499999999999999,5.2320000000000002,8.7799999999999994,{"$f":"VLOOKUP(B4870,#REF!,3,FALSE)","v":{"$error":"#REF!"}}]
["Distri","Distri","LR1","OEZ:41068","ND-RG-CK2ST40 (ND-RG-CK2NP40)","Передняя крышка","передняя крышка, для RZG-.-2.40","1 / -",0.41499999999999998,4.33,8.629999999999999,{"$f":"VLOOKUP(B4871,#REF!,3,FALSE)","v":{"$error":"#REF!"}}]
["Distri","Distri","LR1","OEZ:41064","ND-RG-CK3ST42 (ND-RGV-CK3NP42)","Передняя крышка","передняя крышка, для RZG-.-3.42","1 / -",0.60499999999999998,6.4980000000000002,12.16,{"$f":"VLOOKUP(B4872,#REF!,3,FALSE)","v":{"$error":"#REF!"}}]
["Distri","Distri","LR1","OEZ:41065","ND-RG-CK4ST56 (ND-RGV-CK4NP56)","Передняя крышка","передняя крышка, для RZG-.-4.56","1 / -",0.65500000000000003,8.1940000000000008,13.79,{"$f":"VLOOKUP(B4873,#REF!,3,FALSE)","v":{"$error":"#REF!"}}]
["Distri","Distri","LR1","OEZ:41069","ND-RG-D1S8 (ND-RG-D1N8)","Дверца","непрозрачная дверца, для RZG-.-1S8","1 / -",0.13500000000000001,1.198,3.59,{"$f":"VLOOKUP(B4874,#REF!,3,FALSE)","v":{"$error":"#REF!"}}]
["Distri","Distri","LR1","OEZ:41074","ND-RG-D1S4 (ND-RG-D1N4)","Дверца","непрозрачная дверца, для RZG-.-1S4","1 / -",6.5000000000000002E-2,0.54100000000000004,1.46,{"$f":"VLOOKUP(B4875,#REF!,3,FALSE)","v":{"$error":"#REF!"}}]
["Distri","Distri","LR1","OEZ:41070","ND-RG-D1S14 (ND-RGV-D1N14)","Дверца","непрозрачная дверца, для RZG-.-1S14","1 / -",0.22,1.833,4.75,{"$f":"VLOOKUP(B4876,#REF!,3,FALSE)","v":{"$error":"#REF!"}}]
["Distri","Distri","LR1","OEZ:41075","ND-RG-D1S18 (ND-RG-D1N18)","Дверца","непрозрачная дверца, для RZG-.-1S18","1 / -",0.215,2.0539999999999998,4.7799999999999994,{"$f":"VLOOKUP(B4877,#REF!,3,FALSE)","v":{"$error":"#REF!"}}]
["Distri","Distri","LR1","OEZ:41071","ND-RG-D2S28 (ND-RGV-D2N28)","Дверца","непрозрачная дверца, для RZG-.-2S28","1 / -",0.38,3.23,8.01,{"$f":"VLOOKUP(B4878,#REF!,3,FALSE)","v":{"$error":"#REF!"}}]
["Distri","Distri","LR1","OEZ:41076","ND-RG-D2S40 (ND-RG-D2N40)","Дверца","непрозрачная дверца, для RZG-.-2S40","1 / -",0.34499999999999997,3.2210000000000001,6.59,{"$f":"VLOOKUP(B4879,#REF!,3,FALSE)","v":{"$error":"#REF!"}}]
["Distri","Distri","LR1","OEZ:41072","ND-RG-D3S42 (ND-RGV-D3N42)","Дверца","непрозрачная дверца, для RZG-.-3S42","1 / -",0.5,4.0339999999999998,9.99,{"$f":"VLOOKUP(B4880,#REF!,3,FALSE)","v":{"$error":"#REF!"}}]
["Distri","Distri","LR1","OEZ:41073","ND-RG-D4S56 (ND-RGV-D4N56)","Дверца","непрозрачная дверца, для RZG-.-4S56","1 / -",0.59499999999999997,5.1470000000000002,11.42,{"$f":"VLOOKUP(B4881,#REF!,3,FALSE)","v":{"$error":"#REF!"}}]
["Distri","Distri","LR1","OEZ:41082","ND-RG-D1T4 (ND-RG-D1P4)","Дверца","прозрачная дверца, для RZG-.-1T4","1 / -",7.0000000000000007E-2,0.54100000000000004,3.09,{"$f":"VLOOKUP(B4882,#REF!,3,FALSE)","v":{"$error":"#REF!"}}]
["Distri","Distri","LR1","OEZ:41077","ND-RG-D1T8 (ND-RG-D1P8)","Дверца","прозрачная дверца, для RZG-.-1T8","1 / -",0.155,1.198,6.26,{"$f":"VLOOKUP(B4883,#REF!,3,FALSE)","v":{"$error":"#REF!"}}]
["Distri","Distri","LR1","OEZ:41078","ND-RG-D1T14 (ND-RGV-D1P14)","Дверца","прозрачная дверца, для RZG-.-1T14","1 / -",0.255,1.833,9.7899999999999991,{"$f":"VLOOKUP(B4884,#REF!,3,FALSE)","v":{"$error":"#REF!"}}]
["Distri","Distri","LR1","OEZ:41083","ND-RG-D1T18 (ND-RG-D1P18)","Дверца","прозрачная дверца, для RZG-.-1T18","1 / -",0.245,2.0539999999999998,9.61,{"$f":"VLOOKUP(B4885,#REF!,3,FALSE)","v":{"$error":"#REF!"}}]
["Distri","Distri","LR1","OEZ:41079","ND-RG-D2T28 (ND-RGV-D2P28)","Дверца","прозрачная дверца, для RZG-.-2T28","1 / -",0.45,3.23,14.14,{"$f":"VLOOKUP(B4886,#REF!,3,FALSE)","v":{"$error":"#REF!"}}]
["Distri","Distri","LR1","OEZ:41084","ND-RG-D2T40 (ND-RG-D2P40)","Дверца","прозрачная дверца, для RZG-.-2T40","1 / -",0.40500000000000003,3.2210000000000001,12.66,{"$f":"VLOOKUP(B4887,#REF!,3,FALSE)","v":{"$error":"#REF!"}}]
["Distri","Distri","LR1","OEZ:41080","ND-RG-D3T42 (ND-RGV-D3P42)","Дверца","прозрачная дверца, для RZG-.-3T42","1 / -",0.54500000000000004,4.0339999999999998,20.190000000000001,{"$f":"VLOOKUP(B4888,#REF!,3,FALSE)","v":{"$error":"#REF!"}}]
["Distri","Distri","LR1","OEZ:41081","ND-RG-D4T56 (ND-RGV-D4P56)","Дверца","прозрачная дверца, для RZG-.-4T56","1 / -",0.68500000000000005,5.1470000000000002,23.040000000000003,{"$f":"VLOOKUP(B4889,#REF!,3,FALSE)","v":{"$error":"#REF!"}}]
["Distri","Distri","LR1","OEZ:41107","ND-RGZ-PR2ST28 (ND-RGV-PRZ2NP28)","Монтажная рама","монтажная рама с \"U\" рейками, для количество модулей 28, для RZG-Z-2.28","1 / -",0.433,1.647,10.199999999999999,{"$f":"VLOOKUP(B4890,#REF!,3,FALSE)","v":{"$error":"#REF!"}}]
["Distri","Distri","LR1","OEZ:41112","ND-RGZ-PR2ST40 (ND-RG-PRZ2NP40)","Монтажная рама","монтажная рама с \"U\" рейками, для количество модулей 40, для RZG-Z-2.40","1 / -",0.41099999999999998,1.498,8.2999999999999989,{"$f":"VLOOKUP(B4891,#REF!,3,FALSE)","v":{"$error":"#REF!"}}]
["Distri","Distri","LR1","OEZ:41108","ND-RGZ-PR3ST42 (ND-RGV-PRZ3NP42)","Монтажная рама","монтажная рама с \"U\" рейками, для количество модулей 42, для RZG-Z-3.42","1 / -",0.59299999999999997,2.1110000000000002,12.87,{"$f":"VLOOKUP(B4892,#REF!,3,FALSE)","v":{"$error":"#REF!"}}]
["Distri","Distri","LR1","OEZ:41109","ND-RGZ-PR4ST56 (ND-RGV-PRZ4NP56)","Монтажная рама","монтажная рама с \"U\" рейками, для количество модулей 56, для RZG-Z-4.56","1 / -",0.78600000000000003,2.7839999999999998,16.66,{"$f":"VLOOKUP(B4893,#REF!,3,FALSE)","v":{"$error":"#REF!"}}]
["Distri","Distri","LR1","OEZ:41110","ND-RGZ-PR1ST4 (ND-RG-PRZ1NP4)","U рейка","U рейка TH35-7,5, для количество модулей 4, для RZG-Z-1.4","1 / -",3.4000000000000002E-2,2.8000000000000001E-2,1.22,{"$f":"VLOOKUP(B4894,#REF!,3,FALSE)","v":{"$error":"#REF!"}}]
["Distri","Distri","LR1","OEZ:41105","ND-RGZ-PR1ST8 (ND-RG-PRZ1NP8)","U рейка","U рейка TH35-7,5, для количество модулей 8, для RZG-Z-1.8","1 / -",4.7E-2,3.1E-2,1.37,{"$f":"VLOOKUP(B4895,#REF!,3,FALSE)","v":{"$error":"#REF!"}}]
["Distri","Distri","LR1","OEZ:41106","ND-RGZ-PR1ST14 (ND-RGV-PRZ1NP14)","U рейка","U рейка TH35-7,5, для количество модулей 14, для RZG-Z-1.14","1 / -",9.7000000000000003E-2,8.1000000000000003E-2,2.2899999999999996,{"$f":"VLOOKUP(B4896,#REF!,3,FALSE)","v":{"$error":"#REF!"}}]
["Distri","Distri","LR1","OEZ:41111","ND-RGZ-PR1ST18 (ND-RG-PRZ1NP18)","U рейка","U рейка TH35-7,5, для количество модулей 18, для RZG-Z-1.18","1 / -",0.11,9.0999999999999998E-2,2.3199999999999998,{"$f":"VLOOKUP(B4897,#REF!,3,FALSE)","v":{"$error":"#REF!"}}]
["Distri","Distri","LR1","OEZ:41118","ND-RGN-PR1ST4 (ND-RGV-PRN1NP4)","U рейка","U рейка TH35-7,5, для количество модулей 4, для RZG-N-1.4","1 / -",3.4000000000000002E-2,2.8000000000000001E-2,1.22,{"$f":"VLOOKUP(B4898,#REF!,3,FALSE)","v":{"$error":"#REF!"}}]
["Distri","Distri","LR1","OEZ:41113","ND-RGN-PR1ST8 (ND-RGV-PRN1NP8)","U рейка","U рейка TH35-7,5, для количество модулей 8, для RZG-N-1.8","1 / -",4.7E-2,3.1E-2,1.37,{"$f":"VLOOKUP(B4899,#REF!,3,FALSE)","v":{"$error":"#REF!"}}]
["Distri","Distri","LR1","OEZ:41114","ND-RGN-PR1ST14 (ND-RGV-PRN1NP14)","U рейка","U рейка TH35-7,5, для количество модулей 14, для RZG-N-1.14","1 / -",9.7000000000000003E-2,8.1000000000000003E-2,2.2899999999999996,{"$f":"VLOOKUP(B4900,#REF!,3,FALSE)","v":{"$error":"#REF!"}}]
["Distri","Distri","LR1","OEZ:41119","ND-RGN-PR1ST18 (ND-RGV-PRN1NP18)","U рейка","U рейка TH35-7,5, для количество модулей 18, для RZG-N-1.18","1 / -",0.11,9.0999999999999998E-2,2.3199999999999998,{"$f":"VLOOKUP(B4901,#REF!,3,FALSE)","v":{"$error":"#REF!"}}]
["Distri","Distri","LR1","OEZ:41115","ND-RGN-PR2ST28 (ND-RGV-PRN2NP28)","U рейка","U рейка TH35-7,5, для количество модулей 28, для RZG-N-2.28","1 / -",0.19500000000000001,9.0999999999999998E-2,4.54,{"$f":"VLOOKUP(B4902,#REF!,3,FALSE)","v":{"$error":"#REF!"}}]
["Distri","Distri","LR1","OEZ:41120","ND-RGN-PR2ST40 (ND-RGV-PRN2NP40)","U рейка","U рейка TH35-7,5, для количество модулей 40, для RZG-N-2.40","1 / -",0.39100000000000001,0.124,5.43,{"$f":"VLOOKUP(B4903,#REF!,3,FALSE)","v":{"$error":"#REF!"}}]
["Distri","Distri","LR1","OEZ:41116","ND-RGN-PR3ST42 (ND-RGV-PRN3NP42)","U рейка","U рейка TH35-7,5, для количество модулей 42, для RZG-N-3.42","1 / -",0.29299999999999998,0.10100000000000001,6.79,{"$f":"VLOOKUP(B4904,#REF!,3,FALSE)","v":{"$error":"#REF!"}}]
["Distri","Distri","LR1","OEZ:41117","ND-RGN-PR4ST56 (ND-RGV-PRN4NP56)","U рейка","U рейка TH35-7,5, для количество модулей 56, для RZG-N-4.56","1 / -",0.39100000000000001,0.121,9.0499999999999989,{"$f":"VLOOKUP(B4905,#REF!,3,FALSE)","v":{"$error":"#REF!"}}]
["Distri","Distri","LR1","OEZ:41123","ND-RG-SCR1ST4814 (ND-RGV-SCR1NP4814)","Комплект винтов","винт, комплект 4 шт., для RZG-.-1.4/ -1.8/ -1.14","1 / -",0.01,0.03,0.92,{"$f":"VLOOKUP(B4906,#REF!,3,FALSE)","v":{"$error":"#REF!"}}]
["Distri","Distri","LR1","OEZ:41124","ND-RG-SCR1ST18 (ND-RGV-SCR1NP18)","Комплект винтов","винт, комплект 2 шт., для RZG-.-1.18","1 / -",3.0000000000000001E-3,0.03,0.21000000000000002,{"$f":"VLOOKUP(B4907,#REF!,3,FALSE)","v":{"$error":"#REF!"}}]
["Distri","Distri","LR1","OEZ:41122","ND-RG-SCR23ST284042 (ND-RGV-SCR23NP28404","Комплект винтов","винт, комплект 4 шт., для RZG-.-2.28/ -2.40/ -3.42","1 / -",5.0000000000000001E-3,0.03,0.33,{"$f":"VLOOKUP(B4908,#REF!,3,FALSE)","v":{"$error":"#REF!"}}]
["Distri","Distri","LR1","OEZ:41121","ND-RG-SCR4ST56 (ND-RGV-SCR4NP56)","Комплект винтов","винт, комплект 6 шт., для RZG-.-4.56","1 / -",8.0000000000000002E-3,0.03,0.48,{"$f":"VLOOKUP(B4909,#REF!,3,FALSE)","v":{"$error":"#REF!"}}]
["Distri","Distri","LR1","OEZ:41125","ND-RG-CB24ST2856 (ND-RGV-CB24NP2856)","Перегородка","перегородка для установка, для RZG-Z-2.28/ -4.56","1 / -",9.5000000000000001E-2,0.27600000000000002,0.83,{"$f":"VLOOKUP(B4910,#REF!,3,FALSE)","v":{"$error":"#REF!"}}]
["Distri","Distri","LR1","OEZ:41126","ND-RG-CB3ST42 (ND-RGV-CB3NP42)","Перегородка","перегородка для установка, для RZG-Z-3.42","1 / -",6.7000000000000004E-2,0.24,0.75,{"$f":"VLOOKUP(B4911,#REF!,3,FALSE)","v":{"$error":"#REF!"}}]
[null,null,null,"Level  3","RZI - Пластиковые щиты (IP65)"]
[null,null,null,"Level  4","RZI-N - Настенные щиты"]
["Distri","Distri","LR1","OEZ:44382","RZI-N-1T4","Распределительный щит","для настенного монтажа, степень защиты IP65, прозрачная дверца, количество рядов 1, количество модулей в ряду 4, PE+N, серый цвет, материал ABS","1 / 12",0.75,5.3040000000000003,26.03,{"$f":"VLOOKUP(B4914,#REF!,3,FALSE)","v":{"$error":"#REF!"}}]
["Distri","Distri","LR1","OEZ:44383","RZI-N-1T6","Распределительный щит","для настенного монтажа, степень защиты IP65, прозрачная дверца, количество рядов 1, количество модулей в ряду 6, PE+N, серый цвет, материал ABS","1 / 12",0.84,6.5519999999999996,29.110000000000003,{"$f":"VLOOKUP(B4915,#REF!,3,FALSE)","v":{"$error":"#REF!"}}]
["Distri","Distri","LR1","OEZ:44384","RZI-N-1T8","Распределительный щит","для настенного монтажа, степень защиты IP65, прозрачная дверца, количество рядов 1, количество модулей в ряду 8, PE+N, серый цвет, материал ABS","1 / 8",0.95,7.8,32.64,{"$f":"VLOOKUP(B4916,#REF!,3,FALSE)","v":{"$error":"#REF!"}}]
["Distri","Distri","LR1","OEZ:44385","RZI-N-1T12","Распределительный щит","для настенного монтажа, степень защиты IP65, прозрачная дверца, количество рядов 1, количество модулей в ряду 12, PE+N, серый цвет, материал ABS","1 / 5",1.4,12.8,41.559999999999995,{"$f":"VLOOKUP(B4917,#REF!,3,FALSE)","v":{"$error":"#REF!"}}]
["Distri","Distri","LR1","OEZ:44386","RZI-N-1T18","Распределительный щит","для настенного монтажа, степень защиты IP65, прозрачная дверца, количество рядов 1, количество модулей в ряду 18, PE+N, серый цвет, материал ABS","1 / 4",1.98,19.488,59.489999999999995,{"$f":"VLOOKUP(B4918,#REF!,3,FALSE)","v":{"$error":"#REF!"}}]
["Distri","Distri","LR1","OEZ:44387","RZI-N-2T24","Распределительный щит","для настенного монтажа, степень защиты IP65, прозрачная дверца, количество рядов 2, количество модулей в ряду 12, PE+N, серый цвет, материал ABS","1 / 4",2.2599999999999998,23.04,74.08,{"$f":"VLOOKUP(B4919,#REF!,3,FALSE)","v":{"$error":"#REF!"}}]
["Distri","Distri","LR1","OEZ:44388","RZI-N-2T36","Распределительный щит","для настенного монтажа, степень защиты IP65, прозрачная дверца, количество рядов 2, количество модулей в ряду 18, PE+N, серый цвет, материал ABS","1 / 2",3.03,30.24,101.61,{"$f":"VLOOKUP(B4920,#REF!,3,FALSE)","v":{"$error":"#REF!"}}]
["Distri","Distri","LR1","OEZ:44389","RZI-N-3T36","Распределительный щит","для настенного монтажа, степень защиты IP65, прозрачная дверца, количество рядов 3, количество модулей в ряду 12, PE+N, серый цвет, материал ABS","1 / 2",3.21,30.72,99.51,{"$f":"VLOOKUP(B4921,#REF!,3,FALSE)","v":{"$error":"#REF!"}}]
["Distri","Distri","LR1","OEZ:44390","RZI-N-3T54","Распределительный щит","для настенного монтажа, степень защиты IP65, прозрачная дверца, количество рядов 3, количество модулей в ряду 18, PE+N, серый цвет, материал ABS","1 / -",3.97,40.32,115.75,{"$f":"VLOOKUP(B4922,#REF!,3,FALSE)","v":{"$error":"#REF!"}}]
[null,null,null,"Level  4","PD-RI - Принадлежности"]
["Distri","Distri","LR1","OEZ:44391","PD-RI-UZU","Замок","вставка для запирания, количество ключей 2, для RZI","1 / -",4.2000000000000003E-2,0.17399999999999999,20.78,{"$f":"VLOOKUP(B4924,#REF!,3,FALSE)","v":{"$error":"#REF!"}}]
["Distri","Distri","LR1","OEZ:44392","PD-RI-ZAS-S","Заглушка","ширина 6 модулей, серый цвет, замена ZAS-S","1 / -",1.4E-2,0.17399999999999999,2.9699999999999998,{"$f":"VLOOKUP(B4925,#REF!,3,FALSE)","v":{"$error":"#REF!"}}]
[null,null,null,"Level  4","ND-RI - Запасные части"]
["Distri","Distri","LR1","OEZ:44399","ND-RI-PD","Запасная часть","петля двери для RZI, 1 шт.","1 / -",6.0000000000000001E-3,0.22500000000000001,2.2899999999999996,{"$f":"VLOOKUP(B4927,#REF!,3,FALSE)","v":{"$error":"#REF!"}}]
["Distri","Distri","LR1","OEZ:44400","ND-RI-U","Запасная часть","запирание для RZI, 1 комплект (3 части)","1 / -",1.4E-2,0.28499999999999998,3.6799999999999997,{"$f":"VLOOKUP(B4928,#REF!,3,FALSE)","v":{"$error":"#REF!"}}]
["Distri","Distri","LR1","OEZ:44401","ND-RI-SCRZ-1","Запасная часть","винт для RZI, крепление передняя крышка - основание, 1 шт.","1 / -",6.0000000000000001E-3,0.27,2.2899999999999996,{"$f":"VLOOKUP(B4929,#REF!,3,FALSE)","v":{"$error":"#REF!"}}]
["Distri","Distri","LR1","OEZ:44402","ND-RI-K","Запасная часть","крышка крепежных болтов на стену для RZI, комплект 4 шт.","1 / -",6.0000000000000001E-3,0.19800000000000001,2.2899999999999996,{"$f":"VLOOKUP(B4930,#REF!,3,FALSE)","v":{"$error":"#REF!"}}]
["Distri","Distri","LR1","OEZ:44404","ND-RI-D1T4","Запасная часть","прозрачная дверца для RZI-N-1T4, включая закрывание, без петель","1 / -",9.6000000000000002E-2,0.48199999999999998,9.9,{"$f":"VLOOKUP(B4931,#REF!,3,FALSE)","v":{"$error":"#REF!"}}]
["Distri","Distri","LR1","OEZ:44405","ND-RI-D1T6","Запасная часть","прозрачная дверца для RZI-N-1T6, включая закрывание, без петель","1 / -",0.12,0.81499999999999995,10.879999999999999,{"$f":"VLOOKUP(B4932,#REF!,3,FALSE)","v":{"$error":"#REF!"}}]
["Distri","Distri","LR1","OEZ:44406","ND-RI-D1T8","Запасная часть","прозрачная дверца для RZI-N-1T8, включая закрывание, без петель","1 / -",0.13600000000000001,1.0409999999999999,11.45,{"$f":"VLOOKUP(B4933,#REF!,3,FALSE)","v":{"$error":"#REF!"}}]
["Distri","Distri","LR1","OEZ:44407","ND-RI-D1T12","Запасная часть","прозрачная дверца для RZI-N-1T12, включая закрывание, без петель","1 / -",0.20499999999999999,1.7210000000000001,14.709999999999999,{"$f":"VLOOKUP(B4934,#REF!,3,FALSE)","v":{"$error":"#REF!"}}]
["Distri","Distri","LR1","OEZ:44408","ND-RI-D1T18","Запасная часть","прозрачная дверца для RZI-N-1T18, включая закрывание, без петель","1 / -",0.27300000000000002,2.5579999999999998,18.680000000000003,{"$f":"VLOOKUP(B4935,#REF!,3,FALSE)","v":{"$error":"#REF!"}}]
["Distri","Distri","LR1","OEZ:44409","ND-RI-D2T24","Запасная часть","прозрачная дверца для RZI-N-2T24, включая закрывание, без петель","1 / -",0.38300000000000001,3.274,25.73,{"$f":"VLOOKUP(B4936,#REF!,3,FALSE)","v":{"$error":"#REF!"}}]
["Distri","Distri","LR1","OEZ:44410","ND-RI-D2T36","Запасная часть","прозрачная дверца для RZI-N-2T36, включая закрывание, без петель","1 / -",0.53500000000000003,4.476,31.810000000000002,{"$f":"VLOOKUP(B4937,#REF!,3,FALSE)","v":{"$error":"#REF!"}}]
["Distri","Distri","LR1","OEZ:44411","ND-RI-D3T36","Запасная часть","прозрачная дверца для RZI-N-3T36, включая закрывание, без петель","1 / -",0.56100000000000005,4.8659999999999997,32.369999999999997,{"$f":"VLOOKUP(B4938,#REF!,3,FALSE)","v":{"$error":"#REF!"}}]
["Distri","Distri","LR1","OEZ:44412","ND-RI-D3T54","Запасная часть","прозрачная дверца для RZI-N-3T54, включая закрывание, без петель","1 / -",0.752,5.6639999999999997,40.14,{"$f":"VLOOKUP(B4939,#REF!,3,FALSE)","v":{"$error":"#REF!"}}]
["Distri","Distri","LR1","OEZ:44393","ND-RI-SB5","Запасная часть","блок зажимов, для RZI-N-1T4l, RZI-N-1T6","1 / -",7.5999999999999998E-2,0.17799999999999999,9.19,{"$f":"VLOOKUP(B4940,#REF!,3,FALSE)","v":{"$error":"#REF!"}}]
["Distri","Distri","LR1","OEZ:44394","ND-RI-SB9","Запасная часть","блок зажимов для RZI-N-1T8","1 / -",0.10299999999999999,0.17799999999999999,11.45,{"$f":"VLOOKUP(B4941,#REF!,3,FALSE)","v":{"$error":"#REF!"}}]
["Distri","Distri","LR1","OEZ:44395","ND-RI-SB14","Запасная часть","блок зажимов для RZI-N-1T12","1 / -",0.186,0.374,18.380000000000003,{"$f":"VLOOKUP(B4942,#REF!,3,FALSE)","v":{"$error":"#REF!"}}]
["Distri","Distri","LR1","OEZ:44396","ND-RI-SB18","Запасная часть","блок зажимов для RZI-N-1T18, RZI-N-2T24","1 / -",0.214,0.374,21.91,{"$f":"VLOOKUP(B4943,#REF!,3,FALSE)","v":{"$error":"#REF!"}}]
["Distri","Distri","LR1","OEZ:44397","ND-RI-SB26","Запасная часть","блок зажимов для RZI-N-2T36, RZI-N-3T36","1 / -",0.33,0.374,37.03,{"$f":"VLOOKUP(B4944,#REF!,3,FALSE)","v":{"$error":"#REF!"}}]
["Distri","Distri","LR1","OEZ:44398","ND-RI-SB36","Запасная часть","блок зажимов для RZI-N-3T54","1 / -",0.41799999999999998,0.374,43.93,{"$f":"VLOOKUP(B4945,#REF!,3,FALSE)","v":{"$error":"#REF!"}}]
[null,null,null,"Level  3","KJ - Съемные крышки"]
[null,null,null,"Level  4","KJ - Съемные крышки"]
["Distri","Distri","LR1","OEZ:00037","KJ-1","Съемная крышка","возможность пломбирования, количество рядов 1, количество модулей в ряду 1, материал, пластмасса","1 / -",5.5E-2,0.34,1.81,{"$f":"VLOOKUP(B4948,#REF!,3,FALSE)","v":{"$error":"#REF!"}}]
["Distri","Distri","LR1","OEZ:08048","KJ-3","Съемная крышка","возможность пломбирования, количество рядов 1, количество модулей в ряду 3, материал, пластмасса","1 / -",0.09,0.6,3.8899999999999997,{"$f":"VLOOKUP(B4949,#REF!,3,FALSE)","v":{"$error":"#REF!"}}]
["Distri","Distri","LR1","OEZ:00039","KJ-4","Съемная крышка","возможность пломбирования, количество рядов 1, количество модулей в ряду 4, материал, пластмасса","1 / -",0.14000000000000001,0.8,4.01,{"$f":"VLOOKUP(B4950,#REF!,3,FALSE)","v":{"$error":"#REF!"}}]
["Distri","Distri","LR1","OEZ:08419","KJ-4L","Съемная крышка","возможность пломбирования, количество рядов 1, количество модулей в ряду 4, блок зажимов 4 x 16 mm2, материал, пластмасса","1 / -",0.16,0.8,9.58,{"$f":"VLOOKUP(B4951,#REF!,3,FALSE)","v":{"$error":"#REF!"}}]
[null,null,null,"Level  2","Распределительные щиты DistriSet"]
[null,null,null,"Level  3","DZ - Встраиваемые щиты (IP43)"]
["Distri","Distri","LR2","OEZ:39358","DZ43-2403","Распределительный щит","для скрытого монтажа, одностворчатая дверца, непрозрачная дверца, внутренняя В x Ш 550 x 510, количество рядов 3, расстояние 150 mm, количество модулей в ряду 24, степень защиты IP43, материал : листовая сталь","1 / -",15.928000000000001,90.569000000000003,208.51999999999998,{"$f":"VLOOKUP(B4954,#REF!,3,FALSE)","v":{"$error":"#REF!"}}]
["Distri","Distri","LR2","OEZ:39359","DZ43-2405","Распределительный щит","для скрытого монтажа, одностворчатая дверца, непрозрачная дверца, внутренняя В x Ш 750 x 510, количество рядов 5, расстояние 150 mm, количество модулей в ряду 24, степень защиты IP43, материал : листовая сталь","1 / -",19.690000000000001,116.40900000000001,231.76,{"$f":"VLOOKUP(B4955,#REF!,3,FALSE)","v":{"$error":"#REF!"}}]
["Distri","Distri","LR2","OEZ:39360","DZ43-2406","Распределительный щит","для скрытого монтажа, одностворчатая дверца, непрозрачная дверца, внутренняя В x Ш 950 x 510, количество рядов 6, расстояние 150 mm, количество модулей в ряду 24, степень защиты IP43, материал : листовая сталь","1 / -",23.452000000000002,142.249,269.27999999999997,{"$f":"VLOOKUP(B4956,#REF!,3,FALSE)","v":{"$error":"#REF!"}}]
["Distri","Distri","LR2","OEZ:39361","DZ43-2407","Распределительный щит","для скрытого монтажа, одностворчатая дверца, непрозрачная дверца, внутренняя В x Ш 1150 x 510, количество рядов 7, расстояние 150 mm, количество модулей в ряду 24, степень защиты IP43, материал : листовая сталь","1 / -",27.213999999999999,168.089,292.37,{"$f":"VLOOKUP(B4957,#REF!,3,FALSE)","v":{"$error":"#REF!"}}]
["Distri","Distri","LR2","OEZ:39362","DZ43-2409","Распределительный щит","для скрытого монтажа, одностворчатая дверца, непрозрачная дверца, внутренняя В x Ш 1350 x 510, количество рядов 9, расстояние 150 mm, количество модулей в ряду 24, степень защиты IP43, материал : листовая сталь","1 / -",30.975999999999999,193.929,317.81,{"$f":"VLOOKUP(B4958,#REF!,3,FALSE)","v":{"$error":"#REF!"}}]
["Distri","Distri","LR2","OEZ:39363","DZ43-2410","Распределительный щит","для скрытого монтажа, одностворчатая дверца, непрозрачная дверца, внутренняя В x Ш 1550 x 510, количество рядов 10, расстояние 150 mm, количество модулей в ряду 24, степень защиты IP43, материал : листовая сталь","1 / -",34.738,219.76900000000001,382.15,{"$f":"VLOOKUP(B4959,#REF!,3,FALSE)","v":{"$error":"#REF!"}}]
["Distri","Distri","LR2","OEZ:39364","DZ43-2411","Распределительный щит","для скрытого монтажа, одностворчатая дверца, непрозрачная дверца, внутренняя В x Ш 1750 x 510, количество рядов 11, расстояние 150 mm, количество модулей в ряду 24, степень защиты IP43, материал : листовая сталь","1 / -",38.5,245.60900000000001,407.58,{"$f":"VLOOKUP(B4960,#REF!,3,FALSE)","v":{"$error":"#REF!"}}]
["Distri","Distri","LR2","OEZ:39365","DZ43-2413","Распределительный щит","для скрытого монтажа, одностворчатая дверца, непрозрачная дверца, внутренняя В x Ш 1950 x 510, количество рядов 13, расстояние 150 mm, количество модулей в ряду 24, степень защиты IP43, материал : листовая сталь","1 / -",42.262,271.44900000000001,430.67,{"$f":"VLOOKUP(B4961,#REF!,3,FALSE)","v":{"$error":"#REF!"}}]
["Distri","Distri","LR2","OEZ:39366","DZ43-3503","Распределительный щит","для скрытого монтажа, одностворчатая дверца, непрозрачная дверца, внутренняя В x Ш 550 x 710, количество рядов 3, расстояние 150 mm, количество модулей в ряду 35, степень защиты IP43, материал : листовая сталь","1 / -",19.045000000000002,118.60899999999999,227.73,{"$f":"VLOOKUP(B4962,#REF!,3,FALSE)","v":{"$error":"#REF!"}}]
["Distri","Distri","LR2","OEZ:39367","DZ43-3505","Распределительный щит","для скрытого монтажа, одностворчатая дверца, непрозрачная дверца, внутренняя В x Ш 750 x 710, количество рядов 5, расстояние 150 mm, количество модулей в ряду 35, степень защиты IP43, материал : листовая сталь","1 / -",23.358000000000001,152.44900000000001,253.48999999999998,{"$f":"VLOOKUP(B4963,#REF!,3,FALSE)","v":{"$error":"#REF!"}}]
["Distri","Distri","LR2","OEZ:39368","DZ43-3506","Распределительный щит","для скрытого монтажа, одностворчатая дверца, непрозрачная дверца, внутренняя В x Ш 950 x 710, количество рядов 6, расстояние 150 mm, количество модулей в ряду 35, степень защиты IP43, материал : листовая сталь","1 / -",27.67,186.28899999999999,293.62,{"$f":"VLOOKUP(B4964,#REF!,3,FALSE)","v":{"$error":"#REF!"}}]
["Distri","Distri","LR2","OEZ:39369","DZ43-3507","Распределительный щит","для скрытого монтажа, одностворчатая дверца, непрозрачная дверца, внутренняя В x Ш 1150 x 710, количество рядов 7, расстояние 150 mm, количество модулей в ряду 35, степень защиты IP43, материал : листовая сталь","1 / -",31.983000000000001,220.12899999999999,319.52,{"$f":"VLOOKUP(B4965,#REF!,3,FALSE)","v":{"$error":"#REF!"}}]
["Distri","Distri","LR2","OEZ:39370","DZ43-3509","Распределительный щит","для скрытого монтажа, одностворчатая дверца, непрозрачная дверца, внутренняя В x Ш 1350 x 710, количество рядов 9, расстояние 150 mm, количество модулей в ряду 35, степень защиты IP43, материал : листовая сталь","1 / -",36.295000000000002,253.96899999999999,347.56,{"$f":"VLOOKUP(B4966,#REF!,3,FALSE)","v":{"$error":"#REF!"}}]
["Distri","Distri","LR2","OEZ:39371","DZ43-3510","Распределительный щит","для скрытого монтажа, одностворчатая дверца, непрозрачная дверца, внутренняя В x Ш 1550 x 710, количество рядов 10, расстояние 150 mm, количество модулей в ряду 35, степень защиты IP43, материал : листовая сталь","1 / -",40.607999999999997,287.80900000000003,414.4,{"$f":"VLOOKUP(B4967,#REF!,3,FALSE)","v":{"$error":"#REF!"}}]
["Distri","Distri","LR2","OEZ:39372","DZ43-3511","Распределительный щит","для скрытого монтажа, одностворчатая дверца, непрозрачная дверца, внутренняя В x Ш 1750 x 710, количество рядов 11, расстояние 150 mm, количество модулей в ряду 35, степень защиты IP43, материал : листовая сталь","1 / -",44.920999999999999,321.649,442.62,{"$f":"VLOOKUP(B4968,#REF!,3,FALSE)","v":{"$error":"#REF!"}}]
["Distri","Distri","LR2","OEZ:39373","DZ43-3513","Распределительный щит","для скрытого монтажа, одностворчатая дверца, непрозрачная дверца, внутренняя В x Ш 1950 x 710, количество рядов 13, расстояние 150 mm, количество модулей в ряду 35, степень защиты IP43, материал : листовая сталь","1 / -",49.232999999999997,355.48899999999998,468.32,{"$f":"VLOOKUP(B4969,#REF!,3,FALSE)","v":{"$error":"#REF!"}}]
["Distri","Distri","LR2","OEZ:39374","DZ43-4603","Распределительный щит","для скрытого монтажа, двухстворчатая дверца, непрозрачная дверца, внутренняя В x Ш 550 x 910, количество рядов 3, расстояние 150 mm, количество модулей в ряду 46, степень защиты IP43, материал : листовая сталь","1 / -",21.527000000000001,146.649,324.89,{"$f":"VLOOKUP(B4970,#REF!,3,FALSE)","v":{"$error":"#REF!"}}]
["Distri","Distri","LR2","OEZ:39375","DZ43-4605","Распределительный щит","для скрытого монтажа, двухстворчатая дверца, непрозрачная дверца, внутренняя В x Ш 750 x 910, количество рядов 5, расстояние 150 mm, количество модулей в ряду 46, степень защиты IP43, материал : листовая сталь","1 / -",26.472999999999999,188.489,353.76,{"$f":"VLOOKUP(B4971,#REF!,3,FALSE)","v":{"$error":"#REF!"}}]
["Distri","Distri","LR2","OEZ:39377","DZ43-4607","Распределительный щит","для скрытого монтажа, двухстворчатая дверца, непрозрачная дверца, внутренняя В x Ш 1150 x 910, количество рядов 7, расстояние 150 mm, количество модулей в ряду 46, степень защиты IP43, материал : листовая сталь","1 / -",36.363999999999997,272.16899999999998,416.09,{"$f":"VLOOKUP(B4972,#REF!,3,FALSE)","v":{"$error":"#REF!"}}]
["Distri","Distri","LR2","OEZ:39378","DZ43-4609","Распределительный щит","для скрытого монтажа, двухстворчатая дверца, непрозрачная дверца, внутренняя В x Ш 1350 x 910, количество рядов 9, расстояние 150 mm, количество модулей в ряду 46, степень защиты IP43, материал : листовая сталь","1 / -",41.31,314.00900000000001,449.58,{"$f":"VLOOKUP(B4973,#REF!,3,FALSE)","v":{"$error":"#REF!"}}]
["Distri","Distri","LR2","OEZ:39379","DZ43-4610","Распределительный щит","для скрытого монтажа, двухстворчатая дверца, непрозрачная дверца, внутренняя В x Ш 1550 x 910, количество рядов 10, расстояние 150 mm, количество модулей в ряду 46, степень защиты IP43, материал : листовая сталь","1 / -",46.255000000000003,355.84899999999999,467.37,{"$f":"VLOOKUP(B4974,#REF!,3,FALSE)","v":{"$error":"#REF!"}}]
["Distri","Distri","LR2","OEZ:39380","DZ43-4611","Распределительный щит","для скрытого монтажа, двухстворчатая дверца, непрозрачная дверца, внутренняя В x Ш 1750 x 910, количество рядов 11, расстояние 150 mm, количество модулей в ряду 46, степень защиты IP43, материал : листовая сталь","1 / -",51.201000000000001,397.68900000000002,511.89,{"$f":"VLOOKUP(B4975,#REF!,3,FALSE)","v":{"$error":"#REF!"}}]
["Distri","Distri","LR2","OEZ:39381","DZ43-4613","Распределительный щит","для скрытого монтажа, двухстворчатая дверца, непрозрачная дверца, внутренняя В x Ш 1950 x 910, количество рядов 13, расстояние 150 mm, количество модулей в ряду 46, степень защиты IP43, материал : листовая сталь","1 / -",56.146000000000001,439.529,540.73,{"$f":"VLOOKUP(B4976,#REF!,3,FALSE)","v":{"$error":"#REF!"}}]
["Distri","Distri","LR2","OEZ:39383","DZ43-5705","Распределительный щит","для скрытого монтажа, двухстворчатая дверца, непрозрачная дверца, внутренняя В x Ш 750 x 1110, количество рядов 5, расстояние 150 mm, количество модулей в ряду 57, степень защиты IP43, материал : листовая сталь","1 / -",30.381,224.529,376.43,{"$f":"VLOOKUP(B4977,#REF!,3,FALSE)","v":{"$error":"#REF!"}}]
["Distri","Distri","LR2","OEZ:39385","DZ43-5707","Распределительный щит","для скрытого монтажа, двухстворчатая дверца, непрозрачная дверца, внутренняя В x Ш 1150 x 1110, количество рядов 7, расстояние 150 mm, количество модулей в ряду 57, степень защиты IP43, материал : листовая сталь","1 / -",41.372999999999998,324.209,443.98,{"$f":"VLOOKUP(B4978,#REF!,3,FALSE)","v":{"$error":"#REF!"}}]
["Distri","Distri","LR2","OEZ:39386","DZ43-5709","Распределительный щит","для скрытого монтажа, двухстворчатая дверца, непрозрачная дверца, внутренняя В x Ш 1350 x 1110, количество рядов 9, расстояние 150 mm, количество модулей в ряду 57, степень защиты IP43, материал : листовая сталь","1 / -",46.869,374.04899999999998,480.11,{"$f":"VLOOKUP(B4979,#REF!,3,FALSE)","v":{"$error":"#REF!"}}]
["Distri","Distri","LR2","OEZ:39387","DZ43-5710","Распределительный щит","для скрытого монтажа, двухстворчатая дверца, непрозрачная дверца, внутренняя В x Ш 1550 x 1110, количество рядов 10, расстояние 150 mm, количество модулей в ряду 57, степень защиты IP43, материал : листовая сталь","1 / -",52.365000000000002,423.88900000000001,494.64,{"$f":"VLOOKUP(B4980,#REF!,3,FALSE)","v":{"$error":"#REF!"}}]
["Distri","Distri","LR2","OEZ:39388","DZ43-5711","Распределительный щит","для скрытого монтажа, двухстворчатая дверца, непрозрачная дверца, внутренняя В x Ш 1750 x 1110, количество рядов 11, расстояние 150 mm, количество модулей в ряду 57, степень защиты IP43, материал : листовая сталь","1 / -",57.862000000000002,473.72899999999998,547.72,{"$f":"VLOOKUP(B4981,#REF!,3,FALSE)","v":{"$error":"#REF!"}}]
["Distri","Distri","LR2","OEZ:39389","DZ43-5713","Распределительный щит","для скрытого монтажа, двухстворчатая дверца, непрозрачная дверца, внутренняя В x Ш 1950 x 1110, количество рядов 13, расстояние 150 mm, количество модулей в ряду 57, степень защиты IP43, материал : листовая сталь","1 / -",63.357999999999997,523.56899999999996,579.16999999999996,{"$f":"VLOOKUP(B4982,#REF!,3,FALSE)","v":{"$error":"#REF!"}}]
[null,null,null,"Level  3","DN - Настенные щиты (IP43)"]
["Distri","Distri","LR2","OEZ:39422","DN43-2403","Распределительный щит","для настенного монтажа, одностворчатая дверца, непрозрачная дверца, внутренняя В x Ш 557 x 510, количество рядов 3, расстояние 150 mm, количество модулей в ряду 24, степень защиты IP43, материал : листовая сталь","1 / -",23,131.32499999999999,308.5,{"$f":"VLOOKUP(B4984,#REF!,3,FALSE)","v":{"$error":"#REF!"}}]
["Distri","Distri","LR2","OEZ:39423","DN43-2405","Распределительный щит","для настенного монтажа, одностворчатая дверца, непрозрачная дверца, внутренняя В x Ш 757 x 510, количество рядов 5, расстояние 150 mm, количество модулей в ряду 24, степень защиты IP43, материал : листовая сталь","1 / -",28,168.79300000000001,347.74,{"$f":"VLOOKUP(B4985,#REF!,3,FALSE)","v":{"$error":"#REF!"}}]
["Distri","Distri","LR2","OEZ:39424","DN43-2406","Распределительный щит","для настенного монтажа, одностворчатая дверца, непрозрачная дверца, внутренняя В x Ш 957 x 510, количество рядов 6, расстояние 150 mm, количество модулей в ряду 24, степень защиты IP43, материал : листовая сталь","1 / -",33,206.261,402.75,{"$f":"VLOOKUP(B4986,#REF!,3,FALSE)","v":{"$error":"#REF!"}}]
["Distri","Distri","LR2","OEZ:39425","DN43-2407","Распределительный щит","для настенного монтажа, одностворчатая дверца, непрозрачная дверца, внутренняя В x Ш 1157 x 510, количество рядов 7, расстояние 150 mm, количество модулей в ряду 24, степень защиты IP43, материал : листовая сталь","1 / -",38.5,243.72900000000001,442,{"$f":"VLOOKUP(B4987,#REF!,3,FALSE)","v":{"$error":"#REF!"}}]
["Distri","Distri","LR2","OEZ:39426","DN43-2409","Распределительный щит","для настенного монтажа, одностворчатая дверца, непрозрачная дверца, внутренняя В x Ш 1357 x 510, количество рядов 9, расстояние 150 mm, количество модулей в ряду 24, степень защиты IP43, материал : листовая сталь","1 / -",43.5,281.197,483.84999999999997,{"$f":"VLOOKUP(B4988,#REF!,3,FALSE)","v":{"$error":"#REF!"}}]
["Distri","Distri","LR2","OEZ:39427","DN43-2410","Распределительный щит","для настенного монтажа, одностворчатая дверца, непрозрачная дверца, внутренняя В x Ш 1557 x 510, количество рядов 10, расстояние 150 mm, количество модулей в ряду 24, степень защиты IP43, материал : листовая сталь","1 / -",48.2,318.66500000000002,568.31999999999994,{"$f":"VLOOKUP(B4989,#REF!,3,FALSE)","v":{"$error":"#REF!"}}]
["Distri","Distri","LR2","OEZ:39429","DN43-2413","Распределительный щит","для настенного монтажа, одностворчатая дверца, непрозрачная дверца, внутренняя В x Ш 1957 x 510, количество рядов 13, расстояние 150 mm, количество модулей в ряду 24, степень защиты IP43, материал : листовая сталь","1 / -",58,393.601,627.78,{"$f":"VLOOKUP(B4990,#REF!,3,FALSE)","v":{"$error":"#REF!"}}]
["Distri","Distri","LR2","OEZ:39430","DN43-3503","Распределительный щит","для настенного монтажа, одностворчатая дверца, непрозрачная дверца, внутренняя В x Ш 557 x 710, количество рядов 3, расстояние 150 mm, количество модулей в ряду 35, степень защиты IP43, материал : листовая сталь","1 / -",27.7,171.983,418.11,{"$f":"VLOOKUP(B4991,#REF!,3,FALSE)","v":{"$error":"#REF!"}}]
["Distri","Distri","LR2","OEZ:39431","DN43-3505","Распределительный щит","для настенного монтажа, одностворчатая дверца, непрозрачная дверца, внутренняя В x Ш 757 x 710, количество рядов 5, расстояние 150 mm, количество модулей в ряду 35, степень защиты IP43, материал : листовая сталь","1 / -",33.6,221.05099999999999,476.71,{"$f":"VLOOKUP(B4992,#REF!,3,FALSE)","v":{"$error":"#REF!"}}]
["Distri","Distri","LR2","OEZ:39432","DN43-3506","Распределительный щит","для настенного монтажа, одностворчатая дверца, непрозрачная дверца, внутренняя В x Ш 957 x 710, количество рядов 6, расстояние 150 mm, количество модулей в ряду 35, степень защиты IP43, материал : листовая сталь","1 / -",39.4,270.11900000000003,551.13,{"$f":"VLOOKUP(B4993,#REF!,3,FALSE)","v":{"$error":"#REF!"}}]
["Distri","Distri","LR2","OEZ:39433","DN43-3507","Распределительный щит","для настенного монтажа, одностворчатая дверца, непрозрачная дверца, внутренняя В x Ш 1157 x 710, количество рядов 7, расстояние 150 mm, количество модулей в ряду 35, степень защиты IP43, материал : листовая сталь","1 / -",45.8,319.18700000000001,609.73,{"$f":"VLOOKUP(B4994,#REF!,3,FALSE)","v":{"$error":"#REF!"}}]
["Distri","Distri","LR2","OEZ:39434","DN43-3509","Распределительный щит","для настенного монтажа, одностворчатая дверца, непрозрачная дверца, внутренняя В x Ш 1357 x 710, количество рядов 9, расстояние 150 mm, количество модулей в ряду 35, степень защиты IP43, материал : листовая сталь","1 / -",52,368.255,670.93999999999994,{"$f":"VLOOKUP(B4995,#REF!,3,FALSE)","v":{"$error":"#REF!"}}]
["Distri","Distri","LR2","OEZ:39435","DN43-3510","Распределительный щит","для настенного монтажа, одностворчатая дверца, непрозрачная дверца, внутренняя В x Ш 1557 x 710, количество рядов 10, расстояние 150 mm, количество модулей в ряду 35, степень защиты IP43, материал : листовая сталь","1 / -",58,417.32299999999998,774.81999999999994,{"$f":"VLOOKUP(B4996,#REF!,3,FALSE)","v":{"$error":"#REF!"}}]
["Distri","Distri","LR2","OEZ:39436","DN43-3511","Распределительный щит","для настенного монтажа, одностворчатая дверца, непрозрачная дверца, внутренняя В x Ш 1757 x 710, количество рядов 11, расстояние 150 mm, количество модулей в ряду 35, степень защиты IP43, материал : листовая сталь","1 / -",64,466.39100000000002,836.06,{"$f":"VLOOKUP(B4997,#REF!,3,FALSE)","v":{"$error":"#REF!"}}]
["Distri","Distri","LR2","OEZ:39437","DN43-3513","Распределительный щит","для настенного монтажа, одностворчатая дверца, непрозрачная дверца, внутренняя В x Ш 1957 x 710, количество рядов 13, расстояние 150 mm, количество модулей в ряду 35, степень защиты IP43, материал : листовая сталь","1 / -",70,515.45899999999995,894.66,{"$f":"VLOOKUP(B4998,#REF!,3,FALSE)","v":{"$error":"#REF!"}}]
["Distri","Distri","LR2","OEZ:39438","DN43-4603","Распределительный щит","для настенного монтажа, двухстворчатая дверца, непрозрачная дверца, внутренняя В x Ш 557 x 910, количество рядов 3, расстояние 150 mm, количество модулей в ряду 46, степень защиты IP43, материал : листовая сталь","1 / -",32.299999999999997,212.64099999999999,458.57,{"$f":"VLOOKUP(B4999,#REF!,3,FALSE)","v":{"$error":"#REF!"}}]
["Distri","Distri","LR2","OEZ:39439","DN43-4605","Распределительный щит","для настенного монтажа, двухстворчатая дверца, непрозрачная дверца, внутренняя В x Ш 757 x 910, количество рядов 5, расстояние 150 mm, количество модулей в ряду 46, степень защиты IP43, материал : листовая сталь","1 / -",39.200000000000003,273.30900000000003,504.74,{"$f":"VLOOKUP(B5000,#REF!,3,FALSE)","v":{"$error":"#REF!"}}]
["Distri","Distri","LR2","OEZ:39443","DN43-4610","Распределительный щит","для настенного монтажа, двухстворчатая дверца, непрозрачная дверца, внутренняя В x Ш 1557 x 910, количество рядов 10, расстояние 150 mm, количество модулей в ряду 46, степень защиты IP43, материал : листовая сталь","1 / -",67.5,515.98099999999999,683.27,{"$f":"VLOOKUP(B5001,#REF!,3,FALSE)","v":{"$error":"#REF!"}}]
["Distri","Distri","LR2","OEZ:39444","DN43-4611","Распределительный щит","для настенного монтажа, двухстворчатая дверца, непрозрачная дверца, внутренняя В x Ш 1757 x 910, количество рядов 11, расстояние 150 mm, количество модулей в ряду 46, степень защиты IP43, материал : листовая сталь","1 / -",74.5,576.649,750.64,{"$f":"VLOOKUP(B5002,#REF!,3,FALSE)","v":{"$error":"#REF!"}}]
["Distri","Distri","LR2","OEZ:39445","DN43-4613","Распределительный щит","для настенного монтажа, двухстворчатая дверца, непрозрачная дверца, внутренняя В x Ш 1957 x 910, количество рядов 13, расстояние 150 mm, количество модулей в ряду 46, степень защиты IP43, материал : листовая сталь","1 / -",81,637.31700000000001,796.67,{"$f":"VLOOKUP(B5003,#REF!,3,FALSE)","v":{"$error":"#REF!"}}]
["Distri","Distri","LR2","OEZ:39451","DN43-5710","Распределительный щит","для настенного монтажа, двухстворчатая дверца, непрозрачная дверца, внутренняя В x Ш 1557 x 1110, количество рядов 10, расстояние 150 mm, количество модулей в ряду 57, степень защиты IP43, материал : листовая сталь","1 / -",77.5,614.63900000000001,947.18,{"$f":"VLOOKUP(B5004,#REF!,3,FALSE)","v":{"$error":"#REF!"}}]
["Distri","Distri","LR2","OEZ:39453","DN43-5713","Распределительный щит","для настенного монтажа, двухстворчатая дверца, непрозрачная дверца, внутренняя В x Ш 1957 x 1110, количество рядов 13, расстояние 150 mm, количество модулей в ряду 57, степень защиты IP43, материал : листовая сталь","1 / -",93,759.17499999999995,1132.1299999999999,{"$f":"VLOOKUP(B5005,#REF!,3,FALSE)","v":{"$error":"#REF!"}}]
[null,null,null,"Level  3","DZ_EI30S - Встраиваемые щиты с пожарной устойчивостью (IP54)"]
["Distri","Distri","LR2","OEZ:42729","DZ54-2410-EI30S","Распределительный щит","для скрытого монтажа, одностворчатая дверца, непрозрачная дверца, внутренняя В x Ш 1550x510, количество рядов 10, расстояние 150 mm, количество модулей в ряду 24, степень защиты IP54, материал : листовая сталь, пожарная устойчивость EI30S","1 / -",53,219.8,1126.3,{"$f":"VLOOKUP(B5007,#REF!,3,FALSE)","v":{"$error":"#REF!"}}]
["Distri","Distri","LR2","OEZ:42731","DZ54-2413-EI30S","Распределительный щит","для скрытого монтажа, одностворчатая дверца, непрозрачная дверца, внутренняя В x Ш 1950x510, количество рядов 13, расстояние 150 mm, количество модулей в ряду 24, степень защиты IP54, материал : листовая сталь, пожарная устойчивость EI30S","1 / -",64.400000000000006,271.39999999999998,1250.69,{"$f":"VLOOKUP(B5008,#REF!,3,FALSE)","v":{"$error":"#REF!"}}]
["Distri","Distri","LR2","OEZ:42737","DZ54-3510-EI30S","Распределительный щит","для скрытого монтажа, одностворчатая дверца, непрозрачная дверца, внутренняя В x Ш 1550x710, количество рядов 10, расстояние 150 mm, количество модулей в ряду 35, степень защиты IP54, материал : листовая сталь, пожарная устойчивость EI30S","1 / -",64.400000000000006,287.8,1269.6299999999999,{"$f":"VLOOKUP(B5009,#REF!,3,FALSE)","v":{"$error":"#REF!"}}]
["Distri","Distri","LR2","OEZ:42745","DZ54-4610-EI30S","Распределительный щит","для скрытого монтажа, двухстворчатая дверца, непрозрачная дверца, внутренняя В x Ш 1550x910, количество рядов 10, расстояние 150 mm, количество модулей в ряду 46, степень защиты IP54, материал : листовая сталь, пожарная устойчивость EI30S","1 / -",70.099999999999994,355.8,1728.25,{"$f":"VLOOKUP(B5010,#REF!,3,FALSE)","v":{"$error":"#REF!"}}]
["Distri","Distri","LR2","OEZ:42747","DZ54-4613-EI30S","Распределительный щит","для скрытого монтажа, двухстворчатая дверца, непрозрачная дверца, внутренняя В x Ш 1950x910, количество рядов 13, расстояние 150 mm, количество модулей в ряду 46, степень защиты IP54, материал : листовая сталь, пожарная устойчивость EI30S","1 / -",81.5,439.5,2087.0800000000004,{"$f":"VLOOKUP(B5011,#REF!,3,FALSE)","v":{"$error":"#REF!"}}]
["Distri","Distri","LR2","OEZ:42753","DZ54-5710-EI30S","Распределительный щит","для скрытого монтажа, двухстворчатая дверца, непрозрачная дверца, внутренняя В x Ш 1550x1110, количество рядов 10, расстояние 150 mm, количество модулей в ряду 57, степень защиты IP54, материал : листовая сталь, пожарная устойчивость EI30S","1 / -",75.8,423.9,1867.86,{"$f":"VLOOKUP(B5012,#REF!,3,FALSE)","v":{"$error":"#REF!"}}]
["Distri","Distri","LR2","OEZ:42755","DZ54-5713-EI30S","Распределительный щит","для скрытого монтажа, двухстворчатая дверца, непрозрачная дверца, внутренняя В x Ш 1950x1110, количество рядов 13, расстояние 150 mm, количество модулей в ряду 57, степень защиты IP54, материал : листовая сталь, пожарная устойчивость EI30S","1 / -",93.7,523.6,2369.63,{"$f":"VLOOKUP(B5013,#REF!,3,FALSE)","v":{"$error":"#REF!"}}]
[null,null,null,"Level  3","PD-D - Принадлежности"]
[null,null,null,"Level  4","PD-D-L35-VU_ - “U” рейки"]
["Distri","Distri","LR2","OEZ:39500","PD-D-L35-VU24","U рейка","U рейка TH35-15, для внутренней Ш распределительного щита 510, для количество модулей 24, для DZ43..., DN43..., DZ54...","1 / -",0.19,0.37,15.18,{"$f":"VLOOKUP(B5016,#REF!,3,FALSE)","v":{"$error":"#REF!"}}]
["Distri","Distri","LR2","OEZ:39501","PD-D-L35-VU35","U рейка","U рейка TH35-15, для внутренней Ш распределительного щита 710, для количество модулей 35, для DZ43..., DN43..., DZ54...","1 / -",0.26,0.47,16.100000000000001,{"$f":"VLOOKUP(B5017,#REF!,3,FALSE)","v":{"$error":"#REF!"}}]
["Distri","Distri","LR2","OEZ:39502","PD-D-L35-VU46","U рейка","U рейка TH35-15, для внутренней Ш распределительного щита 910, для количество модулей 46, для DZ43..., DN43..., DZ54...","1 / -",0.36399999999999999,0.57999999999999996,19,{"$f":"VLOOKUP(B5018,#REF!,3,FALSE)","v":{"$error":"#REF!"}}]
["Distri","Distri","LR2","OEZ:39503","PD-D-L35-VU57","U рейка","U рейка TH35-15, для внутренней Ш распределительного щита 1110, для количество модулей 57, для DZ43..., DN43..., DZ54...","1 / -",0.42,0.69,20.490000000000002,{"$f":"VLOOKUP(B5019,#REF!,3,FALSE)","v":{"$error":"#REF!"}}]
[null,null,null,"Level  4","PD-D-_LPU_ - Приборные рейки"]
["Distri","Distri","LR2","OEZ:39719","PD-D-50LPU24","Приборная рейка","В рейки x внутренняя Ш распределительного щита 50 x 510, для количество модулей 24, для DZ43..., DN43..., DZ54...","1 / -",0.69,0.82,12.87,{"$f":"VLOOKUP(B5021,#REF!,3,FALSE)","v":{"$error":"#REF!"}}]
["Distri","Distri","LR2","OEZ:39720","PD-D-100LPU24","Приборная рейка","В рейки x внутренняя Ш распределительного щита 100 x 510, для количество модулей 24, для DZ43..., DN43..., DZ54...","1 / -",1.0900000000000001,1.63,15.18,{"$f":"VLOOKUP(B5022,#REF!,3,FALSE)","v":{"$error":"#REF!"}}]
["Distri","Distri","LR2","OEZ:41312","PD-D-130LPU24","Приборная рейка","В рейки x внутренняя Ш распределительного щита 130 x 510, для количество модулей 24, для DZ43..., DN43..., DZ54...","1 / -",1.43,2.3199999999999998,15.83,{"$f":"VLOOKUP(B5023,#REF!,3,FALSE)","v":{"$error":"#REF!"}}]
["Distri","Distri","LR2","OEZ:39721","PD-D-50LPU35","Приборная рейка","В рейки x внутренняя Ш распределительного щита 50 x 710, для количество модулей 35, для DZ43..., DN43..., DZ54...","1 / -",0.94,1.1399999999999999,13.67,{"$f":"VLOOKUP(B5024,#REF!,3,FALSE)","v":{"$error":"#REF!"}}]
["Distri","Distri","LR2","OEZ:39722","PD-D-100LPU35","Приборная рейка","В рейки x внутренняя Ш распределительного щита 100 x 710, для количество модулей 35, для DZ43..., DN43..., DZ54...","1 / -",1.17,2.27,16.130000000000003,{"$f":"VLOOKUP(B5025,#REF!,3,FALSE)","v":{"$error":"#REF!"}}]
["Distri","Distri","LR2","OEZ:41313","PD-D-130LPU35","Приборная рейка","В рейки x внутренняя Ш распределительного щита 130 x 710, для количество модулей 35, для DZ43..., DN43..., DZ54...","1 / -",1.9,3.23,18.12,{"$f":"VLOOKUP(B5026,#REF!,3,FALSE)","v":{"$error":"#REF!"}}]
["Distri","Distri","LR2","OEZ:39723","PD-D-50LPU46","Приборная рейка","В рейки x внутренняя Ш распределительного щита 50 x 910, для количество модулей 46, для DZ43..., DN43..., DZ54...","1 / -",1.34,1.46,15.83,{"$f":"VLOOKUP(B5027,#REF!,3,FALSE)","v":{"$error":"#REF!"}}]
["Distri","Distri","LR2","OEZ:39724","PD-D-100LPU46","Приборная рейка","В рейки x внутренняя Ш распределительного щита 100 x 910, для количество модулей 46, для DZ43..., DN43..., DZ54...","1 / -",1.92,2.91,18.940000000000001,{"$f":"VLOOKUP(B5028,#REF!,3,FALSE)","v":{"$error":"#REF!"}}]
["Distri","Distri","LR2","OEZ:41314","PD-D-130LPU46","Приборная рейка","В рейки x внутренняя Ш распределительного щита 130 x 910, для количество модулей 46, для DZ43..., DN43..., DZ54...","1 / -",2.4,4.1399999999999997,20.6,{"$f":"VLOOKUP(B5029,#REF!,3,FALSE)","v":{"$error":"#REF!"}}]
["Distri","Distri","LR2","OEZ:39725","PD-D-50LPU57","Приборная рейка","В рейки x внутренняя Ш распределительного щита 50 x 1110, для количество модулей 57, для DZ43..., DN43..., DZ54...","1 / -",1.45,1.78,18.440000000000001,{"$f":"VLOOKUP(B5030,#REF!,3,FALSE)","v":{"$error":"#REF!"}}]
["Distri","Distri","LR2","OEZ:39726","PD-D-100LPU57","Приборная рейка","В рейки x внутренняя Ш распределительного щита 100 x 1110, для количество модулей 57, для DZ43..., DN43..., DZ54...","1 / -",2.34,3.55,19.8,{"$f":"VLOOKUP(B5031,#REF!,3,FALSE)","v":{"$error":"#REF!"}}]
["Distri","Distri","LR2","OEZ:41315","PD-D-130LPU57","Приборная рейка","В рейки x внутренняя Ш распределительного щита 130 x 1110, для количество модулей 57, для DZ43..., DN43..., DZ54...","1 / -",2.9,5.05,23.060000000000002,{"$f":"VLOOKUP(B5032,#REF!,3,FALSE)","v":{"$error":"#REF!"}}]
[null,null,null,"Level  4","PD-D-_DP_ - Подвижные держатели"]
["Distri","Distri","LR2","OEZ:39494","PD-D-50DP50","Подвижные держатели","для рейки PD-D-50LPU..., глубина 50, комплект 2 шт., для DZ43..., DN43..., DZ54...","1 / -",0.1,0.125,7.59,{"$f":"VLOOKUP(B5034,#REF!,3,FALSE)","v":{"$error":"#REF!"}}]
["Distri","Distri","LR2","OEZ:39495","PD-D-50DP100","Подвижные держатели","для рейки PD-D-50LPU..., глубина 100, комплект 2 шт., для DZ43..., DN43..., DZ54...","1 / -",0.12,0.25,7.92,{"$f":"VLOOKUP(B5035,#REF!,3,FALSE)","v":{"$error":"#REF!"}}]
["Distri","Distri","LR2","OEZ:39757","PD-D-100DP50","Подвижные держатели","для рейки PD-D-100LPU..., глубина 50, комплект 2 шт., для DZ43..., DN43..., DZ54...","1 / -",0.2,0.25,7.77,{"$f":"VLOOKUP(B5036,#REF!,3,FALSE)","v":{"$error":"#REF!"}}]
["Distri","Distri","LR2","OEZ:39758","PD-D-100DP100","Подвижные держатели","для рейки PD-D-100LPU..., глубина 100, комплект 2 шт., для DZ43..., DN43..., DZ54...","1 / -",0.24,0.5,8.1,{"$f":"VLOOKUP(B5037,#REF!,3,FALSE)","v":{"$error":"#REF!"}}]
[null,null,null,"Level  4","PD-D-_LP_ - Приборные рейки"]
["Distri","Distri","LR2","OEZ:39474","PD-D-50LP24","Приборная рейка","В рейки x внутренняя Ш распределительного щита 50 x 510, для количество модулей 24, для DZ43..., DN43..., DZ54...","1 / -",0.65,0.38,9.67,{"$f":"VLOOKUP(B5039,#REF!,3,FALSE)","v":{"$error":"#REF!"}}]
["Distri","Distri","LR2","OEZ:39479","PD-D-50LP35","Приборная рейка","В рейки x внутренняя Ш распределительного щита 50 x 710, для количество модулей 35, для DZ43..., DN43..., DZ54...","1 / -",0.9,0.53,10.79,{"$f":"VLOOKUP(B5040,#REF!,3,FALSE)","v":{"$error":"#REF!"}}]
["Distri","Distri","LR2","OEZ:39484","PD-D-50LP46","Приборная рейка","В рейки x внутренняя Ш распределительного щита 50 x 910, для количество модулей 46, для DZ43..., DN43..., DZ54...","1 / -",1.3,0.68,11.77,{"$f":"VLOOKUP(B5041,#REF!,3,FALSE)","v":{"$error":"#REF!"}}]
["Distri","Distri","LR2","OEZ:39489","PD-D-50LP57","Приборная рейка","В рейки x внутренняя Ш распределительного щита 50 x 1110, для количество модулей 57, для DZ43..., DN43..., DZ54...","1 / -",1.41,0.83,13.22,{"$f":"VLOOKUP(B5042,#REF!,3,FALSE)","v":{"$error":"#REF!"}}]
[null,null,null,"Level  4","PD-D-_E_ - Корпуса для измерительной аппаратуры"]
["Distri","Distri","LR2","OEZ:39504","PD-D-1E224","Корпус для измерительной аппаратуры","количество мест для электрических счётчиков рядом с собой 2, высота корпуса 400, внутренняя Ш распределительного щита 510, для DZ43..., DN43..., DZ54...","1 / -",2.83,22,51.58,{"$f":"VLOOKUP(B5044,#REF!,3,FALSE)","v":{"$error":"#REF!"}}]
["Distri","Distri","LR2","OEZ:39505","PD-D-1E335","Корпус для измерительной аппаратуры","количество мест для электрических счётчиков рядом с собой 3, высота корпуса 400, внутренняя Ш распределительного щита 710, для DZ43..., DN43..., DZ54...","1 / -",3.1829999999999998,26.4,75.47,{"$f":"VLOOKUP(B5045,#REF!,3,FALSE)","v":{"$error":"#REF!"}}]
["Distri","Distri","LR2","OEZ:39506","PD-D-1E446","Корпус для измерительной аппаратуры","количество мест для электрических счётчиков рядом с собой 4, высота корпуса 400, внутренняя Ш распределительного щита 910, для DZ43..., DN43..., DZ54...","1 / -",3.625,35.200000000000003,103.51,{"$f":"VLOOKUP(B5046,#REF!,3,FALSE)","v":{"$error":"#REF!"}}]
["Distri","Distri","LR2","OEZ:39507","PD-D-1E557","Корпус для измерительной аппаратуры","количество мест для электрических счётчиков рядом с собой 5, высота корпуса 400, внутренняя Ш распределительного щита 1110, для DZ43..., DN43..., DZ54...","1 / -",4.2149999999999999,44,123.37,{"$f":"VLOOKUP(B5047,#REF!,3,FALSE)","v":{"$error":"#REF!"}}]
["Distri","Distri","LR2","OEZ:39759","PD-D-1E224-450","Корпус для измерительной аппаратуры","количество мест для электрических счётчиков рядом с собой 2, высота корпуса 450, внутренняя Ш распределительного щита 510, для DZ43..., DN43..., DZ54...","1 / -",3,23,62.16,{"$f":"VLOOKUP(B5048,#REF!,3,FALSE)","v":{"$error":"#REF!"}}]
[null,null,null,"Level  4","PD-D-KM_ - Крышки для модульных приборов без прорези"]
["Distri","Distri","LR2","OEZ:39598","PD-D-KM00524","Крышкa","для модулярной системы, без прорези, В крышки x внутренняя Ш распределительного щита 50 x 510, для количество модулей 24, для DZ43..., DN43..., DZ54...","1 / -",0.13,0.38300000000000001,8.93,{"$f":"VLOOKUP(B5050,#REF!,3,FALSE)","v":{"$error":"#REF!"}}]
["Distri","Distri","LR2","OEZ:39599","PD-D-KM00535","Крышкa","для модулярной системы, без прорези, В крышки x внутренняя Ш распределительного щита 50 x 710, для количество модулей 35, для DZ43..., DN43..., DZ54...","1 / -",0.15,0.53300000000000003,9.7899999999999991,{"$f":"VLOOKUP(B5051,#REF!,3,FALSE)","v":{"$error":"#REF!"}}]
["Distri","Distri","LR2","OEZ:39600","PD-D-KM00546","Крышкa","для модулярной системы, без прорези, В крышки x внутренняя Ш распределительного щита 50 x 910, для количество модулей 46, для DZ43..., DN43..., DZ54...","1 / -",0.23,0.68300000000000005,13.02,{"$f":"VLOOKUP(B5052,#REF!,3,FALSE)","v":{"$error":"#REF!"}}]
["Distri","Distri","LR2","OEZ:39601","PD-D-KM00557","Крышкa","для модулярной системы, без прорези, В крышки x внутренняя Ш распределительного щита 50 x 1110, для количество модулей 57, для DZ43..., DN43..., DZ54...","1 / -",0.26,0.83299999999999996,14.379999999999999,{"$f":"VLOOKUP(B5053,#REF!,3,FALSE)","v":{"$error":"#REF!"}}]
["Distri","Distri","LR2","OEZ:39458","PD-D-KM01024","Крышкa","для модулярной системы, без прорези, В крышки x внутренняя Ш распределительного щита 100 x 510, для количество модулей 24, для DZ43..., DN43..., DZ54...","1 / -",0.25,0.76500000000000001,13.7,{"$f":"VLOOKUP(B5054,#REF!,3,FALSE)","v":{"$error":"#REF!"}}]
["Distri","Distri","LR2","OEZ:39459","PD-D-KM01035","Крышкa","для модулярной системы, без прорези, В крышки x внутренняя Ш распределительного щита 100 x 710, для количество модулей 35, для DZ43..., DN43..., DZ54...","1 / -",0.31,1.0649999999999999,15,{"$f":"VLOOKUP(B5055,#REF!,3,FALSE)","v":{"$error":"#REF!"}}]
["Distri","Distri","LR2","OEZ:39460","PD-D-KM01046","Крышкa","для модулярной системы, без прорези, В крышки x внутренняя Ш распределительного щита 100 x 910, для количество модулей 46, для DZ43..., DN43..., DZ54...","1 / -",0.45,1.365,17.110000000000003,{"$f":"VLOOKUP(B5056,#REF!,3,FALSE)","v":{"$error":"#REF!"}}]
["Distri","Distri","LR2","OEZ:39461","PD-D-KM01057","Крышкa","для модулярной системы, без прорези, В крышки x внутренняя Ш распределительного щита 100 x 1110, для количество модулей 57, для DZ43..., DN43..., DZ54...","1 / -",0.51,1.665,19.510000000000002,{"$f":"VLOOKUP(B5057,#REF!,3,FALSE)","v":{"$error":"#REF!"}}]
["Distri","Distri","LR2","OEZ:39462","PD-D-KM01524","Крышкa","для модулярной системы, без прорези, В крышки x внутренняя Ш распределительного щита 150 x 510, для количество модулей 24, для DZ43..., DN43..., DZ54...","1 / -",0.26,1.1499999999999999,18.09,{"$f":"VLOOKUP(B5058,#REF!,3,FALSE)","v":{"$error":"#REF!"}}]
["Distri","Distri","LR2","OEZ:39463","PD-D-KM01535","Крышкa","для модулярной системы, без прорези, В крышки x внутренняя Ш распределительного щита 150 x 710, для количество модулей 35, для DZ43..., DN43..., DZ54...","1 / -",0.35,1.6,19.690000000000001,{"$f":"VLOOKUP(B5059,#REF!,3,FALSE)","v":{"$error":"#REF!"}}]
["Distri","Distri","LR2","OEZ:39464","PD-D-KM01546","Крышкa","для модулярной системы, без прорези, В крышки x внутренняя Ш распределительного щита 150 x 910, для количество модулей 46, для DZ43..., DN43..., DZ54...","1 / -",0.5,2.04,21.76,{"$f":"VLOOKUP(B5060,#REF!,3,FALSE)","v":{"$error":"#REF!"}}]
["Distri","Distri","LR2","OEZ:39465","PD-D-KM01557","Крышкa","для модулярной системы, без прорези, В крышки x внутренняя Ш распределительного щита 150 x 1110, для количество модулей 57, для DZ43..., DN43..., DZ54...","1 / -",0.56000000000000005,2.4900000000000002,25.470000000000002,{"$f":"VLOOKUP(B5061,#REF!,3,FALSE)","v":{"$error":"#REF!"}}]
["Distri","Distri","LR2","OEZ:39466","PD-D-KM03024","Крышкa","для модулярной системы, без прорези, В крышки x внутренняя Ш распределительного щита 300 x 510, для количество модулей 24, для DZ43..., DN43..., DZ54...","1 / -",0.48,2.2949999999999999,25.17,{"$f":"VLOOKUP(B5062,#REF!,3,FALSE)","v":{"$error":"#REF!"}}]
["Distri","Distri","LR2","OEZ:39467","PD-D-KM03035","Крышкa","для модулярной системы, без прорези, В крышки x внутренняя Ш распределительного щита 300 x 710, для количество модулей 35, для DZ43..., DN43..., DZ54...","1 / -",0.66,3.1949999999999998,27.75,{"$f":"VLOOKUP(B5063,#REF!,3,FALSE)","v":{"$error":"#REF!"}}]
["Distri","Distri","LR2","OEZ:39468","PD-D-KM03046","Крышкa","для модулярной системы, без прорези, В крышки x внутренняя Ш распределительного щита 300 x 910, для количество модулей 46, для DZ43..., DN43..., DZ54...","1 / -",0.97,4.0949999999999998,32.729999999999997,{"$f":"VLOOKUP(B5064,#REF!,3,FALSE)","v":{"$error":"#REF!"}}]
["Distri","Distri","LR2","OEZ:39469","PD-D-KM03057","Крышкa","для модулярной системы, без прорези, В крышки x внутренняя Ш распределительного щита 300 x 1110, для количество модулей 57, для DZ43..., DN43..., DZ54...","1 / -",1.08,4.9950000000000001,38.059999999999995,{"$f":"VLOOKUP(B5065,#REF!,3,FALSE)","v":{"$error":"#REF!"}}]
["Distri","Distri","LR2","OEZ:39470","PD-D-KM04524","Крышкa","для модулярной системы, без прорези, В крышки x внутренняя Ш распределительного щита 450 x 510, для количество модулей 24, для DZ43..., DN43..., DZ54...","1 / -",0.94,3.44,30,{"$f":"VLOOKUP(B5066,#REF!,3,FALSE)","v":{"$error":"#REF!"}}]
["Distri","Distri","LR2","OEZ:39471","PD-D-KM04535","Крышкa","для модулярной системы, без прорези, В крышки x внутренняя Ш распределительного щита 450 x 710, для количество модулей 35, для DZ43..., DN43..., DZ54...","1 / -",1.05,4.8,35.96,{"$f":"VLOOKUP(B5067,#REF!,3,FALSE)","v":{"$error":"#REF!"}}]
["Distri","Distri","LR2","OEZ:39472","PD-D-KM04546","Крышкa","для модулярной системы, без прорези, В крышки x внутренняя Ш распределительного щита 450 x 910, для количество модулей 46, для DZ43..., DN43..., DZ54...","1 / -",1.1000000000000001,6.14,37.229999999999997,{"$f":"VLOOKUP(B5068,#REF!,3,FALSE)","v":{"$error":"#REF!"}}]
["Distri","Distri","LR2","OEZ:39473","PD-D-KM04557","Крышкa","для модулярной системы, без прорези, В крышки x внутренняя Ш распределительного щита 450 x 1110, для количество модулей 57, для DZ43..., DN43..., DZ54...","1 / -",2.1,7.52,42.57,{"$f":"VLOOKUP(B5069,#REF!,3,FALSE)","v":{"$error":"#REF!"}}]
[null,null,null,"Level  4","PD-D-KMV_ - Крышки для модульных приборов с прорезью"]
["Distri","Distri","LR2","OEZ:39454","PD-D-KMV01524","Крышкa","для модулярной системы, с прорезью, В крышки x внутренняя Ш распределительного щита 150 x 510, для количество модулей 24, для DZ43..., DN43...,, DZ54...","1 / -",0.24,1.1499999999999999,20.490000000000002,{"$f":"VLOOKUP(B5071,#REF!,3,FALSE)","v":{"$error":"#REF!"}}]
["Distri","Distri","LR2","OEZ:39455","PD-D-KMV01535","Крышкa","для модулярной системы, с прорезью, В крышки x внутренняя Ш распределительного щита 150 x 710, для количество модулей 35, для DZ43..., DN43...,, DZ54...","1 / -",0.28000000000000003,1.6,22.26,{"$f":"VLOOKUP(B5072,#REF!,3,FALSE)","v":{"$error":"#REF!"}}]
["Distri","Distri","LR2","OEZ:39456","PD-D-KMV01546","Крышкa","для модулярной системы, с прорезью, В крышки x внутренняя Ш распределительного щита 150 x 910, для количество модулей 46, для DZ43..., DN43...,, DZ54...","1 / -",0.35,2.04,23.87,{"$f":"VLOOKUP(B5073,#REF!,3,FALSE)","v":{"$error":"#REF!"}}]
["Distri","Distri","LR2","OEZ:39457","PD-D-KMV01557","Крышкa","для модулярной системы, с прорезью, В крышки x внутренняя Ш распределительного щита 150 x 1110, для количество модулей 57, для DZ43..., DN43...,, DZ54...","1 / -",0.45,2.4900000000000002,27.75,{"$f":"VLOOKUP(B5074,#REF!,3,FALSE)","v":{"$error":"#REF!"}}]
[null,null,null,"Level  4","PD-D-UM_ - Пломбируемые винты"]
["Distri","Distri","LR2","OEZ:39732","PD-D-UM5P","Пломбируемые винты","M 5 x 10, комплект 4 шт.","1 / -",1.4999999999999999E-2,2.5000000000000001E-2,6.91,{"$f":"VLOOKUP(B5076,#REF!,3,FALSE)","v":{"$error":"#REF!"}}]
[null,null,null,"Level  4","PD-R_ - Заглушки"]
["Distri","Distri","LR1","OEZ:39354","PD-R-ZAS1000-S","Заглушка","ширина 1000 mm ( ширина 55 модулей ), серый цвет, для DZ, DN, NP, QA","1 / -",0.14199999999999999,0.20399999999999999,11.92,{"$f":"VLOOKUP(B5078,#REF!,3,FALSE)","v":{"$error":"#REF!"}}]
[null,null,null,"Level  4","PD-D-U- - Запираемoе оборудованиe"]
[null,null,null,"Level  3","ND-D - Запасные части"]
["Distri","Distri","LR1","OEZ:41329","ND-D-M8P","Прямоугольная гайка","прямоугольная гайка, комплект 10 шт., для DZ, DN","1 / -",6.0000000000000001E-3,1.4E-2,14.44,{"$f":"VLOOKUP(B5081,#REF!,3,FALSE)","v":{"$error":"#REF!"}}]
["Distri","Distri","LR2","OEZ:38548","ND-D-UR3","Затворы","затворы для модульных крышек, комплект 10 шт., для DZ, DN","1 / -",0.14000000000000001,0.4,9.49,{"$f":"VLOOKUP(B5082,#REF!,3,FALSE)","v":{"$error":"#REF!"}}]
["Distri","Distri","LR2","OEZ:41167","ND-D-PD","Петля","петля двери для DZ43, DN43, 1 шт.","1 / -",0.01,1.4999999999999999E-2,5.7299999999999995,{"$f":"VLOOKUP(B5083,#REF!,3,FALSE)","v":{"$error":"#REF!"}}]
["Distri","Distri","LR2","OEZ:45815","ND-D-EPR","Кабельный ввод","для корпуса для измерительной аппаратуры, включая заклепки 1 ks, для DZ, DN","1 / -",0.03,0.16300000000000001,2.0499999999999998,{"$f":"VLOOKUP(B5084,#REF!,3,FALSE)","v":{"$error":"#REF!"}}]
[null,null,null,"Level  2","Распределительные шкафы DistriBox"]
[null,null,null,"Level  3","NP - Настенные щиты"]
[null,null,null,"Level  4","NP - Настенные щиты для внутреннего применения"]
["Distri","Distri","LR2","OEZ:44035","NP66-0302015","Настенный распределительный шкаф","степень защиты IP66, RAL 7035, применение в интерьере, одностворчатая дверца, В x Ш x Г 300 x 200 x 155, монтажная панель","1 / -",4.5,12.416,95.77000000000001,{"$f":"VLOOKUP(B5088,#REF!,3,FALSE)","v":{"$error":"#REF!"}}]
["Distri","Distri","LR2","OEZ:44039","NP66-0403015","Настенный распределительный шкаф","степень защиты IP66, RAL 7035, применение в интерьере, одностворчатая дверца, В x Ш x Г 400 x 300 x 155, монтажная панель","1 / -",7.6,23.704000000000001,115.69000000000001,{"$f":"VLOOKUP(B5089,#REF!,3,FALSE)","v":{"$error":"#REF!"}}]
["Distri","Distri","LR2","OEZ:44037","NP66-0304015","Настенный распределительный шкаф","степень защиты IP66, RAL 7035, применение в интерьере, одностворчатая дверца, В x Ш x Г 300 x 400 x 155, монтажная панель","1 / -",7,23.966000000000001,110.18,{"$f":"VLOOKUP(B5090,#REF!,3,FALSE)","v":{"$error":"#REF!"}}]
["Distri","Distri","LR2","OEZ:44036","NP66-0303021","Настенный распределительный шкаф","степень защиты IP66, RAL 7035, применение в интерьере, одностворчатая дверца, В x Ш x Г 300 x 300 x 210, монтажная панель","1 / -",7,23.908999999999999,104.60000000000001,{"$f":"VLOOKUP(B5091,#REF!,3,FALSE)","v":{"$error":"#REF!"}}]
["Distri","Distri","LR2","OEZ:44040","NP66-0403021","Настенный распределительный шкаф","степень защиты IP66, RAL 7035, применение в интерьере, одностворчатая дверца, В x Ш x Г 400 x 300 x 210, монтажная панель","1 / -",8.5,31.154,114.42,{"$f":"VLOOKUP(B5092,#REF!,3,FALSE)","v":{"$error":"#REF!"}}]
["Distri","Distri","LR2","OEZ:44043","NP66-0503021","Настенный распределительный шкаф","степень защиты IP66, RAL 7035, применение в интерьере, одностворчатая дверца, В x Ш x Г 500 x 300 x 210, монтажная панель","1 / -",9.5,38.399000000000001,126.51,{"$f":"VLOOKUP(B5093,#REF!,3,FALSE)","v":{"$error":"#REF!"}}]
["Distri","Distri","LR2","OEZ:44038","NP66-0304021","Настенный распределительный шкаф","степень защиты IP66, RAL 7035, применение в интерьере, одностворчатая дверца, В x Ш x Г 300 x 400 x 210, монтажная панель","1 / -",8.5,31.498999999999999,113.73,{"$f":"VLOOKUP(B5094,#REF!,3,FALSE)","v":{"$error":"#REF!"}}]
["Distri","Distri","LR2","OEZ:44041","NP66-0404021","Настенный распределительный шкаф","степень защиты IP66, RAL 7035, применение в интерьере, одностворчатая дверца, В x Ш x Г 400 x 400 x 210, монтажная панель","1 / -",9.5,41.043999999999997,122.39,{"$f":"VLOOKUP(B5095,#REF!,3,FALSE)","v":{"$error":"#REF!"}}]
["Distri","Distri","LR2","OEZ:44044","NP66-0504021","Настенный распределительный шкаф","степень защиты IP66, RAL 7035, применение в интерьере, одностворчатая дверца, В x Ш x Г 500 x 400 x 210, монтажная панель","1 / -",11.3,42,134.63,{"$f":"VLOOKUP(B5096,#REF!,3,FALSE)","v":{"$error":"#REF!"}}]
["Distri","Distri","LR2","OEZ:44048","NP66-0604021","Настенный распределительный шкаф","степень защиты IP66, RAL 7035, применение в интерьере, одностворчатая дверца, В x Ш x Г 600 x 400 x 210, монтажная панель","1 / -",14.5,67.893000000000001,139.60999999999999,{"$f":"VLOOKUP(B5097,#REF!,3,FALSE)","v":{"$error":"#REF!"}}]
["Distri","Distri","LR2","OEZ:44046","NP66-0505021","Настенный распределительный шкаф","степень защиты IP66, RAL 7035, применение в интерьере, одностворчатая дверца, В x Ш x Г 500 x 500 x 210, монтажная панель","1 / -",14.5,62.779000000000003,144.59,{"$f":"VLOOKUP(B5098,#REF!,3,FALSE)","v":{"$error":"#REF!"}}]
["Distri","Distri","LR2","OEZ:44055","NP66-0705021","Настенный распределительный шкаф","степень защиты IP66, RAL 7035, применение в интерьере, одностворчатая дверца, В x Ш x Г 700 x 500 x 210, монтажная панель","1 / -",21.5,116.65300000000001,218.29999999999998,{"$f":"VLOOKUP(B5099,#REF!,3,FALSE)","v":{"$error":"#REF!"}}]
["Distri","Distri","LR2","OEZ:44051","NP66-0606021","Настенный распределительный шкаф","степень защиты IP66, RAL 7035, применение в интерьере, одностворчатая дверца, В x Ш x Г 600 x 600 x 210, монтажная панель","1 / -",21.5,100.223,206.66,{"$f":"VLOOKUP(B5100,#REF!,3,FALSE)","v":{"$error":"#REF!"}}]
["Distri","Distri","LR2","OEZ:44045","NP66-0504025","Настенный распределительный шкаф","степень защиты IP66, RAL 7035, применение в интерьере, одностворчатая дверца, В x Ш x Г 500 x 400 x 250, монтажная панель","1 / -",14,59.387,154.54999999999998,{"$f":"VLOOKUP(B5101,#REF!,3,FALSE)","v":{"$error":"#REF!"}}]
["Distri","Distri","LR2","OEZ:44049","NP66-0604025","Настенный распределительный шкаф","степень защиты IP66, RAL 7035, применение в интерьере, одностворчатая дверца, В x Ш x Г 600 x 400 x 250, монтажная панель","1 / -",17.5,78.141000000000005,162.22,{"$f":"VLOOKUP(B5102,#REF!,3,FALSE)","v":{"$error":"#REF!"}}]
["Distri","Distri","LR2","OEZ:44050","NP66-0605025","Настенный распределительный шкаф","степень защиты IP66, RAL 7035, применение в интерьере, одностворчатая дверца, В x Ш x Г 600 x 500 x 250, монтажная панель","1 / -",20.5,96.745999999999995,224.85,{"$f":"VLOOKUP(B5103,#REF!,3,FALSE)","v":{"$error":"#REF!"}}]
["Distri","Distri","LR2","OEZ:44042","NP66-0406025","Настенный распределительный шкаф","степень защиты IP66, RAL 7035, применение в интерьере, одностворчатая дверца, В x Ш x Г 400 x 600 x 250, монтажная панель","1 / -",15.5,71.402000000000001,215.04,{"$f":"VLOOKUP(B5104,#REF!,3,FALSE)","v":{"$error":"#REF!"}}]
["Distri","Distri","LR2","OEZ:44052","NP66-0606025","Настенный распределительный шкаф","степень защиты IP66, RAL 7035, применение в интерьере, одностворчатая дверца, В x Ш x Г 600 x 600 x 250, монтажная панель","1 / -",23,115.351,226.84,{"$f":"VLOOKUP(B5105,#REF!,3,FALSE)","v":{"$error":"#REF!"}}]
["Distri","Distri","LR2","OEZ:44057","NP66-0806025","Настенный распределительный шкаф","степень защиты IP66, RAL 7035, применение в интерьере, одностворчатая дверца, В x Ш x Г 800 x 600 x 250, монтажная панель","1 / -",31.5,153.17099999999999,249.75,{"$f":"VLOOKUP(B5106,#REF!,3,FALSE)","v":{"$error":"#REF!"}}]
["Distri","Distri","LR2","OEZ:44061","NP66-1006025","Настенный распределительный шкаф","степень защиты IP66, RAL 7035, применение в интерьере, одностворчатая дверца, В x Ш x Г 1000 x 600 x 250, монтажная панель","1 / -",51,190.99100000000001,337.99,{"$f":"VLOOKUP(B5107,#REF!,3,FALSE)","v":{"$error":"#REF!"}}]
["Distri","Distri","LR2","OEZ:44054","NP66-0608025","Настенный распределительный шкаф","степень защиты IP66, RAL 7035, применение в интерьере, одностворчатая дверца, В x Ш x Г 600 x 800 x 250, монтажная панель","1 / -",29.5,152.56100000000001,268.13,{"$f":"VLOOKUP(B5108,#REF!,3,FALSE)","v":{"$error":"#REF!"}}]
["Distri","Distri","LR2","OEZ:44062","NP66-1008025","Настенный распределительный шкаф","степень защиты IP66, RAL 7035, применение в интерьере, одностворчатая дверца, В x Ш x Г 1000 x 800 x 250, монтажная панель","1 / -",51,252.601,345.4,{"$f":"VLOOKUP(B5109,#REF!,3,FALSE)","v":{"$error":"#REF!"}}]
["Distri","Distri","LR2","OEZ:44047","NP66-0505030","Настенный распределительный шкаф","степень защиты IP66, RAL 7035, применение в интерьере, одностворчатая дверца, В x Ш x Г 500 x 500 x 300, монтажная панель","1 / -",17.5,87.343999999999994,192.69,{"$f":"VLOOKUP(B5110,#REF!,3,FALSE)","v":{"$error":"#REF!"}}]
["Distri","Distri","LR2","OEZ:44056","NP66-0705030","Настенный распределительный шкаф","степень защиты IP66, RAL 7035, применение в интерьере, одностворчатая дверца, В x Ш x Г 700 x 500 x 300, монтажная панель","1 / -",24.5,131.066,268.13,{"$f":"VLOOKUP(B5111,#REF!,3,FALSE)","v":{"$error":"#REF!"}}]
["Distri","Distri","LR2","OEZ:44053","NP66-0606030","Настенный распределительный шкаф","степень защиты IP66, RAL 7035, применение в интерьере, одностворчатая дверца, В x Ш x Г 600 x 600 x 300, монтажная панель","1 / -",24,134.261,225.85999999999999,{"$f":"VLOOKUP(B5112,#REF!,3,FALSE)","v":{"$error":"#REF!"}}]
["Distri","Distri","LR2","OEZ:44058","NP66-0806030","Настенный распределительный шкаф","степень защиты IP66, RAL 7035, применение в интерьере, одностворчатая дверца, В x Ш x Г 800 x 600 x 300, монтажная панель","1 / -",35,178.28100000000001,283.21999999999997,{"$f":"VLOOKUP(B5113,#REF!,3,FALSE)","v":{"$error":"#REF!"}}]
["Distri","Distri","LR2","OEZ:44065","NP66-1206030","Настенный распределительный шкаф","степень защиты IP66, RAL 7035, применение в интерьере, одностворчатая дверца, В x Ш x Г 1200 x 600 x 300, монтажная панель","1 / -",47,266.32100000000003,453.96999999999997,{"$f":"VLOOKUP(B5114,#REF!,3,FALSE)","v":{"$error":"#REF!"}}]
["Distri","Distri","LR2","OEZ:44059","NP66-0808030","Настенный распределительный шкаф","степень защиты IP66, RAL 7035, применение в интерьере, одностворчатая дверца, В x Ш x Г 800 x 800 x 300, монтажная панель","1 / -",42.5,235.791,322.49,{"$f":"VLOOKUP(B5115,#REF!,3,FALSE)","v":{"$error":"#REF!"}}]
["Distri","Distri","LR2","OEZ:44063","NP66-1008030","Настенный распределительный шкаф","степень защиты IP66, RAL 7035, применение в интерьере, одностворчатая дверца, В x Ш x Г 1000 x 800 x 300, монтажная панель","1 / -",52,294.01100000000002,341.69,{"$f":"VLOOKUP(B5116,#REF!,3,FALSE)","v":{"$error":"#REF!"}}]
["Distri","Distri","LR2","OEZ:44066","NP66-1208030","Настенный распределительный шкаф","степень защиты IP66, RAL 7035, применение в интерьере, одностворчатая дверца, В x Ш x Г 1200 x 800 x 300, монтажная панель","1 / -",52,352.23099999999999,483.73,{"$f":"VLOOKUP(B5117,#REF!,3,FALSE)","v":{"$error":"#REF!"}}]
["Distri","Distri","LR2","OEZ:44060","NP66-0808040","Настенный распределительный шкаф","степень защиты IP66, RAL 7035, применение в интерьере, одностворчатая дверца, В x Ш x Г 800 x 800 x 400, монтажная панель","1 / -",46,302.21100000000001,403.17,{"$f":"VLOOKUP(B5118,#REF!,3,FALSE)","v":{"$error":"#REF!"}}]
["Distri","Distri","LR2","OEZ:44064","NP66-1008040","Настенный распределительный шкаф","степень защиты IP66, RAL 7035, применение в интерьере, одностворчатая дверца, В x Ш x Г 1000 x 800 x 400, монтажная панель","1 / -",56,376.83100000000002,403.05,{"$f":"VLOOKUP(B5119,#REF!,3,FALSE)","v":{"$error":"#REF!"}}]
["Distri","Distri","LR2","OEZ:44067","NP66-1208040","Настенный распределительный шкаф","степень защиты IP66, RAL 7035, применение в интерьере, одностворчатая дверца, В x Ш x Г 1200 x 800 x 400, монтажная панель","1 / -",64,451.45100000000002,570.52,{"$f":"VLOOKUP(B5120,#REF!,3,FALSE)","v":{"$error":"#REF!"}}]
["Distri","Distri","LR2","OEZ:44068","NP55-0608030-2K","Настенный распределительный шкаф","степень защиты IP55, RAL 7035, применение в интерьере, двухстворчатая дверца, В x Ш x Г 600 x 800 x 300, монтажная панель","1 / -",33,177.571,285.76,{"$f":"VLOOKUP(B5121,#REF!,3,FALSE)","v":{"$error":"#REF!"}}]
["Distri","Distri","LR2","OEZ:44069","NP55-0810030-2K","Настенный распределительный шкаф","степень защиты IP55, RAL 7035, применение в интерьере, двухстворчатая дверца, В x Ш x Г 800 x 1000 x 300, монтажная панель","1 / -",53,293.30099999999999,568.97,{"$f":"VLOOKUP(B5122,#REF!,3,FALSE)","v":{"$error":"#REF!"}}]
["Distri","Distri","LR2","OEZ:44071","NP55-1010030-2K","Настенный распределительный шкаф","степень защиты IP55, RAL 7035, применение в интерьере, двухстворчатая дверца, В x Ш x Г 1000 x 1000 x 300, монтажная панель","1 / -",64,365.721,601.99,{"$f":"VLOOKUP(B5123,#REF!,3,FALSE)","v":{"$error":"#REF!"}}]
["Distri","Distri","LR2","OEZ:44070","NP55-0812030-2K","Настенный распределительный шкаф","степень защиты IP55, RAL 7035, применение в интерьере, двухстворчатая дверца, В x Ш x Г 800 x 1200 x 300, монтажная панель","1 / -",62,350.81099999999998,621.5,{"$f":"VLOOKUP(B5124,#REF!,3,FALSE)","v":{"$error":"#REF!"}}]
["Distri","Distri","LR2","OEZ:44072","NP55-1012030-2K","Настенный распределительный шкаф","степень защиты IP55, RAL 7035, применение в интерьере, двухстворчатая дверца, В x Ш x Г 1000 x 1200 x 300, монтажная панель","1 / -",84,437.43099999999998,732.62,{"$f":"VLOOKUP(B5125,#REF!,3,FALSE)","v":{"$error":"#REF!"}}]
["Distri","Distri","LR2","OEZ:44073","NP55-1212030-2K","Настенный распределительный шкаф","степень защиты IP55, RAL 7035, применение в интерьере, двухстворчатая дверца, В x Ш x Г 1200 x 1200 x 300, монтажная панель","1 / -",80,524.05100000000004,906.96,{"$f":"VLOOKUP(B5126,#REF!,3,FALSE)","v":{"$error":"#REF!"}}]
["Distri","Distri","LR2","OEZ:44074","NP55-1212040-2K","Настенный распределительный шкаф","степень защиты IP55, RAL 7035, применение в интерьере, двухстворчатая дверца, В x Ш x Г 1200 x 1200 x 400, монтажная панель","1 / -",98.4,666.12,1185.5999999999999,{"$f":"VLOOKUP(B5127,#REF!,3,FALSE)","v":{"$error":"#REF!"}}]
["Distri","Distri","LR2","OEZ:44079","NP66-0403015-WG","Настенный распределительный шкаф","степень защиты IP66, RAL 7035, применение в интерьере, одностворчатая дверца, В x Ш x Г 400 x 300 x 155, монтажная панель, застекление безопасным стеклом макс.","1 / -",8.89,23.704000000000001,154.69999999999999,{"$f":"VLOOKUP(B5128,#REF!,3,FALSE)","v":{"$error":"#REF!"}}]
["Distri","Distri","LR2","OEZ:44077","NP66-0304015-WG","Настенный распределительный шкаф","степень защиты IP66, RAL 7035, применение в интерьере, одностворчатая дверца, В x Ш x Г 300 x 400 x 155, монтажная панель, застекление безопасным стеклом макс.","1 / -",8.19,23.966000000000001,158.25,{"$f":"VLOOKUP(B5129,#REF!,3,FALSE)","v":{"$error":"#REF!"}}]
["Distri","Distri","LR2","OEZ:44076","NP66-0303021-WG","Настенный распределительный шкаф","степень защиты IP66, RAL 7035, применение в интерьере, одностворчатая дверца, В x Ш x Г 300 x 300 x 210, монтажная панель, застекление безопасным стеклом макс.","1 / -",8.19,23.908999999999999,152.14999999999998,{"$f":"VLOOKUP(B5130,#REF!,3,FALSE)","v":{"$error":"#REF!"}}]
["Distri","Distri","LR2","OEZ:44080","NP66-0403021-WG","Настенный распределительный шкаф","степень защиты IP66, RAL 7035, применение в интерьере, одностворчатая дверца, В x Ш x Г 400 x 300 x 210, монтажная панель, застекление безопасным стеклом макс.","1 / -",9.9499999999999993,31.154,159.10999999999999,{"$f":"VLOOKUP(B5131,#REF!,3,FALSE)","v":{"$error":"#REF!"}}]
["Distri","Distri","LR2","OEZ:44083","NP66-0503021-WG","Настенный распределительный шкаф","степень защиты IP66, RAL 7035, применение в интерьере, одностворчатая дверца, В x Ш x Г 500 x 300 x 210, монтажная панель, застекление безопасным стеклом макс.","1 / -",11.12,38.399000000000001,184.16,{"$f":"VLOOKUP(B5132,#REF!,3,FALSE)","v":{"$error":"#REF!"}}]
["Distri","Distri","LR2","OEZ:44078","NP66-0304021-WG","Настенный распределительный шкаф","степень защиты IP66, RAL 7035, применение в интерьере, одностворчатая дверца, В x Ш x Г 300 x 400 x 210, монтажная панель, застекление безопасным стеклом макс.","1 / -",9.9499999999999993,31.498999999999999,168.35999999999999,{"$f":"VLOOKUP(B5133,#REF!,3,FALSE)","v":{"$error":"#REF!"}}]
["Distri","Distri","LR2","OEZ:44081","NP66-0404021-WG","Настенный распределительный шкаф","степень защиты IP66, RAL 7035, применение в интерьере, одностворчатая дверца, В x Ш x Г 400 x 400 x 210, монтажная панель, застекление безопасным стеклом макс.","1 / -",11.12,41.043999999999997,182.29,{"$f":"VLOOKUP(B5134,#REF!,3,FALSE)","v":{"$error":"#REF!"}}]
["Distri","Distri","LR2","OEZ:44084","NP66-0504021-WG","Настенный распределительный шкаф","степень защиты IP66, RAL 7035, применение в интерьере, одностворчатая дверца, В x Ш x Г 500 x 400 x 210, монтажная панель, застекление безопасным стеклом макс.","1 / -",14.63,50.588999999999999,196.39999999999998,{"$f":"VLOOKUP(B5135,#REF!,3,FALSE)","v":{"$error":"#REF!"}}]
["Distri","Distri","LR2","OEZ:44088","NP66-0604021-WG","Настенный распределительный шкаф","степень защиты IP66, RAL 7035, применение в интерьере, одностворчатая дверца, В x Ш x Г 600 x 400 x 210, монтажная панель, застекление безопасным стеклом макс.","1 / -",16.97,67.893000000000001,222.01,{"$f":"VLOOKUP(B5136,#REF!,3,FALSE)","v":{"$error":"#REF!"}}]
["Distri","Distri","LR2","OEZ:44086","NP66-0505021-WG","Настенный распределительный шкаф","степень защиты IP66, RAL 7035, применение в интерьере, одностворчатая дверца, В x Ш x Г 500 x 500 x 210, монтажная панель, застекление безопасным стеклом макс.","1 / -",16.97,62.779000000000003,240.5,{"$f":"VLOOKUP(B5137,#REF!,3,FALSE)","v":{"$error":"#REF!"}}]
["Distri","Distri","LR2","OEZ:44095","NP66-0705021-WG","Настенный распределительный шкаф","степень защиты IP66, RAL 7035, применение в интерьере, одностворчатая дверца, В x Ш x Г 700 x 500 x 210, монтажная панель, застекление безопасным стеклом макс.","1 / -",25.16,116.65300000000001,304.82,{"$f":"VLOOKUP(B5138,#REF!,3,FALSE)","v":{"$error":"#REF!"}}]
["Distri","Distri","LR2","OEZ:44091","NP66-0606021-WG","Настенный распределительный шкаф","степень защиты IP66, RAL 7035, применение в интерьере, одностворчатая дверца, В x Ш x Г 600 x 600 x 210, монтажная панель, застекление безопасным стеклом макс.","1 / -",25.16,100.223,298.71999999999997,{"$f":"VLOOKUP(B5139,#REF!,3,FALSE)","v":{"$error":"#REF!"}}]
["Distri","Distri","LR2","OEZ:44085","NP66-0504025-WG","Настенный распределительный шкаф","степень защиты IP66, RAL 7035, применение в интерьере, одностворчатая дверца, В x Ш x Г 500 x 400 x 250, монтажная панель, застекление безопасным стеклом макс.","1 / -",16.38,59.387,208.48999999999998,{"$f":"VLOOKUP(B5140,#REF!,3,FALSE)","v":{"$error":"#REF!"}}]
["Distri","Distri","LR2","OEZ:44089","NP66-0604025-WG","Настенный распределительный шкаф","степень защиты IP66, RAL 7035, применение в интерьере, одностворчатая дверца, В x Ш x Г 600 x 400 x 250, монтажная панель, застекление безопасным стеклом макс.","1 / -",20.48,78.141000000000005,227.54999999999998,{"$f":"VLOOKUP(B5141,#REF!,3,FALSE)","v":{"$error":"#REF!"}}]
["Distri","Distri","LR2","OEZ:44090","NP66-0605025-WG","Настенный распределительный шкаф","степень защиты IP66, RAL 7035, применение в интерьере, одностворчатая дверца, В x Ш x Г 600 x 500 x 250, монтажная панель, застекление безопасным стеклом макс.","1 / -",23.99,96.745999999999995,300.7,{"$f":"VLOOKUP(B5142,#REF!,3,FALSE)","v":{"$error":"#REF!"}}]
["Distri","Distri","LR2","OEZ:44082","NP66-0406025-WG","Настенный распределительный шкаф","степень защиты IP66, RAL 7035, применение в интерьере, одностворчатая дверца, В x Ш x Г 400 x 600 x 250, монтажная панель, застекление безопасным стеклом макс.","1 / -",18.14,71.402000000000001,275.24,{"$f":"VLOOKUP(B5143,#REF!,3,FALSE)","v":{"$error":"#REF!"}}]
["Distri","Distri","LR2","OEZ:44092","NP66-0606025-WG","Настенный распределительный шкаф","степень защиты IP66, RAL 7035, применение в интерьере, одностворчатая дверца, В x Ш x Г 600 x 600 x 250, монтажная панель, застекление безопасным стеклом макс.","1 / -",26.91,115.351,313.39,{"$f":"VLOOKUP(B5144,#REF!,3,FALSE)","v":{"$error":"#REF!"}}]
["Distri","Distri","LR2","OEZ:44097","NP66-0806025-WG","Настенный распределительный шкаф","степень защиты IP66, RAL 7035, применение в интерьере, одностворчатая дверца, В x Ш x Г 800 x 600 x 250, монтажная панель, застекление безопасным стеклом макс.","1 / -",36.86,153.17099999999999,343.98,{"$f":"VLOOKUP(B5145,#REF!,3,FALSE)","v":{"$error":"#REF!"}}]
["Distri","Distri","LR2","OEZ:44101","NP66-1006025-WG","Настенный распределительный шкаф","степень защиты IP66, RAL 7035, применение в интерьере, одностворчатая дверца, В x Ш x Г 1000 x 600 x 250, монтажная панель, застекление безопасным стеклом макс.","1 / -",59.67,190.99100000000001,468.2,{"$f":"VLOOKUP(B5146,#REF!,3,FALSE)","v":{"$error":"#REF!"}}]
["Distri","Distri","LR2","OEZ:44094","NP66-0608025-WG","Настенный распределительный шкаф","степень защиты IP66, RAL 7035, применение в интерьере, одностворчатая дверца, В x Ш x Г 600 x 800 x 250, монтажная панель, застекление безопасным стеклом макс.","1 / -",34.520000000000003,152.56100000000001,332.45,{"$f":"VLOOKUP(B5147,#REF!,3,FALSE)","v":{"$error":"#REF!"}}]
["Distri","Distri","LR2","OEZ:44087","NP66-0505030-WG","Настенный распределительный шкаф","степень защиты IP66, RAL 7035, применение в интерьере, одностворчатая дверца, В x Ш x Г 500 x 500 x 300, монтажная панель, застекление безопасным стеклом макс.","1 / -",20.48,87.343999999999994,241.63,{"$f":"VLOOKUP(B5148,#REF!,3,FALSE)","v":{"$error":"#REF!"}}]
["Distri","Distri","LR2","OEZ:44096","NP66-0705030-WG","Настенный распределительный шкаф","степень защиты IP66, RAL 7035, применение в интерьере, одностворчатая дверца, В x Ш x Г 700 x 500 x 300, монтажная панель, застекление безопасным стеклом макс.","1 / -",28.67,131.066,326.76,{"$f":"VLOOKUP(B5149,#REF!,3,FALSE)","v":{"$error":"#REF!"}}]
["Distri","Distri","LR2","OEZ:44093","NP66-0606030-WG","Настенный распределительный шкаф","степень защиты IP66, RAL 7035, применение в интерьере, одностворчатая дверца, В x Ш x Г 600 x 600 x 300, монтажная панель, застекление безопасным стеклом макс.","1 / -",28.08,134.261,313.95,{"$f":"VLOOKUP(B5150,#REF!,3,FALSE)","v":{"$error":"#REF!"}}]
["Distri","Distri","LR2","OEZ:44098","NP66-0806030-WG","Настенный распределительный шкаф","степень защиты IP66, RAL 7035, применение в интерьере, одностворчатая дверца, В x Ш x Г 800 x 600 x 300, монтажная панель, застекление безопасным стеклом макс.","1 / -",40.950000000000003,178.28100000000001,392.76,{"$f":"VLOOKUP(B5151,#REF!,3,FALSE)","v":{"$error":"#REF!"}}]
["Distri","Distri","LR2","OEZ:44105","NP66-1206030-WG","Настенный распределительный шкаф","степень защиты IP66, RAL 7035, применение в интерьере, одностворчатая дверца, В x Ш x Г 1200 x 600 x 300, монтажная панель, застекление безопасным стеклом макс.","1 / -",54.99,266.32100000000003,765.49,{"$f":"VLOOKUP(B5152,#REF!,3,FALSE)","v":{"$error":"#REF!"}}]
["Distri","Distri","LR2","OEZ:44099","NP66-0808030-WG","Настенный распределительный шкаф","степень защиты IP66, RAL 7035, применение в интерьере, одностворчатая дверца, В x Ш x Г 800 x 800 x 300, монтажная панель, застекление безопасным стеклом макс.","1 / -",49.73,235.791,516.18999999999994,{"$f":"VLOOKUP(B5153,#REF!,3,FALSE)","v":{"$error":"#REF!"}}]
["Distri","Distri","LR2","OEZ:44103","NP66-1008030-WG","Настенный распределительный шкаф","степень защиты IP66, RAL 7035, применение в интерьере, одностворчатая дверца, В x Ш x Г 1000 x 800 x 300, монтажная панель, застекление безопасным стеклом макс.","1 / -",60.84,294.01100000000002,549.03,{"$f":"VLOOKUP(B5154,#REF!,3,FALSE)","v":{"$error":"#REF!"}}]
["Distri","Distri","LR2","OEZ:44106","NP66-1208030-WG","Настенный распределительный шкаф","степень защиты IP66, RAL 7035, применение в интерьере, одностворчатая дверца, В x Ш x Г 1200 x 800 x 300, монтажная панель, застекление безопасным стеклом макс.","1 / -",60.84,352.23099999999999,801.2,{"$f":"VLOOKUP(B5155,#REF!,3,FALSE)","v":{"$error":"#REF!"}}]
["Distri","Distri","LR2","OEZ:44100","NP66-0808040-WG","Настенный распределительный шкаф","степень защиты IP66, RAL 7035, применение в интерьере, одностворчатая дверца, В x Ш x Г 800 x 800 x 400, монтажная панель, застекление безопасным стеклом макс.","1 / -",53.82,302.21100000000001,562.28,{"$f":"VLOOKUP(B5156,#REF!,3,FALSE)","v":{"$error":"#REF!"}}]
["Distri","Distri","LR2","OEZ:44104","NP66-1008040-WG","Настенный распределительный шкаф","степень защиты IP66, RAL 7035, применение в интерьере, одностворчатая дверца, В x Ш x Г 1000 x 800 x 400, монтажная панель, застекление безопасным стеклом макс.","1 / -",65.52,376.83100000000002,617.23,{"$f":"VLOOKUP(B5157,#REF!,3,FALSE)","v":{"$error":"#REF!"}}]
["Distri","Distri","LR2","OEZ:44107","NP66-1208040-WG","Настенный распределительный шкаф","степень защиты IP66, RAL 7035, применение в интерьере, одностворчатая дверца, В x Ш x Г 1200 x 800 x 400, монтажная панель, застекление безопасным стеклом макс.","1 / -",74.88,451.45100000000002,846.46,{"$f":"VLOOKUP(B5158,#REF!,3,FALSE)","v":{"$error":"#REF!"}}]
["Distri","Distri","LR2","OEZ:44108","NP55-0608030-2K-WG","Настенный распределительный шкаф","степень защиты IP55, RAL 7035, применение в интерьере, двухстворчатая дверца, В x Ш x Г 600 x 800 x 300, монтажная панель, застекление безопасным стеклом макс.","1 / -",38.61,177.571,433.19,{"$f":"VLOOKUP(B5159,#REF!,3,FALSE)","v":{"$error":"#REF!"}}]
["Distri","Distri","LR2","OEZ:44109","NP55-0810030-2K-WG","Настенный распределительный шкаф","степень защиты IP55, RAL 7035, применение в интерьере, двухстворчатая дверца, В x Ш x Г 800 x 1000 x 300, монтажная панель, застекление безопасным стеклом макс.","1 / -",62.01,293.30099999999999,715.4,{"$f":"VLOOKUP(B5160,#REF!,3,FALSE)","v":{"$error":"#REF!"}}]
["Distri","Distri","LR2","OEZ:44111","NP55-1010030-2K-WG","Настенный распределительный шкаф","степень защиты IP55, RAL 7035, применение в интерьере, двухстворчатая дверца, В x Ш x Г 1000 x 1000 x 300, монтажная панель, застекление безопасным стеклом макс.","1 / -",74.88,365.721,742.31,{"$f":"VLOOKUP(B5161,#REF!,3,FALSE)","v":{"$error":"#REF!"}}]
["Distri","Distri","LR2","OEZ:44110","NP55-0812030-2K-WG","Настенный распределительный шкаф","степень защиты IP55, RAL 7035, применение в интерьере, двухстворчатая дверца, В x Ш x Г 800 x 1200 x 300, монтажная панель, застекление безопасным стеклом макс.","1 / -",72.540000000000006,350.81099999999998,792.25,{"$f":"VLOOKUP(B5162,#REF!,3,FALSE)","v":{"$error":"#REF!"}}]
["Distri","Distri","LR2","OEZ:44112","NP55-1012030-2K-WG","Настенный распределительный шкаф","степень защиты IP55, RAL 7035, применение в интерьере, двухстворчатая дверца, В x Ш x Г 1000 x 1200 x 300, монтажная панель, застекление безопасным стеклом макс.","1 / -",98.28,437.43099999999998,813.45,{"$f":"VLOOKUP(B5163,#REF!,3,FALSE)","v":{"$error":"#REF!"}}]
["Distri","Distri","LR2","OEZ:44113","NP55-1212030-2K-WG","Настенный распределительный шкаф","степень защиты IP55, RAL 7035, применение в интерьере, двухстворчатая дверца, В x Ш x Г 1200 x 1200 x 300, монтажная панель, застекление безопасным стеклом макс.","1 / -",93.6,524.05100000000004,1125.26,{"$f":"VLOOKUP(B5164,#REF!,3,FALSE)","v":{"$error":"#REF!"}}]
["Distri","Distri","LR2","OEZ:44114","NP55-1212040-2K-WG","Настенный распределительный шкаф","степень защиты IP55, RAL 7035, применение в интерьере, двухстворчатая дверца, В x Ш x Г 1200 x 1200 x 400, монтажная панель, застекление безопасным стеклом макс.","1 / -",115.13,666.12,1446.73,{"$f":"VLOOKUP(B5165,#REF!,3,FALSE)","v":{"$error":"#REF!"}}]
[null,null,null,"Level  4","NP...NX - Нержавеющие настенные щиты для внутреннего и наружного применения"]
["Distri","Distri","LR2","OEZ:44115","NP66-0302015-NX","Настенный распределительный шкаф","степень защиты IP66, внутреннее и наружное применение, одностворчатая дверца, В x Ш x Г 300 x 200 x 155, монтажная панель, исполнение из нержавеющей стали","1 / -",4.5,12.416,422.96999999999997,{"$f":"VLOOKUP(B5167,#REF!,3,FALSE)","v":{"$error":"#REF!"}}]
["Distri","Distri","LR2","OEZ:44119","NP66-0403015-NX","Настенный распределительный шкаф","степень защиты IP66, внутреннее и наружное применение, одностворчатая дверца, В x Ш x Г 400 x 300 x 155, монтажная панель, исполнение из нержавеющей стали","1 / -",7.6,23.704000000000001,490.99,{"$f":"VLOOKUP(B5168,#REF!,3,FALSE)","v":{"$error":"#REF!"}}]
["Distri","Distri","LR2","OEZ:44117","NP66-0304015-NX","Настенный распределительный шкаф","степень защиты IP66, внутреннее и наружное применение, одностворчатая дверца, В x Ш x Г 300 x 400 x 155, монтажная панель, исполнение из нержавеющей стали","1 / -",7,23.966000000000001,489.39,{"$f":"VLOOKUP(B5169,#REF!,3,FALSE)","v":{"$error":"#REF!"}}]
["Distri","Distri","LR2","OEZ:44116","NP66-0303021-NX","Настенный распределительный шкаф","степень защиты IP66, внутреннее и наружное применение, одностворчатая дверца, В x Ш x Г 300 x 300 x 210, монтажная панель, исполнение из нержавеющей стали","1 / -",7,23.908999999999999,464.23,{"$f":"VLOOKUP(B5170,#REF!,3,FALSE)","v":{"$error":"#REF!"}}]
["Distri","Distri","LR2","OEZ:44120","NP66-0403021-NX","Настенный распределительный шкаф","степень защиты IP66, внутреннее и наружное применение, одностворчатая дверца, В x Ш x Г 400 x 300 x 210, монтажная панель, исполнение из нержавеющей стали","1 / -",8.5,31.154,519.45000000000005,{"$f":"VLOOKUP(B5171,#REF!,3,FALSE)","v":{"$error":"#REF!"}}]
["Distri","Distri","LR2","OEZ:44118","NP66-0304021-NX","Настенный распределительный шкаф","степень защиты IP66, внутреннее и наружное применение, одностворчатая дверца, В x Ш x Г 300 x 400 x 210, монтажная панель, исполнение из нержавеющей стали","1 / -",8.5,31.498999999999999,502.67,{"$f":"VLOOKUP(B5172,#REF!,3,FALSE)","v":{"$error":"#REF!"}}]
["Distri","Distri","LR2","OEZ:44121","NP66-0404021-NX","Настенный распределительный шкаф","степень защиты IP66, внутреннее и наружное применение, одностворчатая дверца, В x Ш x Г 400 x 400 x 210, монтажная панель, исполнение из нержавеющей стали","1 / -",9.5,41.043999999999997,572.95000000000005,{"$f":"VLOOKUP(B5173,#REF!,3,FALSE)","v":{"$error":"#REF!"}}]
["Distri","Distri","LR2","OEZ:44122","NP66-0504021-NX","Настенный распределительный шкаф","степень защиты IP66, внутреннее и наружное применение, одностворчатая дверца, В x Ш x Г 500 x 400 x 210, монтажная панель, исполнение из нержавеющей стали","1 / -",12.5,50.588999999999999,676.98,{"$f":"VLOOKUP(B5174,#REF!,3,FALSE)","v":{"$error":"#REF!"}}]
["Distri","Distri","LR2","OEZ:44125","NP66-0604021-NX","Настенный распределительный шкаф","степень защиты IP66, внутреннее и наружное применение, одностворчатая дверца, В x Ш x Г 600 x 400 x 210, монтажная панель, исполнение из нержавеющей стали","1 / -",14.5,67.893000000000001,714.56999999999994,{"$f":"VLOOKUP(B5175,#REF!,3,FALSE)","v":{"$error":"#REF!"}}]
["Distri","Distri","LR2","OEZ:44123","NP66-0505021-NX","Настенный распределительный шкаф","внутреннее и наружное применение, степень защиты IP66, одностворчатая дверца, В x Ш x Г 500 x 500 x 210, монтажная панель, исполнение из нержавеющей стали","1 / -",14.5,62.779000000000003,751.11,{"$f":"VLOOKUP(B5176,#REF!,3,FALSE)","v":{"$error":"#REF!"}}]
["Distri","Distri","LR2","OEZ:44126","NP66-0606021-NX","Настенный распределительный шкаф","степень защиты IP66, внутреннее и наружное применение, одностворчатая дверца, В x Ш x Г 600 x 600 x 210, монтажная панель, исполнение из нержавеющей стали","1 / -",21.5,100.223,918.9,{"$f":"VLOOKUP(B5177,#REF!,3,FALSE)","v":{"$error":"#REF!"}}]
["Distri","Distri","LR2","OEZ:44127","NP66-0606025-NX","Настенный распределительный шкаф","степень защиты IP66, внутреннее и наружное применение, одностворчатая дверца, В x Ш x Г 600 x 600 x 250, монтажная панель, исполнение из нержавеющей стали","1 / -",23,115.351,988.08,{"$f":"VLOOKUP(B5178,#REF!,3,FALSE)","v":{"$error":"#REF!"}}]
["Distri","Distri","LR2","OEZ:44130","NP66-0806025-NX","Настенный распределительный шкаф","степень защиты IP66, внутреннее и наружное применение, одностворчатая дверца, В x Ш x Г 800 x 600 x 250, монтажная панель, исполнение из нержавеющей стали","1 / -",31.5,153.17099999999999,1334.61,{"$f":"VLOOKUP(B5179,#REF!,3,FALSE)","v":{"$error":"#REF!"}}]
["Distri","Distri","LR2","OEZ:44124","NP66-0505030-NX","Настенный распределительный шкаф","степень защиты IP66, внутреннее и наружное применение, одностворчатая дверца, В x Ш x Г 500 x 500 x 300, монтажная панель, исполнение из нержавеющей стали","1 / -",17.5,87.343999999999994,883.34,{"$f":"VLOOKUP(B5180,#REF!,3,FALSE)","v":{"$error":"#REF!"}}]
["Distri","Distri","LR2","OEZ:44129","NP66-0705030-NX","Настенный распределительный шкаф","степень защиты IP66, внутреннее и наружное применение, одностворчатая дверца, В x Ш x Г 700 x 500 x 300, монтажная панель, исполнение из нержавеющей стали","1 / -",24.5,131.066,1015.38,{"$f":"VLOOKUP(B5181,#REF!,3,FALSE)","v":{"$error":"#REF!"}}]
["Distri","Distri","LR2","OEZ:44128","NP66-0606030-NX","Настенный распределительный шкаф","степень защиты IP66, внутреннее и наружное применение, одностворчатая дверца, В x Ш x Г 600 x 600 x 300, монтажная панель, исполнение из нержавеющей стали","1 / -",24,134.261,1009.84,{"$f":"VLOOKUP(B5182,#REF!,3,FALSE)","v":{"$error":"#REF!"}}]
["Distri","Distri","LR2","OEZ:44131","NP66-0806030-NX","Настенный распределительный шкаф","степень защиты IP66, внутреннее и наружное применение, одностворчатая дверца, В x Ш x Г 800 x 600 x 300, монтажная панель, исполнение из нержавеющей стали","1 / -",35,178.28100000000001,1434.23,{"$f":"VLOOKUP(B5183,#REF!,3,FALSE)","v":{"$error":"#REF!"}}]
["Distri","Distri","LR2","OEZ:44132","NP66-0808030-NX","Настенный распределительный шкаф","степень защиты IP66, внутреннее и наружное применение, одностворчатая дверца, В x Ш x Г 800 x 800 x 300, монтажная панель, исполнение из нержавеющей стали","1 / -",42.5,235.791,1526.55,{"$f":"VLOOKUP(B5184,#REF!,3,FALSE)","v":{"$error":"#REF!"}}]
["Distri","Distri","LR2","OEZ:44133","NP66-1008030-NX","Настенный распределительный шкаф","степень защиты IP66, внутреннее и наружное применение, одностворчатая дверца, В x Ш x Г 1000 x 800 x 300, монтажная панель, исполнение из нержавеющей стали","1 / -",52,294.01100000000002,1760.98,{"$f":"VLOOKUP(B5185,#REF!,3,FALSE)","v":{"$error":"#REF!"}}]
["Distri","Distri","LR2","OEZ:44134","NP66-1208030-NX","Настенный распределительный шкаф","степень защиты IP66, внутреннее и наружное применение, одностворчатая дверца, В x Ш x Г 1200 x 800 x 300, монтажная панель, исполнение из нержавеющей стали","1 / -",52,352.23099999999999,1994.48,{"$f":"VLOOKUP(B5186,#REF!,3,FALSE)","v":{"$error":"#REF!"}}]
["Distri","Distri","LR2","OEZ:44135","NP66-1208040-NX","Настенный распределительный шкаф","степень защиты IP66, внутреннее и наружное применение, одностворчатая дверца, В x Ш x Г 1200 x 800 x 400, монтажная панель, исполнение из нержавеющей стали","1 / -",64,451.45100000000002,2066.36,{"$f":"VLOOKUP(B5187,#REF!,3,FALSE)","v":{"$error":"#REF!"}}]
["Distri","Distri","LR2","OEZ:44136","NP55-1010030-2K-NX","Настенный распределительный шкаф","степень защиты IP55, внутреннее и наружное применение, двухстворчатая дверца, В x Ш x Г 1000 x 1000 x 300, монтажная панель, исполнение из нержавеющей стали","1 / -",64,365.721,2179.23,{"$f":"VLOOKUP(B5188,#REF!,3,FALSE)","v":{"$error":"#REF!"}}]
["Distri","Distri","LR2","OEZ:44137","NP55-1210030-2K-NX","Настенный распределительный шкаф","степень защиты IP55, внутреннее и наружное применение, двухстворчатая дверца, В x Ш x Г 1200 x 1000 x 300, монтажная панель, исполнение из нержавеющей стали","1 / -",84,438.14100000000002,2360.2400000000002,{"$f":"VLOOKUP(B5189,#REF!,3,FALSE)","v":{"$error":"#REF!"}}]
[null,null,null,"Level  4","NP...V - Нержавеющие настенные щиты для наружного применения"]
["Distri","Distri","LR2","OEZ:44138","NP66-0302015-V","Настенный распределительный шкаф","степень защиты IP66, RAL 7035, применение в экстерьере, одностворчатая дверца, В x Ш x Г 300 x 200 x 155, монтажная панель, исполнение из нержавеющей стали, порошковая краска для наружного применения","1 / -",4.5,12.416,266.26,{"$f":"VLOOKUP(B5191,#REF!,3,FALSE)","v":{"$error":"#REF!"}}]
["Distri","Distri","LR2","OEZ:44142","NP66-0403015-V","Настенный распределительный шкаф","степень защиты IP66, RAL 7035, применение в экстерьере, одностворчатая дверца, В x Ш x Г 400 x 300 x 155, монтажная панель, исполнение из нержавеющей стали, порошковая краска для наружного применения","1 / -",7.6,23.704000000000001,350.65,{"$f":"VLOOKUP(B5192,#REF!,3,FALSE)","v":{"$error":"#REF!"}}]
["Distri","Distri","LR2","OEZ:44140","NP66-0304015-V","Настенный распределительный шкаф","степень защиты IP66, RAL 7035, применение в экстерьере, одностворчатая дверца, В x Ш x Г 300 x 400 x 155, монтажная панель, исполнение из нержавеющей стали, порошковая краска для наружного применения","1 / -",7,23.966000000000001,337.43,{"$f":"VLOOKUP(B5193,#REF!,3,FALSE)","v":{"$error":"#REF!"}}]
["Distri","Distri","LR2","OEZ:44139","NP66-0303021-V","Настенный распределительный шкаф","степень защиты IP66, RAL 7035, применение в экстерьере, одностворчатая дверца, В x Ш x Г 300 x 300 x 210, монтажная панель, исполнение из нержавеющей стали, порошковая краска для наружного применения","1 / -",7,23.908999999999999,363.03999999999996,{"$f":"VLOOKUP(B5194,#REF!,3,FALSE)","v":{"$error":"#REF!"}}]
["Distri","Distri","LR2","OEZ:44143","NP66-0403021-V","Настенный распределительный шкаф","степень защиты IP66, RAL 7035, применение в экстерьере, одностворчатая дверца, В x Ш x Г 400 x 300 x 210, монтажная панель, исполнение из нержавеющей стали, порошковая краска для наружного применения","1 / -",8.5,31.154,374,{"$f":"VLOOKUP(B5195,#REF!,3,FALSE)","v":{"$error":"#REF!"}}]
["Distri","Distri","LR2","OEZ:44141","NP66-0304021-V","Настенный распределительный шкаф","степень защиты IP66, RAL 7035, применение в экстерьере, одностворчатая дверца, В x Ш x Г 300 x 400 x 210, монтажная панель, исполнение из нержавеющей стали, порошковая краска для наружного применения","1 / -",8.5,31.498999999999999,408.3,{"$f":"VLOOKUP(B5196,#REF!,3,FALSE)","v":{"$error":"#REF!"}}]
["Distri","Distri","LR2","OEZ:44144","NP66-0404021-V","Настенный распределительный шкаф","степень защиты IP66, RAL 7035, применение в экстерьере, одностворчатая дверца, В x Ш x Г 400 x 400 x 210, монтажная панель, исполнение из нержавеющей стали, порошковая краска для наружного применения","1 / -",9.5,41.043999999999997,432.63,{"$f":"VLOOKUP(B5197,#REF!,3,FALSE)","v":{"$error":"#REF!"}}]
["Distri","Distri","LR2","OEZ:44147","NP66-0504021-V","Настенный распределительный шкаф","степень защиты IP66, RAL 7035, применение в экстерьере, одностворчатая дверца, В x Ш x Г 500 x 400 x 210, монтажная панель, исполнение из нержавеющей стали, порошковая краска для наружного применения","1 / -",12.5,50.588999999999999,474.63,{"$f":"VLOOKUP(B5198,#REF!,3,FALSE)","v":{"$error":"#REF!"}}]
["Distri","Distri","LR2","OEZ:44151","NP66-0604021-V","Настенный распределительный шкаф","степень защиты IP66, RAL 7035, применение в экстерьере, одностворчатая дверца, В x Ш x Г 600 x 400 x 210, монтажная панель, исполнение из нержавеющей стали, порошковая краска для наружного применения","1 / -",14.5,67.893000000000001,525.42999999999995,{"$f":"VLOOKUP(B5199,#REF!,3,FALSE)","v":{"$error":"#REF!"}}]
["Distri","Distri","LR2","OEZ:44149","NP66-0505021-V","Настенный распределительный шкаф","степень защиты IP66, RAL 7035, применение в экстерьере, одностворчатая дверца, В x Ш x Г 500 x 500 x 210, монтажная панель, исполнение из нержавеющей стали, порошковая краска для наружного применения","1 / -",14.5,62.779000000000003,502.67,{"$f":"VLOOKUP(B5200,#REF!,3,FALSE)","v":{"$error":"#REF!"}}]
["Distri","Distri","LR2","OEZ:44154","NP66-0606021-V","Настенный распределительный шкаф","степень защиты IP66, RAL 7035, применение в экстерьере, одностворчатая дверца, В x Ш x Г 600 x 600 x 210, монтажная панель, исполнение из нержавеющей стали, порошковая краска для наружного применения","1 / -",21.5,100.223,673.68999999999994,{"$f":"VLOOKUP(B5201,#REF!,3,FALSE)","v":{"$error":"#REF!"}}]
["Distri","Distri","LR2","OEZ:44160","NP66-0806025-V","Настенный распределительный шкаф","степень защиты IP66, RAL 7035, применение в экстерьере, одностворчатая дверца, В x Ш x Г 800 x 600 x 250, монтажная панель, исполнение из нержавеющей стали, порошковая краска для наружного применения","1 / -",31.5,153.17099999999999,834.79,{"$f":"VLOOKUP(B5202,#REF!,3,FALSE)","v":{"$error":"#REF!"}}]
["Distri","Distri","LR2","OEZ:44150","NP66-0505030-V","Настенный распределительный шкаф","степень защиты IP66, RAL 7035, применение в экстерьере, одностворчатая дверца, В x Ш x Г 500 x 500 x 300, монтажная панель, исполнение из нержавеющей стали, порошковая краска для наружного применения","1 / -",17.5,87.343999999999994,592.15,{"$f":"VLOOKUP(B5203,#REF!,3,FALSE)","v":{"$error":"#REF!"}}]
["Distri","Distri","LR2","OEZ:44159","NP66-0705030-V","Настенный распределительный шкаф","степень защиты IP66, RAL 7035, применение в экстерьере, одностворчатая дверца, В x Ш x Г 700 x 500 x 300, монтажная панель, исполнение из нержавеющей стали, порошковая краска для наружного применения","1 / -",24.5,131.066,686.65,{"$f":"VLOOKUP(B5204,#REF!,3,FALSE)","v":{"$error":"#REF!"}}]
["Distri","Distri","LR2","OEZ:44156","NP66-0606030-V","Настенный распределительный шкаф","степень защиты IP66, RAL 7035, применение в экстерьере, одностворчатая дверца, В x Ш x Г 600 x 600 x 300, монтажная панель, исполнение из нержавеющей стали, порошковая краска для наружного применения","1 / -",24,134.261,727.06999999999994,{"$f":"VLOOKUP(B5205,#REF!,3,FALSE)","v":{"$error":"#REF!"}}]
["Distri","Distri","LR2","OEZ:44161","NP66-0806030-V","Настенный распределительный шкаф","степень защиты IP66, RAL 7035, применение в экстерьере, одностворчатая дверца, В x Ш x Г 800 x 600 x 300, монтажная панель, исполнение из нержавеющей стали, порошковая краска для наружного применения","1 / -",35,178.28100000000001,1084.4100000000001,{"$f":"VLOOKUP(B5206,#REF!,3,FALSE)","v":{"$error":"#REF!"}}]
["Distri","Distri","LR2","OEZ:44168","NP66-1206030-V","Настенный распределительный шкаф","степень защиты IP66, RAL 7035, применение в экстерьере, одностворчатая дверца, В x Ш x Г 1200 x 600 x 300, монтажная панель, исполнение из нержавеющей стали, порошковая краска для наружного применения","1 / -",47,266.32100000000003,1383.1299999999999,{"$f":"VLOOKUP(B5207,#REF!,3,FALSE)","v":{"$error":"#REF!"}}]
["Distri","Distri","LR2","OEZ:44162","NP66-0808030-V","Настенный распределительный шкаф","степень защиты IP66, RAL 7035, применение в экстерьере, одностворчатая дверца, В x Ш x Г 800 x 800 x 300, монтажная панель, исполнение из нержавеющей стали, порошковая краска для наружного применения","1 / -",42.5,235.791,1207.0899999999999,{"$f":"VLOOKUP(B5208,#REF!,3,FALSE)","v":{"$error":"#REF!"}}]
["Distri","Distri","LR2","OEZ:44167","NP66-1008040-V","Настенный распределительный шкаф","степень защиты IP66, RAL 7035, применение в экстерьере, одностворчатая дверца, В x Ш x Г 1000 x 800 x 400, монтажная панель, исполнение из нержавеющей стали, порошковая краска для наружного применения","1 / -",56,376.83100000000002,1480.2,{"$f":"VLOOKUP(B5209,#REF!,3,FALSE)","v":{"$error":"#REF!"}}]
["Distri","Distri","LR2","OEZ:44170","NP66-1208040-V","Настенный распределительный шкаф","степень защиты IP66, RAL 7035, применение в экстерьере, одностворчатая дверца, В x Ш x Г 1200 x 800 x 400, монтажная панель, исполнение из нержавеющей стали, порошковая краска для наружного применения","1 / -",64,451.45100000000002,1671.17,{"$f":"VLOOKUP(B5210,#REF!,3,FALSE)","v":{"$error":"#REF!"}}]
[null,null,null,"Level  4","NP, NP...NX, NP...V - Принадлежности"]
[null,null,null,"Level  5","PD-NP-M - Модулярные рейки"]
["Distri","Distri","LR2","OEZ:44236","PD-NP-M05","Модулярные рейки","для NP66, высота 500 mm, мин. Глубина 250 mm","1 / -",1.88,4.29,46.69,{"$f":"VLOOKUP(B5213,#REF!,3,FALSE)","v":{"$error":"#REF!"}}]
["Distri","Distri","LR2","OEZ:44237","PD-NP-M06","Модулярные рейки","для NP66, NP55, высота 600 mm, мин. Глубина 250 mm","1 / -",2.2799999999999998,5.07,48.97,{"$f":"VLOOKUP(B5214,#REF!,3,FALSE)","v":{"$error":"#REF!"}}]
["Distri","Distri","LR2","OEZ:44238","PD-NP-M07","Модулярные рейки","для NP66, NP55, высота 700 mm, мин. Глубина 250 mm","1 / -",2.68,5.85,51.37,{"$f":"VLOOKUP(B5215,#REF!,3,FALSE)","v":{"$error":"#REF!"}}]
["Distri","Distri","LR2","OEZ:44239","PD-NP-M08","Модулярные рейки","для NP66, NP55, высота 800 mm, мин. Глубина 250 mm","1 / -",3.08,6.63,53.919999999999995,{"$f":"VLOOKUP(B5216,#REF!,3,FALSE)","v":{"$error":"#REF!"}}]
["Distri","Distri","LR2","OEZ:44240","PD-NP-M10","Модулярные рейки","для NP66, NP55, высота 1000 mm, мин. Глубина 250 mm","1 / -",3.86,8.19,56.23,{"$f":"VLOOKUP(B5217,#REF!,3,FALSE)","v":{"$error":"#REF!"}}]
["Distri","Distri","LR2","OEZ:44241","PD-NP-M12","Модулярные рейки","для NP66, NP55, высота 1200 mm, мин. Глубина 250 mm","1 / -",4.66,9.75,58.48,{"$f":"VLOOKUP(B5218,#REF!,3,FALSE)","v":{"$error":"#REF!"}}]
[null,null,null,"Level  5","PD-M-KM - Крышки"]
["Distri","Distri","LR2","OEZ:44255","PD-M-KMV01504","Крышкa","с прорезью 45 mm, высота крышки 150 mm, для модулярной системы NP66, ширина шкафа 400 mm","1 / -",0.5,1.1200000000000001,20.220000000000002,{"$f":"VLOOKUP(B5220,#REF!,3,FALSE)","v":{"$error":"#REF!"}}]
["Distri","Distri","LR2","OEZ:44256","PD-M-KMV01505","Крышкa","с прорезью 45 mm, высота крышки 150 mm, для модулярной системы NP66, ширина шкафа 500 mm","1 / -",0.59,1.44,22.5,{"$f":"VLOOKUP(B5221,#REF!,3,FALSE)","v":{"$error":"#REF!"}}]
["Distri","Distri","LR2","OEZ:44257","PD-M-KMV01506","Крышкa","с прорезью 45 mm, высота крышки 150 mm, для модулярной системы NP66, ширина шкафа 600 mm","1 / -",0.68,1.76,23.060000000000002,{"$f":"VLOOKUP(B5222,#REF!,3,FALSE)","v":{"$error":"#REF!"}}]
["Distri","Distri","LR2","OEZ:44258","PD-M-KMV01508","Крышкa","с прорезью 45 mm, высота крышки 150 mm, для модулярной системы NP66, NP55, ширина шкафа 800 mm","1 / -",0.87,2.4,25.5,{"$f":"VLOOKUP(B5223,#REF!,3,FALSE)","v":{"$error":"#REF!"}}]
["Distri","Distri","LR2","OEZ:44259","PD-M-KMV01510","Крышкa","с прорезью 45 mm, высота крышки 150 mm, для модулярной системы NP66, NP55, ширина шкафа 1000 mm","1 / -",1.06,3.04,27.900000000000002,{"$f":"VLOOKUP(B5224,#REF!,3,FALSE)","v":{"$error":"#REF!"}}]
["Distri","Distri","LR2","OEZ:44260","PD-M-KMV01512","Крышкa","с прорезью 45 mm, высота крышки 150 mm, для модулярной системы NP66, NP55, ширина шкафа 1200 mm","1 / -",1.24,3.68,32.159999999999997,{"$f":"VLOOKUP(B5225,#REF!,3,FALSE)","v":{"$error":"#REF!"}}]
["Distri","Distri","LR2","OEZ:44261","PD-M-KMV02004","Крышкa","с прорезью 45 mm, высота крышки 200 mm, для модулярной системы NP66, ширина шкафа 400 mm","1 / -",0.61,1.47,24.64,{"$f":"VLOOKUP(B5226,#REF!,3,FALSE)","v":{"$error":"#REF!"}}]
["Distri","Distri","LR2","OEZ:44262","PD-M-KMV02005","Крышкa","с прорезью 45 mm, высота крышки 200 mm, для модулярной системы NP66, ширина шкафа 500 mm","1 / -",0.74,1.89,27.48,{"$f":"VLOOKUP(B5227,#REF!,3,FALSE)","v":{"$error":"#REF!"}}]
["Distri","Distri","LR2","OEZ:44263","PD-M-KMV02006","Крышкa","с прорезью 45 mm, высота крышки 200 mm, для модулярной системы NP66, ширина шкафа 600 mm","1 / -",0.87,2.31,28.19,{"$f":"VLOOKUP(B5228,#REF!,3,FALSE)","v":{"$error":"#REF!"}}]
["Distri","Distri","LR2","OEZ:44264","PD-M-KMV02008","Крышкa","с прорезью 45 mm, высота крышки 200 mm, для модулярной системы NP66, NP55, ширина шкафа 800 mm","1 / -",1.1399999999999999,3.15,31.19,{"$f":"VLOOKUP(B5229,#REF!,3,FALSE)","v":{"$error":"#REF!"}}]
["Distri","Distri","LR2","OEZ:44265","PD-M-KMV02010","Крышкa","с прорезью 45 mm, высота крышки 200 mm, для модулярной системы NP66, NP55, ширина шкафа 1000 mm","1 / -",1.41,3.99,34.15,{"$f":"VLOOKUP(B5230,#REF!,3,FALSE)","v":{"$error":"#REF!"}}]
["Distri","Distri","LR2","OEZ:44266","PD-M-KMV02012","Крышкa","с прорезью 45 mm, высота крышки 200 mm, для модулярной системы NP66, NP55, ширина шкафа 1200 mm","1 / -",1.68,4.83,39.129999999999995,{"$f":"VLOOKUP(B5231,#REF!,3,FALSE)","v":{"$error":"#REF!"}}]
["Distri","Distri","LR2","OEZ:44267","PD-M-KM01504","Крышкa","без прорези 45 mm, высота крышки 150 mm, для модулярной системы NP66, ширина шкафа 400 mm","1 / -",0.56999999999999995,1.1200000000000001,18.23,{"$f":"VLOOKUP(B5232,#REF!,3,FALSE)","v":{"$error":"#REF!"}}]
["Distri","Distri","LR2","OEZ:44268","PD-M-KM01505","Крышкa","без прорези 45 mm, высота крышки 150 mm, для модулярной системы NP66, ширина шкафа 500 mm","1 / -",0.71,1.44,20.220000000000002,{"$f":"VLOOKUP(B5233,#REF!,3,FALSE)","v":{"$error":"#REF!"}}]
["Distri","Distri","LR2","OEZ:44269","PD-M-KM01506","Крышкa","без прорези 45 mm, высота крышки 150 mm, для модулярной системы NP66, ширина шкафа 600 mm","1 / -",0.8,1.76,20.78,{"$f":"VLOOKUP(B5234,#REF!,3,FALSE)","v":{"$error":"#REF!"}}]
["Distri","Distri","LR2","OEZ:44270","PD-M-KM01508","Крышкa","без прорези 45 mm, высота крышки 150 mm, для модулярной системы NP66, NP55, ширина шкафа 800 mm","1 / -",1.1000000000000001,2.4,22.92,{"$f":"VLOOKUP(B5235,#REF!,3,FALSE)","v":{"$error":"#REF!"}}]
["Distri","Distri","LR2","OEZ:44271","PD-M-KM01510","Крышкa","без прорези 45 mm, высота крышки 150 mm, для модулярной системы NP66, NP55, ширина шкафа 1000 mm","1 / -",1.36,3.04,25.200000000000003,{"$f":"VLOOKUP(B5236,#REF!,3,FALSE)","v":{"$error":"#REF!"}}]
["Distri","Distri","LR2","OEZ:44272","PD-M-KM01512","Крышкa","без прорези 45 mm, высота крышки 150 mm, для модулярной системы NP66, NP55, ширина шкафа 1200 mm","1 / -",1.62,3.68,28.900000000000002,{"$f":"VLOOKUP(B5237,#REF!,3,FALSE)","v":{"$error":"#REF!"}}]
["Distri","Distri","LR2","OEZ:44273","PD-M-KM02004","Крышкa","без прорези 45 mm, высота крышки 200 mm, для модулярной системы NP66, ширина шкафа 400 mm","1 / -",0.69,1.47,22.21,{"$f":"VLOOKUP(B5238,#REF!,3,FALSE)","v":{"$error":"#REF!"}}]
["Distri","Distri","LR2","OEZ:44274","PD-M-KM02005","Крышкa","без прорези 45 mm, высота крышки 200 mm, для модулярной системы NP66, ширина шкафа 500 mm","1 / -",0.86,1.89,24.64,{"$f":"VLOOKUP(B5239,#REF!,3,FALSE)","v":{"$error":"#REF!"}}]
["Distri","Distri","LR2","OEZ:44275","PD-M-KM02006","Крышкa","без прорези 45 mm, высота крышки 200 mm, для модулярной системы NP66, ширина шкафа 600 mm","1 / -",1.03,2.31,25.35,{"$f":"VLOOKUP(B5240,#REF!,3,FALSE)","v":{"$error":"#REF!"}}]
["Distri","Distri","LR2","OEZ:44276","PD-M-KM02008","Крышкa","без прорези 45 mm, высота крышки 200 mm, для модулярной системы NP66, NP55, ширина шкафа 800 mm","1 / -",1.37,3.15,28.01,{"$f":"VLOOKUP(B5241,#REF!,3,FALSE)","v":{"$error":"#REF!"}}]
["Distri","Distri","LR2","OEZ:44277","PD-M-KM02010","Крышкa","без прорези 45 mm, высота крышки 200 mm, для модулярной системы NP66, NP55, ширина шкафа 1000 mm","1 / -",1.71,3.99,30.740000000000002,{"$f":"VLOOKUP(B5242,#REF!,3,FALSE)","v":{"$error":"#REF!"}}]
["Distri","Distri","LR2","OEZ:44278","PD-M-KM02012","Крышкa","без прорези 45 mm, высота крышки 200 mm, для модулярной системы NP66, NP55, ширина шкафа 1200 mm","1 / -",2.0499999999999998,4.83,35.309999999999995,{"$f":"VLOOKUP(B5243,#REF!,3,FALSE)","v":{"$error":"#REF!"}}]
[null,null,null,"Level  5","PD-NP-KMM - Вертикальные крайние крышки"]
["Distri","Distri","LR2","OEZ:44583","PD-NP-KMM05","Вертикальные крайние крышки","для NP66, высота 500 mm, мин. Глубина 250 mm","1 / -",0.39,1.1439999999999999,17.490000000000002,{"$f":"VLOOKUP(B5245,#REF!,3,FALSE)","v":{"$error":"#REF!"}}]
["Distri","Distri","LR2","OEZ:44584","PD-NP-KMM06","Вертикальные крайние крышки","для NP66, NP55, высота 600 mm, мин. Глубина 250 mm","1 / -",0.47099999999999997,1.3640000000000001,17.940000000000001,{"$f":"VLOOKUP(B5246,#REF!,3,FALSE)","v":{"$error":"#REF!"}}]
["Distri","Distri","LR2","OEZ:44585","PD-NP-KMM07","Вертикальные крайние крышки","для NP66, NP55, высота 700 mm, мин. Глубина 250 mm","1 / -",0.55300000000000005,1.5840000000000001,19.690000000000001,{"$f":"VLOOKUP(B5247,#REF!,3,FALSE)","v":{"$error":"#REF!"}}]
["Distri","Distri","LR2","OEZ:44586","PD-NP-KMM08","Вертикальные крайние крышки","для NP66, NP55, высота 800 mm, мин. Глубина 250 mm","1 / -",0.63400000000000001,1.804,20.87,{"$f":"VLOOKUP(B5248,#REF!,3,FALSE)","v":{"$error":"#REF!"}}]
["Distri","Distri","LR2","OEZ:44587","PD-NP-KMM10","Вертикальные крайние крышки","для NP66, NP55, высота 1000 mm, мин. Глубина 250 mm","1 / -",0.79600000000000004,2.2440000000000002,22.8,{"$f":"VLOOKUP(B5249,#REF!,3,FALSE)","v":{"$error":"#REF!"}}]
["Distri","Distri","LR2","OEZ:44588","PD-NP-KMM12","Вертикальные крайние крышки","для NP66, NP55, высота 1200 mm, мин. Глубина 250 mm","1 / -",0.95899999999999996,2.6840000000000002,25.17,{"$f":"VLOOKUP(B5250,#REF!,3,FALSE)","v":{"$error":"#REF!"}}]
[null,null,null,"Level  5","PD-NP-KMK - Горизонтальные крайние крышки"]
["Distri","Distri","LR2","OEZ:44243","PD-NP-KMK04","Горизонтальные крайние крышки","для NP66, ширина 400 mm, мин. Глубина 250 mm","1 / -",0.32,1.1200000000000001,32.58,{"$f":"VLOOKUP(B5252,#REF!,3,FALSE)","v":{"$error":"#REF!"}}]
["Distri","Distri","LR2","OEZ:44244","PD-NP-KMK05","Горизонтальные крайние крышки","для NP66, ширина 500 mm, мин. Глубина 250 mm","1 / -",0.34,1.4,34.15,{"$f":"VLOOKUP(B5253,#REF!,3,FALSE)","v":{"$error":"#REF!"}}]
["Distri","Distri","LR2","OEZ:44245","PD-NP-KMK06","Горизонтальные крайние крышки","для NP66, ширина 600 mm, мин. Глубина 250 mm","1 / -",0.37,1.68,35.869999999999997,{"$f":"VLOOKUP(B5254,#REF!,3,FALSE)","v":{"$error":"#REF!"}}]
["Distri","Distri","LR2","OEZ:44246","PD-NP-KMK08","Горизонтальные крайние крышки","для NP66, NP55, ширина 800 mm, мин. Глубина 250 mm","1 / -",0.42,2.2400000000000002,37.739999999999995,{"$f":"VLOOKUP(B5255,#REF!,3,FALSE)","v":{"$error":"#REF!"}}]
["Distri","Distri","LR2","OEZ:44247","PD-NP-KMK10","Горизонтальные крайние крышки","для NP66, NP55, ширина 1000 mm, мин. Глубина 250 mm","1 / -",0.45,2.8,39.43,{"$f":"VLOOKUP(B5256,#REF!,3,FALSE)","v":{"$error":"#REF!"}}]
["Distri","Distri","LR2","OEZ:44248","PD-NP-KMK12","Горизонтальные крайние крышки","для NP66, NP55, ширина 1200 mm, мин. Глубина 250 mm","1 / -",0.53,3.36,41,{"$f":"VLOOKUP(B5257,#REF!,3,FALSE)","v":{"$error":"#REF!"}}]
[null,null,null,"Level  5","PD-M-L35 - “U” рейки"]
["Distri","Distri","LR2","OEZ:44249","PD-M-L35-VU04","U рейка","ширина 35 mm, высота 15 mm, для NP66 ширина 400 mm","1 / -",0.54,1,23.360000000000003,{"$f":"VLOOKUP(B5259,#REF!,3,FALSE)","v":{"$error":"#REF!"}}]
["Distri","Distri","LR2","OEZ:44250","PD-M-L35-VU05","U рейка","ширина 35 mm, высота 15 mm, для NP66 ширина 500 mm","1 / -",0.61,1.25,27.900000000000002,{"$f":"VLOOKUP(B5260,#REF!,3,FALSE)","v":{"$error":"#REF!"}}]
["Distri","Distri","LR2","OEZ:44251","PD-M-L35-VU06","U рейка","ширина 35 mm, высота 15 mm, для NP66, ширина 600 mm","1 / -",0.68,1.5,32.159999999999997,{"$f":"VLOOKUP(B5261,#REF!,3,FALSE)","v":{"$error":"#REF!"}}]
["Distri","Distri","LR2","OEZ:44252","PD-M-L35-VU08","U рейка","ширина 35 mm, высота 15 mm, для NP66, NP55 ширина 800 mm","1 / -",0.82,2,36.729999999999997,{"$f":"VLOOKUP(B5262,#REF!,3,FALSE)","v":{"$error":"#REF!"}}]
["Distri","Distri","LR2","OEZ:44253","PD-M-L35-VU10","U рейка","ширина 35 mm, высота 15 mm, для NP66, NP55 ширина 1000 mm","1 / -",0.96,2.5,41.559999999999995,{"$f":"VLOOKUP(B5263,#REF!,3,FALSE)","v":{"$error":"#REF!"}}]
["Distri","Distri","LR2","OEZ:44254","PD-M-L35-VU12","U рейка","ширина 35 mm, высота 15 mm, для NP66, NP55 ширина 1200 mm","1 / -",1.1000000000000001,3,46.239999999999995,{"$f":"VLOOKUP(B5264,#REF!,3,FALSE)","v":{"$error":"#REF!"}}]
[null,null,null,"Level  5","PD-M_LP - Приборные рейки"]
["Distri","Distri","LR2","OEZ:44279","PD-M-50LP04","Приборная рейка","высота рейки 50 mm, для NP66, ширина 400 mm","1 / -",0.63,1.26,21.490000000000002,{"$f":"VLOOKUP(B5266,#REF!,3,FALSE)","v":{"$error":"#REF!"}}]
["Distri","Distri","LR2","OEZ:44280","PD-M-50LP05","Приборная рейка","высота рейки 50 mm, для NP66, ширина 500 mm","1 / -",0.75,1.62,24.900000000000002,{"$f":"VLOOKUP(B5267,#REF!,3,FALSE)","v":{"$error":"#REF!"}}]
["Distri","Distri","LR2","OEZ:44281","PD-M-50LP06","Приборная рейка","высота рейки 50 mm, для NP66, ширина 600 mm","1 / -",0.87,1.98,28.46,{"$f":"VLOOKUP(B5268,#REF!,3,FALSE)","v":{"$error":"#REF!"}}]
["Distri","Distri","LR2","OEZ:44282","PD-M-50LP08","Приборная рейка","высота рейки 50 mm, для NP66, NP55, ширина 800 mm","1 / -",1.1000000000000001,2.7,31.87,{"$f":"VLOOKUP(B5269,#REF!,3,FALSE)","v":{"$error":"#REF!"}}]
["Distri","Distri","LR2","OEZ:44283","PD-M-50LP10","Приборная рейка","высота рейки 50 mm, для NP66, NP55, ширина 1000 mm","1 / -",1.33,3.42,35.419999999999995,{"$f":"VLOOKUP(B5270,#REF!,3,FALSE)","v":{"$error":"#REF!"}}]
["Distri","Distri","LR2","OEZ:44284","PD-M-50LP12","Приборная рейка","высота рейки 50 mm, для NP66, NP55, ширина 1200 mm","1 / -",1.57,4.1399999999999997,38.86,{"$f":"VLOOKUP(B5271,#REF!,3,FALSE)","v":{"$error":"#REF!"}}]
["Distri","Distri","LR2","OEZ:44285","PD-M-130LP04","Приборная рейка","высота рейки 130 mm, для NP66, ширина 400 mm","1 / -",1.1599999999999999,2.94,31.19,{"$f":"VLOOKUP(B5272,#REF!,3,FALSE)","v":{"$error":"#REF!"}}]
["Distri","Distri","LR2","OEZ:44286","PD-M-130LP05","Приборная рейка","высота рейки 130 mm, для NP66, ширина 500 mm","1 / -",1.4,3.78,36.14,{"$f":"VLOOKUP(B5273,#REF!,3,FALSE)","v":{"$error":"#REF!"}}]
["Distri","Distri","LR2","OEZ:44287","PD-M-130LP06","Приборная рейка","высота рейки 130 mm, для NP66, ширина 600 mm","1 / -",1.64,4.62,41.15,{"$f":"VLOOKUP(B5274,#REF!,3,FALSE)","v":{"$error":"#REF!"}}]
["Distri","Distri","LR2","OEZ:44288","PD-M-130LP08","Приборная рейка","высота рейки 130 mm, для NP66, NP55, ширина 800 mm","1 / -",2.13,6.3,46.12,{"$f":"VLOOKUP(B5275,#REF!,3,FALSE)","v":{"$error":"#REF!"}}]
["Distri","Distri","LR2","OEZ:44289","PD-M-130LP10","Приборная рейка","высота рейки 130 mm, для NP66, NP55, ширина 1000 mm","1 / -",2.61,7.98,51.22,{"$f":"VLOOKUP(B5276,#REF!,3,FALSE)","v":{"$error":"#REF!"}}]
["Distri","Distri","LR2","OEZ:44290","PD-M-130LP12","Приборная рейка","высота рейки 130 mm, для NP66, NP55, ширина 1200 mm","1 / -",3.1,9.66,56.35,{"$f":"VLOOKUP(B5277,#REF!,3,FALSE)","v":{"$error":"#REF!"}}]
[null,null,null,"Level  5","PD-NP-4ZO8 - Крепеж"]
["Distri","Distri","LR2","OEZ:44230","PD-NP-4ZO8","Крепеж","для NP66, NP55, комплект 4 шт.","1 / -",0.38,0.4,61.03,{"$f":"VLOOKUP(B5279,#REF!,3,FALSE)","v":{"$error":"#REF!"}}]
[null,null,null,"Level  5","PD-NP-UV - Замки"]
["Distri","Distri","LR2","OEZ:44231","PD-NP-UVD","Вкладыш замка","для NP66, NP55, вставка \"D\" для язычкового и штангового запирания","1 / -",0.04,0.04,5.7,{"$f":"VLOOKUP(B5281,#REF!,3,FALSE)","v":{"$error":"#REF!"}}]
["Distri","Distri","LR2","OEZ:44232","PD-NP-UVZ","Вкладыш замка","для NP66, NP55, вставка для запирания для язычкового и штангового запирания, универсальный ключ 1333 2 ks","1 / -",0.08,0.05,19.920000000000002,{"$f":"VLOOKUP(B5282,#REF!,3,FALSE)","v":{"$error":"#REF!"}}]
["Distri","Distri","LR2","OEZ:45419","PD-NP-UVZ-P","Вкладыш замка","для NP66, NP55, пластмассовая ручка, вставка для запирания для язычкового и штангового запирания, универсальный ключ 1333 2 ks","1 / -",0.1,0.25,22.5,{"$f":"VLOOKUP(B5283,#REF!,3,FALSE)","v":{"$error":"#REF!"}}]
["Distri","Distri","LR2","OEZ:44233","PD-NP-UVDB3","Вкладыш замка","для NP66, NP55, вставка DB3 для язычкового и штангового запирания","1 / -",0.04,0.04,5.7,{"$f":"VLOOKUP(B5284,#REF!,3,FALSE)","v":{"$error":"#REF!"}}]
["Distri","Distri","LR2","OEZ:44234","PD-NP-UV66","Вкладыш замка","для NP66, NP55, вставка внутренний четырехгранник 6 x 6 для язычкового и штангового запирания","1 / -",0.04,0.04,6.41,{"$f":"VLOOKUP(B5285,#REF!,3,FALSE)","v":{"$error":"#REF!"}}]
[null,null,null,"Level  5","PD-NP-KD - Фланцы"]
["Distri","Distri","LR2","OEZ:44590","PD-NP-KD2514","Фланец","для NP66 a NP66-xx-WG, 250 x 140 mm, для отверстия 220 x 110 mm, для 1 кабельного ввода","1 / -",0.35,0.11700000000000001,18.830000000000002,{"$f":"VLOOKUP(B5287,#REF!,3,FALSE)","v":{"$error":"#REF!"}}]
["Distri","Distri","LR2","OEZ:44591","PD-NP-KD3514","Фланец","для NP66 a NP66-xx-WG, 350 x 140 mm, для отверстия 320 x 110 mm, для 1 кабельного ввода","1 / -",0.5,0.158,20.580000000000002,{"$f":"VLOOKUP(B5288,#REF!,3,FALSE)","v":{"$error":"#REF!"}}]
["Distri","Distri","LR2","OEZ:44592","PD-NP-KD4514","Фланец","для NP66, NP55, NP66-xx-WG, NP55-xx-WG, 450 x 140 mm, для отверстия 420 x 110 mm, для 1 кабельного ввода","1 / -",0.65,0.20699999999999999,24.1,{"$f":"VLOOKUP(B5289,#REF!,3,FALSE)","v":{"$error":"#REF!"}}]
["Distri","Distri","LR2","OEZ:44593","PD-NP-KD5514","Фланец","для NP66, NP55, NP66-xx-WG, NP55-xx-WG, 550 x 140 mm, для отверстия 520 x 110 mm, для 2 кабельных вводов","1 / -",0.8,0.252,30.860000000000003,{"$f":"VLOOKUP(B5290,#REF!,3,FALSE)","v":{"$error":"#REF!"}}]
[null,null,null,"Level  5","PD-V-CG - Кабельные вводы"]
["Distri","Distri","LR2","OEZ:44595","PD-V-CG14-IP54","Кабельный ввод","IP54, для 14 кабелей диаметром 5 x (10 ÷ 14), 4 x (14 ÷ 18), 3 x (14 ÷ 22), 2 x (24 ÷ 54)","1 / -",0.214,1.752,18.970000000000002,{"$f":"VLOOKUP(B5292,#REF!,3,FALSE)","v":{"$error":"#REF!"}}]
["Distri","Distri","LR2","OEZ:44594","PD-V-CG25-IP54","Кабельный ввод","IP54, для 25 кабелей диаметром 2 x (3,5 ÷ 11), 5 x (10 ÷ 14), 12 x (14 ÷ 18), 5 x (14 ÷ 22), 1 x (14 ÷ 35)","1 / -",0.216,1.0760000000000001,18.970000000000002,{"$f":"VLOOKUP(B5293,#REF!,3,FALSE)","v":{"$error":"#REF!"}}]
["Distri","Distri","LR2","OEZ:44596","PD-V-CG51-IP54","Кабельный ввод","IP54, для 51 кабелей диаметром 50 x (7 ÷ 13), 1 x (15 ÷ 25)","1 / -",0.22,1.0760000000000001,18.970000000000002,{"$f":"VLOOKUP(B5294,#REF!,3,FALSE)","v":{"$error":"#REF!"}}]
["Distri","Distri","LR2","OEZ:44597","PD-V-CG10-IP55","Кабельный ввод","IP55, для 10 кабелей диаметром 2 x (7 ÷ 12), 8 x (10 ÷ 30)","1 / -",0.215,1.486,32.94,{"$f":"VLOOKUP(B5295,#REF!,3,FALSE)","v":{"$error":"#REF!"}}]
["Distri","Distri","LR2","OEZ:44598","PD-V-CG7-IP65","Кабельный ввод","IP65, для 7 кабелей диаметром 4 x (8 ÷ 12), 2 x (24 ÷ 54), 1 x (30 ÷ 60)","1 / -",0.214,1.23,24.700000000000003,{"$f":"VLOOKUP(B5296,#REF!,3,FALSE)","v":{"$error":"#REF!"}}]
["Distri","Distri","LR2","OEZ:44599","PD-V-CG35-IP65","Кабельный ввод","IP65, для 35 кабелей диаметром 2 x (6 ÷ 10), 14 x (7 ÷ 12), 16 x (10 ÷ 14), 2 x (12 ÷ 18), 1 x (17 ÷ 32)","1 / -",0.23499999999999999,1.01,27.930000000000003,{"$f":"VLOOKUP(B5297,#REF!,3,FALSE)","v":{"$error":"#REF!"}}]
["Distri","Distri","LR2","OEZ:44600","PD-V-CG27-IP66","Кабельный ввод","IP66, для 27 кабелей диаметром 4 x (5 ÷ 7), 4 x (8 ÷ 12), 13 x (10 ÷ 14), 4 x (14 ÷ 20), 2 x (20 ÷ 26)","1 / -",0.224,1.476,30.71,{"$f":"VLOOKUP(B5298,#REF!,3,FALSE)","v":{"$error":"#REF!"}}]
["Distri","Distri","LR2","OEZ:44601","PD-V-CG37-IP66","Кабельный ввод","IP66, для 37 кабелей диаметром 4 x (6 ÷ 10), 14 x (8 ÷ 12), 16 x (10 ÷ 14), 2 x (12 ÷ 18), 1 x (17 ÷ 32)","1 / -",0.248,1.476,30.71,{"$f":"VLOOKUP(B5299,#REF!,3,FALSE)","v":{"$error":"#REF!"}}]
[null,null,null,"Level  5","PD-NP-VD - Внутренные дверцы"]
[null,null,null,"Level  5","ND-NP, PD-NP - Запасные части"]
["Distri","Distri","LR2","OEZ:44602","PD-NP66-UDB5","Запасная часть","язычковое запирания для NP66, для одностворчатой дверцы, комплект ,DB5, с ключом","1 / -",0.12,0.35799999999999998,15,{"$f":"VLOOKUP(B5302,#REF!,3,FALSE)","v":{"$error":"#REF!"}}]
["Distri","Distri","LR2","OEZ:44603","PD-NP66-URDB5","Запасная часть","Штанговое запирание для NP66, NP55, комплект ,DB5, с ключом, без тяг","1 / -",0.15,0.435,18.380000000000003,{"$f":"VLOOKUP(B5303,#REF!,3,FALSE)","v":{"$error":"#REF!"}}]
["Distri","Distri","LR2","OEZ:44604","ND-NP-PD","Запасная часть","петля для NP66, NP55, комплект, 1 шт.","1 / -",0.03,0.22500000000000001,5.16,{"$f":"VLOOKUP(B5304,#REF!,3,FALSE)","v":{"$error":"#REF!"}}]
["Distri","Distri","LR2","OEZ:44605","ND-NP-PDSV","Запасная часть","болт петли включая защитную подкладку для NP66, NP55, 1 шт.","1 / -",8.0000000000000002E-3,0.13900000000000001,2.4899999999999998,{"$f":"VLOOKUP(B5305,#REF!,3,FALSE)","v":{"$error":"#REF!"}}]
["Distri","Distri","LR2","OEZ:44606","ND-NP-SM","Запасная часть","монтажный комплект для NP66, NP55","1 / -",0.19,0.315,23.240000000000002,{"$f":"VLOOKUP(B5306,#REF!,3,FALSE)","v":{"$error":"#REF!"}}]
["Distri","Distri","LR2","OEZ:44607","ND-NP-TPD4","Запасная часть","уплотнения место петель для NP66, NP55, 4 шт.","1 / -",4.0000000000000001E-3,0.1,1.34,{"$f":"VLOOKUP(B5307,#REF!,3,FALSE)","v":{"$error":"#REF!"}}]
["Distri","Distri","LR2","OEZ:44608","ND-NP-KD14SCR","Запасная часть","самонарезающие винты 4,3x9, PH2, для фланца NP66, NP55, плоская головка, 14 шт.","1 / -",2.5000000000000001E-2,0.05,3.09,{"$f":"VLOOKUP(B5308,#REF!,3,FALSE)","v":{"$error":"#REF!"}}]
["Distri","Distri","LR2","OEZ:44609","ND-NP-KD1509","Запасная часть","фланец для NP66, NP66-xx-WG, 150 x 90 mm, окрашенная листовая сталь, уплотнение, без винтов","1 / -",0.2,0.112,17.490000000000002,{"$f":"VLOOKUP(B5309,#REF!,3,FALSE)","v":{"$error":"#REF!"}}]
["Distri","Distri","LR2","OEZ:44610","ND-NP-KD2509","Запасная часть","фланец для NP66, NP66-xx-WG, 250 x 90 mm, окрашенная листовая сталь, уплотнение, без винтов","1 / -",0.3,0.182,18.970000000000002,{"$f":"VLOOKUP(B5310,#REF!,3,FALSE)","v":{"$error":"#REF!"}}]
["Distri","Distri","LR2","OEZ:44611","ND-NP-KD2514","Запасная часть","фланец для NP66, NP66-xx-WG, 250 x 140 mm, окрашенная листовая сталь, уплотнение, без винтов","1 / -",0.44,0.27300000000000002,20.87,{"$f":"VLOOKUP(B5311,#REF!,3,FALSE)","v":{"$error":"#REF!"}}]
["Distri","Distri","LR2","OEZ:44612","ND-NP-KD3514","Запасная часть","фланец для NP66, NP66-xx-WG, 350 x 140 mm, окрашенная листовая сталь, уплотнение, без винтов","1 / -",0.61,0.36799999999999999,22.8,{"$f":"VLOOKUP(B5312,#REF!,3,FALSE)","v":{"$error":"#REF!"}}]
["Distri","Distri","LR2","OEZ:44613","ND-NP-KD4514","Запасная часть","фланец для NP66, NP55, NP66-xx-WG, NP55-xx-WG, 450x140 mm, окрашенная листовая сталь, уплотнение, без винтов","1 / -",0.8,0.48299999999999998,26.62,{"$f":"VLOOKUP(B5313,#REF!,3,FALSE)","v":{"$error":"#REF!"}}]
["Distri","Distri","LR2","OEZ:44614","ND-NP-KD5514","Запасная часть","фланец для NP66, NP55, NP66-xx-WG, NP55-xx-WG, 550x140 mm, окрашенная листовая сталь, уплотнение, без винтов","1 / -",1,0.58799999999999997,28.96,{"$f":"VLOOKUP(B5314,#REF!,3,FALSE)","v":{"$error":"#REF!"}}]
[null,null,null,"Level  4","NP65 - Настенные распределительные шкафы (IP65)"]
[null,null,null,"Level  4","PD-NP_65 - Принадлежности"]
[null,null,null,"Level  5","PD-N-VY_ - Ребра жесткости дверцы"]
[null,null,null,"Level  5","PD-N-P_ - Подвижные системы"]
[null,null,null,"Level  5","PD-N-M_ - Модульные системы"]
[null,null,null,"Level  5","PD-N-KMV - Крышки для модульных приборов с прорезью"]
[null,null,null,"Level  5","PD-N-KM0_ - Крышки для модульных приборов без прорези"]
[null,null,null,"Level  5","PD-N-VD - Внутренные дверцы"]
[null,null,null,"Level  5","PD-NP - Остальные принадлежности"]
["Distri","Distri","LR2","OEZ:17454","PD-QK-UBD","Ключ","Ключ D, для QA, NP","1 / -",0.05,0.09,1.96,{"$f":"VLOOKUP(B5324,#REF!,3,FALSE)","v":{"$error":"#REF!"}}]
["Distri","Distri","LR2","OEZ:17455","PD-QK-UBB5","Ключ","Ключ DB5, для QA, NP","1 / -",0.04,4.1000000000000002E-2,2.61,{"$f":"VLOOKUP(B5325,#REF!,3,FALSE)","v":{"$error":"#REF!"}}]
["Distri","Distri","LR2","OEZ:20407","PD-QK-ARAL7035","Лак для исправления покраски","RAL7035, Нитро, Аэрозоль ,400 g, для QA, NP","1 / -",0.43,0.94099999999999995,13.22,{"$f":"VLOOKUP(B5326,#REF!,3,FALSE)","v":{"$error":"#REF!"}}]
["Distri","Distri","LR2","OEZ:33786","PD-QK-D1M51","Дистанционные столбики","резьба M5, высота 19 mm, комплект 10 шт., для QA, NP","1 / -",0.23200000000000001,0.35699999999999998,11.09,{"$f":"VLOOKUP(B5327,#REF!,3,FALSE)","v":{"$error":"#REF!"}}]
["Distri","Distri","LR2","OEZ:33789","PD-QK-D1M61","Дистанционные столбики","резьба M6, высота 19 mm, комплект 10 шт., для QA, NP","1 / -",0.28000000000000003,0.35699999999999998,11.56,{"$f":"VLOOKUP(B5328,#REF!,3,FALSE)","v":{"$error":"#REF!"}}]
["Distri","Distri","LR2","OEZ:33791","PD-QK-D1M81","Дистанционные столбики","резьба M8, высота 19 mm, комплект 10 шт., для QA, NP","1 / -",0.437,0.35699999999999998,12.36,{"$f":"VLOOKUP(B5329,#REF!,3,FALSE)","v":{"$error":"#REF!"}}]
["Distri","Distri","LR2","OEZ:33787","PD-QK-D1M52","Дистанционные столбики","резьба M5, высота 22 mm, комплект 10 шт., для QA, NP","1 / -",0.25800000000000001,0.35699999999999998,10.379999999999999,{"$f":"VLOOKUP(B5330,#REF!,3,FALSE)","v":{"$error":"#REF!"}}]
["Distri","Distri","LR2","OEZ:33790","PD-QK-D1M62","Дистанционные столбики","резьба M6, высота 22 mm, комплект 10 шт., для QA, NP","1 / -",0.30499999999999999,0.35699999999999998,12.34,{"$f":"VLOOKUP(B5331,#REF!,3,FALSE)","v":{"$error":"#REF!"}}]
["Distri","Distri","LR2","OEZ:33792","PD-QK-D1M82","Дистанционные столбики","резьба M8, высота 22 mm, комплект 10 шт., для QA, NP","1 / -",0.46899999999999997,0.35699999999999998,14.709999999999999,{"$f":"VLOOKUP(B5332,#REF!,3,FALSE)","v":{"$error":"#REF!"}}]
[null,null,null,"Level  3","QA - Рядовые шкафы"]
[null,null,null,"Level  4","QA40 - Рядовые шкафы (IP40)"]
["Distri","Distri","LR2","OEZ:35462","QA40-180603","Рядовой распределительный шкаф","степень защиты IP40, одностворчатая дверца, В x Ш x Г 1800 x 600 x 300","1 / -",65.7,431.09,644.53,{"$f":"VLOOKUP(B5335,#REF!,3,FALSE)","v":{"$error":"#REF!"}}]
["Distri","Distri","LR2","OEZ:35485","QA40-200603","Рядовой распределительный шкаф","степень защиты IP40, одностворчатая дверца, В x Ш x Г 2000 x 600 x 300","1 / -",71.260000000000005,476.19,657.78,{"$f":"VLOOKUP(B5336,#REF!,3,FALSE)","v":{"$error":"#REF!"}}]
["Distri","Distri","LR2","OEZ:35508","QA40-220603","Рядовой распределительный шкаф","степень защиты IP40, одностворчатая дверца, В x Ш x Г 2200 x 600 x 300","1 / -",79.849999999999994,521.37,695.48,{"$f":"VLOOKUP(B5337,#REF!,3,FALSE)","v":{"$error":"#REF!"}}]
["Distri","Distri","LR2","OEZ:35468","QA40-180803","Рядовой распределительный шкаф","степень защиты IP40, одностворчатая дверца, В x Ш x Г 1800 x 800 x 300","1 / -",79.8,572.42999999999995,742.37,{"$f":"VLOOKUP(B5338,#REF!,3,FALSE)","v":{"$error":"#REF!"}}]
["Distri","Distri","LR2","OEZ:35491","QA40-200803","Рядовой распределительный шкаф","степень защиты IP40, одностворчатая дверца, В x Ш x Г 2000 x 800 x 300","1 / -",85.39,632.37,716.73,{"$f":"VLOOKUP(B5339,#REF!,3,FALSE)","v":{"$error":"#REF!"}}]
["Distri","Distri","LR2","OEZ:35514","QA40-220803","Рядовой распределительный шкаф","степень защиты IP40, одностворчатая дверца, В x Ш x Г 2200 x 800 x 300","1 / -",90.98,692.31,761.28,{"$f":"VLOOKUP(B5340,#REF!,3,FALSE)","v":{"$error":"#REF!"}}]
["Distri","Distri","LR2","OEZ:35474","QA40-181003","Рядовой распределительный шкаф","степень защиты IP40, двухстворчатая дверца, В x Ш x Г 1800 x 1000 x 300","1 / -",93.97,713.77,950.17,{"$f":"VLOOKUP(B5341,#REF!,3,FALSE)","v":{"$error":"#REF!"}}]
["Distri","Distri","LR2","OEZ:35497","QA40-201003","Рядовой распределительный шкаф","степень защиты IP40, двухстворчатая дверца, В x Ш x Г 2000 x 1000 x 300","1 / -",99.54,788.51,965.35,{"$f":"VLOOKUP(B5342,#REF!,3,FALSE)","v":{"$error":"#REF!"}}]
["Distri","Distri","LR2","OEZ:35520","QA40-221003","Рядовой распределительный шкаф","степень защиты IP40, двухстворчатая дверца, В x Ш x Г 2200 x 1000 x 300","1 / -",105.13,863.25,1008.95,{"$f":"VLOOKUP(B5343,#REF!,3,FALSE)","v":{"$error":"#REF!"}}]
["Distri","Distri","LR2","OEZ:35480","QA40-181203","Рядовой распределительный шкаф","степень защиты IP40, двухстворчатая дверца, В x Ш x Г 1800 x 1200 x 300","1 / -",108.03,855.11,967.84,{"$f":"VLOOKUP(B5344,#REF!,3,FALSE)","v":{"$error":"#REF!"}}]
["Distri","Distri","LR2","OEZ:35503","QA40-201203","Рядовой распределительный шкаф","степень защиты IP40, двухстворчатая дверца, В x Ш x Г 2000 x 1200 x 300","1 / -",113.65,944.65,981.27,{"$f":"VLOOKUP(B5345,#REF!,3,FALSE)","v":{"$error":"#REF!"}}]
["Distri","Distri","LR2","OEZ:35526","QA40-221203","Рядовой распределительный шкаф","степень защиты IP40, двухстворчатая дверца, В x Ш x Г 2200 x 1200 x 300","1 / -",119.24,1034.19,1078.99,{"$f":"VLOOKUP(B5346,#REF!,3,FALSE)","v":{"$error":"#REF!"}}]
["Distri","Distri","LR2","OEZ:35463","QA40-180604","Рядовой распределительный шкаф","степень защиты IP40, одностворчатая дверца, В x Ш x Г 1800 x 600 x 400","1 / -",67.98,547.6,655.14,{"$f":"VLOOKUP(B5347,#REF!,3,FALSE)","v":{"$error":"#REF!"}}]
["Distri","Distri","LR2","OEZ:35486","QA40-200604","Рядовой распределительный шкаф","степень защиты IP40, одностворчатая дверца, В x Ш x Г 2000 x 600 x 400","1 / -",73.540000000000006,604.9,671.85,{"$f":"VLOOKUP(B5348,#REF!,3,FALSE)","v":{"$error":"#REF!"}}]
["Distri","Distri","LR2","OEZ:35509","QA40-220604","Рядовой распределительный шкаф","степень защиты IP40, одностворчатая дверца, В x Ш x Г 2200 x 600 x 400","1 / -",79.13,662.28,709.68,{"$f":"VLOOKUP(B5349,#REF!,3,FALSE)","v":{"$error":"#REF!"}}]
["Distri","Distri","LR2","OEZ:35469","QA40-180804","Рядовой распределительный шкаф","степень защиты IP40, одностворчатая дверца, В x Ш x Г 1800 x 800 x 400","1 / -",86.5,727.14,714.54,{"$f":"VLOOKUP(B5350,#REF!,3,FALSE)","v":{"$error":"#REF!"}}]
["Distri","Distri","LR2","OEZ:35492","QA40-200804","Рядовой распределительный шкаф","степень защиты IP40, одностворчатая дверца, В x Ш x Г 2000 x 800 x 400","1 / -",88.74,803.28,731.25,{"$f":"VLOOKUP(B5351,#REF!,3,FALSE)","v":{"$error":"#REF!"}}]
["Distri","Distri","LR2","OEZ:35515","QA40-220804","Рядовой распределительный шкаф","степень защиты IP40, одностворчатая дверца, В x Ш x Г 2200 x 800 x 400","1 / -",94.33,879.42,775.98,{"$f":"VLOOKUP(B5352,#REF!,3,FALSE)","v":{"$error":"#REF!"}}]
["Distri","Distri","LR2","OEZ:35475","QA40-181004","Рядовой распределительный шкаф","степень защиты IP40, двухстворчатая дверца, В x Ш x Г 1800 x 1000 x 400","1 / -",97.71,1099.5899999999999,964.08,{"$f":"VLOOKUP(B5353,#REF!,3,FALSE)","v":{"$error":"#REF!"}}]
["Distri","Distri","LR2","OEZ:35498","QA40-201004","Рядовой распределительный шкаф","степень защиты IP40, двухстворчатая дверца, В x Ш x Г 2000 x 1000 x 400","1 / -",103.3,1001.62,979.22,{"$f":"VLOOKUP(B5354,#REF!,3,FALSE)","v":{"$error":"#REF!"}}]
["Distri","Distri","LR2","OEZ:35521","QA40-221004","Рядовой распределительный шкаф","степень защиты IP40, двухстворчатая дверца, В x Ш x Г 2200 x 1000 x 400","1 / -",108.89,1096.56,1022.88,{"$f":"VLOOKUP(B5355,#REF!,3,FALSE)","v":{"$error":"#REF!"}}]
["Distri","Distri","LR2","OEZ:35481","QA40-181204","Рядовой распределительный шкаф","степень защиты IP40, двухстворчатая дверца, В x Ш x Г 1800 x 1200 x 400","1 / -",112.26,1086.22,981.92,{"$f":"VLOOKUP(B5356,#REF!,3,FALSE)","v":{"$error":"#REF!"}}]
["Distri","Distri","LR2","OEZ:35504","QA40-201204","Рядовой распределительный шкаф","степень защиты IP40, двухстворчатая дверца, В x Ш x Г 2000 x 1200 x 400","1 / -",117.86,1199.96,995.05,{"$f":"VLOOKUP(B5357,#REF!,3,FALSE)","v":{"$error":"#REF!"}}]
["Distri","Distri","LR2","OEZ:35527","QA40-221204","Рядовой распределительный шкаф","степень защиты IP40, двухстворчатая дверца, В x Ш x Г 2200 x 1200 x 400","1 / -",123.45,1313.7,1025.3699999999999,{"$f":"VLOOKUP(B5358,#REF!,3,FALSE)","v":{"$error":"#REF!"}}]
["Distri","Distri","LR2","OEZ:35464","QA40-180605","Рядовой распределительный шкаф","степень защиты IP40, одностворчатая дверца, В x Ш x Г 1800 x 600 x 500","1 / -",70.2,664.11,666.85,{"$f":"VLOOKUP(B5359,#REF!,3,FALSE)","v":{"$error":"#REF!"}}]
["Distri","Distri","LR2","OEZ:35487","QA40-200605","Рядовой распределительный шкаф","степень защиты IP40, одностворчатая дверца, В x Ш x Г 2000 x 600 x 500","1 / -",75.819999999999993,733.61,684.81,{"$f":"VLOOKUP(B5360,#REF!,3,FALSE)","v":{"$error":"#REF!"}}]
["Distri","Distri","LR2","OEZ:35510","QA40-220605","Рядовой распределительный шкаф","степень защиты IP40, одностворчатая дверца, В x Ш x Г 2200 x 600 x 500","1 / -",81.41,803.19,723.28,{"$f":"VLOOKUP(B5361,#REF!,3,FALSE)","v":{"$error":"#REF!"}}]
["Distri","Distri","LR2","OEZ:35470","QA40-180805","Рядовой распределительный шкаф","степень защиты IP40, одностворчатая дверца, В x Ш x Г 1800 x 800 x 500","1 / -",89.87,881.85,775.98,{"$f":"VLOOKUP(B5362,#REF!,3,FALSE)","v":{"$error":"#REF!"}}]
["Distri","Distri","LR2","OEZ:35493","QA40-200805","Рядовой распределительный шкаф","степень защиты IP40, одностворчатая дверца, В x Ш x Г 2000 x 800 x 500","1 / -",92.09,974.19,745.95,{"$f":"VLOOKUP(B5363,#REF!,3,FALSE)","v":{"$error":"#REF!"}}]
["Distri","Distri","LR2","OEZ:35516","QA40-220805","Рядовой распределительный шкаф","степень защиты IP40, одностворчатая дверца, В x Ш x Г 2200 x 800 x 500","1 / -",97.68,1066.53,790.39,{"$f":"VLOOKUP(B5364,#REF!,3,FALSE)","v":{"$error":"#REF!"}}]
["Distri","Distri","LR2","OEZ:35476","QA40-181005","Рядовой распределительный шкаф","степень защиты IP40, двухстворчатая дверца, В x Ш x Г 1800 x 1000 x 500","1 / -",101.47,1292.5,978.95,{"$f":"VLOOKUP(B5365,#REF!,3,FALSE)","v":{"$error":"#REF!"}}]
["Distri","Distri","LR2","OEZ:35499","QA40-201005","Рядовой распределительный шкаф","степень защиты IP40, двухстворчатая дверца, В x Ш x Г 2000 x 1000 x 500","1 / -",107.06,1214.73,994.28,{"$f":"VLOOKUP(B5366,#REF!,3,FALSE)","v":{"$error":"#REF!"}}]
["Distri","Distri","LR2","OEZ:35522","QA40-221005","Рядовой распределительный шкаф","степень защиты IP40, двухстворчатая дверца, В x Ш x Г 2200 x 1000 x 500","1 / -",112.65,1329.87,1140.46,{"$f":"VLOOKUP(B5367,#REF!,3,FALSE)","v":{"$error":"#REF!"}}]
["Distri","Distri","LR2","OEZ:35482","QA40-181205","Рядовой распределительный шкаф","степень защиты IP40, двухстворчатая дверца, В x Ш x Г 1800 x 1200 x 500","1 / -",116.46,1317.33,996.59,{"$f":"VLOOKUP(B5368,#REF!,3,FALSE)","v":{"$error":"#REF!"}}]
["Distri","Distri","LR2","OEZ:35505","QA40-201205","Рядовой распределительный шкаф","степень защиты IP40, двухстворчатая дверца, В x Ш x Г 2000 x 1200 x 500","1 / -",122.07,1455.27,1106.67,{"$f":"VLOOKUP(B5369,#REF!,3,FALSE)","v":{"$error":"#REF!"}}]
["Distri","Distri","LR2","OEZ:35528","QA40-221205","Рядовой распределительный шкаф","степень защиты IP40, двухстворчатая дверца, В x Ш x Г 2200 x 1200 x 500","1 / -",127.66,1593.21,1040.22,{"$f":"VLOOKUP(B5370,#REF!,3,FALSE)","v":{"$error":"#REF!"}}]
["Distri","Distri","LR2","OEZ:35465","QA40-180606","Рядовой распределительный шкаф","степень защиты IP40, одностворчатая дверца, В x Ш x Г 1800 x 600 x 600","1 / -",72.5,780.62,677.31,{"$f":"VLOOKUP(B5371,#REF!,3,FALSE)","v":{"$error":"#REF!"}}]
["Distri","Distri","LR2","OEZ:35488","QA40-200606","Рядовой распределительный шкаф","степень защиты IP40, одностворчатая дверца, В x Ш x Г 2000 x 600 x 600","1 / -",78.099999999999994,862.32,698.12,{"$f":"VLOOKUP(B5372,#REF!,3,FALSE)","v":{"$error":"#REF!"}}]
["Distri","Distri","LR2","OEZ:35511","QA40-220606","Рядовой распределительный шкаф","степень защиты IP40, одностворчатая дверца, В x Ш x Г 2200 x 600 x 600","1 / -",83.69,944.1,735.81999999999994,{"$f":"VLOOKUP(B5373,#REF!,3,FALSE)","v":{"$error":"#REF!"}}]
["Distri","Distri","LR2","OEZ:35471","QA40-180806","Рядовой распределительный шкаф","степень защиты IP40, одностворчатая дверца, В x Ш x Г 1800 x 800 x 600","1 / -",93.2,1036.56,779.68999999999994,{"$f":"VLOOKUP(B5374,#REF!,3,FALSE)","v":{"$error":"#REF!"}}]
["Distri","Distri","LR2","OEZ:35494","QA40-200806","Рядовой распределительный шкаф","степень защиты IP40, одностворчатая дверца, В x Ш x Г 2000 x 800 x 600","1 / -",95.44,1145.0999999999999,759.56,{"$f":"VLOOKUP(B5375,#REF!,3,FALSE)","v":{"$error":"#REF!"}}]
["Distri","Distri","LR2","OEZ:35517","QA40-220806","Рядовой распределительный шкаф","степень защиты IP40, одностворчатая дверца, В x Ш x Г 2200 x 800 x 600","1 / -",101.03,1253.6400000000001,804.29,{"$f":"VLOOKUP(B5376,#REF!,3,FALSE)","v":{"$error":"#REF!"}}]
["Distri","Distri","LR2","OEZ:35477","QA40-181006","Рядовой распределительный шкаф","степень защиты IP40, двухстворчатая дверца, В x Ш x Г 1800 x 1000 x 600","1 / -",105.23,1485.41,993,{"$f":"VLOOKUP(B5377,#REF!,3,FALSE)","v":{"$error":"#REF!"}}]
["Distri","Distri","LR2","OEZ:35500","QA40-201006","Рядовой распределительный шкаф","степень защиты IP40, двухстворчатая дверца, В x Ш x Г 2000 x 1000 x 600","1 / -",110.82,1427.84,1008.18,{"$f":"VLOOKUP(B5378,#REF!,3,FALSE)","v":{"$error":"#REF!"}}]
["Distri","Distri","LR2","OEZ:35523","QA40-221006","Рядовой распределительный шкаф","степень защиты IP40, двухстворчатая дверца, В x Ш x Г 2200 x 1000 x 600","1 / -",116.41,1563.18,1051.81,{"$f":"VLOOKUP(B5379,#REF!,3,FALSE)","v":{"$error":"#REF!"}}]
["Distri","Distri","LR2","OEZ:35483","QA40-181206","Рядовой распределительный шкаф","степень защиты IP40, двухстворчатая дверца, В x Ш x Г 1800 x 1200 x 600","1 / -",120.67,1548.44,1010.67,{"$f":"VLOOKUP(B5380,#REF!,3,FALSE)","v":{"$error":"#REF!"}}]
["Distri","Distri","LR2","OEZ:35506","QA40-201206","Рядовой распределительный шкаф","степень защиты IP40, двухстворчатая дверца, В x Ш x Г 2000 x 1200 x 600","1 / -",126.28,1710.58,1024.1299999999999,{"$f":"VLOOKUP(B5381,#REF!,3,FALSE)","v":{"$error":"#REF!"}}]
["Distri","Distri","LR2","OEZ:35529","QA40-221206","Рядовой распределительный шкаф","степень защиты IP40, двухстворчатая дверца, В x Ш x Г 2200 x 1200 x 600","1 / -",131.87,1872.72,1061.95,{"$f":"VLOOKUP(B5382,#REF!,3,FALSE)","v":{"$error":"#REF!"}}]
["Distri","Distri","LR2","OEZ:35466","QA40-180608","Рядовой распределительный шкаф","степень защиты IP40, одностворчатая дверца, В x Ш x Г 1800 x 600 x 800","1 / -",77.08,1013.64,700.93,{"$f":"VLOOKUP(B5383,#REF!,3,FALSE)","v":{"$error":"#REF!"}}]
["Distri","Distri","LR2","OEZ:35489","QA40-200608","Рядовой распределительный шкаф","степень защиты IP40, одностворчатая дверца, В x Ш x Г 2000 x 600 x 800","1 / -",82.66,1119.74,713.29,{"$f":"VLOOKUP(B5384,#REF!,3,FALSE)","v":{"$error":"#REF!"}}]
["Distri","Distri","LR2","OEZ:35512","QA40-220608","Рядовой распределительный шкаф","степень защиты IP40, одностворчатая дверца, В x Ш x Г 2200 x 600 x 800","1 / -",88.25,1225.92,756.92,{"$f":"VLOOKUP(B5385,#REF!,3,FALSE)","v":{"$error":"#REF!"}}]
["Distri","Distri","LR2","OEZ:35472","QA40-180808","Рядовой распределительный шкаф","степень защиты IP40, одностворчатая дверца, В x Ш x Г 1800 x 800 x 800","1 / -",99.9,1345.98,765.84,{"$f":"VLOOKUP(B5386,#REF!,3,FALSE)","v":{"$error":"#REF!"}}]
["Distri","Distri","LR2","OEZ:35495","QA40-200808","Рядовой распределительный шкаф","степень защиты IP40, одностворчатая дверца, В x Ш x Г 2000 x 800 x 800","1 / -",102.14,1486.92,778.8,{"$f":"VLOOKUP(B5387,#REF!,3,FALSE)","v":{"$error":"#REF!"}}]
["Distri","Distri","LR2","OEZ:35518","QA40-220808","Рядовой распределительный шкаф","степень защиты IP40, одностворчатая дверца, В x Ш x Г 2200 x 800 x 800","1 / -",107.73,1627.86,823.85,{"$f":"VLOOKUP(B5388,#REF!,3,FALSE)","v":{"$error":"#REF!"}}]
["Distri","Distri","LR2","OEZ:35478","QA40-181008","Рядовой распределительный шкаф","степень защиты IP40, двухстворчатая дверца, В x Ш x Г 1800 x 1000 x 800","1 / -",112.31,1678.32,1014.26,{"$f":"VLOOKUP(B5389,#REF!,3,FALSE)","v":{"$error":"#REF!"}}]
["Distri","Distri","LR2","OEZ:35501","QA40-201008","Рядовой распределительный шкаф","степень защиты IP40, двухстворчатая дверца, В x Ш x Г 2000 x 1000 x 800","1 / -",118.34,1854.06,1029.76,{"$f":"VLOOKUP(B5390,#REF!,3,FALSE)","v":{"$error":"#REF!"}}]
["Distri","Distri","LR2","OEZ:35524","QA40-221008","Рядовой распределительный шкаф","степень защиты IP40, двухстворчатая дверца, В x Ш x Г 2200 x 1000 x 800","1 / -",123.93,2029.8,1073.54,{"$f":"VLOOKUP(B5391,#REF!,3,FALSE)","v":{"$error":"#REF!"}}]
["Distri","Distri","LR2","OEZ:35484","QA40-181208","Рядовой распределительный шкаф","степень защиты IP40, двухстворчатая дверца, В x Ш x Г 1800 x 1200 x 800","1 / -",129.09,2010.66,1032.0999999999999,{"$f":"VLOOKUP(B5392,#REF!,3,FALSE)","v":{"$error":"#REF!"}}]
["Distri","Distri","LR2","OEZ:35507","QA40-201208","Рядовой распределительный шкаф","степень защиты IP40, двухстворчатая дверца, В x Ш x Г 2000 x 1200 x 800","1 / -",134.69999999999999,2221.1999999999998,1045.7,{"$f":"VLOOKUP(B5393,#REF!,3,FALSE)","v":{"$error":"#REF!"}}]
["Distri","Distri","LR2","OEZ:35530","QA40-221208","Рядовой распределительный шкаф","степень защиты IP40, двухстворчатая дверца, В x Ш x Г 2200 x 1200 x 800","1 / -",140.29,2431.7399999999998,1075.8799999999999,{"$f":"VLOOKUP(B5394,#REF!,3,FALSE)","v":{"$error":"#REF!"}}]
["Distri","Distri","LR2","OEZ:35467","QA40-180610","Рядовой распределительный шкаф","степень защиты IP40, одностворчатая дверца, В x Ш x Г 1800 x 600 x 1000","1 / -",82.69,1246.6600000000001,724.05,{"$f":"VLOOKUP(B5395,#REF!,3,FALSE)","v":{"$error":"#REF!"}}]
["Distri","Distri","LR2","OEZ:35490","QA40-200610","Рядовой распределительный шкаф","степень защиты IP40, одностворчатая дверца, В x Ш x Г 2000 x 600 x 1000","1 / -",87.22,1377.16,739.7,{"$f":"VLOOKUP(B5396,#REF!,3,FALSE)","v":{"$error":"#REF!"}}]
["Distri","Distri","LR2","OEZ:35513","QA40-220610","Рядовой распределительный шкаф","степень защиты IP40, одностворчатая дверца, В x Ш x Г 2200 x 600 x 1000","1 / -",92.81,1507.74,777.88,{"$f":"VLOOKUP(B5397,#REF!,3,FALSE)","v":{"$error":"#REF!"}}]
["Distri","Distri","LR2","OEZ:35473","QA40-180810","Рядовой распределительный шкаф","степень защиты IP40, одностворчатая дверца, В x Ш x Г 1800 x 800 x 1000","1 / -",106.6,1655.4,787.72,{"$f":"VLOOKUP(B5398,#REF!,3,FALSE)","v":{"$error":"#REF!"}}]
["Distri","Distri","LR2","OEZ:35496","QA40-200810","Рядовой распределительный шкаф","степень защиты IP40, одностворчатая дверца, В x Ш x Г 2000 x 800 x 1000","1 / -",108.84,1828.74,801.35,{"$f":"VLOOKUP(B5399,#REF!,3,FALSE)","v":{"$error":"#REF!"}}]
["Distri","Distri","LR2","OEZ:35519","QA40-220810","Рядовой распределительный шкаф","степень защиты IP40, одностворчатая дверца, В x Ш x Г 2200 x 800 x 1000","1 / -",114.43,2002.08,846.2,{"$f":"VLOOKUP(B5400,#REF!,3,FALSE)","v":{"$error":"#REF!"}}]
["Distri","Distri","LR2","OEZ:35479","QA40-181010","Рядовой распределительный шкаф","степень защиты IP40, двухстворчатая дверца, В x Ш x Г 1800 x 1000 x 1000","1 / -",119,2064.14,1028.51,{"$f":"VLOOKUP(B5401,#REF!,3,FALSE)","v":{"$error":"#REF!"}}]
["Distri","Distri","LR2","OEZ:35502","QA40-201010","Рядовой распределительный шкаф","степень защиты IP40, двухстворчатая дверца, В x Ш x Г 2000 x 1000 x 1000","1 / -",125.86,2280.2800000000002,1043.81,{"$f":"VLOOKUP(B5402,#REF!,3,FALSE)","v":{"$error":"#REF!"}}]
["Distri","Distri","LR2","OEZ:35525","QA40-221010","Рядовой распределительный шкаф","степень защиты IP40, двухстворчатая дверца, В x Ш x Г 2200 x 1000 x 1000","1 / -",131.44999999999999,2496.42,1087.73,{"$f":"VLOOKUP(B5403,#REF!,3,FALSE)","v":{"$error":"#REF!"}}]
["Distri","Distri","LR2","OEZ:37064","QA40-181003-1K","Рядовой распределительный шкаф","степень защиты IP40, одностворчатая дверца, В x Ш x Г 1800 x 1000 x 300","1 / -",93.97,713.77,809.77,{"$f":"VLOOKUP(B5404,#REF!,3,FALSE)","v":{"$error":"#REF!"}}]
["Distri","Distri","LR2","OEZ:37076","QA40-201003-1K","Рядовой распределительный шкаф","степень защиты IP40, одностворчатая дверца, В x Ш x Г 2000 x 1000 x 300","1 / -",99.54,788.51,809.15,{"$f":"VLOOKUP(B5405,#REF!,3,FALSE)","v":{"$error":"#REF!"}}]
["Distri","Distri","LR2","OEZ:37088","QA40-221003-1K","Рядовой распределительный шкаф","степень защиты IP40, одностворчатая дверца, В x Ш x Г 2200 x 1000 x 300","1 / -",105.13,863.25,829.01,{"$f":"VLOOKUP(B5406,#REF!,3,FALSE)","v":{"$error":"#REF!"}}]
["Distri","Distri","LR2","OEZ:37065","QA40-181004-1K","Рядовой распределительный шкаф","степень защиты IP40, одностворчатая дверца, В x Ш x Г 1800 x 1000 x 400","1 / -",97.71,1099.5899999999999,823.52,{"$f":"VLOOKUP(B5407,#REF!,3,FALSE)","v":{"$error":"#REF!"}}]
["Distri","Distri","LR2","OEZ:37077","QA40-201004-1K","Рядовой распределительный шкаф","степень защиты IP40, одностворчатая дверца, В x Ш x Г 2000 x 1000 x 400","1 / -",103.3,1001.62,822.9,{"$f":"VLOOKUP(B5408,#REF!,3,FALSE)","v":{"$error":"#REF!"}}]
["Distri","Distri","LR2","OEZ:37089","QA40-221004-1K","Рядовой распределительный шкаф","степень защиты IP40, одностворчатая дверца, В x Ш x Г 2200 x 1000 x 400","1 / -",108.89,1096.56,842.76,{"$f":"VLOOKUP(B5409,#REF!,3,FALSE)","v":{"$error":"#REF!"}}]
["Distri","Distri","LR2","OEZ:37066","QA40-181005-1K","Рядовой распределительный шкаф","степень защиты IP40, одностворчатая дверца, В x Ш x Г 1800 x 1000 x 500","1 / -",101.47,1292.5,838.55,{"$f":"VLOOKUP(B5410,#REF!,3,FALSE)","v":{"$error":"#REF!"}}]
["Distri","Distri","LR2","OEZ:37078","QA40-201005-1K","Рядовой распределительный шкаф","степень защиты IP40, одностворчатая дверца, В x Ш x Г 2000 x 1000 x 500","1 / -",107.06,1214.73,837.56999999999994,{"$f":"VLOOKUP(B5411,#REF!,3,FALSE)","v":{"$error":"#REF!"}}]
["Distri","Distri","LR2","OEZ:37090","QA40-221005-1K","Рядовой распределительный шкаф","степень защиты IP40, одностворчатая дверца, В x Ш x Г 2200 x 1000 x 500","1 / -",112.65,1329.87,857.61,{"$f":"VLOOKUP(B5412,#REF!,3,FALSE)","v":{"$error":"#REF!"}}]
["Distri","Distri","LR2","OEZ:37067","QA40-181006-1K","Рядовой распределительный шкаф","степень защиты IP40, одностворчатая дверца, В x Ш x Г 1800 x 1000 x 600","1 / -",105.23,1485.41,852.27,{"$f":"VLOOKUP(B5413,#REF!,3,FALSE)","v":{"$error":"#REF!"}}]
["Distri","Distri","LR2","OEZ:37079","QA40-201006-1K","Рядовой распределительный шкаф","степень защиты IP40, одностворчатая дверца, В x Ш x Г 2000 x 1000 x 600","1 / -",110.82,1427.84,851.65,{"$f":"VLOOKUP(B5414,#REF!,3,FALSE)","v":{"$error":"#REF!"}}]
["Distri","Distri","LR2","OEZ:37091","QA40-221006-1K","Рядовой распределительный шкаф","степень защиты IP40, одностворчатая дверца, В x Ш x Г 2200 x 1000 x 600","1 / -",116.41,1563.18,871.68999999999994,{"$f":"VLOOKUP(B5415,#REF!,3,FALSE)","v":{"$error":"#REF!"}}]
["Distri","Distri","LR2","OEZ:37068","QA40-181008-1K","Рядовой распределительный шкаф","степень защиты IP40, одностворчатая дверца, В x Ш x Г 1800 x 1000 x 800","1 / -",112.31,1678.32,872.75,{"$f":"VLOOKUP(B5416,#REF!,3,FALSE)","v":{"$error":"#REF!"}}]
["Distri","Distri","LR2","OEZ:37080","QA40-201008-1K","Рядовой распределительный шкаф","степень защиты IP40, одностворчатая дверца, В x Ш x Г 2000 x 1000 x 800","1 / -",118.34,1854.06,872.16,{"$f":"VLOOKUP(B5417,#REF!,3,FALSE)","v":{"$error":"#REF!"}}]
["Distri","Distri","LR2","OEZ:37092","QA40-221008-1K","Рядовой распределительный шкаф","степень защиты IP40, одностворчатая дверца, В x Ш x Г 2200 x 1000 x 800","1 / -",123.93,2029.8,892.31999999999994,{"$f":"VLOOKUP(B5418,#REF!,3,FALSE)","v":{"$error":"#REF!"}}]
["Distri","Distri","LR2","OEZ:37069","QA40-181010-1K","Рядовой распределительный шкаф","степень защиты IP40, одностворчатая дверца, В x Ш x Г 1800 x 1000 x 1000","1 / -",119,2064.14,886.68999999999994,{"$f":"VLOOKUP(B5419,#REF!,3,FALSE)","v":{"$error":"#REF!"}}]
["Distri","Distri","LR2","OEZ:37081","QA40-201010-1K","Рядовой распределительный шкаф","степень защиты IP40, одностворчатая дверца, В x Ш x Г 2000 x 1000 x 1000","1 / -",125.86,2280.2800000000002,886.06,{"$f":"VLOOKUP(B5420,#REF!,3,FALSE)","v":{"$error":"#REF!"}}]
["Distri","Distri","LR2","OEZ:37093","QA40-221010-1K","Рядовой распределительный шкаф","степень защиты IP40, одностворчатая дверца, В x Ш x Г 2200 x 1000 x 1000","1 / -",125.86,2280.2800000000002,906.22,{"$f":"VLOOKUP(B5421,#REF!,3,FALSE)","v":{"$error":"#REF!"}}]
[null,null,null,"Level  4","QA55 - Рядовые шкафы (IP55)"]
["Distri","Distri","LR2","OEZ:35393","QA55-180603","Рядовой распределительный шкаф","степень защиты IP55, одностворчатая дверца, В x Ш x Г 1800 x 600 x 300","1 / -",65.73,431.09,731.4,{"$f":"VLOOKUP(B5423,#REF!,3,FALSE)","v":{"$error":"#REF!"}}]
["Distri","Distri","LR2","OEZ:35416","QA55-200603","Рядовой распределительный шкаф","степень защиты IP55, одностворчатая дверца, В x Ш x Г 2000 x 600 x 300","1 / -",71.319999999999993,476.19,746.28,{"$f":"VLOOKUP(B5424,#REF!,3,FALSE)","v":{"$error":"#REF!"}}]
["Distri","Distri","LR2","OEZ:35439","QA55-220603","Рядовой распределительный шкаф","степень защиты IP55, одностворчатая дверца, В x Ш x Г 2200 x 600 x 300","1 / -",76.91,521.37,732.68,{"$f":"VLOOKUP(B5425,#REF!,3,FALSE)","v":{"$error":"#REF!"}}]
["Distri","Distri","LR2","OEZ:35399","QA55-180803","Рядовой распределительный шкаф","степень защиты IP55, одностворчатая дверца, В x Ш x Г 1800 x 800 x 300","1 / -",79.86,572.42999999999995,742.96,{"$f":"VLOOKUP(B5426,#REF!,3,FALSE)","v":{"$error":"#REF!"}}]
["Distri","Distri","LR2","OEZ:35422","QA55-200803","Рядовой распределительный шкаф","степень защиты IP55, одностворчатая дверца, В x Ш x Г 2000 x 800 x 300","1 / -",85.45,632.37,814.45,{"$f":"VLOOKUP(B5427,#REF!,3,FALSE)","v":{"$error":"#REF!"}}]
["Distri","Distri","LR2","OEZ:35445","QA55-220803","Рядовой распределительный шкаф","степень защиты IP55, одностворчатая дверца, В x Ш x Г 2200 x 800 x 300","1 / -",91.04,692.31,800.7,{"$f":"VLOOKUP(B5428,#REF!,3,FALSE)","v":{"$error":"#REF!"}}]
["Distri","Distri","LR2","OEZ:35405","QA55-181003","Рядовой распределительный шкаф","степень защиты IP55, двухстворчатая дверца, В x Ш x Г 1800 x 1000 x 300","1 / -",94.01,713.77,1005.36,{"$f":"VLOOKUP(B5429,#REF!,3,FALSE)","v":{"$error":"#REF!"}}]
["Distri","Distri","LR2","OEZ:35428","QA55-201003","Рядовой распределительный шкаф","степень защиты IP55, двухстворчатая дверца, В x Ш x Г 2000 x 1000 x 300","1 / -",99.6,788.51,1021.01,{"$f":"VLOOKUP(B5430,#REF!,3,FALSE)","v":{"$error":"#REF!"}}]
["Distri","Distri","LR2","OEZ:35451","QA55-221003","Рядовой распределительный шкаф","степень защиты IP55, двухстворчатая дверца, В x Ш x Г 2200 x 1000 x 300","1 / -",105.19,863.25,1069,{"$f":"VLOOKUP(B5431,#REF!,3,FALSE)","v":{"$error":"#REF!"}}]
["Distri","Distri","LR2","OEZ:35411","QA55-181203","Рядовой распределительный шкаф","степень защиты IP55, двухстворчатая дверца, В x Ш x Г 1800 x 1200 x 300","1 / -",108.1,855.11,1024.1299999999999,{"$f":"VLOOKUP(B5432,#REF!,3,FALSE)","v":{"$error":"#REF!"}}]
["Distri","Distri","LR2","OEZ:35434","QA55-201203","Рядовой распределительный шкаф","степень защиты IP55, двухстворчатая дверца, В x Ш x Г 2000 x 1200 x 300","1 / -",113.71,944.65,1037.73,{"$f":"VLOOKUP(B5433,#REF!,3,FALSE)","v":{"$error":"#REF!"}}]
["Distri","Distri","LR2","OEZ:35457","QA55-221203","Рядовой распределительный шкаф","степень защиты IP55, двухстворчатая дверца, В x Ш x Г 2200 x 1200 x 300","1 / -",119.3,1034.19,1144.52,{"$f":"VLOOKUP(B5434,#REF!,3,FALSE)","v":{"$error":"#REF!"}}]
["Distri","Distri","LR2","OEZ:35394","QA55-180604","Рядовой распределительный шкаф","степень защиты IP55, одностворчатая дверца, В x Ш x Г 1800 x 600 x 400","1 / -",68.010999999999996,547.6,697.2,{"$f":"VLOOKUP(B5435,#REF!,3,FALSE)","v":{"$error":"#REF!"}}]
["Distri","Distri","LR2","OEZ:35417","QA55-200604","Рядовой распределительный шкаф","степень защиты IP55, одностворчатая дверца, В x Ш x Г 2000 x 600 x 400","1 / -",73.599999999999994,604.9,714.39,{"$f":"VLOOKUP(B5436,#REF!,3,FALSE)","v":{"$error":"#REF!"}}]
["Distri","Distri","LR2","OEZ:35440","QA55-220604","Рядовой распределительный шкаф","степень защиты IP55, одностворчатая дверца, В x Ш x Г 2200 x 600 x 400","1 / -",79.19,662.28,748.18,{"$f":"VLOOKUP(B5437,#REF!,3,FALSE)","v":{"$error":"#REF!"}}]
["Distri","Distri","LR2","OEZ:35400","QA55-180804","Рядовой распределительный шкаф","степень защиты IP55, одностворчатая дверца, В x Ш x Г 1800 x 800 x 400","1 / -",86.56,727.14,761.6,{"$f":"VLOOKUP(B5438,#REF!,3,FALSE)","v":{"$error":"#REF!"}}]
["Distri","Distri","LR2","OEZ:35423","QA55-200804","Рядовой распределительный шкаф","степень защиты IP55, одностворчатая дверца, В x Ш x Г 2000 x 800 x 400","1 / -",88.8,803.28,778.97,{"$f":"VLOOKUP(B5439,#REF!,3,FALSE)","v":{"$error":"#REF!"}}]
["Distri","Distri","LR2","OEZ:35446","QA55-220804","Рядовой распределительный шкаф","степень защиты IP55, одностворчатая дверца, В x Ш x Г 2200 x 800 x 400","1 / -",94.39,879.42,816.65,{"$f":"VLOOKUP(B5440,#REF!,3,FALSE)","v":{"$error":"#REF!"}}]
["Distri","Distri","LR2","OEZ:35406","QA55-181004","Рядовой распределительный шкаф","степень защиты IP55, двухстворчатая дверца, В x Ш x Г 1800 x 1000 x 400","1 / -",97.77,1099.5899999999999,1019.92,{"$f":"VLOOKUP(B5441,#REF!,3,FALSE)","v":{"$error":"#REF!"}}]
["Distri","Distri","LR2","OEZ:35429","QA55-201004","Рядовой распределительный шкаф","степень защиты IP55, двухстворчатая дверца, В x Ш x Г 2000 x 1000 x 400","1 / -",103.36,1001.62,1035.3900000000001,{"$f":"VLOOKUP(B5442,#REF!,3,FALSE)","v":{"$error":"#REF!"}}]
["Distri","Distri","LR2","OEZ:35452","QA55-221004","Рядовой распределительный шкаф","степень защиты IP55, двухстворчатая дверца, В x Ш x Г 2200 x 1000 x 400","1 / -",108.95,1096.56,1084,{"$f":"VLOOKUP(B5443,#REF!,3,FALSE)","v":{"$error":"#REF!"}}]
["Distri","Distri","LR2","OEZ:35412","QA55-181204","Рядовой распределительный шкаф","степень защиты IP55, двухстворчатая дверца, В x Ш x Г 1800 x 1200 x 400","1 / -",112.31,1086.22,1107.03,{"$f":"VLOOKUP(B5444,#REF!,3,FALSE)","v":{"$error":"#REF!"}}]
["Distri","Distri","LR2","OEZ:35435","QA55-201204","Рядовой распределительный шкаф","степень защиты IP55, двухстворчатая дверца, В x Ш x Г 2000 x 1200 x 400","1 / -",117.92,1199.96,1052.1400000000001,{"$f":"VLOOKUP(B5445,#REF!,3,FALSE)","v":{"$error":"#REF!"}}]
["Distri","Distri","LR2","OEZ:35458","QA55-221204","Рядовой распределительный шкаф","степень защиты IP55, двухстворчатая дверца, В x Ш x Г 2200 x 1200 x 400","1 / -",123.51,1313.7,1086.04,{"$f":"VLOOKUP(B5446,#REF!,3,FALSE)","v":{"$error":"#REF!"}}]
["Distri","Distri","LR2","OEZ:35395","QA55-180605","Рядовой распределительный шкаф","степень защиты IP55, одностворчатая дверца, В x Ш x Г 1800 x 600 x 500","1 / -",70.290000000000006,664.11,708.61,{"$f":"VLOOKUP(B5447,#REF!,3,FALSE)","v":{"$error":"#REF!"}}]
["Distri","Distri","LR2","OEZ:35418","QA55-200605","Рядовой распределительный шкаф","степень защиты IP55, одностворчатая дверца, В x Ш x Г 2000 x 600 x 500","1 / -",75.88,733.61,727.52,{"$f":"VLOOKUP(B5448,#REF!,3,FALSE)","v":{"$error":"#REF!"}}]
["Distri","Distri","LR2","OEZ:35441","QA55-220605","Рядовой распределительный шкаф","степень защиты IP55, одностворчатая дверца, В x Ш x Г 2200 x 600 x 500","1 / -",81.47,803.19,762.08,{"$f":"VLOOKUP(B5449,#REF!,3,FALSE)","v":{"$error":"#REF!"}}]
["Distri","Distri","LR2","OEZ:35401","QA55-180805","Рядовой распределительный шкаф","степень защиты IP55, одностворчатая дверца, В x Ш x Г 1800 x 800 x 500","1 / -",89.91,881.85,774.74,{"$f":"VLOOKUP(B5450,#REF!,3,FALSE)","v":{"$error":"#REF!"}}]
["Distri","Distri","LR2","OEZ:35424","QA55-200805","Рядовой распределительный шкаф","степень защиты IP55, одностворчатая дверца, В x Ш x Г 2000 x 800 x 500","1 / -",92.15,974.19,793.05,{"$f":"VLOOKUP(B5451,#REF!,3,FALSE)","v":{"$error":"#REF!"}}]
["Distri","Distri","LR2","OEZ:35447","QA55-220805","Рядовой распределительный шкаф","степень защиты IP55, одностворчатая дверца, В x Ш x Г 2200 x 800 x 500","1 / -",97.74,1066.53,831.5,{"$f":"VLOOKUP(B5452,#REF!,3,FALSE)","v":{"$error":"#REF!"}}]
["Distri","Distri","LR2","OEZ:35407","QA55-181005","Рядовой распределительный шкаф","степень защиты IP55, двухстворчатая дверца, В x Ш x Г 1800 x 1000 x 500","1 / -",101.53,1292.5,1034.1400000000001,{"$f":"VLOOKUP(B5453,#REF!,3,FALSE)","v":{"$error":"#REF!"}}]
["Distri","Distri","LR2","OEZ:35430","QA55-201005","Рядовой распределительный шкаф","степень защиты IP55, двухстворчатая дверца, В x Ш x Г 2000 x 1000 x 500","1 / -",107.12,1214.73,1049.79,{"$f":"VLOOKUP(B5454,#REF!,3,FALSE)","v":{"$error":"#REF!"}}]
["Distri","Distri","LR2","OEZ:35453","QA55-221005","Рядовой распределительный шкаф","степень защиты IP55, двухстворчатая дверца, В x Ш x Г 2200 x 1000 x 500","1 / -",112.71,1329.87,1099.32,{"$f":"VLOOKUP(B5455,#REF!,3,FALSE)","v":{"$error":"#REF!"}}]
["Distri","Distri","LR2","OEZ:35413","QA55-181205","Рядовой распределительный шкаф","степень защиты IP55, двухстворчатая дверца, В x Ш x Г 1800 x 1200 x 500","1 / -",116.52,1317.33,1052.8799999999999,{"$f":"VLOOKUP(B5456,#REF!,3,FALSE)","v":{"$error":"#REF!"}}]
["Distri","Distri","LR2","OEZ:35436","QA55-201205","Рядовой распределительный шкаф","степень защиты IP55, двухстворчатая дверца, В x Ш x Г 2000 x 1200 x 500","1 / -",122.13,1455.27,1136.8499999999999,{"$f":"VLOOKUP(B5457,#REF!,3,FALSE)","v":{"$error":"#REF!"}}]
["Distri","Distri","LR2","OEZ:35459","QA55-221205","Рядовой распределительный шкаф","степень защиты IP55, двухстворчатая дверца, В x Ш x Г 2200 x 1200 x 500","1 / -",127.72,1593.21,1101.3699999999999,{"$f":"VLOOKUP(B5458,#REF!,3,FALSE)","v":{"$error":"#REF!"}}]
["Distri","Distri","LR2","OEZ:35396","QA55-180606","Рядовой распределительный шкаф","степень защиты IP55, одностворчатая дверца, В x Ш x Г 1800 x 600 x 600","1 / -",72.569999999999993,780.62,719.25,{"$f":"VLOOKUP(B5459,#REF!,3,FALSE)","v":{"$error":"#REF!"}}]
["Distri","Distri","LR2","OEZ:35419","QA55-200606","Рядовой распределительный шкаф","степень защиты IP55, одностворчатая дверца, В x Ш x Г 2000 x 600 x 600","1 / -",78.16,862.32,789.58,{"$f":"VLOOKUP(B5460,#REF!,3,FALSE)","v":{"$error":"#REF!"}}]
["Distri","Distri","LR2","OEZ:35442","QA55-220606","Рядовой распределительный шкаф","степень защиты IP55, одностворчатая дверца, В x Ш x Г 2200 x 600 x 600","1 / -",83.75,944.1,775.98,{"$f":"VLOOKUP(B5461,#REF!,3,FALSE)","v":{"$error":"#REF!"}}]
["Distri","Distri","LR2","OEZ:35402","QA55-180806","Рядовой распределительный шкаф","степень защиты IP55, одностворчатая дверца, В x Ш x Г 1800 x 800 x 600","1 / -",93.26,1036.56,786.65,{"$f":"VLOOKUP(B5462,#REF!,3,FALSE)","v":{"$error":"#REF!"}}]
["Distri","Distri","LR2","OEZ:35425","QA55-200806","Рядовой распределительный шкаф","степень защиты IP55, одностворчатая дверца, В x Ш x Г 2000 x 800 x 600","1 / -",95.5,1145.0999999999999,807.4,{"$f":"VLOOKUP(B5463,#REF!,3,FALSE)","v":{"$error":"#REF!"}}]
["Distri","Distri","LR2","OEZ:35448","QA55-220806","Рядовой распределительный шкаф","степень защиты IP55, одностворчатая дверца, В x Ш x Г 2200 x 800 x 600","1 / -",101.09,1253.6400000000001,880.88,{"$f":"VLOOKUP(B5464,#REF!,3,FALSE)","v":{"$error":"#REF!"}}]
["Distri","Distri","LR2","OEZ:35408","QA55-181006","Рядовой распределительный шкаф","степень защиты IP55, двухстворчатая дверца, В x Ш x Г 1800 x 1000 x 600","1 / -",105.29,1485.41,1048.52,{"$f":"VLOOKUP(B5465,#REF!,3,FALSE)","v":{"$error":"#REF!"}}]
["Distri","Distri","LR2","OEZ:35431","QA55-201006","Рядовой распределительный шкаф","степень защиты IP55, двухстворчатая дверца, В x Ш x Г 2000 x 1000 x 600","1 / -",110.88,1427.84,1064.1400000000001,{"$f":"VLOOKUP(B5466,#REF!,3,FALSE)","v":{"$error":"#REF!"}}]
["Distri","Distri","LR2","OEZ:35454","QA55-221006","Рядовой распределительный шкаф","степень защиты IP55, двухстворчатая дверца, В x Ш x Г 2200 x 1000 x 600","1 / -",116.47,1563.18,1114.47,{"$f":"VLOOKUP(B5467,#REF!,3,FALSE)","v":{"$error":"#REF!"}}]
["Distri","Distri","LR2","OEZ:35414","QA55-181206","Рядовой распределительный шкаф","степень защиты IP55, двухстворчатая дверца, В x Ш x Г 1800 x 1200 x 600","1 / -",120.73,1548.44,1067.28,{"$f":"VLOOKUP(B5468,#REF!,3,FALSE)","v":{"$error":"#REF!"}}]
["Distri","Distri","LR2","OEZ:35437","QA55-201206","Рядовой распределительный шкаф","степень защиты IP55, двухстворчатая дверца, В x Ш x Г 2000 x 1200 x 600","1 / -",126.34,1710.58,1152.17,{"$f":"VLOOKUP(B5469,#REF!,3,FALSE)","v":{"$error":"#REF!"}}]
["Distri","Distri","LR2","OEZ:35460","QA55-221206","Рядовой распределительный шкаф","степень защиты IP55, двухстворчатая дверца, В x Ш x Г 2200 x 1200 x 600","1 / -",131.93,1872.72,1116.54,{"$f":"VLOOKUP(B5470,#REF!,3,FALSE)","v":{"$error":"#REF!"}}]
["Distri","Distri","LR2","OEZ:35397","QA55-180608","Рядовой распределительный шкаф","степень защиты IP55, одностворчатая дверца, В x Ш x Г 1800 x 600 x 800","1 / -",77.13,1013.64,743.61,{"$f":"VLOOKUP(B5471,#REF!,3,FALSE)","v":{"$error":"#REF!"}}]
["Distri","Distri","LR2","OEZ:35420","QA55-200608","Рядовой распределительный шкаф","степень защиты IP55, одностворчатая дверца, В x Ш x Г 2000 x 600 x 800","1 / -",82.72,1119.74,756.45,{"$f":"VLOOKUP(B5472,#REF!,3,FALSE)","v":{"$error":"#REF!"}}]
["Distri","Distri","LR2","OEZ:35443","QA55-220608","Рядовой распределительный шкаф","степень защиты IP55, одностворчатая дверца, В x Ш x Г 2200 x 600 x 800","1 / -",88.31,1225.92,792.58,{"$f":"VLOOKUP(B5473,#REF!,3,FALSE)","v":{"$error":"#REF!"}}]
["Distri","Distri","LR2","OEZ:35403","QA55-180808","Рядовой распределительный шкаф","степень защиты IP55, одностворчатая дверца, В x Ш x Г 1800 x 800 x 800","1 / -",99.96,1345.98,808.05,{"$f":"VLOOKUP(B5474,#REF!,3,FALSE)","v":{"$error":"#REF!"}}]
["Distri","Distri","LR2","OEZ:35426","QA55-200808","Рядовой распределительный шкаф","степень защиты IP55, одностворчатая дверца, В x Ш x Г 2000 x 800 x 800","1 / -",102.2,1486.92,821.33,{"$f":"VLOOKUP(B5475,#REF!,3,FALSE)","v":{"$error":"#REF!"}}]
["Distri","Distri","LR2","OEZ:35449","QA55-220808","Рядовой распределительный шкаф","степень защиты IP55, одностворчатая дверца, В x Ш x Г 2200 x 800 x 800","1 / -",107.79,1627.86,861.2,{"$f":"VLOOKUP(B5476,#REF!,3,FALSE)","v":{"$error":"#REF!"}}]
["Distri","Distri","LR2","OEZ:35409","QA55-181008","Рядовой распределительный шкаф","степень защиты IP55, двухстворчатая дверца, В x Ш x Г 1800 x 1000 x 800","1 / -",112.37,1678.32,1062.9000000000001,{"$f":"VLOOKUP(B5477,#REF!,3,FALSE)","v":{"$error":"#REF!"}}]
["Distri","Distri","LR2","OEZ:35432","QA55-201008","Рядовой распределительный шкаф","степень защиты IP55, двухстворчатая дверца, В x Ш x Г 2000 x 1000 x 800","1 / -",118.4,1854.06,1078.69,{"$f":"VLOOKUP(B5478,#REF!,3,FALSE)","v":{"$error":"#REF!"}}]
["Distri","Distri","LR2","OEZ:35455","QA55-221008","Рядовой распределительный шкаф","степень защиты IP55, двухстворчатая дверца, В x Ш x Г 2200 x 1000 x 800","1 / -",123.99,2029.8,1129.82,{"$f":"VLOOKUP(B5479,#REF!,3,FALSE)","v":{"$error":"#REF!"}}]
["Distri","Distri","LR2","OEZ:35415","QA55-181208","Рядовой распределительный шкаф","степень защиты IP55, двухстворчатая дверца, В x Ш x Г 1800 x 1200 x 800","1 / -",129.15,2010.66,1081.51,{"$f":"VLOOKUP(B5480,#REF!,3,FALSE)","v":{"$error":"#REF!"}}]
["Distri","Distri","LR2","OEZ:35438","QA55-201208","Рядовой распределительный шкаф","степень защиты IP55, двухстворчатая дверца, В x Ш x Г 2000 x 1200 x 800","1 / -",134.76,2221.1999999999998,1167.47,{"$f":"VLOOKUP(B5481,#REF!,3,FALSE)","v":{"$error":"#REF!"}}]
["Distri","Distri","LR2","OEZ:35461","QA55-221208","Рядовой распределительный шкаф","степень защиты IP55, двухстворчатая дверца, В x Ш x Г 2200 x 1200 x 800","1 / -",140.35,2431.7399999999998,1131.8699999999999,{"$f":"VLOOKUP(B5482,#REF!,3,FALSE)","v":{"$error":"#REF!"}}]
["Distri","Distri","LR2","OEZ:35398","QA55-180610","Рядовой распределительный шкаф","степень защиты IP55, одностворчатая дверца, В x Ш x Г 1800 x 600 x 1000","1 / -",82.73,1246.6600000000001,762.08,{"$f":"VLOOKUP(B5483,#REF!,3,FALSE)","v":{"$error":"#REF!"}}]
["Distri","Distri","LR2","OEZ:35421","QA55-200610","Рядовой распределительный шкаф","степень защиты IP55, одностворчатая дверца, В x Ш x Г 2000 x 600 x 1000","1 / -",87.28,1377.16,778,{"$f":"VLOOKUP(B5484,#REF!,3,FALSE)","v":{"$error":"#REF!"}}]
["Distri","Distri","LR2","OEZ:35444","QA55-220610","Рядовой распределительный шкаф","степень защиты IP55, одностворчатая дверца, В x Ш x Г 2200 x 600 x 1000","1 / -",92.87,1507.74,815.58,{"$f":"VLOOKUP(B5485,#REF!,3,FALSE)","v":{"$error":"#REF!"}}]
["Distri","Distri","LR2","OEZ:35404","QA55-180810","Рядовой распределительный шкаф","степень защиты IP55, одностворчатая дверца, В x Ш x Г 1800 x 800 x 1000","1 / -",106.66,1655.4,830.28,{"$f":"VLOOKUP(B5486,#REF!,3,FALSE)","v":{"$error":"#REF!"}}]
["Distri","Distri","LR2","OEZ:35427","QA55-200810","Рядовой распределительный шкаф","степень защиты IP55, одностворчатая дверца, В x Ш x Г 2000 x 800 x 1000","1 / -",108.9,1828.74,844.18,{"$f":"VLOOKUP(B5487,#REF!,3,FALSE)","v":{"$error":"#REF!"}}]
["Distri","Distri","LR2","OEZ:35450","QA55-220810","Рядовой распределительный шкаф","степень защиты IP55, одностворчатая дверца, В x Ш x Г 2200 x 800 x 1000","1 / -",114.49,2002.08,885.41,{"$f":"VLOOKUP(B5488,#REF!,3,FALSE)","v":{"$error":"#REF!"}}]
["Distri","Distri","LR2","OEZ:35410","QA55-181010","Рядовой распределительный шкаф","степень защиты IP55, двухстворчатая дверца, В x Ш x Г 1800 x 1000 x 1000","1 / -",119.07,2064.14,1077.42,{"$f":"VLOOKUP(B5489,#REF!,3,FALSE)","v":{"$error":"#REF!"}}]
["Distri","Distri","LR2","OEZ:35433","QA55-201010","Рядовой распределительный шкаф","степень защиты IP55, двухстворчатая дверца, В x Ш x Г 2000 x 1000 x 1000","1 / -",125.92,2280.2800000000002,1092.92,{"$f":"VLOOKUP(B5490,#REF!,3,FALSE)","v":{"$error":"#REF!"}}]
["Distri","Distri","LR2","OEZ:35456","QA55-221010","Рядовой распределительный шкаф","степень защиты IP55, двухстворчатая дверца, В x Ш x Г 2200 x 1200 x 1000","1 / -",131.51,2496.42,1144.8499999999999,{"$f":"VLOOKUP(B5491,#REF!,3,FALSE)","v":{"$error":"#REF!"}}]
["Distri","Distri","LR2","OEZ:37100","QA55-181003-1K","Рядовой распределительный шкаф","степень защиты IP55, одностворчатая дверца, В x Ш x Г 1800 x 1000 x 300","1 / -",94.01,713.77,852.93,{"$f":"VLOOKUP(B5492,#REF!,3,FALSE)","v":{"$error":"#REF!"}}]
["Distri","Distri","LR2","OEZ:37112","QA55-201003-1K","Рядовой распределительный шкаф","степень защиты IP55, одностворчатая дверца, В x Ш x Г 2000 x 1000 x 300","1 / -",99.6,788.51,852.13,{"$f":"VLOOKUP(B5493,#REF!,3,FALSE)","v":{"$error":"#REF!"}}]
["Distri","Distri","LR2","OEZ:37124","QA55-221003-1K","Рядовой распределительный шкаф","степень защиты IP55, одностворчатая дверца, В x Ш x Г 2200 x 1000 x 300","1 / -",105.19,863.25,891.99,{"$f":"VLOOKUP(B5494,#REF!,3,FALSE)","v":{"$error":"#REF!"}}]
["Distri","Distri","LR2","OEZ:37101","QA55-181004-1K","Рядовой распределительный шкаф","степень защиты IP55, одностворчатая дверца, В x Ш x Г 1800 x 1000 x 400","1 / -",97.77,1099.5899999999999,867.12,{"$f":"VLOOKUP(B5495,#REF!,3,FALSE)","v":{"$error":"#REF!"}}]
["Distri","Distri","LR2","OEZ:37113","QA55-201004-1K","Рядовой распределительный шкаф","степень защиты IP55, одностворчатая дверца, В x Ш x Г 2000  x 1000 x 400","1 / -",103.36,1001.62,866.35,{"$f":"VLOOKUP(B5496,#REF!,3,FALSE)","v":{"$error":"#REF!"}}]
["Distri","Distri","LR2","OEZ:37125","QA55-221004-1K","Рядовой распределительный шкаф","степень защиты IP55, одностворчатая дверца, В x Ш x Г 2200 x 1000 x 400","1 / -",108.95,1096.56,907.02,{"$f":"VLOOKUP(B5497,#REF!,3,FALSE)","v":{"$error":"#REF!"}}]
["Distri","Distri","LR2","OEZ:37102","QA55-181005-1K","Рядовой распределительный шкаф","степень защиты IP55, одностворчатая дверца, В x Ш x Г 1800 x 1000 x 500","1 / -",101.53,1292.5,881.53,{"$f":"VLOOKUP(B5498,#REF!,3,FALSE)","v":{"$error":"#REF!"}}]
["Distri","Distri","LR2","OEZ:37114","QA55-201005-1K","Рядовой распределительный шкаф","степень защиты IP55, одностворчатая дверца, В x Ш x Г 2000 x 1000 x 500","1 / -",107.12,1214.73,880.88,{"$f":"VLOOKUP(B5499,#REF!,3,FALSE)","v":{"$error":"#REF!"}}]
["Distri","Distri","LR2","OEZ:37126","QA55-221005-1K","Рядовой распределительный шкаф","степень защиты IP55, одностворчатая дверца, В x Ш x Г 2200 x 1000 x 500","1 / -",112.71,1329.87,922.34,{"$f":"VLOOKUP(B5500,#REF!,3,FALSE)","v":{"$error":"#REF!"}}]
["Distri","Distri","LR2","OEZ:37103","QA55-181006-1K","Рядовой распределительный шкаф","степень защиты IP55, одностворчатая дверца, В x Ш x Г 1800 x 1000 x 600","1 / -",105.29,1485.41,895.93,{"$f":"VLOOKUP(B5501,#REF!,3,FALSE)","v":{"$error":"#REF!"}}]
["Distri","Distri","LR2","OEZ:37115","QA55-201006-1K","Рядовой распределительный шкаф","степень защиты IP55, одностворчатая дверца, В x Ш x Г 2000 x 1000 x 600","1 / -",110.88,1427.84,895.1,{"$f":"VLOOKUP(B5502,#REF!,3,FALSE)","v":{"$error":"#REF!"}}]
["Distri","Distri","LR2","OEZ:37127","QA55-221006-1K","Рядовой распределительный шкаф","степень защиты IP55, одностворчатая дверца, В x Ш x Г 2200 x 1000 x 600","1 / -",116.47,1563.18,937.49,{"$f":"VLOOKUP(B5503,#REF!,3,FALSE)","v":{"$error":"#REF!"}}]
["Distri","Distri","LR2","OEZ:37104","QA55-181008-1K","Рядовой распределительный шкаф","степень защиты IP55, одностворчатая дверца, В x Ш x Г 1800 x 1000 x 800","1 / -",112.37,1678.32,910.31,{"$f":"VLOOKUP(B5504,#REF!,3,FALSE)","v":{"$error":"#REF!"}}]
["Distri","Distri","LR2","OEZ:37116","QA55-201008-1K","Рядовой распределительный шкаф","степень защиты IP55, одностворчатая дверца, В x Ш x Г 2000 x 1000 x 800","1 / -",118.4,1854.06,909.66,{"$f":"VLOOKUP(B5505,#REF!,3,FALSE)","v":{"$error":"#REF!"}}]
["Distri","Distri","LR2","OEZ:37128","QA55-221008-1K","Рядовой распределительный шкаф","степень защиты IP55, одностворчатая дверца, В x Ш x Г 2200 x 1000 x 800","1 / -",123.99,2029.8,952.81,{"$f":"VLOOKUP(B5506,#REF!,3,FALSE)","v":{"$error":"#REF!"}}]
["Distri","Distri","LR2","OEZ:37105","QA55-181010-1K","Рядовой распределительный шкаф","степень защиты IP55, одностворчатая дверца, В x Ш x Г 1800 x 1000 x 1000","1 / -",119.07,2064.14,924.68,{"$f":"VLOOKUP(B5507,#REF!,3,FALSE)","v":{"$error":"#REF!"}}]
["Distri","Distri","LR2","OEZ:37117","QA55-201010-1K","Рядовой распределительный шкаф","степень защиты IP55, одностворчатая дверца, В x Ш x Г 2000 x 1000 x 1000","1 / -",125.92,2280.2800000000002,923.88,{"$f":"VLOOKUP(B5508,#REF!,3,FALSE)","v":{"$error":"#REF!"}}]
["Distri","Distri","LR2","OEZ:37129","QA55-221010-1K","Рядовой распределительный шкаф","степень защиты IP55, одностворчатая дверца, В x Ш x Г 2200 x 1000 x 1000","1 / -",131.51,2496.42,968.46,{"$f":"VLOOKUP(B5509,#REF!,3,FALSE)","v":{"$error":"#REF!"}}]
[null,null,null,"Level  4","QA40_-2D - Рядовые шкафы (IP40)"]
["Distri","Distri","LR2","OEZ:35727","QA40-180608-2D","Рядовой распределительный шкаф","степень защиты IP40, дверца спереди и сзади, одностворчатая дверца, В x Ш x Г 1800 x 600 x 800","1 / -",77.08,1013.64,936.84,{"$f":"VLOOKUP(B5511,#REF!,3,FALSE)","v":{"$error":"#REF!"}}]
["Distri","Distri","LR2","OEZ:35734","QA40-200608-2D","Рядовой распределительный шкаф","степень защиты IP40, дверца спереди и сзади, одностворчатая дверца, В x Ш x Г 2000 x 600 x 800","1 / -",82.66,1119.74,962.74,{"$f":"VLOOKUP(B5512,#REF!,3,FALSE)","v":{"$error":"#REF!"}}]
["Distri","Distri","LR2","OEZ:35741","QA40-220608-2D","Рядовой распределительный шкаф","степень защиты IP40, дверца спереди и сзади, одностворчатая дверца, В x Ш x Г 2200 x 600 x 800","1 / -",88.25,1225.92,986.16,{"$f":"VLOOKUP(B5513,#REF!,3,FALSE)","v":{"$error":"#REF!"}}]
["Distri","Distri","LR2","OEZ:35729","QA40-180808-2D","Рядовой распределительный шкаф","степень защиты IP40, дверца спереди и сзади, одностворчатая дверца, В x Ш x Г 1800 x 800 x 800","1 / -",99.9,1345.98,1008.98,{"$f":"VLOOKUP(B5514,#REF!,3,FALSE)","v":{"$error":"#REF!"}}]
["Distri","Distri","LR2","OEZ:35736","QA40-200808-2D","Рядовой распределительный шкаф","степень защиты IP40, дверца спереди и сзади, одностворчатая дверца, В x Ш x Г 2000 x 800 x 800","1 / -",102.14,1486.92,1046.5899999999999,{"$f":"VLOOKUP(B5515,#REF!,3,FALSE)","v":{"$error":"#REF!"}}]
["Distri","Distri","LR2","OEZ:35743","QA40-220808-2D","Рядовой распределительный шкаф","степень защиты IP40, дверца спереди и сзади, одностворчатая дверца, В x Ш x Г 2200 x 800 x 800","1 / -",107.73,1627.86,1082.46,{"$f":"VLOOKUP(B5516,#REF!,3,FALSE)","v":{"$error":"#REF!"}}]
["Distri","Distri","LR2","OEZ:35731","QA40-181008-2D","Рядовой распределительный шкаф","степень защиты IP40, дверца спереди и сзади, двухстворчатая дверца, В x Ш x Г 1800 x 1000 x 800","1 / -",112.31,1678.32,1292.8399999999999,{"$f":"VLOOKUP(B5517,#REF!,3,FALSE)","v":{"$error":"#REF!"}}]
["Distri","Distri","LR2","OEZ:35738","QA40-201008-2D","Рядовой распределительный шкаф","степень защиты IP40, дверца спереди и сзади, двухстворчатая дверца, В x Ш x Г 2000 x 1000 x 800","1 / -",118,1600,1362.08,{"$f":"VLOOKUP(B5518,#REF!,3,FALSE)","v":{"$error":"#REF!"}}]
["Distri","Distri","LR2","OEZ:35745","QA40-221008-2D","Рядовой распределительный шкаф","степень защиты IP40, дверца спереди и сзади, двухстворчатая дверца, В x Ш x Г 2200 x 1000 x 800","1 / -",123.93,2029.8,1386.65,{"$f":"VLOOKUP(B5519,#REF!,3,FALSE)","v":{"$error":"#REF!"}}]
["Distri","Distri","LR2","OEZ:35733","QA40-181208-2D","Рядовой распределительный шкаф","степень защиты IP40, дверца спереди и сзади, двухстворчатая дверца, В x Ш x Г 1800 x 1200 x 800","1 / -",129.09,2010.66,1305.9100000000001,{"$f":"VLOOKUP(B5520,#REF!,3,FALSE)","v":{"$error":"#REF!"}}]
["Distri","Distri","LR2","OEZ:35740","QA40-201208-2D","Рядовой распределительный шкаф","степень защиты IP40, дверца спереди и сзади, двухстворчатая дверца, В x Ш x Г 2000 x 1200 x 800","1 / -",134.69999999999999,2221.1999999999998,1386.18,{"$f":"VLOOKUP(B5521,#REF!,3,FALSE)","v":{"$error":"#REF!"}}]
["Distri","Distri","LR2","OEZ:35747","QA40-221208-2D","Рядовой распределительный шкаф","степень защиты IP40, дверца спереди и сзади, двухстворчатая дверца, В x Ш x Г 2200 x 1200 x 800","1 / -",140.29,2431.7399999999998,1391.4,{"$f":"VLOOKUP(B5522,#REF!,3,FALSE)","v":{"$error":"#REF!"}}]
["Distri","Distri","LR2","OEZ:35728","QA40-180610-2D","Рядовой распределительный шкаф","степень защиты IP40, дверца спереди и сзади, одностворчатая дверца, В x Ш x Г 1800 x 600 x 1000","1 / -",82.69,1246.6600000000001,956.87,{"$f":"VLOOKUP(B5523,#REF!,3,FALSE)","v":{"$error":"#REF!"}}]
["Distri","Distri","LR2","OEZ:35735","QA40-200610-2D","Рядовой распределительный шкаф","степень защиты IP40, дверца спереди и сзади, одностворчатая дверца, В x Ш x Г 2000 x 600 x 1000","1 / -",87.22,1377.16,994.49,{"$f":"VLOOKUP(B5524,#REF!,3,FALSE)","v":{"$error":"#REF!"}}]
["Distri","Distri","LR2","OEZ:35742","QA40-220610-2D","Рядовой распределительный шкаф","степень защиты IP40, дверца спереди и сзади, одностворчатая дверца, В x Ш x Г 2200 x 600 x 1000","1 / -",92.81,1507.74,1018.11,{"$f":"VLOOKUP(B5525,#REF!,3,FALSE)","v":{"$error":"#REF!"}}]
["Distri","Distri","LR2","OEZ:35730","QA40-180810-2D","Рядовой распределительный шкаф","степень защиты IP40, дверца спереди и сзади, одностворчатая дверца, В x Ш x Г 1800 x 800 x 1000","1 / -",106.6,1655.4,1033.43,{"$f":"VLOOKUP(B5526,#REF!,3,FALSE)","v":{"$error":"#REF!"}}]
["Distri","Distri","LR2","OEZ:35737","QA40-200810-2D","Рядовой распределительный шкаф","степень защиты IP40, дверца спереди и сзади, одностворчатая дверца, В x Ш x Г 2000 x 800 x 1000","1 / -",108.84,1828.74,1080.6500000000001,{"$f":"VLOOKUP(B5527,#REF!,3,FALSE)","v":{"$error":"#REF!"}}]
["Distri","Distri","LR2","OEZ:35744","QA40-220810-2D","Рядовой распределительный шкаф","степень защиты IP40, дверца спереди и сзади, одностворчатая дверца, В x Ш x Г 2200 x 800 x 1000","1 / -",114.43,2002.08,1107.83,{"$f":"VLOOKUP(B5528,#REF!,3,FALSE)","v":{"$error":"#REF!"}}]
["Distri","Distri","LR2","OEZ:35732","QA40-181010-2D","Рядовой распределительный шкаф","степень защиты IP40, дверца спереди и сзади, двухстворчатая дверца, В x Ш x Г 1800 x 1000 x 1000","1 / -",119,2064.14,1320.8799999999999,{"$f":"VLOOKUP(B5529,#REF!,3,FALSE)","v":{"$error":"#REF!"}}]
["Distri","Distri","LR2","OEZ:35739","QA40-201010-2D","Рядовой распределительный шкаф","степень защиты IP40, дверца спереди и сзади, двухстворчатая дверца, В x Ш x Г 2000 x 1000 x 1000","1 / -",125.86,2280.2800000000002,1377.82,{"$f":"VLOOKUP(B5530,#REF!,3,FALSE)","v":{"$error":"#REF!"}}]
["Distri","Distri","LR2","OEZ:35746","QA40-221010-2D","Рядовой распределительный шкаф","степень защиты IP40, дверца спереди и сзади, двухстворчатая дверца, В x Ш x Г 2200 x 1000 x 1000","1 / -",131.44999999999999,2496.42,1402.45,{"$f":"VLOOKUP(B5531,#REF!,3,FALSE)","v":{"$error":"#REF!"}}]
[null,null,null,"Level  4","QA55_-2D - Рядовые шкафы (IP55)"]
["Distri","Distri","LR2","OEZ:35706","QA55-180608-2D","Рядовой распределительный шкаф","степень защиты IP55, дверца спереди и сзади, одностворчатая дверца, В x Ш x Г 1800 x 600 x 800","1 / -",77.13,1013.64,989.09,{"$f":"VLOOKUP(B5533,#REF!,3,FALSE)","v":{"$error":"#REF!"}}]
["Distri","Distri","LR2","OEZ:35713","QA55-200608-2D","Рядовой распределительный шкаф","степень защиты IP55, дверца спереди и сзади, одностворчатая дверца, В x Ш x Г 2000 x 600 x 800","1 / -",82.72,1119.74,1016.48,{"$f":"VLOOKUP(B5534,#REF!,3,FALSE)","v":{"$error":"#REF!"}}]
["Distri","Distri","LR2","OEZ:35720","QA55-220608-2D","Рядовой распределительный шкаф","степень защиты IP55, дверца спереди и сзади, одностворчатая дверца, В x Ш x Г 2200 x 600 x 800","1 / -",88.31,1225.92,1040.58,{"$f":"VLOOKUP(B5535,#REF!,3,FALSE)","v":{"$error":"#REF!"}}]
["Distri","Distri","LR2","OEZ:35708","QA55-180808-2D","Рядовой распределительный шкаф","степень защиты IP55, дверца спереди и сзади, одностворчатая дверца, В x Ш x Г 1800 x 800 x 800","1 / -",99.96,1345.98,1067.0999999999999,{"$f":"VLOOKUP(B5536,#REF!,3,FALSE)","v":{"$error":"#REF!"}}]
["Distri","Distri","LR2","OEZ:35715","QA55-200808-2D","Рядовой распределительный шкаф","степень защиты IP55, дверца спереди и сзади, одностворчатая дверца, В x Ш x Г 2000 x 800 x 800","1 / -",102.2,1486.92,1115.8,{"$f":"VLOOKUP(B5537,#REF!,3,FALSE)","v":{"$error":"#REF!"}}]
["Distri","Distri","LR2","OEZ:35722","QA55-220808-2D","Рядовой распределительный шкаф","степень защиты IP55, дверца спереди и сзади, одностворчатая дверца, В x Ш x Г 2200 x 800 x 800","1 / -",107.79,1627.86,1143.6600000000001,{"$f":"VLOOKUP(B5538,#REF!,3,FALSE)","v":{"$error":"#REF!"}}]
["Distri","Distri","LR2","OEZ:35710","QA55-181008-2D","Рядовой распределительный шкаф","степень защиты IP55, дверца спереди и сзади, двухстворчатая дверца, В x Ш x Г 1800 x 1000 x 800","1 / -",112.37,1678.32,1360.3,{"$f":"VLOOKUP(B5539,#REF!,3,FALSE)","v":{"$error":"#REF!"}}]
["Distri","Distri","LR2","OEZ:35717","QA55-201008-2D","Рядовой распределительный шкаф","степень защиты IP55, дверца спереди и сзади, двухстворчатая дверца, В x Ш x Г 2000 x 1000 x 800","1 / -",118.4,1854.06,1432.74,{"$f":"VLOOKUP(B5540,#REF!,3,FALSE)","v":{"$error":"#REF!"}}]
["Distri","Distri","LR2","OEZ:35724","QA55-221008-2D","Рядовой распределительный шкаф","степень защиты IP55, дверца спереди и сзади, двухстворчатая дверца, В x Ш x Г 2200 x 1000 x 800","1 / -",123.99,2029.8,1554.45,{"$f":"VLOOKUP(B5541,#REF!,3,FALSE)","v":{"$error":"#REF!"}}]
["Distri","Distri","LR2","OEZ:35712","QA55-181208-2D","Рядовой распределительный шкаф","степень защиты IP55, дверца спереди и сзади, двухстворчатая дверца, В x Ш x Г 1800 x 1200 x 800","1 / -",129.15,2010.66,1386.65,{"$f":"VLOOKUP(B5542,#REF!,3,FALSE)","v":{"$error":"#REF!"}}]
["Distri","Distri","LR2","OEZ:35719","QA55-201208-2D","Рядовой распределительный шкаф","степень защиты IP55, дверца спереди и сзади, двухстворчатая дверца, В x Ш x Г 2000 x 1200 x 800","1 / -",134.76,2221.1999999999998,1458,{"$f":"VLOOKUP(B5543,#REF!,3,FALSE)","v":{"$error":"#REF!"}}]
["Distri","Distri","LR2","OEZ:35726","QA55-221208-2D","Рядовой распределительный шкаф","степень защиты IP55, дверца спереди и сзади, двухстворчатая дверца, В x Ш x Г 2200 x 1200 x 800","1 / -",140.35,2431.7399999999998,1463.36,{"$f":"VLOOKUP(B5544,#REF!,3,FALSE)","v":{"$error":"#REF!"}}]
["Distri","Distri","LR2","OEZ:35707","QA55-180610-2D","Рядовой распределительный шкаф","степень защиты IP55, дверца спереди и сзади, одностворчатая дверца, В x Ш x Г 1800 x 600 x 1000","1 / -",82.73,1246.6600000000001,1009.63,{"$f":"VLOOKUP(B5545,#REF!,3,FALSE)","v":{"$error":"#REF!"}}]
["Distri","Distri","LR2","OEZ:35714","QA55-200610-2D","Рядовой распределительный шкаф","степень защиты IP55, дверца спереди и сзади, одностворчатая дверца, В x Ш x Г 2000 x 600 x 1000","1 / -",87.28,1377.16,1040.9000000000001,{"$f":"VLOOKUP(B5546,#REF!,3,FALSE)","v":{"$error":"#REF!"}}]
["Distri","Distri","LR2","OEZ:35721","QA55-220610-2D","Рядовой распределительный шкаф","степень защиты IP55, дверца спереди и сзади, одностворчатая дверца, В x Ш x Г 2200 x 600 x 1000","1 / -",92.87,1507.74,1064.8499999999999,{"$f":"VLOOKUP(B5547,#REF!,3,FALSE)","v":{"$error":"#REF!"}}]
["Distri","Distri","LR2","OEZ:35709","QA55-180810-2D","Рядовой распределительный шкаф","степень защиты IP55, дверца спереди и сзади, одностворчатая дверца, В x Ш x Г 1800 x 800 x 1000","1 / -",106.66,1655.4,1092.21,{"$f":"VLOOKUP(B5548,#REF!,3,FALSE)","v":{"$error":"#REF!"}}]
["Distri","Distri","LR2","OEZ:35716","QA55-200810-2D","Рядовой распределительный шкаф","степень защиты IP55, дверца спереди и сзади, одностворчатая дверца, В x Ш x Г 2000 x 800 x 1000","1 / -",108.9,1828.74,1141.8900000000001,{"$f":"VLOOKUP(B5549,#REF!,3,FALSE)","v":{"$error":"#REF!"}}]
["Distri","Distri","LR2","OEZ:35723","QA55-220810-2D","Рядовой распределительный шкаф","степень защиты IP55, дверца спереди и сзади, одностворчатая дверца, В x Ш x Г 2200 x 800 x 1000","1 / -",114.49,2002.08,1169.57,{"$f":"VLOOKUP(B5550,#REF!,3,FALSE)","v":{"$error":"#REF!"}}]
["Distri","Distri","LR2","OEZ:35711","QA55-181010-2D","Рядовой распределительный шкаф","степень защиты IP55, дверца спереди и сзади, двухстворчатая дверца, В x Ш x Г 1800 x 1000 x 1000","1 / -",119.07,2064.14,1376.75,{"$f":"VLOOKUP(B5551,#REF!,3,FALSE)","v":{"$error":"#REF!"}}]
["Distri","Distri","LR2","OEZ:35718","QA55-201010-2D","Рядовой распределительный шкаф","степень защиты IP55, дверца спереди и сзади, двухстворчатая дверца, В x Ш x Г 2000 x 1000 x 1000","1 / -",125.92,2280.2800000000002,1449.07,{"$f":"VLOOKUP(B5552,#REF!,3,FALSE)","v":{"$error":"#REF!"}}]
["Distri","Distri","LR2","OEZ:35725","QA55-221010-2D","Рядовой распределительный шкаф","степень защиты IP55, дверца спереди и сзади, двухстворчатая дверца, В x Ш x Г 2200 x 1000 x 1000","1 / -",131.51,2496.42,1474.45,{"$f":"VLOOKUP(B5553,#REF!,3,FALSE)","v":{"$error":"#REF!"}}]
[null,null,null,"Level  4","PD-QA - Принадлежности"]
[null,null,null,"Level  5","PD-Q01-PR_ - Угловые секции"]
["Distri","Distri","LR2","OEZ:33760","PD-Q01-PR200404","Угловая секция","В x Ш x Г 2000 x 400 x 400, для QA40, QA55","1 / -",74,448.59199999999998,729.5,{"$f":"VLOOKUP(B5556,#REF!,3,FALSE)","v":{"$error":"#REF!"}}]
["Distri","Distri","LR2","OEZ:20911","PD-Q01-PR200406","Угловая секция","В x Ш x Г 2000 x 400 x 600, для QA40, QA55","1 / -",74,480,689.43,{"$f":"VLOOKUP(B5557,#REF!,3,FALSE)","v":{"$error":"#REF!"}}]
["Distri","Distri","LR2","OEZ:20916","PD-Q01-PR200408","Угловая секция","В x Ш x Г 2000 x 400 x 800, для QA40, QA55","1 / -",89,640,683.27,{"$f":"VLOOKUP(B5558,#REF!,3,FALSE)","v":{"$error":"#REF!"}}]
["Distri","Distri","LR2","OEZ:33768","PD-Q01-PR200505","Угловая секция","В x Ш x Г 2000 x 500 x 500, для QA40, QA55","1 / -",83,644.32500000000005,736.17,{"$f":"VLOOKUP(B5559,#REF!,3,FALSE)","v":{"$error":"#REF!"}}]
["Distri","Distri","LR2","OEZ:20913","PD-Q01-PR200506","Угловая секция","В x Ш x Г 2000 x 500 x 600, для QA40, QA55","1 / -",76,600,701.97,{"$f":"VLOOKUP(B5560,#REF!,3,FALSE)","v":{"$error":"#REF!"}}]
["Distri","Distri","LR2","OEZ:20918","PD-Q01-PR200508","Угловая секция","В x Ш x Г 2000 x 500 x 800, для QA40, QA55","1 / -",92,800,695.09,{"$f":"VLOOKUP(B5561,#REF!,3,FALSE)","v":{"$error":"#REF!"}}]
["Distri","Distri","LR2","OEZ:20909","PD-Q01-PR200604","Угловая секция","В x Ш x Г 2000 x 600 x 400, для QA40, QA55","1 / -",74,480,646.45000000000005,{"$f":"VLOOKUP(B5562,#REF!,3,FALSE)","v":{"$error":"#REF!"}}]
["Distri","Distri","LR2","OEZ:20912","PD-Q01-PR200605","Угловая секция","В x Ш x Г 2000 x 600 x 500, для QA40, QA55","1 / -",76,600,658.16,{"$f":"VLOOKUP(B5563,#REF!,3,FALSE)","v":{"$error":"#REF!"}}]
["Distri","Distri","LR2","OEZ:20914","PD-Q01-PR200606","Угловая секция","В x Ш x Г 2000 x 600 x 600, для QA40, QA55","1 / -",78,720,670.7,{"$f":"VLOOKUP(B5564,#REF!,3,FALSE)","v":{"$error":"#REF!"}}]
["Distri","Distri","LR2","OEZ:20696","PD-Q01-PR200608","Угловая секция","В x Ш x Г 2000 x 600 x 800, для QA40, QA55","1 / -",101,1203.3119999999999,695.63,{"$f":"VLOOKUP(B5565,#REF!,3,FALSE)","v":{"$error":"#REF!"}}]
["Distri","Distri","LR2","OEZ:20915","PD-Q01-PR200804","Угловая секция","В x Ш x Г 2000 x 800 x 400, для QA40, QA55","1 / -",89,640,683.27,{"$f":"VLOOKUP(B5566,#REF!,3,FALSE)","v":{"$error":"#REF!"}}]
["Distri","Distri","LR2","OEZ:20917","PD-Q01-PR200805","Угловая секция","В x Ш x Г 2000 x 800 x 500, для QA40, QA55","1 / -",92,800,695.09,{"$f":"VLOOKUP(B5567,#REF!,3,FALSE)","v":{"$error":"#REF!"}}]
["Distri","Distri","LR2","OEZ:20697","PD-Q01-PR200806","Угловая секция","В x Ш x Г 2000 x 800 x 600, для QA40, QA55","1 / -",101,1203.3119999999999,707.51,{"$f":"VLOOKUP(B5568,#REF!,3,FALSE)","v":{"$error":"#REF!"}}]
["Distri","Distri","LR2","OEZ:20698","PD-Q01-PR200808","Угловая секция","В x Ш x Г 2000 x 800 x 800, для QA40, QA55","1 / -",110,1567.952,720.02,{"$f":"VLOOKUP(B5569,#REF!,3,FALSE)","v":{"$error":"#REF!"}}]
["Distri","Distri","LR2","OEZ:44226","PD-Q01-PR200810","Угловая секция","В x Ш x Г 2000 x 800 x 1000, для QA40, QA55","1 / -",115,1600,972.49,{"$f":"VLOOKUP(B5570,#REF!,3,FALSE)","v":{"$error":"#REF!"}}]
["Distri","Distri","LR2","OEZ:44225","PD-Q01-PR201008","Угловая секция","В x Ш x Г 2000 x 1000 x 800, для QA40, QA55","1 / -",118,1600,972.49,{"$f":"VLOOKUP(B5571,#REF!,3,FALSE)","v":{"$error":"#REF!"}}]
[null,null,null,"Level  5","PD-Q01-PP_ - Переходные секции"]
["Distri","Distri","LR2","OEZ:20919","PD-Q01-PP200203","Переходная секция","В x Ш x Г 2000 x 200 x 300, для QA40, QA55","1 / -",55,120,495.28999999999996,{"$f":"VLOOKUP(B5573,#REF!,3,FALSE)","v":{"$error":"#REF!"}}]
["Distri","Distri","LR2","OEZ:20921","PD-Q01-PP200204","Переходная секция","В x Ш x Г 2000 x 200 x 400, для QA40, QA55","1 / -",58,160,507.68,{"$f":"VLOOKUP(B5574,#REF!,3,FALSE)","v":{"$error":"#REF!"}}]
["Distri","Distri","LR2","OEZ:20922","PD-Q01-PP200205","Переходная секция","В x Ш x Г 2000 x 200 x 500, для QA40, QA55","1 / -",60,200,519.55999999999995,{"$f":"VLOOKUP(B5575,#REF!,3,FALSE)","v":{"$error":"#REF!"}}]
["Distri","Distri","LR2","OEZ:20699","PD-Q01-PP200206","Переходная секция","В x Ш x Г 2000 x 200 x 600, для QA40, QA55","1 / -",34,248,532.1,{"$f":"VLOOKUP(B5576,#REF!,3,FALSE)","v":{"$error":"#REF!"}}]
["Distri","Distri","LR2","OEZ:20700","PD-Q01-PP200208","Переходная секция","В x Ш x Г 2000 x 200 x 800, для QA40, QA55","1 / -",38,328,593.01,{"$f":"VLOOKUP(B5577,#REF!,3,FALSE)","v":{"$error":"#REF!"}}]
["Distri","Distri","LR2","OEZ:41142","PD-Q01-PP200210","Переходная секция","В x Ш x Г 2000 x 200 x 1000 mm, для QA40, QA55","1 / -",42,400,658.18999999999994,{"$f":"VLOOKUP(B5578,#REF!,3,FALSE)","v":{"$error":"#REF!"}}]
["Distri","Distri","LR2","OEZ:43549","PD-Q01-PP200212","Переходная секция","В x Ш x Г 2000 x 200 x 1200 mm, для QA40, QA55","1 / -",46,488,724.79,{"$f":"VLOOKUP(B5579,#REF!,3,FALSE)","v":{"$error":"#REF!"}}]
[null,null,null,"Level  5","PD-Q12-KB_ - Боковые крышки"]
["Distri","Distri","LR2","OEZ:35589","PD-Q12-KB1803","Боковые крышки","В x Г 1800 x 300, комплект 2 шт., для QA40","1 / -",13,21.6,116.43,{"$f":"VLOOKUP(B5581,#REF!,3,FALSE)","v":{"$error":"#REF!"}}]
["Distri","Distri","LR2","OEZ:35590","PD-Q12-KB1804","Боковые крышки","В x Г 1800 x 400, комплект 2 шт., для QA40","1 / -",17,28.8,127.69000000000001,{"$f":"VLOOKUP(B5582,#REF!,3,FALSE)","v":{"$error":"#REF!"}}]
["Distri","Distri","LR2","OEZ:35591","PD-Q12-KB1805","Боковые крышки","В x Г 1800 x 500, комплект 2 шт., для QA40","1 / -",21,36,170.04999999999998,{"$f":"VLOOKUP(B5583,#REF!,3,FALSE)","v":{"$error":"#REF!"}}]
["Distri","Distri","LR2","OEZ:35592","PD-Q12-KB1806","Боковые крышки","В x Г 1800 x 600, комплект 2 шт., для QA40","1 / -",25,43.2,191.54,{"$f":"VLOOKUP(B5584,#REF!,3,FALSE)","v":{"$error":"#REF!"}}]
["Distri","Distri","LR2","OEZ:35593","PD-Q12-KB1808","Боковые крышки","В x Г 1800 x 800, комплект 2 шт., для QA40","1 / -",34,57.6,233.85999999999999,{"$f":"VLOOKUP(B5585,#REF!,3,FALSE)","v":{"$error":"#REF!"}}]
["Distri","Distri","LR2","OEZ:35594","PD-Q12-KB1810","Боковые крышки","В x Г 1800 x 1000, комплект 2 шт., для QA40","1 / -",34,57.6,276.07,{"$f":"VLOOKUP(B5586,#REF!,3,FALSE)","v":{"$error":"#REF!"}}]
["Distri","Distri","LR2","OEZ:35595","PD-Q12-KB2003","Боковые крышки","В x Г 2000 x 300, комплект 2 шт., для QA40","1 / -",7.5,24,138.63,{"$f":"VLOOKUP(B5587,#REF!,3,FALSE)","v":{"$error":"#REF!"}}]
["Distri","Distri","LR2","OEZ:35596","PD-Q12-KB2004","Боковые крышки","В x Г 2000 x 400, комплект 2 шт., для QA40","1 / -",19,32,145.88999999999999,{"$f":"VLOOKUP(B5588,#REF!,3,FALSE)","v":{"$error":"#REF!"}}]
["Distri","Distri","LR2","OEZ:35597","PD-Q12-KB2005","Боковые крышки","В x Г 2000 x 500, комплект 2 шт., для QA40","1 / -",23,40,169.87,{"$f":"VLOOKUP(B5589,#REF!,3,FALSE)","v":{"$error":"#REF!"}}]
["Distri","Distri","LR2","OEZ:35598","PD-Q12-KB2006","Боковые крышки","В x Г 2000 x 600, комплект 2 шт., для QA40","1 / -",27,48,185.85,{"$f":"VLOOKUP(B5590,#REF!,3,FALSE)","v":{"$error":"#REF!"}}]
["Distri","Distri","LR2","OEZ:35599","PD-Q12-KB2008","Боковые крышки","В x Г 2000 x 800, комплект 2 шт., для QA40","1 / -",38,64,205.04999999999998,{"$f":"VLOOKUP(B5591,#REF!,3,FALSE)","v":{"$error":"#REF!"}}]
["Distri","Distri","LR2","OEZ:35600","PD-Q12-KB2010","Боковые крышки","В x Г 2000 x 1000, комплект 2 шт., для QA40","1 / -",38,64,224.29,{"$f":"VLOOKUP(B5592,#REF!,3,FALSE)","v":{"$error":"#REF!"}}]
["Distri","Distri","LR2","OEZ:35601","PD-Q12-KB2203","Боковые крышки","В x Г 2200 x 300, комплект 2 шт., для QA40","1 / -",17,26.4,166.79,{"$f":"VLOOKUP(B5593,#REF!,3,FALSE)","v":{"$error":"#REF!"}}]
["Distri","Distri","LR2","OEZ:35602","PD-Q12-KB2204","Боковые крышки","В x Г 2200 x 400, комплект 2 шт., для QA40","1 / -",21,35.200000000000003,178.01999999999998,{"$f":"VLOOKUP(B5594,#REF!,3,FALSE)","v":{"$error":"#REF!"}}]
["Distri","Distri","LR2","OEZ:35603","PD-Q12-KB2205","Боковые крышки","В x Г 2200 x 500, комплект 2 шт., для QA40","1 / -",25,44,199.89999999999998,{"$f":"VLOOKUP(B5595,#REF!,3,FALSE)","v":{"$error":"#REF!"}}]
["Distri","Distri","LR2","OEZ:35604","PD-Q12-KB2206","Боковые крышки","В x Г 2200 x 600, комплект 2 шт., для QA40","1 / -",30,52.8,221.5,{"$f":"VLOOKUP(B5596,#REF!,3,FALSE)","v":{"$error":"#REF!"}}]
["Distri","Distri","LR2","OEZ:35605","PD-Q12-KB2208","Боковые крышки","В x Г 2200 x 800, комплект 2 шт., для QA40","1 / -",42,70.400000000000006,246.76,{"$f":"VLOOKUP(B5597,#REF!,3,FALSE)","v":{"$error":"#REF!"}}]
["Distri","Distri","LR2","OEZ:35606","PD-Q12-KB2210","Боковые крышки","В x Г 2200 x 1000, комплект 2 шт., для QA40","1 / -",42,70.400000000000006,271.65999999999997,{"$f":"VLOOKUP(B5598,#REF!,3,FALSE)","v":{"$error":"#REF!"}}]
["Distri","Distri","LR2","OEZ:35571","PD-Q11-KB1803","Боковые крышки","В x Г 1800 x 300, комплект 2 шт., для QA55","1 / -",13,21.6,140.56,{"$f":"VLOOKUP(B5599,#REF!,3,FALSE)","v":{"$error":"#REF!"}}]
["Distri","Distri","LR2","OEZ:35572","PD-Q11-KB1804","Боковые крышки","В x Г 1800 x 400, комплект 2 шт., для QA55","1 / -",17,28.8,147.39999999999998,{"$f":"VLOOKUP(B5600,#REF!,3,FALSE)","v":{"$error":"#REF!"}}]
["Distri","Distri","LR2","OEZ:35573","PD-Q11-KB1805","Боковые крышки","В x Г 1800 x 500, комплект 2 шт., для QA55","1 / -",21,36,184.22,{"$f":"VLOOKUP(B5601,#REF!,3,FALSE)","v":{"$error":"#REF!"}}]
["Distri","Distri","LR2","OEZ:35574","PD-Q11-KB1806","Боковые крышки","В x Г 1800 x 600, комплект 2 шт., для QA55","1 / -",25,43.2,219.7,{"$f":"VLOOKUP(B5602,#REF!,3,FALSE)","v":{"$error":"#REF!"}}]
["Distri","Distri","LR2","OEZ:35575","PD-Q11-KB1808","Боковые крышки","В x Г 1800 x 800, комплект 2 шт., для QA55","1 / -",34,57.6,250.45999999999998,{"$f":"VLOOKUP(B5603,#REF!,3,FALSE)","v":{"$error":"#REF!"}}]
["Distri","Distri","LR2","OEZ:35576","PD-Q11-KB1810","Боковые крышки","В x Г 1800 x 1000, комплект 2 шт., для QA55","1 / -",34,57.6,280.15999999999997,{"$f":"VLOOKUP(B5604,#REF!,3,FALSE)","v":{"$error":"#REF!"}}]
["Distri","Distri","LR2","OEZ:35577","PD-Q11-KB2003","Боковые крышки","В x Г 2000 x 300, комплект 2 шт., для QA55","1 / -",15,24,156.35999999999999,{"$f":"VLOOKUP(B5605,#REF!,3,FALSE)","v":{"$error":"#REF!"}}]
["Distri","Distri","LR2","OEZ:35578","PD-Q11-KB2004","Боковые крышки","В x Г 2000 x 400, комплект 2 шт., для QA55","1 / -",19,32,171.20999999999998,{"$f":"VLOOKUP(B5606,#REF!,3,FALSE)","v":{"$error":"#REF!"}}]
["Distri","Distri","LR2","OEZ:35579","PD-Q11-KB2005","Боковые крышки","В x Г 2000 x 500, комплект 2 шт., для QA55","1 / -",23,40,188.45999999999998,{"$f":"VLOOKUP(B5607,#REF!,3,FALSE)","v":{"$error":"#REF!"}}]
["Distri","Distri","LR2","OEZ:35580","PD-Q11-KB2006","Боковые крышки","В x Г 2000 x 600, комплект 2 шт., для QA55","1 / -",27,48,229,{"$f":"VLOOKUP(B5608,#REF!,3,FALSE)","v":{"$error":"#REF!"}}]
["Distri","Distri","LR2","OEZ:35581","PD-Q11-KB2008","Боковые крышки","В x Г 2000 x 800, комплект 2 шт., для QA55","1 / -",38,64,256.51,{"$f":"VLOOKUP(B5609,#REF!,3,FALSE)","v":{"$error":"#REF!"}}]
["Distri","Distri","LR2","OEZ:35582","PD-Q11-KB2010","Боковые крышки","В x Г 2000 x 1000, комплект 2 шт., для QA55","1 / -",38,64,293.02999999999997,{"$f":"VLOOKUP(B5610,#REF!,3,FALSE)","v":{"$error":"#REF!"}}]
["Distri","Distri","LR2","OEZ:35583","PD-Q11-KB2203","Боковые крышки","В x Г 2200 x 300, комплект 2 шт., для QA55","1 / -",117,26.4,209.62,{"$f":"VLOOKUP(B5611,#REF!,3,FALSE)","v":{"$error":"#REF!"}}]
["Distri","Distri","LR2","OEZ:35584","PD-Q11-KB2204","Боковые крышки","В x Г 2200 x 400, комплект 2 шт., для QA55","1 / -",21,35.200000000000003,219.42999999999998,{"$f":"VLOOKUP(B5612,#REF!,3,FALSE)","v":{"$error":"#REF!"}}]
["Distri","Distri","LR2","OEZ:35585","PD-Q11-KB2205","Боковые крышки","В x Г 2200 x 500, комплект 2 шт., для QA55","1 / -",25,44,246.10999999999999,{"$f":"VLOOKUP(B5613,#REF!,3,FALSE)","v":{"$error":"#REF!"}}]
["Distri","Distri","LR2","OEZ:35586","PD-Q11-KB2206","Боковые крышки","В x Г 2200 x 600, комплект 2 шт., для QA55","1 / -",30,52.8,273.32,{"$f":"VLOOKUP(B5614,#REF!,3,FALSE)","v":{"$error":"#REF!"}}]
["Distri","Distri","LR2","OEZ:35587","PD-Q11-KB2208","Боковые крышки","В x Г 2200 x 800, комплект 2 шт., для QA55","1 / -",42,70.400000000000006,325.39,{"$f":"VLOOKUP(B5615,#REF!,3,FALSE)","v":{"$error":"#REF!"}}]
["Distri","Distri","LR2","OEZ:35588","PD-Q11-KB2210","Боковые крышки","В x Г 2200 x 1000, комплект 2 шт., для QA55","1 / -",42,70.400000000000006,338.76,{"$f":"VLOOKUP(B5616,#REF!,3,FALSE)","v":{"$error":"#REF!"}}]
[null,null,null,"Level  5","PD-Q03-KBD_ - Разделительные крышки между шкафами"]
["Distri","Distri","LR2","OEZ:20702","PD-Q03-KBD2004","Разделительная крышка","В x Г 2000 x 400, для QA55, QA40","1 / -",9,8,72.800000000000011,{"$f":"VLOOKUP(B5618,#REF!,3,FALSE)","v":{"$error":"#REF!"}}]
["Distri","Distri","LR2","OEZ:20703","PD-Q03-KBD2005","Разделительная крышка","В x Г 2000 x 500, для QA55, QA40","1 / -",12,10,87.98,{"$f":"VLOOKUP(B5619,#REF!,3,FALSE)","v":{"$error":"#REF!"}}]
["Distri","Distri","LR2","OEZ:20704","PD-Q03-KBD2006","Разделительная крышка","В x Г 2000 x 600, для QA55, QA40","1 / -",15,12,91.53,{"$f":"VLOOKUP(B5620,#REF!,3,FALSE)","v":{"$error":"#REF!"}}]
["Distri","Distri","LR2","OEZ:20705","PD-Q03-KBD2008","Разделительная крышка","В x Г 2000 x 800, для QA55, QA40","1 / -",19,16,116.93,{"$f":"VLOOKUP(B5621,#REF!,3,FALSE)","v":{"$error":"#REF!"}}]
[null,null,null,"Level  5","PD-Q12-KBP_ - Крышки для перехода глубины шкафов"]
["Distri","Distri","LR2","OEZ:35750","PD-Q12-KBP2002","Крышка для перехода","В x Г 2000 x 200, для QA40","1 / -",6.5,12,108.64,{"$f":"VLOOKUP(B5623,#REF!,3,FALSE)","v":{"$error":"#REF!"}}]
["Distri","Distri","LR2","OEZ:35751","PD-Q12-KBP2202","Крышка для перехода","В x Г 2200 x 200, для QA40","1 / -",7,13.2,113.05000000000001,{"$f":"VLOOKUP(B5624,#REF!,3,FALSE)","v":{"$error":"#REF!"}}]
["Distri","Distri","LR2","OEZ:35748","PD-Q11-KBP2002","Крышка для перехода","В x Г 2000 x 200, для QA55","1 / -",6.5,12,126.72,{"$f":"VLOOKUP(B5625,#REF!,3,FALSE)","v":{"$error":"#REF!"}}]
["Distri","Distri","LR2","OEZ:35749","PD-Q11-KBP2202","Крышка для перехода","В x Г 2200 x 200, для QA55","1 / -",6.5,12,131.45999999999998,{"$f":"VLOOKUP(B5626,#REF!,3,FALSE)","v":{"$error":"#REF!"}}]
[null,null,null,"Level  5","PD-Q13-PK01_ - Подставки 100 mm"]
["Distri","Distri","LR2","OEZ:35607","PD-Q13-PK010603","Подставка","высота 100 mm, Ш x В 600 x 300, для QA55, QA40","1 / -",5.8,18,77.87,{"$f":"VLOOKUP(B5628,#REF!,3,FALSE)","v":{"$error":"#REF!"}}]
["Distri","Distri","LR2","OEZ:35608","PD-Q13-PK010604","Подставка","высота 100 mm, Ш x В 600 x 400, для QA55, QA40","1 / -",6.4,24,86.97,{"$f":"VLOOKUP(B5629,#REF!,3,FALSE)","v":{"$error":"#REF!"}}]
["Distri","Distri","LR2","OEZ:35609","PD-Q13-PK010605","Подставка","высота 100 mm, Ш x В 600 x 500, для QA55, QA40","1 / -",7.05,30,83.740000000000009,{"$f":"VLOOKUP(B5630,#REF!,3,FALSE)","v":{"$error":"#REF!"}}]
["Distri","Distri","LR2","OEZ:35610","PD-Q13-PK010606","Подставка","высота 100 mm, Ш x В 600 x 600, для QA55, QA40","1 / -",7.7,36,86.820000000000007,{"$f":"VLOOKUP(B5631,#REF!,3,FALSE)","v":{"$error":"#REF!"}}]
["Distri","Distri","LR2","OEZ:35611","PD-Q13-PK010608","Подставка","высота 100 mm, Ш x В 600 x 800, для QA55, QA40","1 / -",8.9,48,92.84,{"$f":"VLOOKUP(B5632,#REF!,3,FALSE)","v":{"$error":"#REF!"}}]
["Distri","Distri","LR2","OEZ:35612","PD-Q13-PK010610","Подставка","высота 100 mm, Ш x В 600 x 1000, для QA55, QA40","1 / -",10.1,60,99.36,{"$f":"VLOOKUP(B5633,#REF!,3,FALSE)","v":{"$error":"#REF!"}}]
["Distri","Distri","LR2","OEZ:35613","PD-Q13-PK010803","Подставка","высота 100 mm, Ш x В 800 x 300, для QA55, QA40","1 / -",7.1,24,85.160000000000011,{"$f":"VLOOKUP(B5634,#REF!,3,FALSE)","v":{"$error":"#REF!"}}]
["Distri","Distri","LR2","OEZ:35614","PD-Q13-PK010804","Подставка","высота 100 mm, Ш x В 800 x 400, для QA55, QA40","1 / -",7.7,32,92.01,{"$f":"VLOOKUP(B5635,#REF!,3,FALSE)","v":{"$error":"#REF!"}}]
["Distri","Distri","LR2","OEZ:35615","PD-Q13-PK010805","Подставка","высота 100 mm, Ш x В 800 x 500, для QA55, QA40","1 / -",8.35,40,91.39,{"$f":"VLOOKUP(B5636,#REF!,3,FALSE)","v":{"$error":"#REF!"}}]
["Distri","Distri","LR2","OEZ:35616","PD-Q13-PK010806","Подставка","высота 100 mm, Ш x В 800 x 600, для QA55, QA40","1 / -",9,48,97.73,{"$f":"VLOOKUP(B5637,#REF!,3,FALSE)","v":{"$error":"#REF!"}}]
["Distri","Distri","LR2","OEZ:35617","PD-Q13-PK010808","Подставка","высота 100 mm, Ш x В 800 x 800, для QA55, QA40","1 / -",10.25,64,99.800000000000011,{"$f":"VLOOKUP(B5638,#REF!,3,FALSE)","v":{"$error":"#REF!"}}]
["Distri","Distri","LR2","OEZ:35618","PD-Q13-PK010810","Подставка","высота 100 mm, Ш x В 800 x 1000, для QA55, QA40","1 / -",11.55,80,105.55000000000001,{"$f":"VLOOKUP(B5639,#REF!,3,FALSE)","v":{"$error":"#REF!"}}]
["Distri","Distri","LR2","OEZ:35619","PD-Q13-PK011003","Подставка","высота 100 mm, Ш x В 1000 x 300, для QA55, QA40","1 / -",8.5,30,94.940000000000012,{"$f":"VLOOKUP(B5640,#REF!,3,FALSE)","v":{"$error":"#REF!"}}]
["Distri","Distri","LR2","OEZ:35620","PD-Q13-PK011004","Подставка","высота 100 mm, Ш x В 1000 x 400, для QA55, QA40","1 / -",9.1,40,98.710000000000008,{"$f":"VLOOKUP(B5641,#REF!,3,FALSE)","v":{"$error":"#REF!"}}]
["Distri","Distri","LR2","OEZ:35621","PD-Q13-PK011005","Подставка","высота 100 mm, Ш x В 1000 x 500, для QA55, QA40","1 / -",9.7200000000000006,50,94.940000000000012,{"$f":"VLOOKUP(B5642,#REF!,3,FALSE)","v":{"$error":"#REF!"}}]
["Distri","Distri","LR2","OEZ:35622","PD-Q13-PK011006","Подставка","высота 100 mm, Ш x В 1000 x 600, для QA55, QA40","1 / -",10.35,60,99,{"$f":"VLOOKUP(B5643,#REF!,3,FALSE)","v":{"$error":"#REF!"}}]
["Distri","Distri","LR2","OEZ:35623","PD-Q13-PK011008","Подставка","высота 100 mm, Ш x В 1000 x 800, для QA55, QA40","1 / -",11.55,80,104.57000000000001,{"$f":"VLOOKUP(B5644,#REF!,3,FALSE)","v":{"$error":"#REF!"}}]
["Distri","Distri","LR2","OEZ:35624","PD-Q13-PK011010","Подставка","высота 100 mm, Ш x В 1000 x 1000, для QA55, QA40","1 / -",12.9,100,109.94000000000001,{"$f":"VLOOKUP(B5645,#REF!,3,FALSE)","v":{"$error":"#REF!"}}]
["Distri","Distri","LR2","OEZ:35625","PD-Q13-PK011203","Подставка","высота 100 mm, Ш x В 1200 x 300, для QA55, QA40","1 / -",9.9,36,94.65,{"$f":"VLOOKUP(B5646,#REF!,3,FALSE)","v":{"$error":"#REF!"}}]
["Distri","Distri","LR2","OEZ:35626","PD-Q13-PK011204","Подставка","высота 100 mm, Ш x В 1200 x 400, для QA55, QA40","1 / -",10.5,48,98.02000000000001,{"$f":"VLOOKUP(B5647,#REF!,3,FALSE)","v":{"$error":"#REF!"}}]
["Distri","Distri","LR2","OEZ:35627","PD-Q13-PK011205","Подставка","высота 100 mm, Ш x В 1200 x 500, для QA55, QA40","1 / -",11.1,60,108.34,{"$f":"VLOOKUP(B5648,#REF!,3,FALSE)","v":{"$error":"#REF!"}}]
["Distri","Distri","LR2","OEZ:35628","PD-Q13-PK011206","Подставка","высота 100 mm, Ш x В 1200 x 600, для QA55, QA40","1 / -",11.7,72,105.38000000000001,{"$f":"VLOOKUP(B5649,#REF!,3,FALSE)","v":{"$error":"#REF!"}}]
["Distri","Distri","LR2","OEZ:35629","PD-Q13-PK011208","Подставка","высота 100 mm, Ш x В 1200 x 800, для QA55, QA40","1 / -",12.9,96,113.2,{"$f":"VLOOKUP(B5650,#REF!,3,FALSE)","v":{"$error":"#REF!"}}]
[null,null,null,"Level  5","PD-Q13-PK02_ - Подставки 200 mm"]
["Distri","Distri","LR2","OEZ:35630","PD-Q13-PK020603","Подставка","высота 200 mm, Ш x В 600 x 300, для QA55, QA40","1 / -",8.6999999999999993,36,116.64,{"$f":"VLOOKUP(B5652,#REF!,3,FALSE)","v":{"$error":"#REF!"}}]
["Distri","Distri","LR2","OEZ:35631","PD-Q13-PK020604","Подставка","высота 200 mm, Ш x В 600 x 400, для QA55, QA40","1 / -",9.6,48,121,{"$f":"VLOOKUP(B5653,#REF!,3,FALSE)","v":{"$error":"#REF!"}}]
["Distri","Distri","LR2","OEZ:35632","PD-Q13-PK020605","Подставка","высота 200 mm, Ш x В 600 x 500, для QA55, QA40","1 / -",10.58,60,125.59,{"$f":"VLOOKUP(B5654,#REF!,3,FALSE)","v":{"$error":"#REF!"}}]
["Distri","Distri","LR2","OEZ:35633","PD-Q13-PK020606","Подставка","высота 200 mm, Ш x В 600 x 600, для QA55, QA40","1 / -",11.55,72,130.14999999999998,{"$f":"VLOOKUP(B5655,#REF!,3,FALSE)","v":{"$error":"#REF!"}}]
["Distri","Distri","LR2","OEZ:35634","PD-Q13-PK020608","Подставка","высота 200 mm, Ш x В 600 x 800, для QA55, QA40","1 / -",13.35,96,139.10999999999999,{"$f":"VLOOKUP(B5656,#REF!,3,FALSE)","v":{"$error":"#REF!"}}]
["Distri","Distri","LR2","OEZ:35635","PD-Q13-PK020610","Подставка","высота 200 mm, Ш x В 600 x 1000, для QA55, QA40","1 / -",15.15,120,149.01,{"$f":"VLOOKUP(B5657,#REF!,3,FALSE)","v":{"$error":"#REF!"}}]
["Distri","Distri","LR2","OEZ:35636","PD-Q13-PK020803","Подставка","высота 200 mm, Ш x В 800 x 300, для QA55, QA40","1 / -",10.65,48,127.69000000000001,{"$f":"VLOOKUP(B5658,#REF!,3,FALSE)","v":{"$error":"#REF!"}}]
["Distri","Distri","LR2","OEZ:35637","PD-Q13-PK020804","Подставка","высота 200 mm, Ш x В 800 x 400, для QA55, QA40","1 / -",11.55,64,141.20999999999998,{"$f":"VLOOKUP(B5659,#REF!,3,FALSE)","v":{"$error":"#REF!"}}]
["Distri","Distri","LR2","OEZ:35638","PD-Q13-PK020805","Подставка","высота 200 mm, Ш x В 800 x 500, для QA55, QA40","1 / -",12.53,80,136.82,{"$f":"VLOOKUP(B5660,#REF!,3,FALSE)","v":{"$error":"#REF!"}}]
["Distri","Distri","LR2","OEZ:35639","PD-Q13-PK020806","Подставка","высота 200 mm, Ш x В 800 x 600, для QA55, QA40","1 / -",13.5,96,140.04999999999998,{"$f":"VLOOKUP(B5661,#REF!,3,FALSE)","v":{"$error":"#REF!"}}]
["Distri","Distri","LR2","OEZ:35640","PD-Q13-PK020808","Подставка","высота 200 mm, Ш x В 800 x 800, для QA55, QA40","1 / -",15.38,128,149.84,{"$f":"VLOOKUP(B5662,#REF!,3,FALSE)","v":{"$error":"#REF!"}}]
["Distri","Distri","LR2","OEZ:35641","PD-Q13-PK020810","Подставка","высота 200 mm, Ш x В 800 x 1000, для QA55, QA40","1 / -",17.329999999999998,160,158.31,{"$f":"VLOOKUP(B5663,#REF!,3,FALSE)","v":{"$error":"#REF!"}}]
["Distri","Distri","LR2","OEZ:35642","PD-Q13-PK021003","Подставка","высота 200 mm, Ш x В 1000 x 300, для QA55, QA40","1 / -",12.75,60,133.70999999999998,{"$f":"VLOOKUP(B5664,#REF!,3,FALSE)","v":{"$error":"#REF!"}}]
["Distri","Distri","LR2","OEZ:35643","PD-Q13-PK021004","Подставка","высота 200 mm, Ш x В 1000 x 400, для QA55, QA40","1 / -",13.65,80,138.1,{"$f":"VLOOKUP(B5665,#REF!,3,FALSE)","v":{"$error":"#REF!"}}]
["Distri","Distri","LR2","OEZ:35644","PD-Q13-PK021005","Подставка","высота 200 mm, Ш x В 1000 x 500, для QA55, QA40","1 / -",14.58,100,142.37,{"$f":"VLOOKUP(B5666,#REF!,3,FALSE)","v":{"$error":"#REF!"}}]
["Distri","Distri","LR2","OEZ:35645","PD-Q13-PK021006","Подставка","высота 200 mm, Ш x В 1000 x 600, для QA55, QA40","1 / -",15.53,120,158.31,{"$f":"VLOOKUP(B5667,#REF!,3,FALSE)","v":{"$error":"#REF!"}}]
["Distri","Distri","LR2","OEZ:35646","PD-Q13-PK021008","Подставка","высота 200 mm, Ш x В 1000 x 800, для QA55, QA40","1 / -",17.329999999999998,160,157.04,{"$f":"VLOOKUP(B5668,#REF!,3,FALSE)","v":{"$error":"#REF!"}}]
["Distri","Distri","LR2","OEZ:35647","PD-Q13-PK021010","Подставка","высота 200 mm, Ш x В 1000 x 1000, для QA55, QA40","1 / -",19.350000000000001,200,164.98,{"$f":"VLOOKUP(B5669,#REF!,3,FALSE)","v":{"$error":"#REF!"}}]
["Distri","Distri","LR2","OEZ:35648","PD-Q13-PK021203","Подставка","высота 200 mm, Ш x В 1200 x 300, для QA55, QA40","1 / -",14.85,72,142.01,{"$f":"VLOOKUP(B5670,#REF!,3,FALSE)","v":{"$error":"#REF!"}}]
["Distri","Distri","LR2","OEZ:35649","PD-Q13-PK021204","Подставка","высота 200 mm, Ш x В 1200 x 400, для QA55, QA40","1 / -",15.75,96,147.07999999999998,{"$f":"VLOOKUP(B5671,#REF!,3,FALSE)","v":{"$error":"#REF!"}}]
["Distri","Distri","LR2","OEZ:35650","PD-Q13-PK021205","Подставка","высота 200 mm, Ш x В 1200 x 500, для QA55, QA40","1 / -",16.649999999999999,120,152.44,{"$f":"VLOOKUP(B5672,#REF!,3,FALSE)","v":{"$error":"#REF!"}}]
["Distri","Distri","LR2","OEZ:35651","PD-Q13-PK021206","Подставка","высота 200 mm, Ш x В 1200 x 600, для QA55, QA40","1 / -",17.55,144,168.57,{"$f":"VLOOKUP(B5673,#REF!,3,FALSE)","v":{"$error":"#REF!"}}]
["Distri","Distri","LR2","OEZ:35652","PD-Q13-PK021208","Подставка","высота 200 mm, Ш x В 1200 x 800, для QA55, QA40","1 / -",19.350000000000001,192,169.72,{"$f":"VLOOKUP(B5674,#REF!,3,FALSE)","v":{"$error":"#REF!"}}]
[null,null,null,"Level  5","PD-Q13-PKV01_ - Подставка 100 мм с вентиляцией"]
["Distri","Distri","LR2","OEZ:38559","PD-Q13-PKV010603","Подставка","с вентиляцией, высота 100 mm, Ш x В 600 x 300, для QA55, QA40","1 / -",5.8,18,183.06,{"$f":"VLOOKUP(B5676,#REF!,3,FALSE)","v":{"$error":"#REF!"}}]
["Distri","Distri","LR2","OEZ:38560","PD-Q13-PKV010604","Подставка","с вентиляцией, высота 100 mm, Ш x В 600 x 400, для QA55, QA40","1 / -",6.4,24,187.45,{"$f":"VLOOKUP(B5677,#REF!,3,FALSE)","v":{"$error":"#REF!"}}]
["Distri","Distri","LR2","OEZ:38561","PD-Q13-PKV010605","Подставка","с вентиляцией, высота 100 mm, Ш x В 600 x 500, для QA55, QA40","1 / -",7.05,30,193.64,{"$f":"VLOOKUP(B5678,#REF!,3,FALSE)","v":{"$error":"#REF!"}}]
["Distri","Distri","LR2","OEZ:38562","PD-Q13-PKV010606","Подставка","с вентиляцией, высота 100 mm, Ш x В 600 x 600, для QA55, QA40","1 / -",7.7,36,199.69,{"$f":"VLOOKUP(B5679,#REF!,3,FALSE)","v":{"$error":"#REF!"}}]
["Distri","Distri","LR2","OEZ:38563","PD-Q13-PKV010608","Подставка","с вентиляцией, высота 100 mm, Ш x В 600 x 800, для QA55, QA40","1 / -",8.9,48,210.78,{"$f":"VLOOKUP(B5680,#REF!,3,FALSE)","v":{"$error":"#REF!"}}]
["Distri","Distri","LR2","OEZ:38564","PD-Q13-PKV010610","Подставка","с вентиляцией, высота 100 mm, Ш x В 600 x 1000, для QA55, QA40","1 / -",10.1,60,227.51999999999998,{"$f":"VLOOKUP(B5681,#REF!,3,FALSE)","v":{"$error":"#REF!"}}]
["Distri","Distri","LR2","OEZ:38565","PD-Q13-PKV010803","Подставка","с вентиляцией, высота 100 mm, Ш x В 800 x 300, для QA55, QA40","1 / -",7.1,24,196.28,{"$f":"VLOOKUP(B5682,#REF!,3,FALSE)","v":{"$error":"#REF!"}}]
["Distri","Distri","LR2","OEZ:38566","PD-Q13-PKV010804","Подставка","с вентиляцией, высота 100 mm, Ш x В 800 x 400, для QA55, QA40","1 / -",7.7,32,202.29999999999998,{"$f":"VLOOKUP(B5683,#REF!,3,FALSE)","v":{"$error":"#REF!"}}]
["Distri","Distri","LR2","OEZ:38567","PD-Q13-PKV010805","Подставка","с вентиляцией, высота 100 mm, Ш x В 800 x 500, для QA55, QA40","1 / -",8.35,40,212.04999999999998,{"$f":"VLOOKUP(B5684,#REF!,3,FALSE)","v":{"$error":"#REF!"}}]
["Distri","Distri","LR2","OEZ:38568","PD-Q13-PKV010806","Подставка","с вентиляцией, высота 100 mm, Ш x В 800 x 600, для QA55, QA40","1 / -",9,48,218.42,{"$f":"VLOOKUP(B5685,#REF!,3,FALSE)","v":{"$error":"#REF!"}}]
["Distri","Distri","LR2","OEZ:38569","PD-Q13-PKV010808","Подставка","с вентиляцией, высота 100 mm, Ш x В 800 x 800, для QA55, QA40","1 / -",10.25,64,225.06,{"$f":"VLOOKUP(B5686,#REF!,3,FALSE)","v":{"$error":"#REF!"}}]
["Distri","Distri","LR2","OEZ:38570","PD-Q13-PKV010810","Подставка","с вентиляцией, высота 100 mm, Ш x В 800 x 1000, для QA55, QA40","1 / -",11.55,80,238.28,{"$f":"VLOOKUP(B5687,#REF!,3,FALSE)","v":{"$error":"#REF!"}}]
["Distri","Distri","LR2","OEZ:38571","PD-Q13-PKV011003","Подставка","с вентиляцией, высота 100 mm, Ш x В 1000 x 300, для QA55, QA40","1 / -",8.5,30,214.51,{"$f":"VLOOKUP(B5688,#REF!,3,FALSE)","v":{"$error":"#REF!"}}]
["Distri","Distri","LR2","OEZ:38572","PD-Q13-PKV011004","Подставка","с вентиляцией, высота 100 mm, Ш x В 1000 x 400, для QA55, QA40","1 / -",9.1,40,221.35999999999999,{"$f":"VLOOKUP(B5689,#REF!,3,FALSE)","v":{"$error":"#REF!"}}]
["Distri","Distri","LR2","OEZ:38573","PD-Q13-PKV011005","Подставка","с вентиляцией, высота 100 mm, Ш x В 1000 x 500, для QA55, QA40","1 / -",9.7200000000000006,50,228.38,{"$f":"VLOOKUP(B5690,#REF!,3,FALSE)","v":{"$error":"#REF!"}}]
["Distri","Distri","LR2","OEZ:38574","PD-Q13-PKV011006","Подставка","с вентиляцией, высота 100 mm, Ш x В 1000 x 600, для QA55, QA40","1 / -",10.35,60,236.82999999999998,{"$f":"VLOOKUP(B5691,#REF!,3,FALSE)","v":{"$error":"#REF!"}}]
["Distri","Distri","LR2","OEZ:38575","PD-Q13-PKV011008","Подставка","с вентиляцией, высота 100 mm, Ш x В 1000 x 800, для QA55, QA40","1 / -",11.55,80,243.5,{"$f":"VLOOKUP(B5692,#REF!,3,FALSE)","v":{"$error":"#REF!"}}]
["Distri","Distri","LR2","OEZ:38576","PD-Q13-PKV011010","Подставка","с вентиляцией, высота 100 mm, Ш x В 1000 x 1000, для QA55, QA40","1 / -",12.9,100,245.6,{"$f":"VLOOKUP(B5693,#REF!,3,FALSE)","v":{"$error":"#REF!"}}]
["Distri","Distri","LR2","OEZ:38577","PD-Q13-PKV011203","Подставка","с вентиляцией, высота 100 mm, Ш x В 1200 x 300, для QA55, QA40","1 / -",9.9,36,228.67999999999998,{"$f":"VLOOKUP(B5694,#REF!,3,FALSE)","v":{"$error":"#REF!"}}]
["Distri","Distri","LR2","OEZ:38578","PD-Q13-PKV011204","Подставка","с вентиляцией, высота 100 mm, Ш x В 1200 x 400, для QA55, QA40","1 / -",10.5,48,234.39999999999998,{"$f":"VLOOKUP(B5695,#REF!,3,FALSE)","v":{"$error":"#REF!"}}]
["Distri","Distri","LR2","OEZ:38579","PD-Q13-PKV011205","Подставка","с вентиляцией, высота 100 mm, Ш x В 1200 x 500, для QA55, QA40","1 / -",11.1,60,242.37,{"$f":"VLOOKUP(B5696,#REF!,3,FALSE)","v":{"$error":"#REF!"}}]
["Distri","Distri","LR2","OEZ:38580","PD-Q13-PKV011206","Подставка","с вентиляцией, высота 100 mm, Ш x В 1200 x 600, для QA55, QA40","1 / -",11.7,72,253.1,{"$f":"VLOOKUP(B5697,#REF!,3,FALSE)","v":{"$error":"#REF!"}}]
["Distri","Distri","LR2","OEZ:38581","PD-Q13-PKV011208","Подставка","с вентиляцией, высота 100 mm, Ш x В 1200 x 800, для QA55, QA40","1 / -",12.9,96,261.39999999999998,{"$f":"VLOOKUP(B5698,#REF!,3,FALSE)","v":{"$error":"#REF!"}}]
[null,null,null,"Level  5","PD-Q03PR-PK01_ - Подставки для угловой секции 100mm"]
["Distri","Distri","LR2","OEZ:34648","PD-Q03PR-PK010404","Подставка","высота 100 mm, Ш x В 400 x 400, для угловой секции, для QA55, QA40","1 / -",4,20.25,182.73999999999998,{"$f":"VLOOKUP(B5700,#REF!,3,FALSE)","v":{"$error":"#REF!"}}]
["Distri","Distri","LR2","OEZ:21117","PD-Q03PR-PK010406","Подставка","высота 100 mm, Ш x В 400 x 600, для угловой секции, для QA55, QA40","1 / -",6.4,24,110.92,{"$f":"VLOOKUP(B5701,#REF!,3,FALSE)","v":{"$error":"#REF!"}}]
["Distri","Distri","LR2","OEZ:21121","PD-Q03PR-PK010408","Подставка","высота 100 mm, Ш x В 400 x 800, для угловой секции, для QA55, QA40","1 / -",7.7,32,114.47,{"$f":"VLOOKUP(B5702,#REF!,3,FALSE)","v":{"$error":"#REF!"}}]
["Distri","Distri","LR2","OEZ:33767","PD-Q03PR-PK010505","Подставка","высота 100 mm, Ш x В 500 x 500, для угловой секции, для QA55, QA40","1 / -",5,30.25,178.82,{"$f":"VLOOKUP(B5703,#REF!,3,FALSE)","v":{"$error":"#REF!"}}]
["Distri","Distri","LR2","OEZ:21119","PD-Q03PR-PK010506","Подставка","высота 100 mm, Ш x В 500 x 600, для угловой секции, для QA55, QA40","1 / -",7.1,30,119.57000000000001,{"$f":"VLOOKUP(B5704,#REF!,3,FALSE)","v":{"$error":"#REF!"}}]
["Distri","Distri","LR2","OEZ:21123","PD-Q03PR-PK010508","Подставка","высота 100 mm, Ш x В 500 x 800, для угловой секции, для QA55, QA40","1 / -",8.4,40,116.82000000000001,{"$f":"VLOOKUP(B5705,#REF!,3,FALSE)","v":{"$error":"#REF!"}}]
["Distri","Distri","LR2","OEZ:21116","PD-Q03PR-PK010604","Подставка","высота 100 mm, Ш x В 600 x 400, для угловой секции, для QA55, QA40","1 / -",6.4,24,110.92,{"$f":"VLOOKUP(B5706,#REF!,3,FALSE)","v":{"$error":"#REF!"}}]
["Distri","Distri","LR2","OEZ:21118","PD-Q03PR-PK010605","Подставка","высота 100 mm, Ш x В 600 x 500, для угловой секции, для QA55, QA40","1 / -",7.1,30,112.04,{"$f":"VLOOKUP(B5707,#REF!,3,FALSE)","v":{"$error":"#REF!"}}]
["Distri","Distri","LR2","OEZ:15979","PD-Q03PR-PK010606","Подставка","высота 100 mm, Ш x В 600 x 600, для угловой секции, для QA55, QA40","1 / -",7.5,36,113.2,{"$f":"VLOOKUP(B5708,#REF!,3,FALSE)","v":{"$error":"#REF!"}}]
["Distri","Distri","LR2","OEZ:20714","PD-Q03PR-PK010608","Подставка","высота 100 mm, Ш x В 600 x 800, для угловой секции, для QA55, QA40","1 / -",8.5,56.76,115.81,{"$f":"VLOOKUP(B5709,#REF!,3,FALSE)","v":{"$error":"#REF!"}}]
["Distri","Distri","LR2","OEZ:21120","PD-Q03PR-PK010804","Подставка","высота 100 mm, Ш x В 800 x 400, для угловой секции, для QA55, QA40","1 / -",7.7,32,114.47,{"$f":"VLOOKUP(B5710,#REF!,3,FALSE)","v":{"$error":"#REF!"}}]
["Distri","Distri","LR2","OEZ:21122","PD-Q03PR-PK010805","Подставка","высота 100 mm, Ш x В 800 x 500, для угловой секции, для QA55, QA40","1 / -",8.4,40,116.82000000000001,{"$f":"VLOOKUP(B5711,#REF!,3,FALSE)","v":{"$error":"#REF!"}}]
["Distri","Distri","LR2","OEZ:20715","PD-Q03PR-PK010806","Подставка","высота 100 mm, Ш x В 800 x 600, для угловой секции, для QA55, QA40","1 / -",8.5,56.76,119.87,{"$f":"VLOOKUP(B5712,#REF!,3,FALSE)","v":{"$error":"#REF!"}}]
["Distri","Distri","LR2","OEZ:20716","PD-Q03PR-PK010808","Подставка","высота 100 mm, Ш x В 800 x 800, для угловой секции, для QA55, QA40","1 / -",10.5,73.959999999999994,121.68,{"$f":"VLOOKUP(B5713,#REF!,3,FALSE)","v":{"$error":"#REF!"}}]
["Distri","Distri","LR2","OEZ:44228","PD-Q03PR-PK010810","Подставка","высота 100 mm, Ш x В 800 x 100, для угловой секции, для QA55, QA40","1 / -",11.55,80,213.5,{"$f":"VLOOKUP(B5714,#REF!,3,FALSE)","v":{"$error":"#REF!"}}]
["Distri","Distri","LR2","OEZ:44227","PD-Q03PR-PK011008","Подставка","высота 100 mm, Ш x В 100 x 800, для угловой секции, для QA40, QA55","1 / -",11.55,80,213.5,{"$f":"VLOOKUP(B5715,#REF!,3,FALSE)","v":{"$error":"#REF!"}}]
[null,null,null,"Level  5","PD-Q03-PP-PK01_ - Подставки для переходой секции 100mm"]
["Distri","Distri","LR2","OEZ:33408","PD-Q03PP-PK010203","Подставка","высота 100 mm, Ш x В 200 x 300, для переходой секции, для QA55, QA40","1 / -",3,6,89.43,{"$f":"VLOOKUP(B5717,#REF!,3,FALSE)","v":{"$error":"#REF!"}}]
["Distri","Distri","LR2","OEZ:33409","PD-Q03PP-PK010204","Подставка","высота 100 mm, Ш x В 200 x 400, для переходой секции, для QA55, QA40","1 / -",3.5,8,93.02000000000001,{"$f":"VLOOKUP(B5718,#REF!,3,FALSE)","v":{"$error":"#REF!"}}]
["Distri","Distri","LR2","OEZ:33410","PD-Q03PP-PK010205","Подставка","высота 100 mm, Ш x В 200 x 500, для переходой секции, для QA55, QA40","1 / -",4,10,96.75,{"$f":"VLOOKUP(B5719,#REF!,3,FALSE)","v":{"$error":"#REF!"}}]
["Distri","Distri","LR2","OEZ:15980","PD-Q03PP-PK010206","Подставка","высота 100 mm, Ш x В 200 x 600, для переходой секции, для QA55, QA40","1 / -",4.5,12,100.34,{"$f":"VLOOKUP(B5720,#REF!,3,FALSE)","v":{"$error":"#REF!"}}]
["Distri","Distri","LR2","OEZ:33411","PD-Q03PP-PK010208","Подставка","высота 100 mm, Ш x В 200 x 800, для переходой секции, для QA55, QA40","1 / -",5.5,16,114.62,{"$f":"VLOOKUP(B5721,#REF!,3,FALSE)","v":{"$error":"#REF!"}}]
["Distri","Distri","LR2","OEZ:41143","PD-Q03PP-PK010210","Подставка","высота 100 mm, Ш x В 200 x 1000 mm, для переходой секции, для QA55, QA40","1 / -",6.5,20,147.91,{"$f":"VLOOKUP(B5722,#REF!,3,FALSE)","v":{"$error":"#REF!"}}]
["Distri","Distri","LR2","OEZ:43550","PD-Q03PP-PK010212","Подставка","высота 100 mm, Ш x В 200 x 1200 mm, для переходой секции, для QA55, QA40","1 / -",7.5,24,169.92999999999998,{"$f":"VLOOKUP(B5723,#REF!,3,FALSE)","v":{"$error":"#REF!"}}]
[null,null,null,"Level  5","PD-Q13-3KD_ - Подвижные нижние крышки"]
["Distri","Distri","LR2","OEZ:35752","PD-Q13-3KD0603","Подвижные нижние крышки","Ш x В 600 x 300, для QA","1 / -",0.97,1.3680000000000001,14.32,{"$f":"VLOOKUP(B5725,#REF!,3,FALSE)","v":{"$error":"#REF!"}}]
["Distri","Distri","LR2","OEZ:35753","PD-Q13-3KD0604","Подвижные нижние крышки","Ш x В 600 x 400, для QA","1 / -",1.45,1.3680000000000001,16.48,{"$f":"VLOOKUP(B5726,#REF!,3,FALSE)","v":{"$error":"#REF!"}}]
["Distri","Distri","LR2","OEZ:35754","PD-Q13-3KD0605","Подвижные нижние крышки","Ш x В 600 x 500, для QA","1 / -",2.1800000000000002,1.786,20.55,{"$f":"VLOOKUP(B5727,#REF!,3,FALSE)","v":{"$error":"#REF!"}}]
["Distri","Distri","LR2","OEZ:35755","PD-Q13-3KD0606","Подвижные нижние крышки","Ш x В 600 x 600, для QA","1 / -",2.65,1.786,21.67,{"$f":"VLOOKUP(B5728,#REF!,3,FALSE)","v":{"$error":"#REF!"}}]
["Distri","Distri","LR2","OEZ:35756","PD-Q13-3KD0608","Подвижные нижние крышки","Ш x В 600 x 800, для QA","1 / -",3.94,1.786,23.270000000000003,{"$f":"VLOOKUP(B5729,#REF!,3,FALSE)","v":{"$error":"#REF!"}}]
["Distri","Distri","LR2","OEZ:35757","PD-Q13-3KD0610","Подвижные нижние крышки","Ш x В 600 x 1000, для QA","1 / -",4.62,1.786,24.25,{"$f":"VLOOKUP(B5730,#REF!,3,FALSE)","v":{"$error":"#REF!"}}]
["Distri","Distri","LR2","OEZ:35758","PD-Q13-3KD0803","Подвижные нижние крышки","Ш x В 800 x 300, для QA","1 / -",1.43,2.1459999999999999,21.200000000000003,{"$f":"VLOOKUP(B5731,#REF!,3,FALSE)","v":{"$error":"#REF!"}}]
["Distri","Distri","LR2","OEZ:35759","PD-Q13-3KD0804","Подвижные нижние крышки","Ш x В 800 x 400, для QA","1 / -",2.15,2.1459999999999999,22,{"$f":"VLOOKUP(B5732,#REF!,3,FALSE)","v":{"$error":"#REF!"}}]
["Distri","Distri","LR2","OEZ:35760","PD-Q13-3KD0805","Подвижные нижние крышки","Ш x В 800 x 500, для QA","1 / -",3.22,2.726,23.270000000000003,{"$f":"VLOOKUP(B5733,#REF!,3,FALSE)","v":{"$error":"#REF!"}}]
["Distri","Distri","LR2","OEZ:35761","PD-Q13-3KD0806","Подвижные нижние крышки","Ш x В 800 x 600, для QA","1 / -",3.94,2.7839999999999998,25.290000000000003,{"$f":"VLOOKUP(B5734,#REF!,3,FALSE)","v":{"$error":"#REF!"}}]
["Distri","Distri","LR2","OEZ:35762","PD-Q13-3KD0808","Подвижные нижние крышки","Ш x В 800 x 800, для QA","1 / -",5.88,2.7839999999999998,29.970000000000002,{"$f":"VLOOKUP(B5735,#REF!,3,FALSE)","v":{"$error":"#REF!"}}]
["Distri","Distri","LR2","OEZ:35763","PD-Q13-3KD0810","Подвижные нижние крышки","Ш x В 800 x 1000, для QA","1 / -",6.9,2.7839999999999998,30.270000000000003,{"$f":"VLOOKUP(B5736,#REF!,3,FALSE)","v":{"$error":"#REF!"}}]
["Distri","Distri","LR2","OEZ:35764","PD-Q13-3KD1003","Подвижные нижние крышки","Ш x В 1000 x 300, для QA","1 / -",1.7,1.42,24.580000000000002,{"$f":"VLOOKUP(B5737,#REF!,3,FALSE)","v":{"$error":"#REF!"}}]
["Distri","Distri","LR2","OEZ:35765","PD-Q13-3KD1004","Подвижные нижние крышки","Ш x В 1000 x 400, для QA","1 / -",2.6,1.42,27.21,{"$f":"VLOOKUP(B5738,#REF!,3,FALSE)","v":{"$error":"#REF!"}}]
["Distri","Distri","LR2","OEZ:35766","PD-Q13-3KD1005","Подвижные нижние крышки","Ш x В 1000 x 500, для QA","1 / -",3.86,1.74,28.84,{"$f":"VLOOKUP(B5739,#REF!,3,FALSE)","v":{"$error":"#REF!"}}]
["Distri","Distri","LR2","OEZ:35767","PD-Q13-3KD1006","Подвижные нижние крышки","Ш x В 1000 x 600, для QA","1 / -",4.74,1.74,30.92,{"$f":"VLOOKUP(B5740,#REF!,3,FALSE)","v":{"$error":"#REF!"}}]
["Distri","Distri","LR2","OEZ:35768","PD-Q13-3KD1008","Подвижные нижние крышки","Ш x В 1000 x 800, для QA","1 / -",7.14,1.74,39.43,{"$f":"VLOOKUP(B5741,#REF!,3,FALSE)","v":{"$error":"#REF!"}}]
["Distri","Distri","LR2","OEZ:35769","PD-Q13-3KD1010","Подвижные нижние крышки","Ш x В 1000 x 1000, для QA","1 / -",8.3800000000000008,1.74,38.629999999999995,{"$f":"VLOOKUP(B5742,#REF!,3,FALSE)","v":{"$error":"#REF!"}}]
["Distri","Distri","LR2","OEZ:35770","PD-Q13-3KD1203","Подвижные нижние крышки","Ш x В 1200 x 300, для QA","1 / -",2.17,1.82,28.84,{"$f":"VLOOKUP(B5743,#REF!,3,FALSE)","v":{"$error":"#REF!"}}]
["Distri","Distri","LR2","OEZ:35771","PD-Q13-3KD1204","Подвижные нижние крышки","Ш x В 1200 x 400, для QA","1 / -",3.32,1.82,29.82,{"$f":"VLOOKUP(B5744,#REF!,3,FALSE)","v":{"$error":"#REF!"}}]
["Distri","Distri","LR2","OEZ:35772","PD-Q13-3KD1205","Подвижные нижние крышки","Ш x В 1200 x 500, для QA","1 / -",4.91,2.23,33.409999999999997,{"$f":"VLOOKUP(B5745,#REF!,3,FALSE)","v":{"$error":"#REF!"}}]
["Distri","Distri","LR2","OEZ:35773","PD-Q13-3KD1206","Подвижные нижние крышки","Ш x В 1200 x 600, для QA","1 / -",6.38,2.4569999999999999,33.409999999999997,{"$f":"VLOOKUP(B5746,#REF!,3,FALSE)","v":{"$error":"#REF!"}}]
["Distri","Distri","LR2","OEZ:35774","PD-Q13-3KD1208","Подвижные нижние крышки","Ш x В 1200 x 800, для QA","1 / -",9.08,2.4569999999999999,43.809999999999995,{"$f":"VLOOKUP(B5747,#REF!,3,FALSE)","v":{"$error":"#REF!"}}]
[null,null,null,"Level  5","PD-Q13-1KD_ - Общие крышки днища"]
["Distri","Distri","LR2","OEZ:35775","PD-Q13-1KD0603","Общая крышка днища","Ш x В 600 x 300, степень защиты IP55, для QA","1 / -",0.9,0.95,17.64,{"$f":"VLOOKUP(B5749,#REF!,3,FALSE)","v":{"$error":"#REF!"}}]
["Distri","Distri","LR2","OEZ:35776","PD-Q13-1KD0604","Общая крышка днища","Ш x В 600 x 400, степень защиты IP55, для QA","1 / -",1.33,1.33,18.560000000000002,{"$f":"VLOOKUP(B5750,#REF!,3,FALSE)","v":{"$error":"#REF!"}}]
["Distri","Distri","LR2","OEZ:35777","PD-Q13-1KD0605","Общая крышка днища","Ш x В 600 x 500, степень защиты IP55, для QA","1 / -",1.72,1.71,19.57,{"$f":"VLOOKUP(B5751,#REF!,3,FALSE)","v":{"$error":"#REF!"}}]
["Distri","Distri","LR2","OEZ:35778","PD-Q13-1KD0606","Общая крышка днища","Ш x В 600 x 600, степень защиты IP55, для QA","1 / -",2.21,2.09,20.55,{"$f":"VLOOKUP(B5752,#REF!,3,FALSE)","v":{"$error":"#REF!"}}]
["Distri","Distri","LR2","OEZ:35779","PD-Q13-1KD0608","Общая крышка днища","Ш x В 600 x 800, степень защиты IP55, для QA","1 / -",3.12,2.85,24.430000000000003,{"$f":"VLOOKUP(B5753,#REF!,3,FALSE)","v":{"$error":"#REF!"}}]
["Distri","Distri","LR2","OEZ:35780","PD-Q13-1KD0610","Общая крышка днища","Ш x В 600 x 1000, степень защиты IP55, для QA","1 / -",4.0199999999999996,2.85,29.32,{"$f":"VLOOKUP(B5754,#REF!,3,FALSE)","v":{"$error":"#REF!"}}]
["Distri","Distri","LR2","OEZ:35781","PD-Q13-1KD0803","Общая крышка днища","Ш x В 800 x 300, степень защиты IP55, для QA","1 / -",1.31,1.45,21.05,{"$f":"VLOOKUP(B5755,#REF!,3,FALSE)","v":{"$error":"#REF!"}}]
["Distri","Distri","LR2","OEZ:35782","PD-Q13-1KD0804","Общая крышка днища","Ш x В 800 x 400, степень защиты IP55, для QA","1 / -",1.92,2.0299999999999998,21.67,{"$f":"VLOOKUP(B5756,#REF!,3,FALSE)","v":{"$error":"#REF!"}}]
["Distri","Distri","LR2","OEZ:35783","PD-Q13-1KD0805","Общая крышка днища","Ш x В 800 x 500, степень защиты IP55, для QA","1 / -",2.63,2.61,24.930000000000003,{"$f":"VLOOKUP(B5757,#REF!,3,FALSE)","v":{"$error":"#REF!"}}]
["Distri","Distri","LR2","OEZ:35784","PD-Q13-1KD0806","Общая крышка днища","Ш x В 800 x 600, степень защиты IP55, для QA","1 / -",3.32,3.19,25.290000000000003,{"$f":"VLOOKUP(B5758,#REF!,3,FALSE)","v":{"$error":"#REF!"}}]
["Distri","Distri","LR2","OEZ:35785","PD-Q13-1KD0808","Общая крышка днища","Ш x В 800 x 800, степень защиты IP55, для QA","1 / -",4.72,4.3499999999999996,33.409999999999997,{"$f":"VLOOKUP(B5759,#REF!,3,FALSE)","v":{"$error":"#REF!"}}]
["Distri","Distri","LR2","OEZ:35786","PD-Q13-1KD0810","Общая крышка днища","Ш x В 800 x 1000, степень защиты IP55, для QA","1 / -",6.08,4.3499999999999996,39.43,{"$f":"VLOOKUP(B5760,#REF!,3,FALSE)","v":{"$error":"#REF!"}}]
["Distri","Distri","LR2","OEZ:35787","PD-Q13-1KD1003","Общая крышка днища","Ш x В 1000 x 300, степень защиты IP55, для QA","1 / -",1.57,1.95,24.78,{"$f":"VLOOKUP(B5761,#REF!,3,FALSE)","v":{"$error":"#REF!"}}]
["Distri","Distri","LR2","OEZ:35788","PD-Q13-1KD1004","Общая крышка днища","Ш x В 1000 x 400, степень защиты IP55, для QA","1 / -",2.5299999999999998,2.73,26.89,{"$f":"VLOOKUP(B5762,#REF!,3,FALSE)","v":{"$error":"#REF!"}}]
["Distri","Distri","LR2","OEZ:35789","PD-Q13-1KD1005","Общая крышка днища","Ш x В 1000 x 500, степень защиты IP55, для QA","1 / -",3.41,3.51,26.35,{"$f":"VLOOKUP(B5763,#REF!,3,FALSE)","v":{"$error":"#REF!"}}]
["Distri","Distri","LR2","OEZ:35790","PD-Q13-1KD1006","Общая крышка днища","Ш x В 1000 x 600, степень защиты IP55, для QA","1 / -",4.18,4.29,29.64,{"$f":"VLOOKUP(B5764,#REF!,3,FALSE)","v":{"$error":"#REF!"}}]
["Distri","Distri","LR2","OEZ:35791","PD-Q13-1KD1008","Общая крышка днища","Ш x В 1000 x 800, степень защиты IP55, для QA","1 / -",5.93,5.85,39.72,{"$f":"VLOOKUP(B5765,#REF!,3,FALSE)","v":{"$error":"#REF!"}}]
["Distri","Distri","LR2","OEZ:35792","PD-Q13-1KD1010","Общая крышка днища","Ш x В 1000 x 1000, степень защиты IP55, для QA","1 / -",7.68,5.85,44.14,{"$f":"VLOOKUP(B5766,#REF!,3,FALSE)","v":{"$error":"#REF!"}}]
["Distri","Distri","LR2","OEZ:35793","PD-Q13-1KD1203","Общая крышка днища","Ш x В 1200 x 300, степень защиты IP55, для QA","1 / -",2.1,2.2749999999999999,37.47,{"$f":"VLOOKUP(B5767,#REF!,3,FALSE)","v":{"$error":"#REF!"}}]
["Distri","Distri","LR2","OEZ:35794","PD-Q13-1KD1204","Общая крышка днища","Ш x В 1200 x 400, степень защиты IP55, для QA","1 / -",3.12,3.1850000000000001,40.369999999999997,{"$f":"VLOOKUP(B5768,#REF!,3,FALSE)","v":{"$error":"#REF!"}}]
["Distri","Distri","LR2","OEZ:35795","PD-Q13-1KD1205","Общая крышка днища","Ш x В 1200 x 500, степень защиты IP55, для QA","1 / -",4.21,4.0949999999999998,44.29,{"$f":"VLOOKUP(B5769,#REF!,3,FALSE)","v":{"$error":"#REF!"}}]
["Distri","Distri","LR2","OEZ:35796","PD-Q13-1KD1206","Общая крышка днища","Ш x В 1200 x 600, степень защиты IP55, для QA","1 / -",5.01,5.0049999999999999,46.1,{"$f":"VLOOKUP(B5770,#REF!,3,FALSE)","v":{"$error":"#REF!"}}]
["Distri","Distri","LR2","OEZ:35797","PD-Q13-1KD1208","Общая крышка днища","Ш x В 1200 x 800, степень защиты IP55, для QA","1 / -",7.53,6.8250000000000002,52.62,{"$f":"VLOOKUP(B5771,#REF!,3,FALSE)","v":{"$error":"#REF!"}}]
[null,null,null,"Level  5","PD-Q13-KHV_ - Верхние крышки для вентиляции"]
["Distri","Distri","LR2","OEZ:38582","PD-Q13-KHV0603","Верхняя крышка","с вентиляцией, Ш x В 600 x 300, для QA55, QA40","1 / -",3.5,9.1999999999999993,159.13999999999999,{"$f":"VLOOKUP(B5773,#REF!,3,FALSE)","v":{"$error":"#REF!"}}]
["Distri","Distri","LR2","OEZ:38583","PD-Q13-KHV0604","Верхняя крышка","с вентиляцией, Ш x В 600 x 400, для QA55, QA40","1 / -",4,14.2,168.42,{"$f":"VLOOKUP(B5774,#REF!,3,FALSE)","v":{"$error":"#REF!"}}]
["Distri","Distri","LR2","OEZ:38584","PD-Q13-KHV0605","Верхняя крышка","с вентиляцией, Ш x В 600 x 500, для QA55, QA40","1 / -",4.5,18.7,179.62,{"$f":"VLOOKUP(B5775,#REF!,3,FALSE)","v":{"$error":"#REF!"}}]
["Distri","Distri","LR2","OEZ:38585","PD-Q13-KHV0606","Верхняя крышка","с вентиляцией, Ш x В 600 x 600, для QA55, QA40","1 / -",5,23,183.54,{"$f":"VLOOKUP(B5776,#REF!,3,FALSE)","v":{"$error":"#REF!"}}]
["Distri","Distri","LR2","OEZ:38586","PD-Q13-KHV0608","Верхняя крышка","с вентиляцией, Ш x В 600 x 800, для QA55, QA40","1 / -",5.95,31.6,205.38,{"$f":"VLOOKUP(B5777,#REF!,3,FALSE)","v":{"$error":"#REF!"}}]
["Distri","Distri","LR2","OEZ:38587","PD-Q13-KHV0610","Верхняя крышка","с вентиляцией, Ш x В 600 x 1000, для QA55, QA40","1 / -",6.95,40.299999999999997,225.57,{"$f":"VLOOKUP(B5778,#REF!,3,FALSE)","v":{"$error":"#REF!"}}]
["Distri","Distri","LR2","OEZ:38588","PD-Q13-KHV0803","Верхняя крышка","с вентиляцией, Ш x В 800 x 300, для QA55, QA40","1 / -",4.3,14.2,182.73999999999998,{"$f":"VLOOKUP(B5779,#REF!,3,FALSE)","v":{"$error":"#REF!"}}]
["Distri","Distri","LR2","OEZ:38589","PD-Q13-KHV0804","Верхняя крышка","с вентиляцией, Ш x В 800 x 400, для QA55, QA40","1 / -",4.8,21.2,184.84,{"$f":"VLOOKUP(B5780,#REF!,3,FALSE)","v":{"$error":"#REF!"}}]
["Distri","Distri","LR2","OEZ:38590","PD-Q13-KHV0805","Верхняя крышка","с вентиляцией, Ш x В 800 x 500, для QA55, QA40","1 / -",5.3,27.3,192.66,{"$f":"VLOOKUP(B5781,#REF!,3,FALSE)","v":{"$error":"#REF!"}}]
["Distri","Distri","LR2","OEZ:38591","PD-Q13-KHV0806","Верхняя крышка","с вентиляцией, Ш x В 800 x 600, для QA55, QA40","1 / -",5.8,33.6,200.01999999999998,{"$f":"VLOOKUP(B5782,#REF!,3,FALSE)","v":{"$error":"#REF!"}}]
["Distri","Distri","LR2","OEZ:38592","PD-Q13-KHV0808","Верхняя крышка","с вентиляцией, Ш x В 800 x 800, для QA55, QA40","1 / -",6.7,46.2,221.67999999999998,{"$f":"VLOOKUP(B5783,#REF!,3,FALSE)","v":{"$error":"#REF!"}}]
["Distri","Distri","LR2","OEZ:38593","PD-Q13-KHV0810","Верхняя крышка","с вентиляцией, Ш x В 800 x 1000, для QA55, QA40","1 / -",7.7,58.8,240.73999999999998,{"$f":"VLOOKUP(B5784,#REF!,3,FALSE)","v":{"$error":"#REF!"}}]
["Distri","Distri","LR2","OEZ:38594","PD-Q13-KHV1003","Верхняя крышка","с вентиляцией, Ш x В 1000 x 300, для QA55, QA40","1 / -",8.3000000000000007,18.2,298.87,{"$f":"VLOOKUP(B5785,#REF!,3,FALSE)","v":{"$error":"#REF!"}}]
["Distri","Distri","LR2","OEZ:38595","PD-Q13-KHV1004","Верхняя крышка","с вентиляцией, Ш x В 1000 x 400, для QA55, QA40","1 / -",9,26,299.58,{"$f":"VLOOKUP(B5786,#REF!,3,FALSE)","v":{"$error":"#REF!"}}]
["Distri","Distri","LR2","OEZ:38596","PD-Q13-KHV1005","Верхняя крышка","с вентиляцией, Ш x В 1000 x 500, для QA55, QA40","1 / -",9.6999999999999993,33.700000000000003,317.57,{"$f":"VLOOKUP(B5787,#REF!,3,FALSE)","v":{"$error":"#REF!"}}]
["Distri","Distri","LR2","OEZ:38597","PD-Q13-KHV1006","Верхняя крышка","с вентиляцией, Ш x В 1000 x 600, для QA55, QA40","1 / -",10.5,41.5,327.84999999999997,{"$f":"VLOOKUP(B5788,#REF!,3,FALSE)","v":{"$error":"#REF!"}}]
["Distri","Distri","LR2","OEZ:38598","PD-Q13-KHV1008","Верхняя крышка","с вентиляцией, Ш x В 1000 x 800, для QA55, QA40","1 / -",11.75,57.2,370.86,{"$f":"VLOOKUP(B5789,#REF!,3,FALSE)","v":{"$error":"#REF!"}}]
["Distri","Distri","LR2","OEZ:38599","PD-Q13-KHV1010","Верхняя крышка","с вентиляцией, Ш x В 1000 x 1000, для QA55, QA40","1 / -",13,72.7,397.06,{"$f":"VLOOKUP(B5790,#REF!,3,FALSE)","v":{"$error":"#REF!"}}]
["Distri","Distri","LR2","OEZ:38600","PD-Q13-KHV1203","Верхняя крышка","с вентиляцией, Ш x В 1200 x 300, для QA55, QA40","1 / -",9,22.7,307.33999999999997,{"$f":"VLOOKUP(B5791,#REF!,3,FALSE)","v":{"$error":"#REF!"}}]
["Distri","Distri","LR2","OEZ:38601","PD-Q13-KHV1204","Верхняя крышка","с вентиляцией, Ш x В 1200 x 400, для QA55, QA40","1 / -",9.6999999999999993,32.5,325.75,{"$f":"VLOOKUP(B5792,#REF!,3,FALSE)","v":{"$error":"#REF!"}}]
["Distri","Distri","LR2","OEZ:38602","PD-Q13-KHV1205","Верхняя крышка","с вентиляцией, Ш x В 1200 x 500, для QA55, QA40","1 / -",10.5,42.4,355.06,{"$f":"VLOOKUP(B5793,#REF!,3,FALSE)","v":{"$error":"#REF!"}}]
["Distri","Distri","LR2","OEZ:38603","PD-Q13-KHV1206","Верхняя крышка","с вентиляцией, Ш x В 1200 x 600, для QA55, QA40","1 / -",11.3,52.2,356.37,{"$f":"VLOOKUP(B5794,#REF!,3,FALSE)","v":{"$error":"#REF!"}}]
["Distri","Distri","LR2","OEZ:38604","PD-Q13-KHV1208","Верхняя крышка","с вентиляцией, Ш x В 1200 x 800, для QA55, QA40","1 / -",13,72,399.55,{"$f":"VLOOKUP(B5795,#REF!,3,FALSE)","v":{"$error":"#REF!"}}]
[null,null,null,"Level  5","PD-Q03-MP_ - Монтажные панели"]
["Distri","Distri","LR2","OEZ:17499","PD-Q03-MP1706","Монтажная панель","монтажная панель шкаф В x Ш 1800 x 600, комплект держателей - 4 шт., для QA","1 / -",21,21.25,145.26999999999998,{"$f":"VLOOKUP(B5797,#REF!,3,FALSE)","v":{"$error":"#REF!"}}]
["Distri","Distri","LR2","OEZ:17500","PD-Q03-MP1708","Монтажная панель","монтажная панель шкаф В x Ш 1800 x 800, комплект держателей - 4 шт., для QA","1 / -",28,29.75,181.76,{"$f":"VLOOKUP(B5798,#REF!,3,FALSE)","v":{"$error":"#REF!"}}]
["Distri","Distri","LR2","OEZ:17601","PD-Q03-MP1710","Монтажная панель","монтажная панель шкаф В x Ш 1800 x 1000, комплект держателей - 4 шт., для QA","1 / -",35,38.25,195.6,{"$f":"VLOOKUP(B5799,#REF!,3,FALSE)","v":{"$error":"#REF!"}}]
["Distri","Distri","LR2","OEZ:17602","PD-Q03-MP1712","Монтажная панель","монтажная панель шкаф В x Ш 1800 x 1200, комплект держателей - 4 шт., для QA","1 / -",42,46.75,224.41,{"$f":"VLOOKUP(B5800,#REF!,3,FALSE)","v":{"$error":"#REF!"}}]
["Distri","Distri","LR2","OEZ:17603","PD-Q03-MP1906","Монтажная панель","монтажная панель шкаф В x Ш 2000 x 600, комплект держателей - 4 шт., для QA","1 / -",23.5,23.75,141.67999999999998,{"$f":"VLOOKUP(B5801,#REF!,3,FALSE)","v":{"$error":"#REF!"}}]
["Distri","Distri","LR2","OEZ:17604","PD-Q03-MP1908","Монтажная панель","монтажная панель шкаф В x Ш 2000 x 800, комплект держателей - 4 шт., для QA","1 / -",31.5,33.25,170.17,{"$f":"VLOOKUP(B5802,#REF!,3,FALSE)","v":{"$error":"#REF!"}}]
["Distri","Distri","LR2","OEZ:17605","PD-Q03-MP1910","Монтажная панель","монтажная панель шкаф В x Ш 2000 x 1000, комплект держателей - 4 шт., для QA","1 / -",39,42.75,191.39,{"$f":"VLOOKUP(B5803,#REF!,3,FALSE)","v":{"$error":"#REF!"}}]
["Distri","Distri","LR2","OEZ:17606","PD-Q03-MP1912","Монтажная панель","монтажная панель шкаф В x Ш 2000 x 1200, комплект держателей - 4 шт., для QA","1 / -",47,52.25,233.09,{"$f":"VLOOKUP(B5804,#REF!,3,FALSE)","v":{"$error":"#REF!"}}]
["Distri","Distri","LR2","OEZ:17607","PD-Q03-MP2106","Монтажная панель","монтажная панель шкаф В x Ш 2200 x 600, комплект держателей - 4 шт., для QA","1 / -",26.5,26.25,194.76999999999998,{"$f":"VLOOKUP(B5805,#REF!,3,FALSE)","v":{"$error":"#REF!"}}]
["Distri","Distri","LR2","OEZ:17608","PD-Q03-MP2108","Монтажная панель","монтажная панель шкаф В x Ш 2200 x 800, комплект держателей - 4 шт., для QA","1 / -",35,36.75,226.57,{"$f":"VLOOKUP(B5806,#REF!,3,FALSE)","v":{"$error":"#REF!"}}]
["Distri","Distri","LR2","OEZ:17609","PD-Q03-MP2110","Монтажная панель","монтажная панель шкаф В x Ш 2200 x 1000, комплект держателей - 4 шт., для QA","1 / -",44,47.25,255.73999999999998,{"$f":"VLOOKUP(B5807,#REF!,3,FALSE)","v":{"$error":"#REF!"}}]
["Distri","Distri","LR2","OEZ:21132","PD-Q03-MP2112","Монтажная панель","монтажная панель шкаф В x Ш 2200 x 1200, комплект держателей - 4 шт., для QA","1 / -",53,57.7,273.32,{"$f":"VLOOKUP(B5808,#REF!,3,FALSE)","v":{"$error":"#REF!"}}]
[null,null,null,"Level  5","PD-Q13-LMP_ - Рейки для простого монтажа"]
["Distri","Distri","LR2","OEZ:35798","PD-Q13-LMP04","Рейки","для удобной установки монтажной панели, для шкаф Г 400, комплект 2 шт., для QA","1 / -",1.42,0.88900000000000001,18.560000000000002,{"$f":"VLOOKUP(B5810,#REF!,3,FALSE)","v":{"$error":"#REF!"}}]
["Distri","Distri","LR2","OEZ:35799","PD-Q13-LMP05","Рейки","для удобной установки монтажной панели, для шкаф Г 500, комплект 2 шт., для QA","1 / -",1.92,1.117,19.57,{"$f":"VLOOKUP(B5811,#REF!,3,FALSE)","v":{"$error":"#REF!"}}]
["Distri","Distri","LR2","OEZ:35800","PD-Q13-LMP06","Рейки","для удобной установки монтажной панели, для шкаф Г 600, комплект 2 шт., для QA","1 / -",2.23,1.345,20.220000000000002,{"$f":"VLOOKUP(B5812,#REF!,3,FALSE)","v":{"$error":"#REF!"}}]
["Distri","Distri","LR2","OEZ:35801","PD-Q13-LMP08","Рейки","для удобной установки монтажной панели, для шкаф Г 800, комплект 2 шт., для QA","1 / -",3.4870000000000001,1.8,22.180000000000003,{"$f":"VLOOKUP(B5813,#REF!,3,FALSE)","v":{"$error":"#REF!"}}]
["Distri","Distri","LR2","OEZ:35802","PD-Q13-LMP10","Рейки","для удобной установки монтажной панели, для шкаф Г 1000, комплект 2 шт., для QA","1 / -",4.71,2.2570000000000001,24.930000000000003,{"$f":"VLOOKUP(B5814,#REF!,3,FALSE)","v":{"$error":"#REF!"}}]
[null,null,null,"Level  5","PD-Q03-MPV_ - Вставки между монтажными панелями"]
["Distri","Distri","LR2","OEZ:17610","PD-Q03-MPV17","Вставка","между монтажными панелями, В 1800, для QA","1 / -",5,4.782,38.629999999999995,{"$f":"VLOOKUP(B5816,#REF!,3,FALSE)","v":{"$error":"#REF!"}}]
["Distri","Distri","LR2","OEZ:17611","PD-Q03-MPV19","Вставка","между монтажными панелями, В 2000, для QA","1 / -",6,5.3449999999999998,61.919999999999995,{"$f":"VLOOKUP(B5817,#REF!,3,FALSE)","v":{"$error":"#REF!"}}]
["Distri","Distri","LR2","OEZ:17612","PD-Q03-MPV21","Вставка","между монтажными панелями, В 2200, для QA","1 / -",7,5.907,77.37,{"$f":"VLOOKUP(B5818,#REF!,3,FALSE)","v":{"$error":"#REF!"}}]
[null,null,null,"Level  5","PD-QK-_LB_ - Рейки для заднего монтажа"]
["Distri","Distri","LR2","OEZ:17617","PD-QK-45LB06","Рейка","для задний монтаж элементов QA, В рейки x Ш шкафа 45 x 600, для QA","1 / -",1,0.79700000000000004,11.92,{"$f":"VLOOKUP(B5820,#REF!,3,FALSE)","v":{"$error":"#REF!"}}]
["Distri","Distri","LR2","OEZ:17618","PD-QK-45LB08","Рейка","для задний монтаж элементов QA, В рейки x Ш шкафа 45 x 800, для QA","1 / -",1.5,1.0669999999999999,9.1,{"$f":"VLOOKUP(B5821,#REF!,3,FALSE)","v":{"$error":"#REF!"}}]
["Distri","Distri","LR2","OEZ:17619","PD-QK-45LB10","Рейка","для задний монтаж элементов QA, В рейки x Ш шкафа 45 x 1000, для QA","1 / -",2,1.337,11.92,{"$f":"VLOOKUP(B5822,#REF!,3,FALSE)","v":{"$error":"#REF!"}}]
["Distri","Distri","LR2","OEZ:17620","PD-Q03-45LB12","Рейка","для задний монтаж элементов QA, В рейки x Ш шкафа 45 x 1200, для QA","1 / -",2.5,1.607,12.87,{"$f":"VLOOKUP(B5823,#REF!,3,FALSE)","v":{"$error":"#REF!"}}]
["Distri","Distri","LR2","OEZ:17613","PD-QK-76LB06","Рейка","для задний монтаж элементов QA, В рейки x Ш шкафа 76 x 600, для QA","1 / -",1.5,1.345,8.66,{"$f":"VLOOKUP(B5824,#REF!,3,FALSE)","v":{"$error":"#REF!"}}]
["Distri","Distri","LR2","OEZ:17614","PD-QK-76LB08","Рейка","для задний монтаж элементов QA, В рейки x Ш шкафа 76 x 800, для QA","1 / -",2,1.8009999999999999,10.11,{"$f":"VLOOKUP(B5825,#REF!,3,FALSE)","v":{"$error":"#REF!"}}]
["Distri","Distri","LR2","OEZ:17615","PD-QK-76LB10","Рейка","для задний монтаж элементов QA, В рейки x Ш шкафа 76 x 1000, для QA","1 / -",2.5,2.2570000000000001,11.92,{"$f":"VLOOKUP(B5826,#REF!,3,FALSE)","v":{"$error":"#REF!"}}]
["Distri","Distri","LR2","OEZ:17616","PD-Q03-76LB12","Рейка","для задний монтаж элементов QA, В рейки x Ш шкафа 76 x 1200, для QA","1 / -",3,2.7130000000000001,12.57,{"$f":"VLOOKUP(B5827,#REF!,3,FALSE)","v":{"$error":"#REF!"}}]
[null,null,null,"Level  5","PD-Q13-_LBC_ - Рейки для бокового или переднего монтажа элементов"]
["Distri","Distri","LR2","OEZ:35809","PD-Q13-40LBC03","Рейка","боковой/передний монтаж элементов, В рейки x Г/Ш шкафа 45 x 300 / -, для QA","1 / -",0.4,0.3,12.87,{"$f":"VLOOKUP(B5829,#REF!,3,FALSE)","v":{"$error":"#REF!"}}]
["Distri","Distri","LR2","OEZ:35810","PD-Q13-40LBC04","Рейка","боковой/передний монтаж элементов, В рейки x Г/Ш шкафа 45 x 400 / -, для QA","1 / -",0.6,0.44500000000000001,12.87,{"$f":"VLOOKUP(B5830,#REF!,3,FALSE)","v":{"$error":"#REF!"}}]
["Distri","Distri","LR2","OEZ:35811","PD-Q13-40LBC05","Рейка","боковой/передний монтаж элементов, В рейки x Г/Ш шкафа 45 x 500 / -, для QA","1 / -",0.8,0.58499999999999996,14.02,{"$f":"VLOOKUP(B5831,#REF!,3,FALSE)","v":{"$error":"#REF!"}}]
["Distri","Distri","LR2","OEZ:35812","PD-Q13-40LBC06","Рейка","боковой/передний монтаж элементов, В рейки x Г/Ш шкафа 45 x 600 / 600, для QA","1 / -",1,0.72499999999999998,14.97,{"$f":"VLOOKUP(B5832,#REF!,3,FALSE)","v":{"$error":"#REF!"}}]
["Distri","Distri","LR2","OEZ:35813","PD-Q13-40LBC08","Рейка","боковой/передний монтаж элементов, В рейки x Г/Ш шкафа 45 x - / 800, для QA","1 / -",1.2,1.0049999999999999,15.95,{"$f":"VLOOKUP(B5833,#REF!,3,FALSE)","v":{"$error":"#REF!"}}]
["Distri","Distri","LR2","OEZ:35814","PD-Q13-40LBC10","Рейка","боковой/передний монтаж элементов, В рейки x Г/Ш шкафа 45 x - / 1000, для QA","1 / -",1.4,1.2849999999999999,17.430000000000003,{"$f":"VLOOKUP(B5834,#REF!,3,FALSE)","v":{"$error":"#REF!"}}]
["Distri","Distri","LR2","OEZ:35803","PD-Q13-65LBC04","Рейка","боковой/передний монтаж элементов, В рейки x Г/Ш шкафа 65 x 400 / -, для QA","1 / -",0.7,0.72299999999999998,10.26,{"$f":"VLOOKUP(B5835,#REF!,3,FALSE)","v":{"$error":"#REF!"}}]
["Distri","Distri","LR2","OEZ:35804","PD-Q13-65LBC05","Рейка","боковой/передний монтаж элементов, В рейки x Г/Ш шкафа 65 x 500 / -, для QA","1 / -",0.9,0.95099999999999996,10.11,{"$f":"VLOOKUP(B5836,#REF!,3,FALSE)","v":{"$error":"#REF!"}}]
["Distri","Distri","LR2","OEZ:35805","PD-Q13-65LBC06","Рейка","боковой/передний монтаж элементов, В рейки x Г/Ш шкафа 65 x 600 / 600, для QA","1 / -",1.1000000000000001,1.1779999999999999,10.76,{"$f":"VLOOKUP(B5837,#REF!,3,FALSE)","v":{"$error":"#REF!"}}]
["Distri","Distri","LR2","OEZ:35806","PD-Q13-65LBC08","Рейка","боковой/передний монтаж элементов, В рейки x Г/Ш шкафа 65 x - / 800, для QA","1 / -",1.3,1.633,12.36,{"$f":"VLOOKUP(B5838,#REF!,3,FALSE)","v":{"$error":"#REF!"}}]
["Distri","Distri","LR2","OEZ:35807","PD-Q13-65LBC10","Рейка","боковой/передний монтаж элементов, В рейки x Г/Ш шкафа 65 x - / 1000, для QA","1 / -",1.5,2.0880000000000001,12.36,{"$f":"VLOOKUP(B5839,#REF!,3,FALSE)","v":{"$error":"#REF!"}}]
["Distri","Distri","LR2","OEZ:35808","PD-Q13-65LBC12","Рейка","боковой/передний монтаж элементов, В рейки x Г/Ш шкафа 65 x - / 1200, для QA","1 / -",1.7,2.5430000000000001,13.37,{"$f":"VLOOKUP(B5840,#REF!,3,FALSE)","v":{"$error":"#REF!"}}]
["Distri","Distri","LR2","OEZ:45508","PD-Q13-115LBC05","Рейка","боковой/передний монтаж элементов, В рейки x Г шкафа 115 x 500, для QA","1 / -",1.71,2.1,25.17,{"$f":"VLOOKUP(B5841,#REF!,3,FALSE)","v":{"$error":"#REF!"}}]
["Distri","Distri","LR2","OEZ:45509","PD-Q13-115LBC06","Рейка","боковой/передний монтаж элементов, В рейки x Г шкафа 115 x 600, для QA","1 / -",2.09,2.52,30.240000000000002,{"$f":"VLOOKUP(B5842,#REF!,3,FALSE)","v":{"$error":"#REF!"}}]
["Distri","Distri","LR2","OEZ:43554","PD-Q13-115LBC08","Рейка","боковой/передний монтаж элементов, В рейки x Г/Ш шкафа 120 x 800 mm, для QA","1 / -",3.25,3.3,33.44,{"$f":"VLOOKUP(B5843,#REF!,3,FALSE)","v":{"$error":"#REF!"}}]
["Distri","Distri","LR2","OEZ:45510","PD-Q13-115LBC10","Рейка","боковой/передний монтаж элементов, В рейки x Г шкафа 115 x 1000, для QA","1 / -",2.85,4.2,34.979999999999997,{"$f":"VLOOKUP(B5844,#REF!,3,FALSE)","v":{"$error":"#REF!"}}]
["Distri","Distri","LR2","OEZ:43555","PD-Q13-115LBC12","Рейка","боковой/передний монтаж элементов, В рейки x Г/Ш шкафа 120 x 1200 mm, для QA","1 / -",4.25,5.0999999999999996,37.83,{"$f":"VLOOKUP(B5845,#REF!,3,FALSE)","v":{"$error":"#REF!"}}]
[null,null,null,"Level  5","PD-QK-_LV_ - Вертикальные рейки"]
["Distri","Distri","LR2","OEZ:17632","PD-QK-100LV06","Вертикальная рейка","ширина х длина 100 x 600, для QA","1 / -",1.5,1.8,12.22,{"$f":"VLOOKUP(B5847,#REF!,3,FALSE)","v":{"$error":"#REF!"}}]
["Distri","Distri","LR2","OEZ:17633","PD-QK-100LV10","Вертикальная рейка","ширина х длина 100 x 1000, для QA","1 / -",2.4,3,14.799999999999999,{"$f":"VLOOKUP(B5848,#REF!,3,FALSE)","v":{"$error":"#REF!"}}]
["Distri","Distri","LR2","OEZ:17634","PD-QK-100LV12","Вертикальная рейка","ширина х длина 100 x 1200, для QA","1 / -",2.9,3.6,18.260000000000002,{"$f":"VLOOKUP(B5849,#REF!,3,FALSE)","v":{"$error":"#REF!"}}]
["Distri","Distri","LR2","OEZ:17635","PD-QK-100LV14","Вертикальная рейка","ширина х длина 100 x 1400, для QA","1 / -",3.4,4.2,21.520000000000003,{"$f":"VLOOKUP(B5850,#REF!,3,FALSE)","v":{"$error":"#REF!"}}]
["Distri","Distri","LR2","OEZ:17636","PD-QK-100LV16","Вертикальная рейка","ширина х длина 100 x 1600, для QA","1 / -",4.4000000000000004,4.8,23.78,{"$f":"VLOOKUP(B5851,#REF!,3,FALSE)","v":{"$error":"#REF!"}}]
["Distri","Distri","LR2","OEZ:21136","PD-QK-100LV17","Вертикальная рейка","ширина х длина 100 x 1700, для QA","1 / -",4.8,5.0999999999999996,25.080000000000002,{"$f":"VLOOKUP(B5852,#REF!,3,FALSE)","v":{"$error":"#REF!"}}]
["Distri","Distri","LR2","OEZ:17637","PD-QK-100LV18","Вертикальная рейка","ширина х длина 100 x 1800, для QA","1 / -",5.2,5.4,25.73,{"$f":"VLOOKUP(B5853,#REF!,3,FALSE)","v":{"$error":"#REF!"}}]
["Distri","Distri","LR2","OEZ:20736","PD-QK-100LV19","Вертикальная рейка","ширина х длина 100 x 1900, для QA","1 / -",6,5.7,30.270000000000003,{"$f":"VLOOKUP(B5854,#REF!,3,FALSE)","v":{"$error":"#REF!"}}]
["Distri","Distri","LR2","OEZ:21137","PD-QK-100LV21","Вертикальная рейка","ширина х длина 100 x 2100, для QA","1 / -",7,6.3,36.339999999999996,{"$f":"VLOOKUP(B5855,#REF!,3,FALSE)","v":{"$error":"#REF!"}}]
["Distri","Distri","LR2","OEZ:17638","PD-QK-50LV10","Вертикальная рейка","ширина х длина 50 x 1000, для QA","1 / -",1.7,1.5,13.37,{"$f":"VLOOKUP(B5856,#REF!,3,FALSE)","v":{"$error":"#REF!"}}]
["Distri","Distri","LR2","OEZ:17639","PD-QK-50LV12","Вертикальная рейка","ширина х длина 50 x 1200, для QA","1 / -",2,1.8,14.97,{"$f":"VLOOKUP(B5857,#REF!,3,FALSE)","v":{"$error":"#REF!"}}]
["Distri","Distri","LR2","OEZ:17640","PD-QK-50LV16","Вертикальная рейка","ширина х длина 50 x 1600, для QA","1 / -",2.7,2.4,18.09,{"$f":"VLOOKUP(B5858,#REF!,3,FALSE)","v":{"$error":"#REF!"}}]
["Distri","Distri","LR2","OEZ:21138","PD-QK-50LV17","Вертикальная рейка","ширина х длина 50 x 1700, для QA","1 / -",2.9,25.5,18.09,{"$f":"VLOOKUP(B5859,#REF!,3,FALSE)","v":{"$error":"#REF!"}}]
["Distri","Distri","LR2","OEZ:17641","PD-QK-50LV18","Вертикальная рейка","ширина х длина 50 x 1800, для QA","1 / -",3,2.7,20.55,{"$f":"VLOOKUP(B5860,#REF!,3,FALSE)","v":{"$error":"#REF!"}}]
["Distri","Distri","LR2","OEZ:20737","PD-QK-50LV19","Вертикальная рейка","ширина х длина 50 x 1900, для QA","1 / -",3.5,2.85,21.82,{"$f":"VLOOKUP(B5861,#REF!,3,FALSE)","v":{"$error":"#REF!"}}]
["Distri","Distri","LR2","OEZ:20738","PD-QK-50LV21","Вертикальная рейка","ширина х длина 50 x 2100, для QA","1 / -",4,3.15,27.21,{"$f":"VLOOKUP(B5862,#REF!,3,FALSE)","v":{"$error":"#REF!"}}]
[null,null,null,"Level  5","PD-QK-_D - Держатели вертикальной рейки"]
["Distri","Distri","LR2","OEZ:17642","PD-QK-1D","Держатели вертикальной рейки","для рейки Ш 100 mm - PD-QK-100LV..., комплект 2 шт., для QA","1 / -",0.2,0.114,1.96,{"$f":"VLOOKUP(B5864,#REF!,3,FALSE)","v":{"$error":"#REF!"}}]
["Distri","Distri","LR2","OEZ:35815","PD-QK-2D","Держатели вертикальной рейки","для рейки Ш 50 mm - PD-QK-50LV..., комплект 2 шт., для QA","1 / -",0.2,0.114,2.11,{"$f":"VLOOKUP(B5865,#REF!,3,FALSE)","v":{"$error":"#REF!"}}]
[null,null,null,"Level  5","PD-QK-_LP_ - Приборные рейки"]
["Distri","Distri","LR2","OEZ:17643","PD-QK-40LP06","Приборная рейка","Ш рейки x Ш шкафа 40 x 600, для QA","1 / -",0.6,0.34,7.9799999999999995,{"$f":"VLOOKUP(B5867,#REF!,3,FALSE)","v":{"$error":"#REF!"}}]
["Distri","Distri","LR2","OEZ:17644","PD-QK-60LP06","Приборная рейка","Ш рейки x Ш шкафа 60 x 600, для QA","1 / -",0.8,0.51,8.66,{"$f":"VLOOKUP(B5868,#REF!,3,FALSE)","v":{"$error":"#REF!"}}]
["Distri","Distri","LR2","OEZ:17645","PD-QK-80LP06","Приборная рейка","Ш рейки x Ш шкафа 80 x 600, для QA","1 / -",1,0.68,9.1,{"$f":"VLOOKUP(B5869,#REF!,3,FALSE)","v":{"$error":"#REF!"}}]
["Distri","Distri","LR2","OEZ:17646","PD-QK-100LP06","Приборная рейка","Ш рейки x Ш шкафа 100 x 600, для QA","1 / -",1.2,0.85,9.9599999999999991,{"$f":"VLOOKUP(B5870,#REF!,3,FALSE)","v":{"$error":"#REF!"}}]
["Distri","Distri","LR2","OEZ:17647","PD-QK-120LP06","Приборная рейка","Ш рейки x Ш шкафа 120 x 600, для QA","1 / -",1.4,1.02,11.06,{"$f":"VLOOKUP(B5871,#REF!,3,FALSE)","v":{"$error":"#REF!"}}]
["Distri","Distri","LR2","OEZ:17648","PD-QK-150LP06","Приборная рейка","Ш рейки x Ш шкафа 150 x 600, для QA","1 / -",1.6,1.2749999999999999,11.74,{"$f":"VLOOKUP(B5872,#REF!,3,FALSE)","v":{"$error":"#REF!"}}]
["Distri","Distri","LR2","OEZ:17649","PD-QK-160LP06","Приборная рейка","Ш рейки x Ш шкафа 160 x 600, для QA","1 / -",1.8,1.36,11.92,{"$f":"VLOOKUP(B5873,#REF!,3,FALSE)","v":{"$error":"#REF!"}}]
["Distri","Distri","LR2","OEZ:17650","PD-QK-200LP06","Приборная рейка","Ш рейки x Ш шкафа 200 x 600, для QA","1 / -",2,1.7,12.72,{"$f":"VLOOKUP(B5874,#REF!,3,FALSE)","v":{"$error":"#REF!"}}]
["Distri","Distri","LR2","OEZ:17651","PD-QK-40LP08","Приборная рейка","Ш рейки x Ш шкафа 40 x 800, для QA","1 / -",0.8,0.47599999999999998,8.7799999999999994,{"$f":"VLOOKUP(B5875,#REF!,3,FALSE)","v":{"$error":"#REF!"}}]
["Distri","Distri","LR2","OEZ:17652","PD-QK-60LP08","Приборная рейка","Ш рейки x Ш шкафа 60 x 800, для QA","1 / -",1,0.71399999999999997,9.1,{"$f":"VLOOKUP(B5876,#REF!,3,FALSE)","v":{"$error":"#REF!"}}]
["Distri","Distri","LR2","OEZ:17653","PD-QK-80LP08","Приборная рейка","Ш рейки x Ш шкафа 80 x 800, для QA","1 / -",1.2,0.95199999999999996,10.11,{"$f":"VLOOKUP(B5877,#REF!,3,FALSE)","v":{"$error":"#REF!"}}]
["Distri","Distri","LR2","OEZ:17654","PD-QK-100LP08","Приборная рейка","Ш рейки x Ш шкафа 100 x 800, для QA","1 / -",1.4,1.19,10.91,{"$f":"VLOOKUP(B5878,#REF!,3,FALSE)","v":{"$error":"#REF!"}}]
["Distri","Distri","LR2","OEZ:17655","PD-QK-120LP08","Приборная рейка","Ш рейки x Ш шкафа 120 x 800, для QA","1 / -",1.6,1.4279999999999999,12.36,{"$f":"VLOOKUP(B5879,#REF!,3,FALSE)","v":{"$error":"#REF!"}}]
["Distri","Distri","LR2","OEZ:17656","PD-QK-150LP08","Приборная рейка","Ш рейки x Ш шкафа 150 x 800, для QA","1 / -",1.8,1.7849999999999999,12.72,{"$f":"VLOOKUP(B5880,#REF!,3,FALSE)","v":{"$error":"#REF!"}}]
["Distri","Distri","LR2","OEZ:17657","PD-QK-160LP08","Приборная рейка","Ш рейки x Ш шкафа 160 x 800, для QA","1 / -",2,1.9039999999999999,13.37,{"$f":"VLOOKUP(B5881,#REF!,3,FALSE)","v":{"$error":"#REF!"}}]
["Distri","Distri","LR2","OEZ:17658","PD-QK-200LP08","Приборная рейка","Ш рейки x Ш шкафа 200 x 800, для QA","1 / -",2.2000000000000002,2.38,14.68,{"$f":"VLOOKUP(B5882,#REF!,3,FALSE)","v":{"$error":"#REF!"}}]
["Distri","Distri","LR2","OEZ:17659","PD-QK-40LP10","Приборная рейка","Ш рейки x Ш шкафа 40 x 1000, для QA","1 / -",1,0.61199999999999999,9.31,{"$f":"VLOOKUP(B5883,#REF!,3,FALSE)","v":{"$error":"#REF!"}}]
["Distri","Distri","LR2","OEZ:17660","PD-QK-60LP10","Приборная рейка","Ш рейки x Ш шкафа 60 x 1000, для QA","1 / -",1.2,0.91800000000000004,10.11,{"$f":"VLOOKUP(B5884,#REF!,3,FALSE)","v":{"$error":"#REF!"}}]
["Distri","Distri","LR2","OEZ:17661","PD-QK-80LP10","Приборная рейка","Ш рейки x Ш шкафа 80 x 1000, для QA","1 / -",1.4,1.224,10.91,{"$f":"VLOOKUP(B5885,#REF!,3,FALSE)","v":{"$error":"#REF!"}}]
["Distri","Distri","LR2","OEZ:17662","PD-QK-100LP10","Приборная рейка","Ш рейки x Ш шкафа 100 x 1000, для QA","1 / -",1.6,1.53,12.72,{"$f":"VLOOKUP(B5886,#REF!,3,FALSE)","v":{"$error":"#REF!"}}]
["Distri","Distri","LR2","OEZ:17663","PD-QK-120LP10","Приборная рейка","Ш рейки x Ш шкафа 120 x 1000, для QA","1 / -",1.8,1.8360000000000001,13.37,{"$f":"VLOOKUP(B5887,#REF!,3,FALSE)","v":{"$error":"#REF!"}}]
["Distri","Distri","LR2","OEZ:17664","PD-QK-150LP10","Приборная рейка","Ш рейки x Ш шкафа 150 x 1000, для QA","1 / -",2,2.2949999999999999,14.32,{"$f":"VLOOKUP(B5888,#REF!,3,FALSE)","v":{"$error":"#REF!"}}]
["Distri","Distri","LR2","OEZ:17665","PD-QK-160LP10","Приборная рейка","Ш рейки x Ш шкафа 160 x 1000, для QA","1 / -",2.2000000000000002,2.448,12.36,{"$f":"VLOOKUP(B5889,#REF!,3,FALSE)","v":{"$error":"#REF!"}}]
["Distri","Distri","LR2","OEZ:17666","PD-QK-200LP10","Приборная рейка","Ш рейки x Ш шкафа 200 x 1000, для QA","1 / -",2.9,3.06,16.130000000000003,{"$f":"VLOOKUP(B5890,#REF!,3,FALSE)","v":{"$error":"#REF!"}}]
["Distri","Distri","LR2","OEZ:20739","PD-QK-80LP12","Приборная рейка","Ш рейки x Ш шкафа 80 x 1200, для QA","1 / -",1.6,1.496,13.52,{"$f":"VLOOKUP(B5891,#REF!,3,FALSE)","v":{"$error":"#REF!"}}]
["Distri","Distri","LR2","OEZ:20740","PD-QK-100LP12","Приборная рейка","Ш рейки x Ш шкафа 100 x 1200, для QA","1 / -",1.8,1.87,15.629999999999999,{"$f":"VLOOKUP(B5892,#REF!,3,FALSE)","v":{"$error":"#REF!"}}]
["Distri","Distri","LR2","OEZ:20741","PD-QK-160LP12","Приборная рейка","Ш рейки x Ш шкафа 160 x 1200, для QA","1 / -",2.4,2.992,18.09,{"$f":"VLOOKUP(B5893,#REF!,3,FALSE)","v":{"$error":"#REF!"}}]
["Distri","Distri","LR2","OEZ:20742","PD-QK-200LP12","Приборная рейка","Ш рейки x Ш шкафа 200 x 1200, для QA","1 / -",3.2,3.74,20.55,{"$f":"VLOOKUP(B5894,#REF!,3,FALSE)","v":{"$error":"#REF!"}}]
[null,null,null,"Level  5","PD-QK-DP1 - Подвижные держатели"]
["Distri","Distri","LR2","OEZ:20743","PD-QK-DP1","Подвижные держатели","комплект 2 шт., для QA","1 / -",0.4,0.315,12.72,{"$f":"VLOOKUP(B5896,#REF!,3,FALSE)","v":{"$error":"#REF!"}}]
[null,null,null,"Level  5","PD-QK-_LS_ - Рейки с зажимами"]
["Distri","Distri","LR2","OEZ:19738","PD-QK-60LSP06","Рейка с зажимами передняя","Ш рейки x Ш шкафа 60 x 600, для QA","1 / -",1,3,10.91,{"$f":"VLOOKUP(B5898,#REF!,3,FALSE)","v":{"$error":"#REF!"}}]
["Distri","Distri","LR2","OEZ:19739","PD-QK-60LSP08","Рейка с зажимами передняя","Ш рейки x Ш шкафа 60 x 800, для QA","1 / -",1.3,4.2,11.06,{"$f":"VLOOKUP(B5899,#REF!,3,FALSE)","v":{"$error":"#REF!"}}]
["Distri","Distri","LR2","OEZ:19740","PD-QK-60LSP10","Рейка с зажимами передняя","Ш рейки x Ш шкафа 60 x 1000, для QA","1 / -",1.6,5.4,12.72,{"$f":"VLOOKUP(B5900,#REF!,3,FALSE)","v":{"$error":"#REF!"}}]
["Distri","Distri","LR2","OEZ:19741","PD-QK-60LSZ06","Рейка с зажимами задняя","Ш рейки x Ш шкафа 60 x 600, для QA","1 / -",1,3.51,10.91,{"$f":"VLOOKUP(B5901,#REF!,3,FALSE)","v":{"$error":"#REF!"}}]
["Distri","Distri","LR2","OEZ:19742","PD-QK-60LSZ08","Рейка с зажимами задняя","Ш рейки x Ш шкафа 60 x 800, для QA","1 / -",1.3,4.9139999999999997,11.06,{"$f":"VLOOKUP(B5902,#REF!,3,FALSE)","v":{"$error":"#REF!"}}]
["Distri","Distri","LR2","OEZ:19743","PD-QK-60LSZ10","Рейка с зажимами задняя","Ш рейки x Ш шкафа 60 x 1000, для QA","1 / -",1.6,6.3179999999999996,12.72,{"$f":"VLOOKUP(B5903,#REF!,3,FALSE)","v":{"$error":"#REF!"}}]
[null,null,null,"Level  5","PD-QT-DS_ - Держатели блоков зажимов"]
["Distri","Distri","LR2","OEZ:19744","PD-QT-DSM","Держатель блоков зажимов","высота 90 mm, для QA","1 / -",0.2,0.22500000000000001,2.2899999999999996,{"$f":"VLOOKUP(B5905,#REF!,3,FALSE)","v":{"$error":"#REF!"}}]
["Distri","Distri","LR2","OEZ:19745","PD-QT-DSV","Держатель блоков зажимов","высота 160 mm, для QA","1 / -",0.35,0.4,2.94,{"$f":"VLOOKUP(B5906,#REF!,3,FALSE)","v":{"$error":"#REF!"}}]
[null,null,null,"Level  5","PD-QK-LKU_ - Рейки для держателей кабелей Sonap"]
["Distri","Distri","LR2","OEZ:20744","PD-QK-LKU06","Рейка для держателей кабелей Sonap","Ш шкафа 600 mm, для QA","1 / -",0.7,1.2270000000000001,11.56,{"$f":"VLOOKUP(B5908,#REF!,3,FALSE)","v":{"$error":"#REF!"}}]
["Distri","Distri","LR2","OEZ:20745","PD-QK-LKU08","Рейка для держателей кабелей Sonap","Ш шкафа 800 mm, для QA","1 / -",1,1.65,12.36,{"$f":"VLOOKUP(B5909,#REF!,3,FALSE)","v":{"$error":"#REF!"}}]
["Distri","Distri","LR2","OEZ:20746","PD-QK-LKU10","Рейка для держателей кабелей Sonap","Ш шкафа 1000 mm, для QA","1 / -",1.3,2.0739999999999998,13.37,{"$f":"VLOOKUP(B5910,#REF!,3,FALSE)","v":{"$error":"#REF!"}}]
["Distri","Distri","LR2","OEZ:20747","PD-QK-LKU12","Рейка для держателей кабелей Sonap","Ш шкафа 1200 mm, для QA","1 / -",1.6,2.4969999999999999,16.130000000000003,{"$f":"VLOOKUP(B5911,#REF!,3,FALSE)","v":{"$error":"#REF!"}}]
[null,null,null,"Level  5","PD-Q13-M_ - Модульные рейки"]
["Distri","Distri","LR2","OEZ:35816","PD-Q13-M17","Рейки","для модулярной системы, В 1800, комплект 2 шт., для QA","1 / -",11.2,8.1999999999999993,55.05,{"$f":"VLOOKUP(B5913,#REF!,3,FALSE)","v":{"$error":"#REF!"}}]
["Distri","Distri","LR2","OEZ:35817","PD-Q13-M19","Рейки","В 2000, комплект 2 шт., для QA","1 / -",12.2,9.1999999999999993,59.94,{"$f":"VLOOKUP(B5914,#REF!,3,FALSE)","v":{"$error":"#REF!"}}]
["Distri","Distri","LR2","OEZ:35818","PD-Q13-M21","Рейки","В 2200, комплект 2 шт., для QA","1 / -",13.1,10.199999999999999,68.92,{"$f":"VLOOKUP(B5915,#REF!,3,FALSE)","v":{"$error":"#REF!"}}]
["Distri","Distri","LR2","OEZ:35819","PD-Q13-M17A","Рейки","В 1800, для ARION, комплект 2 шт., для QA","1 / -",7.2,6.8,50.36,{"$f":"VLOOKUP(B5916,#REF!,3,FALSE)","v":{"$error":"#REF!"}}]
["Distri","Distri","LR2","OEZ:35820","PD-Q13-M19A","Рейки","В 2000, для ARION, комплект 2 шт., для QA","1 / -",7.8,7.6,57.83,{"$f":"VLOOKUP(B5917,#REF!,3,FALSE)","v":{"$error":"#REF!"}}]
["Distri","Distri","LR2","OEZ:35821","PD-Q13-M21A","Рейки","В 2200, для ARION, комплект 2 шт., для QA","1 / -",8.4,8.6999999999999993,63.699999999999996,{"$f":"VLOOKUP(B5918,#REF!,3,FALSE)","v":{"$error":"#REF!"}}]
[null,null,null,"Level  5","PD-Q13-KMK_ - Крайние крышки для модульной системы"]
["Distri","Distri","LR2","OEZ:36004","PD-Q13-KMM17","Крайняя крышка","вертикальное исполнение, для модулярной системы, В шкафа 1800 mm, для QA","1 / -",1.171,9.5879999999999992,27.69,{"$f":"VLOOKUP(B5920,#REF!,3,FALSE)","v":{"$error":"#REF!"}}]
["Distri","Distri","LR2","OEZ:36005","PD-Q13-KMM19","Крайняя крышка","вертикальное исполнение, для модулярной системы, В шкафа 2000 mm, для QA","1 / -",1.2969999999999999,10.72,28.430000000000003,{"$f":"VLOOKUP(B5921,#REF!,3,FALSE)","v":{"$error":"#REF!"}}]
["Distri","Distri","LR2","OEZ:36006","PD-Q13-KMM21","Крайняя крышка","вертикальное исполнение, для модулярной системы, В шкафа 2200 mm, для QA","1 / -",1.423,11.84,35.75,{"$f":"VLOOKUP(B5922,#REF!,3,FALSE)","v":{"$error":"#REF!"}}]
["Distri","Distri","LR2","OEZ:35846","PD-Q13-KMK06","Крышки","комплект верхний и нижний, для модулярной системы, Ш шкафа 600, для QA","1 / -",0.31,1.4359999999999999,18.09,{"$f":"VLOOKUP(B5923,#REF!,3,FALSE)","v":{"$error":"#REF!"}}]
["Distri","Distri","LR2","OEZ:35847","PD-Q13-KMK08","Крышки","комплект верхний и нижний, для модулярной системы, Ш шкафа 800, для QA","1 / -",0.44,1.931,21.82,{"$f":"VLOOKUP(B5924,#REF!,3,FALSE)","v":{"$error":"#REF!"}}]
["Distri","Distri","LR2","OEZ:35848","PD-Q13-KMK10","Крышки","комплект верхний и нижний, для модулярной системы, Ш шкафа 1000, для QA","1 / -",0.55000000000000004,2.4260000000000002,21.76,{"$f":"VLOOKUP(B5925,#REF!,3,FALSE)","v":{"$error":"#REF!"}}]
["Distri","Distri","LR2","OEZ:35849","PD-Q13-KMK12","Крышки","комплект верхний и нижний, для модулярной системы, Ш шкафа 1200, для QA","1 / -",0.7,2.9209999999999998,23.630000000000003,{"$f":"VLOOKUP(B5926,#REF!,3,FALSE)","v":{"$error":"#REF!"}}]
[null,null,null,"Level  5","PD-Q13-KMV_ - Крышки для модульных приборов с прорезью"]
["Distri","Distri","LR2","OEZ:35822","PD-Q13-KMV01506","Крышкa","для модулярной системы, с прорезью, В крышки x Ш шкафа 150 x 600, для QA","1 / -",0.23,1.63,12.48,{"$f":"VLOOKUP(B5928,#REF!,3,FALSE)","v":{"$error":"#REF!"}}]
["Distri","Distri","LR2","OEZ:35823","PD-Q13-KMV01508","Крышкa","для модулярной системы, с прорезью, В крышки x Ш шкафа 150 x 800, для QA","1 / -",0.27,2.2200000000000002,14.17,{"$f":"VLOOKUP(B5929,#REF!,3,FALSE)","v":{"$error":"#REF!"}}]
["Distri","Distri","LR2","OEZ:35824","PD-Q13-KMV01510","Крышкa","для модулярной системы, с прорезью, В крышки x Ш шкафа 150 x 1000, для QA","1 / -",0.34,2.84,17.260000000000002,{"$f":"VLOOKUP(B5930,#REF!,3,FALSE)","v":{"$error":"#REF!"}}]
["Distri","Distri","LR2","OEZ:35825","PD-Q13-KMV01512","Крышкa","для модулярной системы, с прорезью, В крышки x Ш шкафа 150 x 1200, для QA","1 / -",0.44,3.42,21.82,{"$f":"VLOOKUP(B5931,#REF!,3,FALSE)","v":{"$error":"#REF!"}}]
["Distri","Distri","LR2","OEZ:35826","PD-Q13-KMV0206","Крышкa","для модулярной системы, с прорезью, В крышки x Ш шкафа 200 x 600, для QA","1 / -",0.3,2.2000000000000002,13.52,{"$f":"VLOOKUP(B5932,#REF!,3,FALSE)","v":{"$error":"#REF!"}}]
["Distri","Distri","LR2","OEZ:35827","PD-Q13-KMV0208","Крышкa","для модулярной системы, с прорезью, В крышки x Ш шкафа 200 x 800, для QA","1 / -",0.45,3,15.629999999999999,{"$f":"VLOOKUP(B5933,#REF!,3,FALSE)","v":{"$error":"#REF!"}}]
["Distri","Distri","LR2","OEZ:35828","PD-Q13-KMV0210","Крышкa","для модулярной системы, с прорезью, В крышки x Ш шкафа 200 x 1000, для QA","1 / -",0.59,3.8,23.270000000000003,{"$f":"VLOOKUP(B5934,#REF!,3,FALSE)","v":{"$error":"#REF!"}}]
["Distri","Distri","LR2","OEZ:35829","PD-Q13-KMV0212","Крышкa","для модулярной системы, с прорезью, В крышки x Ш шкафа 200 x 1200, для QA","1 / -",0.74,4.5999999999999996,27.360000000000003,{"$f":"VLOOKUP(B5935,#REF!,3,FALSE)","v":{"$error":"#REF!"}}]
[null,null,null,"Level  5","PD-Q13-KM0_ - Крышки для модульных приборов без прорези"]
["Distri","Distri","LR2","OEZ:35830","PD-Q13-KM01506","Крышкa","для модулярной системы, без прорези, В крышки x Ш шкафа 150 x 600, для QA","1 / -",0.25,1.63,12.57,{"$f":"VLOOKUP(B5937,#REF!,3,FALSE)","v":{"$error":"#REF!"}}]
["Distri","Distri","LR2","OEZ:35831","PD-Q13-KM01508","Крышкa","для модулярной системы, без прорези, В крышки x Ш шкафа 150 x 800, для QA","1 / -",0.33,2.2200000000000002,12.22,{"$f":"VLOOKUP(B5938,#REF!,3,FALSE)","v":{"$error":"#REF!"}}]
["Distri","Distri","LR2","OEZ:35832","PD-Q13-KM01510","Крышкa","для модулярной системы, без прорези, В крышки x Ш шкафа 150 x 1000, для QA","1 / -",0.48,2.84,17.760000000000002,{"$f":"VLOOKUP(B5939,#REF!,3,FALSE)","v":{"$error":"#REF!"}}]
["Distri","Distri","LR2","OEZ:35833","PD-Q13-KM01512","Крышкa","для модулярной системы, без прорези, В крышки x Ш шкафа 150 x 1200, для QA","1 / -",0.56000000000000005,3.42,19.720000000000002,{"$f":"VLOOKUP(B5940,#REF!,3,FALSE)","v":{"$error":"#REF!"}}]
["Distri","Distri","LR2","OEZ:35834","PD-Q13-KM02006","Крышкa","для модулярной системы, без прорези, В крышки x Ш шкафа 200 x 600, для QA","1 / -",0.33,2.2000000000000002,12.22,{"$f":"VLOOKUP(B5941,#REF!,3,FALSE)","v":{"$error":"#REF!"}}]
["Distri","Distri","LR2","OEZ:35835","PD-Q13-KM02008","Крышкa","для модулярной системы, без прорези, В крышки x Ш шкафа 200 x 800, для QA","1 / -",0.48,3,14.59,{"$f":"VLOOKUP(B5942,#REF!,3,FALSE)","v":{"$error":"#REF!"}}]
["Distri","Distri","LR2","OEZ:35836","PD-Q13-KM02010","Крышкa","для модулярной системы, без прорези, В крышки x Ш шкафа 200 x 1000, для QA","1 / -",0.62,3.8,16.57,{"$f":"VLOOKUP(B5943,#REF!,3,FALSE)","v":{"$error":"#REF!"}}]
["Distri","Distri","LR2","OEZ:35837","PD-Q13-KM02012","Крышкa","для модулярной системы, без прорези, В крышки x Ш шкафа 200 x 1200, для QA","1 / -",0.76,4.5999999999999996,19.720000000000002,{"$f":"VLOOKUP(B5944,#REF!,3,FALSE)","v":{"$error":"#REF!"}}]
["Distri","Distri","LR2","OEZ:35838","PD-Q13-KM03006","Крышкa","для модулярной системы, без прорези, В крышки x Ш шкафа 300 x 600, для QA","1 / -",0.46,3.3,14.799999999999999,{"$f":"VLOOKUP(B5945,#REF!,3,FALSE)","v":{"$error":"#REF!"}}]
["Distri","Distri","LR2","OEZ:35839","PD-Q13-KM03008","Крышкa","для модулярной системы, без прорези, В крышки x Ш шкафа 300 x 800, для QA","1 / -",0.64,4.5,16.600000000000001,{"$f":"VLOOKUP(B5946,#REF!,3,FALSE)","v":{"$error":"#REF!"}}]
["Distri","Distri","LR2","OEZ:35840","PD-Q13-KM03010","Крышкa","для модулярной системы, без прорези, В крышки x Ш шкафа 300 x 1000, для QA","1 / -",0.95,5.7,20.55,{"$f":"VLOOKUP(B5947,#REF!,3,FALSE)","v":{"$error":"#REF!"}}]
["Distri","Distri","LR2","OEZ:35841","PD-Q13-KM03012","Крышкa","для модулярной системы, без прорези, В крышки x Ш шкафа 300 x 1200, для QA","1 / -",1.06,6.9,33.409999999999997,{"$f":"VLOOKUP(B5948,#REF!,3,FALSE)","v":{"$error":"#REF!"}}]
["Distri","Distri","LR2","OEZ:35842","PD-Q13-KM04506","Крышкa","для модулярной системы, без прорези, В крышки x Ш шкафа 450 x 600, для QA","1 / -",0.92,4.95,23.48,{"$f":"VLOOKUP(B5949,#REF!,3,FALSE)","v":{"$error":"#REF!"}}]
["Distri","Distri","LR2","OEZ:35843","PD-Q13-KM04508","Крышкa","для модулярной системы, без прорези, В крышки x Ш шкафа 450 x 800, для QA","1 / -",1.3,6.75,20.84,{"$f":"VLOOKUP(B5950,#REF!,3,FALSE)","v":{"$error":"#REF!"}}]
["Distri","Distri","LR2","OEZ:35844","PD-Q13-KM04510","Крышкa","для модулярной системы, без прорези, В крышки x Ш шкафа 450 x 1000, для QA","1 / -",1.8,8.5500000000000007,26.21,{"$f":"VLOOKUP(B5951,#REF!,3,FALSE)","v":{"$error":"#REF!"}}]
["Distri","Distri","LR2","OEZ:35845","PD-Q13-KM04512","Крышкa","для модулярной системы, без прорези, В крышки x Ш шкафа 450 x 1200, для QA","1 / -",2.2000000000000002,10.35,35.839999999999996,{"$f":"VLOOKUP(B5952,#REF!,3,FALSE)","v":{"$error":"#REF!"}}]
[null,null,null,"Level  5","PD-Q03-SPC_ - Комплекты для соединения шкафов"]
["Distri","Distri","LR2","OEZ:19749","PD-Q03-SPC18","Комплект для соединения шкафов","для шкафа В 1800, для QA","1 / -",1.35,0.78,28.990000000000002,{"$f":"VLOOKUP(B5954,#REF!,3,FALSE)","v":{"$error":"#REF!"}}]
["Distri","Distri","LR2","OEZ:19750","PD-Q03-SPC20","Комплект для соединения шкафов","для шкафа В 2000, для QA","1 / -",1.35,0.78,28.990000000000002,{"$f":"VLOOKUP(B5955,#REF!,3,FALSE)","v":{"$error":"#REF!"}}]
["Distri","Distri","LR2","OEZ:19751","PD-Q03-SPC22","Комплект для соединения шкафов","для шкафа В 2200, для QA","1 / -",1.35,0.78,28.990000000000002,{"$f":"VLOOKUP(B5956,#REF!,3,FALSE)","v":{"$error":"#REF!"}}]
["Distri","Distri","LR2","OEZ:35850","PD-Q13-SPC18K","Комплект для соединения шкафов","для шкафа В 1800, клин, для QA","1 / -",0.28000000000000003,0.5,75.910000000000011,{"$f":"VLOOKUP(B5957,#REF!,3,FALSE)","v":{"$error":"#REF!"}}]
["Distri","Distri","LR2","OEZ:35851","PD-Q13-SPC20K","Комплект для соединения шкафов","для шкафа В 2000, клин, для QA","1 / -",0.28000000000000003,0.5,75.910000000000011,{"$f":"VLOOKUP(B5958,#REF!,3,FALSE)","v":{"$error":"#REF!"}}]
["Distri","Distri","LR2","OEZ:35852","PD-Q13-SPC22K","Комплект для соединения шкафов","для шкафа В 2200, клин, для QA","1 / -",0.28000000000000003,0.5,75.910000000000011,{"$f":"VLOOKUP(B5959,#REF!,3,FALSE)","v":{"$error":"#REF!"}}]
[null,null,null,"Level  5","PD-Q03-4ZO12 - Подвесные петли"]
["Distri","Distri","LR2","OEZ:19780","PD-Q03-4ZO12","Подвесные петли","резьба M12, комплект 4 шт., для QA","1 / -",1.21,0.36,26.59,{"$f":"VLOOKUP(B5961,#REF!,3,FALSE)","v":{"$error":"#REF!"}}]
[null,null,null,"Level  5","PD-Q_-AD_ - Фиксации дверцы"]
["Distri","Distri","LR2","OEZ:37166","PD-Q13-AD160","Фиксация дверцы","угол открытия 160°, для QA","1 / -",0.27,0.2,18.09,{"$f":"VLOOKUP(B5963,#REF!,3,FALSE)","v":{"$error":"#REF!"}}]
[null,null,null,"Level  5","PD-QK-U_ - Замки"]
["Distri","Distri","LR2","OEZ:20748","PD-QK-UVD","Замок","вставка \"D\" для откидной ручки, для QA","1 / -",0.05,3.2000000000000001E-2,11.92,{"$f":"VLOOKUP(B5965,#REF!,3,FALSE)","v":{"$error":"#REF!"}}]
["Distri","Distri","LR2","OEZ:20749","PD-QK-UVZ","Замок","вставка для запирания для откидной ручки, для QA","1 / -",0.04,3.2000000000000001E-2,15.629999999999999,{"$f":"VLOOKUP(B5966,#REF!,3,FALSE)","v":{"$error":"#REF!"}}]
["Distri","Distri","LR2","OEZ:17454","PD-QK-UBD","Ключ","Ключ D, для QA, NP","1 / -",0.05,0.09,1.96,{"$f":"VLOOKUP(B5967,#REF!,3,FALSE)","v":{"$error":"#REF!"}}]
["Distri","Distri","LR2","OEZ:17455","PD-QK-UBB5","Ключ","Ключ DB5, для QA, NP","1 / -",0.04,4.1000000000000002E-2,2.61,{"$f":"VLOOKUP(B5968,#REF!,3,FALSE)","v":{"$error":"#REF!"}}]
[null,null,null,"Level  5","PD-QK-M_ - Клеточные гайки"]
["Distri","Distri","LR2","OEZ:17432","PD-QK-M6","Прямоугольная гайка","резьба M6, для QA","1 / -",5.0000000000000001E-3,2E-3,0.36,{"$f":"VLOOKUP(B5970,#REF!,3,FALSE)","v":{"$error":"#REF!"}}]
["Distri","Distri","LR2","OEZ:17433","PD-QK-M8","Прямоугольная гайка","резьба M8, для QA","1 / -",8.0000000000000002E-3,3.0000000000000001E-3,0.54,{"$f":"VLOOKUP(B5971,#REF!,3,FALSE)","v":{"$error":"#REF!"}}]
["Distri","Distri","LR2","OEZ:17434","PD-QK-M10","Прямоугольная гайка","резьба M10, для QA","1 / -",0.01,6.0000000000000001E-3,0.81,{"$f":"VLOOKUP(B5972,#REF!,3,FALSE)","v":{"$error":"#REF!"}}]
[null,null,null,"Level  5","PD-QK-DVA_ - Ящики"]
["Distri","Distri","LR2","OEZ:34377","PD-QK-DVA4PS","Ящик","пластмасса, прикрепление - самоклеящаяся лента, A4, для QA","1 / -",0.15,2.3650000000000002,11.06,{"$f":"VLOOKUP(B5974,#REF!,3,FALSE)","v":{"$error":"#REF!"}}]
["Distri","Distri","LR2","OEZ:35854","PD-QK-DVA06","Ящик","листовая сталь, для шкафа Ш 600 mm, для QA","1 / -",0.15,2.3650000000000002,63.35,{"$f":"VLOOKUP(B5975,#REF!,3,FALSE)","v":{"$error":"#REF!"}}]
["Distri","Distri","LR2","OEZ:35855","PD-QK-DVA08","Ящик","листовая сталь, для шкафа Ш 800 mm, для QA","1 / -",0.15,2.3650000000000002,73.33,{"$f":"VLOOKUP(B5976,#REF!,3,FALSE)","v":{"$error":"#REF!"}}]
[null,null,null,"Level  5","PD-Q13-DSK - Держатели дверного выключателя"]
["Distri","Distri","LR2","OEZ:35853","PD-Q13-DSK","Держатель дверного выключателя","для QA","1 / -",0.2,0.12,3.09,{"$f":"VLOOKUP(B5978,#REF!,3,FALSE)","v":{"$error":"#REF!"}}]
[null,null,null,"Level  5","PD-QK-SK11 - Дверные выключатели"]
["Distri","Distri","LR2","OEZ:20751","PD-QK-SK11","Дверной выключатель ","для QA","1 / -",0.1,0.128,43.96,{"$f":"VLOOKUP(B5980,#REF!,3,FALSE)","v":{"$error":"#REF!"}}]
[null,null,null,"Level  5","PD-QK-OSL - Лампы"]
["Distri","Distri","LR2","OEZ:44377","PD-Q13-OSL","Лампа","для QA","1 / -",0.24,0.86599999999999999,70.7,{"$f":"VLOOKUP(B5982,#REF!,3,FALSE)","v":{"$error":"#REF!"}}]
[null,null,null,"Level  5","PD-Z - Крышки на дверцу"]
[null,null,null,"Level  5","PD-R - Заглушки"]
["Distri","Distri","LR1","OEZ:39354","PD-R-ZAS1000-S","Заглушка","ширина 1000 mm ( ширина 55 модулей ), серый цвет, для DZ, DN, NP, QA","1 / -",0.14199999999999999,0.20399999999999999,11.92,{"$f":"VLOOKUP(B5985,#REF!,3,FALSE)","v":{"$error":"#REF!"}}]
[null,null,null,"Level  5","PD-QA - Остальные принадлежности"]
["Distri","Distri","LR2","OEZ:20407","PD-QK-ARAL7035","Лак для исправления покраски","RAL7035, Нитро, Аэрозоль ,400 g, для QA, NP","1 / -",0.43,0.94099999999999995,13.22,{"$f":"VLOOKUP(B5987,#REF!,3,FALSE)","v":{"$error":"#REF!"}}]
["Distri","Distri","LR2","OEZ:33786","PD-QK-D1M51","Дистанционные столбики","резьба M5, высота 19 mm, комплект 10 шт., для QA, NP","1 / -",0.23200000000000001,0.35699999999999998,11.09,{"$f":"VLOOKUP(B5988,#REF!,3,FALSE)","v":{"$error":"#REF!"}}]
["Distri","Distri","LR2","OEZ:33789","PD-QK-D1M61","Дистанционные столбики","резьба M6, высота 19 mm, комплект 10 шт., для QA, NP","1 / -",0.28000000000000003,0.35699999999999998,11.56,{"$f":"VLOOKUP(B5989,#REF!,3,FALSE)","v":{"$error":"#REF!"}}]
["Distri","Distri","LR2","OEZ:33791","PD-QK-D1M81","Дистанционные столбики","резьба M8, высота 19 mm, комплект 10 шт., для QA, NP","1 / -",0.437,0.35699999999999998,12.36,{"$f":"VLOOKUP(B5990,#REF!,3,FALSE)","v":{"$error":"#REF!"}}]
["Distri","Distri","LR2","OEZ:33787","PD-QK-D1M52","Дистанционные столбики","резьба M5, высота 22 mm, комплект 10 шт., для QA, NP","1 / -",0.25800000000000001,0.35699999999999998,10.379999999999999,{"$f":"VLOOKUP(B5991,#REF!,3,FALSE)","v":{"$error":"#REF!"}}]
["Distri","Distri","LR2","OEZ:33790","PD-QK-D1M62","Дистанционные столбики","резьба M6, высота 22 mm, комплект 10 шт., для QA, NP","1 / -",0.30499999999999999,0.35699999999999998,12.34,{"$f":"VLOOKUP(B5992,#REF!,3,FALSE)","v":{"$error":"#REF!"}}]
["Distri","Distri","LR2","OEZ:33792","PD-QK-D1M82","Дистанционные столбики","резьба M8, высота 22 mm, комплект 10 шт., для QA, NP","1 / -",0.46899999999999997,0.35699999999999998,14.709999999999999,{"$f":"VLOOKUP(B5993,#REF!,3,FALSE)","v":{"$error":"#REF!"}}]
[null,null,null,"Level  4","ND-Q_ - Запасные части"]
["Distri","Distri","LR2","OEZ:45484","ND-Q13-PD","Петля","петля двери для QA, соединительный материал, 1 шт.","1 / -",0.15,0.05,10.879999999999999,{"$f":"VLOOKUP(B5995,#REF!,3,FALSE)","v":{"$error":"#REF!"}}]
["Distri","Distri","LR2","OEZ:45485","ND-Q13-ZT","Фиксатор тяг","фиксатор тяг запирание для QA, соединительный материал, 1 шт.","1 / -",0.02,2.5000000000000001E-2,3.6199999999999997,{"$f":"VLOOKUP(B5996,#REF!,3,FALSE)","v":{"$error":"#REF!"}}]
["Distri","Distri","LR2","OEZ:45486","ND-Q13-UMECH","Механизм","механизм запирания для QA, соединительный материал","1 / -",0.1,0.03,19.690000000000001,{"$f":"VLOOKUP(B5997,#REF!,3,FALSE)","v":{"$error":"#REF!"}}]
["Distri","Distri","LR2","OEZ:45487","ND-Q13-UVED","Направляющие тяг","направляющие тяг запирание для QA, комплект 2 пластмассовые детали и гайка","1 / -",0.1,0.03,6.29,{"$f":"VLOOKUP(B5998,#REF!,3,FALSE)","v":{"$error":"#REF!"}}]
["Distri","Distri","LR2","OEZ:37848","ND-Q13-UK","Откидная ручка","откидная ручка для QA, 1 шт., без вставки","1 / -",0.1,0.03,26,{"$f":"VLOOKUP(B5999,#REF!,3,FALSE)","v":{"$error":"#REF!"}}]
["Distri","Distri","LR2","OEZ:38751","ND-Q13-UVDB5","Замок","вставка DB5 для откидной ручки, для QA","1 / -",0.08,0.06,11.56,{"$f":"VLOOKUP(B6000,#REF!,3,FALSE)","v":{"$error":"#REF!"}}]
["Distri","Distri","LR2","OEZ:41368","ND-Q13-DZK","Держатель","держатель задной крышки для QA, соединительный материал, комплект 1 шт.","1 / -",0,0,3.1799999999999997,{"$f":"VLOOKUP(B6001,#REF!,3,FALSE)","v":{"$error":"#REF!"}}]
["Distri","Distri","LR2","OEZ:34171","ND-Q13-DA1","Держатель","держатель монтажной панели для QA, соединительный материал, комплект 4 шт.","1 / -",1.7,2.4,33.909999999999997,{"$f":"VLOOKUP(B6002,#REF!,3,FALSE)","v":{"$error":"#REF!"}}]
["Distri","Distri","LR2","OEZ:39237","ND-Q11-KH0604","Крышкa","верхняя крышка , IP55, для QA55(40)-..0604","1 / -",0.5,7.2,42.419999999999995,{"$f":"VLOOKUP(B6003,#REF!,3,FALSE)","v":{"$error":"#REF!"}}]
["Distri","Distri","LR2","OEZ:39248","ND-Q11-KH0605","Крышкa","верхняя крышка , IP55, для QA55(40)-..0605","1 / -",0.6,7.8,46.69,{"$f":"VLOOKUP(B6004,#REF!,3,FALSE)","v":{"$error":"#REF!"}}]
["Distri","Distri","LR2","OEZ:41360","ND-Q11-KH0606","Крышкa","верхняя крышка , IP55, для QA55(40)-..0606","1 / -",0.7,8,51.93,{"$f":"VLOOKUP(B6005,#REF!,3,FALSE)","v":{"$error":"#REF!"}}]
["Distri","Distri","LR2","OEZ:43053","ND-Q11-KH0804","Крышкa","верхняя крышка , IP55, для QA55(40)-..0804","1 / -",0.7,9.6,55.669999999999995,{"$f":"VLOOKUP(B6006,#REF!,3,FALSE)","v":{"$error":"#REF!"}}]
["Distri","Distri","LR2","OEZ:45712","ND-Q11-KH0805","Крышкa","верхняя крышка , IP55, для QA55(40)-..0805","1 / -",4.0999999999999996,18,68.210000000000008,{"$f":"VLOOKUP(B6007,#REF!,3,FALSE)","v":{"$error":"#REF!"}}]
["Distri","Distri","LR2","OEZ:39857","ND-Q11-KH0808","Крышкa","верхняя крышка , IP55, для QA55(40)-..0808","1 / -",0.6,9,77.070000000000007,{"$f":"VLOOKUP(B6008,#REF!,3,FALSE)","v":{"$error":"#REF!"}}]
["Distri","Distri","LR2","OEZ:41507","ND-Q11-KH0806","Крышкa","верхняя крышка , IP55, для QA55(40)-..0806","1 / -",4.0999999999999996,18,70.070000000000007,{"$f":"VLOOKUP(B6009,#REF!,3,FALSE)","v":{"$error":"#REF!"}}]
["Distri","Distri","LR2","OEZ:41535","ND-Q11-KH1004","Крышкa","верхняя крышка , IP55, для QA55(40)-..1004, комплект 2 шт.","1 / -",3.2,19,88.54,{"$f":"VLOOKUP(B6010,#REF!,3,FALSE)","v":{"$error":"#REF!"}}]
["Distri","Distri","LR2","OEZ:44571","ND-Q11-KH1005","Крышкa","верхняя крышка , IP55, для QA55(40)-..1005, комплект 2 шт.","1 / -",3.2,19,97.4,{"$f":"VLOOKUP(B6011,#REF!,3,FALSE)","v":{"$error":"#REF!"}}]
["Distri","Distri","LR2","OEZ:43849","ND-Q11-KH1006","Крышкa","верхняя крышка , IP55, для QA55(40)-..1006, комплект 2 шт.","1 / -",2.5,4.8,107.15,{"$f":"VLOOKUP(B6012,#REF!,3,FALSE)","v":{"$error":"#REF!"}}]
[null,null,null,"Level  2","Системы сборных шин"]
[null,null,null,"Level  3","PD-QK_ - Держатели и изоляторы"]
[null,null,null,"Level  4","PD-QK-DELTA_ - Держатели сборных шин"]
["Distri","Distri","LR2","OEZ:17445","PD-QK-DELTA110","Держатель шинной системы","3-фаз., для 1 сборной шины на фазу, толщина сборных шин 10 mm, Г шкафа >400 mm, для QA","1 / -",1.5,1.9990000000000001,61.12,{"$f":"VLOOKUP(B6016,#REF!,3,FALSE)","v":{"$error":"#REF!"}}]
["Distri","Distri","LR2","OEZ:17446","PD-QK-DELTA210","Держатель шинной системы","3-фаз., для 2 сборных шин на фазу, толщина сборных шин 10 mm, Г шкафа >400 mm, для QA","1 / -",1.45,1.9990000000000001,61.12,{"$f":"VLOOKUP(B6017,#REF!,3,FALSE)","v":{"$error":"#REF!"}}]
["Distri","Distri","LR2","OEZ:17447","PD-QK-DELTA310","Держатель шинной системы","3-фаз., для 3 сборных шин на фазу, толщина сборных шин 10 mm, Г шкафа >400 mm, для QA","1 / -",1.4,1.9990000000000001,61.12,{"$f":"VLOOKUP(B6018,#REF!,3,FALSE)","v":{"$error":"#REF!"}}]
["Distri","Distri","LR2","OEZ:35856","PD-QK-DELTA110/10","Держатель шинной системы","3-фаз., для 1 сборной шины на фазу, толщина сборных шин 10 mm, Г шкафа >400 mm, для QA, количество комплектов 10","1 / -",15,19.986999999999998,594.46,{"$f":"VLOOKUP(B6019,#REF!,3,FALSE)","v":{"$error":"#REF!"}}]
["Distri","Distri","LR2","OEZ:35857","PD-QK-DELTA210/10","Держатель шинной системы","3-фаз., для 2 сборных шин на фазу, толщина сборных шин 10 mm, Г шкафа >400 mm, количество комплектов 10, для QA","1 / -",14.5,19.986999999999998,594.46,{"$f":"VLOOKUP(B6020,#REF!,3,FALSE)","v":{"$error":"#REF!"}}]
["Distri","Distri","LR2","OEZ:35858","PD-QK-DELTA310/10","Держатель шинной системы","3-фаз., для 3 сборных шин на фазу, толщина сборных шин 10 mm, Г шкафа >400 mm, количество комплектов 10, для QA","1 / -",14,19.986999999999998,594.46,{"$f":"VLOOKUP(B6021,#REF!,3,FALSE)","v":{"$error":"#REF!"}}]
["Distri","Distri","LR2","OEZ:20159","PD-QK-SV270","Болты для держателей сборных шин","длина 270 mm, для PD-QK-DELTA110 (210,310), комплект 2 шт.","1 / -",0.16,5.3999999999999999E-2,4.3599999999999994,{"$f":"VLOOKUP(B6022,#REF!,3,FALSE)","v":{"$error":"#REF!"}}]
["Distri","Distri","LR2","OEZ:20752","PD-QK-DELTA110C","Держатель шинной системы","3-фаз., для 1 сборной шины на фазу, толщина сборных шин 10 mm, для QA","1 / -",1.1000000000000001,0.67200000000000004,42.36,{"$f":"VLOOKUP(B6023,#REF!,3,FALSE)","v":{"$error":"#REF!"}}]
["Distri","Distri","LR2","OEZ:20753","PD-QK-DELTA210C","Держатель шинной системы","3-фаз., для 2 сборных шин на фазу, толщина сборных шин 10 mm, для QA","1 / -",1.1000000000000001,0.67200000000000004,42.39,{"$f":"VLOOKUP(B6024,#REF!,3,FALSE)","v":{"$error":"#REF!"}}]
["Distri","Distri","LR2","OEZ:20754","PD-QK-DELTA305C","Держатель шинной системы","3-фаз., для 3 сборных шин на фазу, толщина сборных шин 5 mm, для QA","1 / -",1.1000000000000001,0.67200000000000004,47.22,{"$f":"VLOOKUP(B6025,#REF!,3,FALSE)","v":{"$error":"#REF!"}}]
["Distri","Distri","LR2","OEZ:20755","PD-QK-DS30","Монтажный комплект","для сборных шин В 30 mm, для PD-QK-DELTA...C","1 / -",0.3,0.13600000000000001,9.4599999999999991,{"$f":"VLOOKUP(B6026,#REF!,3,FALSE)","v":{"$error":"#REF!"}}]
["Distri","Distri","LR2","OEZ:20756","PD-QK-DS40","Монтажный комплект","для сборных шин В 40 mm, для PD-QK-DELTA...C","1 / -",0.3,0.13600000000000001,9.4599999999999991,{"$f":"VLOOKUP(B6027,#REF!,3,FALSE)","v":{"$error":"#REF!"}}]
["Distri","Distri","LR2","OEZ:20757","PD-QK-DS50","Монтажный комплект","для сборных шин В 50 mm, для PD-QK-DELTA...C","1 / -",0.3,0.13600000000000001,9.4599999999999991,{"$f":"VLOOKUP(B6028,#REF!,3,FALSE)","v":{"$error":"#REF!"}}]
["Distri","Distri","LR2","OEZ:20758","PD-QK-DS60","Монтажный комплект","для сборных шин В 60 mm, для PD-QK-DELTA...C","1 / -",0.3,0.13600000000000001,9.4599999999999991,{"$f":"VLOOKUP(B6029,#REF!,3,FALSE)","v":{"$error":"#REF!"}}]
["Distri","Distri","LR2","OEZ:20759","PD-QK-DS80","Монтажный комплект","для сборных шин В 80 mm, для PD-QK-DELTA...C","1 / -",0.3,0.13600000000000001,9.4599999999999991,{"$f":"VLOOKUP(B6030,#REF!,3,FALSE)","v":{"$error":"#REF!"}}]
["Distri","Distri","LR2","OEZ:20760","PD-QK-DS100","Монтажный комплект","для сборных шин В 100 mm, для PD-QK-DELTA...C","1 / -",0.3,0.13600000000000001,9.4599999999999991,{"$f":"VLOOKUP(B6031,#REF!,3,FALSE)","v":{"$error":"#REF!"}}]
["Distri","Distri","LR2","OEZ:20761","PD-QK-DS120","Монтажный комплект","для сборных шин В 120 mm, для PD-QK-DELTA...C","1 / -",0.3,0.13600000000000001,9.4599999999999991,{"$f":"VLOOKUP(B6032,#REF!,3,FALSE)","v":{"$error":"#REF!"}}]
[null,null,null,"Level  4","PD-Q13-_LBD_ - Рейки для установки держателей DELTA"]
["Distri","Distri","LR2","OEZ:37167","PD-Q13-45LBD04","Рейка","для установки держателей DELTA, толщина сборных шин 10 mm, В рейки x Г шкафа 40 x 400, для QA","1 / -",1.5,1.0669999999999999,13.19,{"$f":"VLOOKUP(B6034,#REF!,3,FALSE)","v":{"$error":"#REF!"}}]
["Distri","Distri","LR2","OEZ:37168","PD-Q13-45LBD05","Рейка","для установки держателей DELTA, толщина сборных шин 10 mm, В рейки x Г шкафа 40 x 500, для QA","1 / -",2,1.337,14.17,{"$f":"VLOOKUP(B6035,#REF!,3,FALSE)","v":{"$error":"#REF!"}}]
["Distri","Distri","LR2","OEZ:37169","PD-Q13-45LBD06","Рейка","для установки держателей DELTA, толщина сборных шин 10 mm, В рейки x Г шкафа 40 x 600, для QA","1 / -",1,0.79700000000000004,15.299999999999999,{"$f":"VLOOKUP(B6036,#REF!,3,FALSE)","v":{"$error":"#REF!"}}]
["Distri","Distri","LR2","OEZ:37170","PD-Q13-45LBD08","Рейка","для установки держателей DELTA, толщина сборных шин 10 mm, В рейки x Г шкафа 40 x 800, для QA","1 / -",1.5,1.0669999999999999,16.310000000000002,{"$f":"VLOOKUP(B6037,#REF!,3,FALSE)","v":{"$error":"#REF!"}}]
["Distri","Distri","LR2","OEZ:37171","PD-Q13-45LBD10","Рейка","для установки держателей DELTA, толщина сборных шин 10 mm, В рейки x Г шкафа 40 x 1000, для QA","1 / -",2,1.337,17.91,{"$f":"VLOOKUP(B6038,#REF!,3,FALSE)","v":{"$error":"#REF!"}}]
["Distri","Distri","LR2","OEZ:45511","PD-Q13-65LBD04","Рейка","для установки держателей DELTA, толщина сборных шин 10 mm, В рейки x Г шкафа 65 x 400, для QA","1 / -",0.7,0.98,15.65,{"$f":"VLOOKUP(B6039,#REF!,3,FALSE)","v":{"$error":"#REF!"}}]
["Distri","Distri","LR2","OEZ:45512","PD-Q13-65LBD05","Рейка","для установки держателей DELTA, толщина сборных шин 10 mm, В рейки x Г шкафа 65 x 500, для QA","1 / -",0.9,1.2250000000000001,16.720000000000002,{"$f":"VLOOKUP(B6040,#REF!,3,FALSE)","v":{"$error":"#REF!"}}]
["Distri","Distri","LR2","OEZ:45513","PD-Q13-65LBD06","Рейка","для установки держателей DELTA, толщина сборных шин 10 mm, В рейки x Г шкафа 65 x 600, для QA","1 / -",1.1000000000000001,1.47,18.14,{"$f":"VLOOKUP(B6041,#REF!,3,FALSE)","v":{"$error":"#REF!"}}]
["Distri","Distri","LR2","OEZ:45514","PD-Q13-65LBD08","Рейка","для установки держателей DELTA, толщина сборных шин 10 mm, В рейки x Г шкафа 65 x 800, для QA","1 / -",1.3,1.96,19.360000000000003,{"$f":"VLOOKUP(B6042,#REF!,3,FALSE)","v":{"$error":"#REF!"}}]
["Distri","Distri","LR2","OEZ:45515","PD-Q13-65LBD10","Рейка","для установки держателей DELTA, толщина сборных шин 10 mm, В рейки x Г шкафа 65 x 1000, для QA","1 / -",1.5,2.4500000000000002,21.32,{"$f":"VLOOKUP(B6043,#REF!,3,FALSE)","v":{"$error":"#REF!"}}]
["Distri","Distri","LR2","OEZ:38558","PD-QK-MLBD","Стопорная шайба","для PD-Q13-..LBD..., PD-QK-DELTA...C, комплект 10 шт.","1 / -",0.3,0.8,20.34,{"$f":"VLOOKUP(B6044,#REF!,3,FALSE)","v":{"$error":"#REF!"}}]
[null,null,null,"Level  4","PD-QK-PW_ - Опорные изоляторы"]
["Distri","Distri","LR2","OEZ:17440","PD-QK-PW40M8","Опорный изолятор","резьба M8, В 40 mm, для QA","1 / -",0.10100000000000001,6.4000000000000001E-2,7.1499999999999995,{"$f":"VLOOKUP(B6046,#REF!,3,FALSE)","v":{"$error":"#REF!"}}]
["Distri","Distri","LR2","OEZ:17441","PD-QK-PW40M10","Опорный изолятор","резьба M10, В 40 mm, для QA","1 / -",0.10100000000000001,6.4000000000000001E-2,7.1499999999999995,{"$f":"VLOOKUP(B6047,#REF!,3,FALSE)","v":{"$error":"#REF!"}}]
["Distri","Distri","LR2","OEZ:17442","PD-QK-PW40M12","Опорный изолятор","резьба M12, В 40 mm, для QA","1 / -",0.10100000000000001,6.4000000000000001E-2,7.5,{"$f":"VLOOKUP(B6048,#REF!,3,FALSE)","v":{"$error":"#REF!"}}]
["Distri","Distri","LR2","OEZ:35859","PD-QK-PW40M8/100","Опорный изолятор","резьба M8, В 40 mm, 100 шт., для QA","1 / -",12,8.6999999999999993,700.37,{"$f":"VLOOKUP(B6049,#REF!,3,FALSE)","v":{"$error":"#REF!"}}]
["Distri","Distri","LR2","OEZ:35860","PD-QK-PW40M10/100","Опорный изолятор","резьба M10, В 40 mm, 100 шт., для QA","1 / -",12,8.6999999999999993,716.61,{"$f":"VLOOKUP(B6050,#REF!,3,FALSE)","v":{"$error":"#REF!"}}]
["Distri","Distri","LR2","OEZ:35861","PD-QK-PW40M12/100","Опорный изолятор","резьба M12, В 40 mm, 100 шт., для QA","1 / -",12,8.6999999999999993,732.93999999999994,{"$f":"VLOOKUP(B6051,#REF!,3,FALSE)","v":{"$error":"#REF!"}}]
["Distri","Distri","LR2","OEZ:17437","PD-QK-DIVV1","Держатель опорного изолятора","высота 10 mm, для QA","1 / -",0.3,0.216,4.5999999999999996,{"$f":"VLOOKUP(B6052,#REF!,3,FALSE)","v":{"$error":"#REF!"}}]
["Distri","Distri","LR2","OEZ:17438","PD-QK-DIVV2","Держатель опорного изолятора","высота 30 mm, для QA","1 / -",0.3,0.32400000000000001,4.5999999999999996,{"$f":"VLOOKUP(B6053,#REF!,3,FALSE)","v":{"$error":"#REF!"}}]
["Distri","Distri","LR2","OEZ:37172","PD-QK-DIVV3","Держатель опорного изолятора","высота 25 mm, для QA","1 / -",0.3,0.216,4.5999999999999996,{"$f":"VLOOKUP(B6054,#REF!,3,FALSE)","v":{"$error":"#REF!"}}]
["Distri","Distri","LR2","OEZ:37173","PD-Q13-DIM3-185","Держатель опорного изолятора","для расстояниа сборных шин 185 или 100 мм, для QA","1 / -",0.85,1.4,18.41,{"$f":"VLOOKUP(B6055,#REF!,3,FALSE)","v":{"$error":"#REF!"}}]
["Distri","Distri","LR2","OEZ:39581","PD-Q13-DIZ1","Держатель","для PE, комплект 2 шт., для QA","1 / -",0.3,1.2,20.55,{"$f":"VLOOKUP(B6056,#REF!,3,FALSE)","v":{"$error":"#REF!"}}]
[null,null,null,"Level  3","PS-_ - Упругие соединители"]
["Distri","Distri","LR2","OEZ:07447","PS-CU 40/10","Упругий соединитель","рабочая длина 370 mm, материал - медь, ширина пятки 40 mm, сечение мин. 360 mm2","1 / -",1.5,1,94.14,{"$f":"VLOOKUP(B6058,#REF!,3,FALSE)","v":{"$error":"#REF!"}}]
["Distri","Distri","LR2","OEZ:07448","PS-CU 50/10","Упругий соединитель","рабочая длина 370 mm, материал - медь, ширина пятки 50 mm, сечение мин. 460 mm2","1 / -",2,1.25,107.39,{"$f":"VLOOKUP(B6059,#REF!,3,FALSE)","v":{"$error":"#REF!"}}]
["Distri","Distri","LR2","OEZ:07449","PS-CU 60/10","Упругий соединитель","рабочая длина 370 mm, материал - медь, ширина пятки 60 mm, сечение мин. 560 mm2","1 / -",2.6,1.5,131.66999999999999,{"$f":"VLOOKUP(B6060,#REF!,3,FALSE)","v":{"$error":"#REF!"}}]
["Distri","Distri","LR2","OEZ:07444","PS-AL 40/10","Упругий соединитель","рабочая длина 370 mm, материал - алюминий, ширина пятки 40 mm, сечение мин. 400 mm2","1 / -",0.5,1,20.84,{"$f":"VLOOKUP(B6061,#REF!,3,FALSE)","v":{"$error":"#REF!"}}]
["Distri","Distri","LR2","OEZ:07445","PS-AL 50/10","Упругий соединитель","рабочая длина 370 mm, материал - алюминий, ширина пятки 50 mm, сечение мин. 500 mm2","1 / -",0.6,1.25,24.84,{"$f":"VLOOKUP(B6062,#REF!,3,FALSE)","v":{"$error":"#REF!"}}]
["Distri","Distri","LR2","OEZ:07446","PS-AL 60/10","Упругий соединитель","рабочая длина 370 mm, материал - алюминий, ширина пятки 60 mm, сечение мин. 600 mm2","1 / -",0.7,1.5,32.989999999999995,{"$f":"VLOOKUP(B6063,#REF!,3,FALSE)","v":{"$error":"#REF!"}}]
[null,null,null,"Level  3","D100/185 - Держатели шинных систем с расстоянием 100 и 185 mm"]
["Distri","Distri","LR2","OEZ:08722","D100/185","Держатель шинной системы","держатель, расстояние сборных шин 100 mm, 185 mm","1 / -",0.48,0.49399999999999999,21.73,{"$f":"VLOOKUP(B6065,#REF!,3,FALSE)","v":{"$error":"#REF!"}}]
["Distri","Distri","LR2","OEZ:08699","KD-D100/185","Передняя крышка","передняя крышка, для D100/185","1 / -",4.8000000000000001E-2,0.05,7.74,{"$f":"VLOOKUP(B6066,#REF!,3,FALSE)","v":{"$error":"#REF!"}}]
[null,null,null,"Level  3","SST - Держатели шинной системы с расстоянием 60 mm"]
["Distri","Distri","LR2","OEZ:09030","SST-60/49-3","Держатель шинной системы","держатель, расстояние сборных шин 60 mm ( 3-полюсное исполнение )","1 / -",0.14000000000000001,0.22900000000000001,16.78,{"$f":"VLOOKUP(B6068,#REF!,3,FALSE)","v":{"$error":"#REF!"}}]
["Distri","Distri","LR2","OEZ:09032","SST-60/49-5","Держатель шинной системы","держатель, расстояние сборных шин 60 mm ( 3-полюсное исполнение + PE + N )","1 / -",0.16,0.29599999999999999,20.6,{"$f":"VLOOKUP(B6069,#REF!,3,FALSE)","v":{"$error":"#REF!"}}]
["Distri","Distri","LR2","OEZ:09031","A-SST-60/49-3","Боковая крышка ","боковая крышка , для SST-60/49-3","1 / -",0.03,0.16600000000000001,4.87,{"$f":"VLOOKUP(B6070,#REF!,3,FALSE)","v":{"$error":"#REF!"}}]
["Distri","Distri","LR2","OEZ:10405","A-SST-60/49-5","Боковая крышка ","крышка, для SST-60/49-5","1 / -",0.04,0.21,5.37,{"$f":"VLOOKUP(B6071,#REF!,3,FALSE)","v":{"$error":"#REF!"}}]
[null,null,null,"Level  3","SAP - Крышки распределительной системы сборных шин"]
["Distri","Distri","LR2","OEZ:00322","SAP","Крышка сборных шин","крышка, длина 1,2 m","1 / -",0.82,4.28,44.79,{"$f":"VLOOKUP(B6073,#REF!,3,FALSE)","v":{"$error":"#REF!"}}]
["Distri","Distri","LR2","OEZ:00331","C30/6","Фиксатор","фиксатор, размер 30 x 5, 30 x 6 mm, для SAP","24 / -",1.2999999999999999E-2,2.7E-2,2.11,{"$f":"VLOOKUP(B6074,#REF!,3,FALSE)","v":{"$error":"#REF!"}}]
["Distri","Distri","LR2","OEZ:00332","C30/10","Фиксатор","фиксатор, размер 30 x 10 mm, для SAP","24 / -",1.2999999999999999E-2,2.7E-2,1.81,{"$f":"VLOOKUP(B6075,#REF!,3,FALSE)","v":{"$error":"#REF!"}}]
["Distri","Distri","LR2","OEZ:00333","C40/10","Фиксатор","фиксатор, размер 40 x 10 mm, для SAP","24 / -",1.4999999999999999E-2,2.7E-2,2.11,{"$f":"VLOOKUP(B6076,#REF!,3,FALSE)","v":{"$error":"#REF!"}}]
["Distri","Distri","LR2","OEZ:00334","C50/10","Фиксатор","фиксатор, размер 50 x 10 mm, для SAP","24 / -",1.4999999999999999E-2,2.7E-2,2.4099999999999997,{"$f":"VLOOKUP(B6077,#REF!,3,FALSE)","v":{"$error":"#REF!"}}]
["Distri","Distri","LR2","OEZ:00335","C50/12","Фиксатор","фиксатор, размер 50 x 12 mm, для SAP","24 / -",0.02,2.7E-2,2.67,{"$f":"VLOOKUP(B6078,#REF!,3,FALSE)","v":{"$error":"#REF!"}}]
["Distri","Distri","LR2","OEZ:00336","C60/10","Фиксатор","фиксатор, размер 60 x 10 mm, для SAP","24 / -",2.5000000000000001E-2,2.7E-2,3,{"$f":"VLOOKUP(B6079,#REF!,3,FALSE)","v":{"$error":"#REF!"}}]
["Distri","Distri","LR2","OEZ:07839","SEA","Боковая крышка сборных шин","боковая крышка  для SAP","12 / -",2.1999999999999999E-2,5.2999999999999999E-2,6.79,{"$f":"VLOOKUP(B6080,#REF!,3,FALSE)","v":{"$error":"#REF!"}}]
[null,null,null,"Level  3","ZM - Запрессовочные гайки"]
["Distri","Distri","LR2","OEZ:11870","ZM8","Запрессовочная гайка","для образования резьбы в сборных шинах - резьба M8 для отверстия 10 mm - высота запрессовки 1,9 mm","200 / -",4.0000000000000001E-3,7.0000000000000001E-3,0.57000000000000006,{"$f":"VLOOKUP(B6082,#REF!,3,FALSE)","v":{"$error":"#REF!"}}]
["Distri","Distri","LR2","OEZ:35373","ZM8-V","Запрессовочная гайка","для образования резьбы в сборных шинах - резьба M8 для отверстия 10 mm - высота запрессовки 3,9 mm","200 / -",5.0000000000000001E-3,8.0000000000000002E-3,0.51,{"$f":"VLOOKUP(B6083,#REF!,3,FALSE)","v":{"$error":"#REF!"}}]
["Distri","Distri","LR2","OEZ:11233","ZM10","Запрессовочная гайка","для образования резьбы в сборных шинах - резьба M10 для отверстия 12,5 mm - высота запрессовки 1,9 mm","200 / -",6.0000000000000001E-3,7.0000000000000001E-3,0.57000000000000006,{"$f":"VLOOKUP(B6084,#REF!,3,FALSE)","v":{"$error":"#REF!"}}]
["Distri","Distri","LR2","OEZ:35374","ZM10-V","Запрессовочная гайка","для образования резьбы в сборных шинах - резьба M10 для отверстия 12,5 mm - высота запрессовки 3,9 mm","200 / -",0.08,7.0000000000000001E-3,0.57000000000000006,{"$f":"VLOOKUP(B6085,#REF!,3,FALSE)","v":{"$error":"#REF!"}}]
["Distri","Distri","LR2","OEZ:11234","ZM12-V","Запрессовочная гайка","для образования резьбы в сборных шинах - резьба M12 для отверстия 15 mm - высота запрессовки 3,9 mm","200 / -",0.01,8.0000000000000002E-3,0.6,{"$f":"VLOOKUP(B6086,#REF!,3,FALSE)","v":{"$error":"#REF!"}}]
[null,null,null,"Level  1","Остальные продукты"]
[null,null,null,"Level  2","Автоматические включения резерва"]
[null,null,null,"Level  3","MODI ZA - Автоматические включения резерва"]
[null,null,null,"Level  4","ZA-01 - Для управления двумя источниками, встраиваемое исполнение"]
["MODI","MODI","LV1","OEZ:40671","ZA-01-6106","Автоматическое включение резерва","встраиваемое исполнение, собственное питание из активного источника, контроль сбоя напряжения в отдельных фазах, для ARION WL","1 / -",10,37.5,3616.8900000000003,{"$f":"VLOOKUP(B6091,#REF!,3,FALSE)","v":{"$error":"#REF!"}}]
["MODI","MODI","LV1","OEZ:40672","ZA-01-6116","Автоматическое включение резерва","встраиваемое исполнение, собственное питание из активного источника, контроль пониженного напряжения, перенапряжения, последовательности фаз, для ARION WL","1 / -",10,37.5,3912.5400000000004,{"$f":"VLOOKUP(B6092,#REF!,3,FALSE)","v":{"$error":"#REF!"}}]
["MODI","MODI","LV1","OEZ:40673","ZA-01-6206","Автоматическое включение резерва","встраиваемое исполнение, внешнее питание AC/DC 110 - 230 V, контроль сбоя напряжения в отдельных фазах, для ARION WL","1 / -",10,37.5,3616.8900000000003,{"$f":"VLOOKUP(B6093,#REF!,3,FALSE)","v":{"$error":"#REF!"}}]
["MODI","MODI","LV1","OEZ:40674","ZA-01-6216","Автоматическое включение резерва","встраиваемое исполнение, внешнее питание AC/DC 110 - 230 V, контроль пониженного напряжения, перенапряжения, последовательности фаз, для ARION WL","1 / -",10,37.5,3912.5400000000004,{"$f":"VLOOKUP(B6094,#REF!,3,FALSE)","v":{"$error":"#REF!"}}]
["MODI","MODI","LV1","OEZ:40677","ZA-01-7106","Автоматическое включение резерва","встраиваемое исполнение, собственное питание из активного источника, контроль сбоя напряжения в отдельных фазах, для BC160, BD250, BH630","1 / -",10,37.5,3590.59,{"$f":"VLOOKUP(B6095,#REF!,3,FALSE)","v":{"$error":"#REF!"}}]
["MODI","MODI","LV1","OEZ:40678","ZA-01-7116","Автоматическое включение резерва","встраиваемое исполнение, собственное питание из активного источника, контроль пониженного напряжения, перенапряжения, последовательности фаз, для BC160, BD250, BH630","1 / -",10,37.5,3886.2200000000003,{"$f":"VLOOKUP(B6096,#REF!,3,FALSE)","v":{"$error":"#REF!"}}]
["MODI","MODI","LV1","OEZ:40679","ZA-01-7206","Автоматическое включение резерва","встраиваемое исполнение, внешнее питание AC/DC 110 - 230 V, контроль сбоя напряжения в отдельных фазах, для BC160, BD250, BH630","1 / -",10,37.5,3590.59,{"$f":"VLOOKUP(B6097,#REF!,3,FALSE)","v":{"$error":"#REF!"}}]
["MODI","MODI","LV1","OEZ:40680","ZA-01-7216","Автоматическое включение резерва","встраиваемое исполнение, внешнее питание AC/DC 110 - 230 V, контроль пониженного напряжения, перенапряжения, последовательности фаз, для BC160, BD250, BH630","1 / -",10,37.5,3886.2200000000003,{"$f":"VLOOKUP(B6098,#REF!,3,FALSE)","v":{"$error":"#REF!"}}]
["MODI","MODI","LV1","OEZ:40683","ZA-01-8106","Автоматическое включение резерва","встраиваемое исполнение, собственное питание из активного источника, контроль сбоя напряжения в отдельных фазах, для BL1000, BL1600","1 / -",10,37.5,3560.69,{"$f":"VLOOKUP(B6099,#REF!,3,FALSE)","v":{"$error":"#REF!"}}]
["MODI","MODI","LV1","OEZ:40684","ZA-01-8116","Автоматическое включение резерва","встраиваемое исполнение, собственное питание из активного источника, контроль пониженного напряжения, перенапряжения, последовательности фаз, для BL1000, BL1600","1 / -",10,37.5,3856.3500000000004,{"$f":"VLOOKUP(B6100,#REF!,3,FALSE)","v":{"$error":"#REF!"}}]
["MODI","MODI","LV1","OEZ:40685","ZA-01-8206","Автоматическое включение резерва","встраиваемое исполнение, внешнее питание AC/DC 110 - 230 V, контроль сбоя напряжения в отдельных фазах, для BL1000, BL1600","1 / -",10,37.5,3560.69,{"$f":"VLOOKUP(B6101,#REF!,3,FALSE)","v":{"$error":"#REF!"}}]
["MODI","MODI","LV1","OEZ:40686","ZA-01-8216","Автоматическое включение резерва","встраиваемое исполнение, внешнее питание AC/DC 110 - 230 V, контроль пониженного напряжения, перенапряжения, последовательности фаз, для BL1000, BL1600","1 / -",10,37.5,3856.3500000000004,{"$f":"VLOOKUP(B6102,#REF!,3,FALSE)","v":{"$error":"#REF!"}}]
[null,null,null,"Level  4","ZA-11 - Для управления двумя источниками с продольным сцеплением, встраиваемое исполнение"]
["MODI","MODI","LV1","OEZ:40707","ZA-11-6106","Автоматическое включение резерва","встраиваемое исполнение, собственное питание из активного источника, контроль сбоя напряжения в отдельных фазах, для ARION WL","1 / -",10,37.5,4288.97,{"$f":"VLOOKUP(B6104,#REF!,3,FALSE)","v":{"$error":"#REF!"}}]
["MODI","MODI","LV1","OEZ:40708","ZA-11-6116","Автоматическое включение резерва","встраиваемое исполнение, собственное питание из активного источника, контроль пониженного напряжения, перенапряжения, последовательности фаз, для ARION WL","1 / -",10,37.5,4584.6000000000004,{"$f":"VLOOKUP(B6105,#REF!,3,FALSE)","v":{"$error":"#REF!"}}]
["MODI","MODI","LV1","OEZ:40709","ZA-11-6206","Автоматическое включение резерва","встраиваемое исполнение, внешнее питание AC/DC 110 - 230 V, контроль сбоя напряжения в отдельных фазах, для ARION WL","1 / -",10,37.5,4288.97,{"$f":"VLOOKUP(B6106,#REF!,3,FALSE)","v":{"$error":"#REF!"}}]
["MODI","MODI","LV1","OEZ:40710","ZA-11-6216","Автоматическое включение резерва","встраиваемое исполнение, внешнее питание AC/DC 110 - 230 V, контроль пониженного напряжения, перенапряжения, последовательности фаз, для ARION WL","1 / -",10,37.5,4584.6000000000004,{"$f":"VLOOKUP(B6107,#REF!,3,FALSE)","v":{"$error":"#REF!"}}]
["MODI","MODI","LV1","OEZ:40713","ZA-11-7106","Автоматическое включение резерва","встраиваемое исполнение, собственное питание из активного источника, контроль сбоя напряжения в отдельных фазах, для BC160, BD250, BH630","1 / -",10,37.5,4262.68,{"$f":"VLOOKUP(B6108,#REF!,3,FALSE)","v":{"$error":"#REF!"}}]
["MODI","MODI","LV1","OEZ:40714","ZA-11-7116","Автоматическое включение резерва","встраиваемое исполнение, собственное питание из активного источника, контроль пониженного напряжения, перенапряжения, последовательности фаз, для BC160, BD250, BH630","1 / -",10,37.5,4558.3100000000004,{"$f":"VLOOKUP(B6109,#REF!,3,FALSE)","v":{"$error":"#REF!"}}]
["MODI","MODI","LV1","OEZ:40715","ZA-11-7206","Автоматическое включение резерва","встраиваемое исполнение, внешнее питание AC/DC 110 - 230 V, контроль сбоя напряжения в отдельных фазах, для BC160, BD250, BH630","1 / -",10,37.5,4566.6100000000006,{"$f":"VLOOKUP(B6110,#REF!,3,FALSE)","v":{"$error":"#REF!"}}]
["MODI","MODI","LV1","OEZ:40716","ZA-11-7216","Автоматическое включение резерва","встраиваемое исполнение, внешнее питание AC/DC 110 - 230 V, контроль пониженного напряжения, перенапряжения, последовательности фаз, для BC160, BD250, BH630","1 / -",10,37.5,4558.3100000000004,{"$f":"VLOOKUP(B6111,#REF!,3,FALSE)","v":{"$error":"#REF!"}}]
["MODI","MODI","LV1","OEZ:40719","ZA-11-8106","Автоматическое включение резерва","встраиваемое исполнение, собственное питание из активного источника, контроль сбоя напряжения в отдельных фазах, для BL1000, BL1600","1 / -",10,37.5,4232.75,{"$f":"VLOOKUP(B6112,#REF!,3,FALSE)","v":{"$error":"#REF!"}}]
["MODI","MODI","LV1","OEZ:40720","ZA-11-8116","Автоматическое включение резерва","встраиваемое исполнение, собственное питание из активного источника, контроль пониженного напряжения, перенапряжения, последовательности фаз, для BL1000, BL1600","1 / -",10,37.5,4528.4000000000005,{"$f":"VLOOKUP(B6113,#REF!,3,FALSE)","v":{"$error":"#REF!"}}]
["MODI","MODI","LV1","OEZ:40721","ZA-11-8206","Автоматическое включение резерва","встраиваемое исполнение, внешнее питание AC/DC 110 - 230 V, контроль сбоя напряжения в отдельных фазах, для BL1000, BL1600","1 / -",10,37.5,4232.75,{"$f":"VLOOKUP(B6114,#REF!,3,FALSE)","v":{"$error":"#REF!"}}]
["MODI","MODI","LV1","OEZ:40722","ZA-11-8216","Автоматическое включение резерва","встраиваемое исполнение, внешнее питание AC/DC 110 - 230 V, контроль пониженного напряжения, перенапряжения, последовательности фаз, для BL1000, BL1600","1 / -",10,37.5,4528.4000000000005,{"$f":"VLOOKUP(B6115,#REF!,3,FALSE)","v":{"$error":"#REF!"}}]
[null,null,null,"Level  4","ZA - Дополнительные принадлежности"]
["MODI","MODI","LV1","CPA001","ZA-**-****-B1","Крышкa","пластмассовая крышка, прозрачное исполнение","- / -",1,60,214.48,{"$f":"VLOOKUP(B6117,#REF!,3,FALSE)","v":{"$error":"#REF!"}}]
["MODI","MODI","LV1","CPA002","ZA-**-****-N1","Крышкa","крышка из листовой стали с контрольной кнопкой","- / -",4,60,576.62,{"$f":"VLOOKUP(B6118,#REF!,3,FALSE)","v":{"$error":"#REF!"}}]
["MODI","MODI","LV1","CPA003","ZA-**-****-G1","Сигнализация","сигнал для запуска генератора, перекидной контакт","- / -",0.2,0,54.39,{"$f":"VLOOKUP(B6119,#REF!,3,FALSE)","v":{"$error":"#REF!"}}]